{"text_format":"1","workbook":"xlsx","n_sheets":4,"sheets":["Relevés de  commissions","Contrôle","Feuil2","Feuil3"],"not_rendered":{"charts":0,"images":2,"macros":1,"external_links":0,"defined_names":3,"comments":0,"pivot_tables":0},"unopened":[],"bounds":{"document_bytes":16777216,"sheet_cells":100000,"rows_first":2000,"rows_last":500,"rows_between":2000,"halvings":0,"cell_chars":16384,"cell_head_chars":4096},"cells_cut":0,"cells_raw":0,"read":"whole","date_system":"1900"}

{"sheet":"Relevés de  commissions","index":0,"n_rows":0,"n_cols":0,"rows_kept":0,"cut":false,"hidden":false,"merged":[]}

{"sheet":"Contrôle","index":1,"n_rows":214,"n_cols":18,"rows_kept":214,"cut":false,"hidden":false,"merged":[[10,5,10,6],[8,2,8,4],[10,2,10,4],[9,5,9,6],[9,2,9,4],[7,5,7,6],[0,3,0,4],[4,8,5,14],[8,9,8,12],[8,5,8,6]]}
[null,null,null,"CLIQUEZ SUR \"Activez le contenu\" juste au-dessus si il y a le bouton"]
[null,2,"Télécharger votre bordereau de commissions d'octobre au format Excel",null,null,null,null,null,null,null,null,null,null,null,null,null,"En prenant le relevé de commission de novembre vous pouvez connaître "]
[null,3,"Sélectionnez toute la page sur votre bordereau et faite un \"copier\".",null,null,null,null,null,null,null,null,null,null,null,null,null,"le montant de vos commissions HCR"]
[null,4,"Sur la page de ce tableur \"Relevés de commissions\" faite un clic droit sur la case A1 et \"coller\"",null,null,null,null,null,null,null,null,null,null,null,null,null,"En prenant les relevés de commissions de MARS - JUIN - SEPTEMBRE - DECEMBRE"]
[null,5,"Cliquez sur le bouton VERIFICATION",null,null,null,null,null,"Nous vous remercions de votre implication à trouver des solutions pour que vous puissiez obtenir l'ensemble des commissions qui vous sont dues,",null,null,null,null,null,null,null,"Vous aurez accés aux commissions sur tout votre portefeuille KLESIA"]
[]
[null,null,null,null,null,null,null,null,"La prochaine étape est de nous faire remonter cette information ANONYMEMENT"]
[null,null,null,null,null,"Vos commissions",null,"Assiette de commission","Cliquez sur le lien ci-dessous et répondez à 5 questions"]
[null,null,"Commissions à 10 %",null,null,{"$f":"Feuil2!$E$23","v":0},null,{"$f":"Feuil2!$G$23","v":0}]
[null,null,"La récurrence",null,null,{"$f":"Feuil2!$E$24","v":0},null,{"$f":"Feuil2!$G$24","v":0}]
[null,null,"Pour les CDA, commission aux contrats signés",null,null,{"$f":"Feuil2!$E$25","v":0}]
[]
[null,null,"D'après votre relevé du mois votre CA de cette dernière année en Klesia est de ",null,null,null,null,{"$f":"H9*4","v":0},null,"Quel est votre CA KLESIA sur le Scratch 2019 ?"]
[null,null,"D'après votre relevé du mois votre portefeuille TOTAL Klesia est de ",null,null,null,null,{"$f":"H10*4","v":0},null,"Combien avez-vous fait de CA sur les SCRATCH avant 2019"]
[]
[null,null,"Avec le relvé du mois d'octobre on ne voit que le HCR"]
[null,null,"Avec le relvé des mois MARS JUIN SEPTEMBRE DECEMBRE on voit tout le portefeuille KLESIA"]
[]
[]
[]
[]
[]
[]
[]
[]
[]
[]
[]
[]
[]
[]
[]
[]
[]
[]
[]
[]
[]
[]
[]
[]
[]
[]
[]
[]
[]
[]
[]
[]
[]
[]
[]
[]
[]
[]
[]
[]
[]
[]
[]
[null,null,"60-B9036",60,"PRIMES CONTRACTUELLES","AGI externes","5018-Klesia_prevoyance","PHARMACIE COTISSOISE","KPHSRPO-5098846",null,null,",","Mouvement Affaire Nouvelle",20190701,0,0,80,0]
[null,null,"60-B9036",60,"PRIMES CONTRACTUELLES","AGI externes","5018-Klesia_prevoyance","GILLES COLIN","HCRP08-5102862",null,null,",","Mouvement Affaire Nouvelle",20190901,0,0,80,0]
[]
[]
[]
[]
[]
[]
[]
[]
[]
[]
[]
[]
[]
[]
[]
[]
[]
[null,null,"60-B9036",60,"PRIMES CONTRACTUELLES","AGI externes","5018-Klesia_prevoyance","LA CASE D'AL","HCRSCB-5101923",null,null,",","Mouvement Affaire Nouvelle",20190920,0,0,80,0]
[]
[]
[]
[]
[]
[]
[]
[]
[]
[]
[]
[]
[]
[]
[]
[]
[]
[]
[]
[]
[]
[]
[]
[]
[]
[]
[]
[]
[]
[]
[]
[]
[]
[]
[null,null,"60-B9036",60,"PRIMES CONTRACTUELLES","AGI externes","5018-Klesia_prevoyance","PHARMACIE DES VILLAGES","KPHPNC-5105669",null,null,",","Mouvement Affaire Nouvelle",20200401,0,0,80,0]
[]
[]
[]
[]
[]
[]
[]
[]
[]
[]
[]
[]
[]
[]
[]
[]
[]
[]
[]
[]
[]
[]
[]
[]
[]
[]
[]
[null,null,"60-B9036",60,"PRIMES CONTRACTUELLES","AGI externes","5018-Klesia_prevoyance","PHARMACIE DES VILLAGES","KPHSRPO-5105669",null,null,",","Mouvement Affaire Nouvelle",20200401,0,0,80,0]
[]
[null,null,"60-B9036",60,"PRIMES CONTRACTUELLES","AGI externes","5018-Klesia_prevoyance","LA CASE D'AL","HCRCCN-5101923",null,null,",","Mouvement Affaire Nouvelle",20190920,0,0,80,0]
[]
[]
[]
[]
[null,null,"60-B9036",60,"PRIMES CONTRACTUELLES","AGI externes","5018-Klesia_prevoyance","RONXIN","KFSNC-5105742",null,null,",","Mouvement Affaire Nouvelle",20200101,0,0,80,0]
[]
[]
[]
[]
[]
[]
[]
[]
[]
[]
[]
[]
[]
[]
[]
[]
[]
[]
[null,null,"60-B9036",60,"PRIMES CONTRACTUELLES","AGI externes","5018-Klesia_prevoyance","PHARMACIE DES VILLAGES","KPHSNC-5105669",null,null,",","Mouvement Affaire Nouvelle",20200401,0,0,80,0]
[]
[]
[]
[]
[]
[]
[]
[]
[]
[]
[]
[]
[]
[]
[]
[]
[]
[]
[]
[]
[]
[]
[]
[]
[]
[]
[]
[]
[]
[]
[]
[]
[]
[]
[]
[]
[]
[]
[]
[]
[]
[]
[]
[]
[null,null,"60-B9036",60,"PRIMES CONTRACTUELLES","AGI externes","5018-Klesia_prevoyance","TIL YO","HCRP08-5100182",null,null,",","Mouvement Affaire Nouvelle",20191021,0,0,80,0]

{"sheet":"Feuil2","index":2,"n_rows":25,"n_cols":7,"rows_kept":25,"cut":false,"hidden":false,"merged":[[22,1,22,3],[22,4,22,5],[23,1,23,3],[23,4,23,5],[24,1,24,3],[24,4,24,5]]}
[]
[]
[null,null,null,null,"Nous vous remercions de votre implication à trouver des solutions pour que vous puissiez obtenir l'ensemble des commissions qui vous sont dues."]
[null,null,null,null,"La prochaine étape est de nous faire remonter cette information ANONYMEMENT"]
[null,null,null,null,"Cliquez sur le lien ci-dessous et répondez à 5 questions"]
[]
[]
[]
[]
[]
[]
[null,null,null,null,"On compare ce montant au CA du SCRATCH produit"]
[]
[null,null,null,null,"Deuxième étape : la remontée d'information"]
[null,null,null,null,"Par questionnaire pour la confidentialité"]
[null,null,null,null,"Ancienneté","plus de 2 ans plus de 5 ans plus de 10 ans"]
[null,null,null,null,"Sur le Scratch fin 2018 votre production Klesia"]
[null,null,null,null,"Sur le Scratch fin 2019 votre production Klesia"]
[null,null,null,null,null,"palier de 50000"]
[]
[]
[]
[null,"Commissions à 10 %",null,null,{"$f":"Feuil3!R2","v":0},null,{"$f":"E23*10","v":0}]
[null,"La récurrence",null,null,{"$f":"Feuil3!O2-Feuil2!E23","v":0},null,{"$f":"Feuil3!M2-Contrôle!H9","v":0}]
[null,"Pour les CDA, commission aux contrats signés",null,null,{"$f":"Feuil3!Q2","v":0}]

{"sheet":"Feuil3","index":3,"n_rows":24167,"n_cols":18,"rows_kept":4500,"cut":true,"hidden":true,"merged":[],"bounds":{"rows_first":2000,"rows_last":500,"rows_between":2000,"halvings":0}}
[null,null,null,null,null,null,null,null,null,null,null,null,null,null,null,null,"AN",0.1]
[null,null,null,null,null,null,null,null,null,null,null,null,{"$f":"SUM(M4:M20001)","v":0},null,{"$f":"SUM(O4:O20001)","v":0},null,{"$f":"SUM(Q4:Q20001)","v":0},{"$f":"SUM(R4:R20001)","v":0}]
["Code Portefeuille","Compagnie","Rubrique de Paie","Famille de Produit","Produit","Nom du souscripteur","Numéro de contrat du souscripteur","Nom de l affilié","Numéro de contrat de l affilié","Nature mvt","Type mvt","Date du mouvement","Assiette","Taux","Commission","PAHT Estimée"]
[null,null,null,null,null,null,null,null,null,null,null,null,{"$f":"IF('Relevés de  commissions'!D2=\"AGI externes\",'Relevés de  commissions'!M2,0)*1","v":0},{"$f":"IF('Relevés de  commissions'!D2=\"AGI externes\",'Relevés de  commissions'!N2,0)*1","v":0},{"$f":"IF('Relevés de  commissions'!D2=\"AGI externes\",'Relevés de  commissions'!O2,0)*1","v":0},{"$f":"IF('Relevés de  commissions'!D2=\"AGI externes\",'Relevés de  commissions'!P2,0)*1","v":0},{"$f":"IF(N4=0,O4,\"\")","v":0},{"$f":"IF(N4=10,O4,\"\")","v":""}]
[null,null,null,null,null,null,null,null,null,null,null,null,{"$f":"IF('Relevés de  commissions'!D3=\"AGI externes\",'Relevés de  commissions'!M3,0)*1","v":0},{"$f":"IF('Relevés de  commissions'!D3=\"AGI externes\",'Relevés de  commissions'!N3,0)*1","v":0},{"$f":"IF('Relevés de  commissions'!D3=\"AGI externes\",'Relevés de  commissions'!O3,0)*1","v":0},{"$f":"IF('Relevés de  commissions'!D3=\"AGI externes\",'Relevés de  commissions'!P3,0)*1","v":0},{"$f":"IF(N5=0,O5,\"\")","v":0},{"$f":"IF(N5=10,O5,\"\")","v":""}]
[null,null,null,null,null,null,null,null,null,null,null,null,{"$f":"IF('Relevés de  commissions'!D4=\"AGI externes\",'Relevés de  commissions'!M4,0)*1","v":0},{"$f":"IF('Relevés de  commissions'!D4=\"AGI externes\",'Relevés de  commissions'!N4,0)*1","v":0},{"$f":"IF('Relevés de  commissions'!D4=\"AGI externes\",'Relevés de  commissions'!O4,0)*1","v":0},{"$f":"IF('Relevés de  commissions'!D4=\"AGI externes\",'Relevés de  commissions'!P4,0)*1","v":0},0,""]
[null,null,null,null,null,null,null,null,null,null,null,null,{"$f":"IF('Relevés de  commissions'!D5=\"AGI externes\",'Relevés de  commissions'!M5,0)*1","v":0},{"$f":"IF('Relevés de  commissions'!D5=\"AGI externes\",'Relevés de  commissions'!N5,0)*1","v":0},{"$f":"IF('Relevés de  commissions'!D5=\"AGI externes\",'Relevés de  commissions'!O5,0)*1","v":0},{"$f":"IF('Relevés de  commissions'!D5=\"AGI externes\",'Relevés de  commissions'!P5,0)*1","v":0},0,""]
[null,null,null,null,null,null,null,null,null,null,null,null,{"$f":"IF('Relevés de  commissions'!D6=\"AGI externes\",'Relevés de  commissions'!M6,0)*1","v":0},{"$f":"IF('Relevés de  commissions'!D6=\"AGI externes\",'Relevés de  commissions'!N6,0)*1","v":0},{"$f":"IF('Relevés de  commissions'!D6=\"AGI externes\",'Relevés de  commissions'!O6,0)*1","v":0},{"$f":"IF('Relevés de  commissions'!D6=\"AGI externes\",'Relevés de  commissions'!P6,0)*1","v":0},0,""]
[null,null,null,null,null,null,null,null,null,null,null,null,{"$f":"IF('Relevés de  commissions'!D7=\"AGI externes\",'Relevés de  commissions'!M7,0)*1","v":0},{"$f":"IF('Relevés de  commissions'!D7=\"AGI externes\",'Relevés de  commissions'!N7,0)*1","v":0},{"$f":"IF('Relevés de  commissions'!D7=\"AGI externes\",'Relevés de  commissions'!O7,0)*1","v":0},{"$f":"IF('Relevés de  commissions'!D7=\"AGI externes\",'Relevés de  commissions'!P7,0)*1","v":0},0,""]
[null,null,null,null,null,null,null,null,null,null,null,null,{"$f":"IF('Relevés de  commissions'!D8=\"AGI externes\",'Relevés de  commissions'!M8,0)*1","v":0},{"$f":"IF('Relevés de  commissions'!D8=\"AGI externes\",'Relevés de  commissions'!N8,0)*1","v":0},{"$f":"IF('Relevés de  commissions'!D8=\"AGI externes\",'Relevés de  commissions'!O8,0)*1","v":0},{"$f":"IF('Relevés de  commissions'!D8=\"AGI externes\",'Relevés de  commissions'!P8,0)*1","v":0},0,""]
[null,null,null,null,null,null,null,null,null,null,null,null,{"$f":"IF('Relevés de  commissions'!D9=\"AGI externes\",'Relevés de  commissions'!M9,0)*1","v":0},{"$f":"IF('Relevés de  commissions'!D9=\"AGI externes\",'Relevés de  commissions'!N9,0)*1","v":0},{"$f":"IF('Relevés de  commissions'!D9=\"AGI externes\",'Relevés de  commissions'!O9,0)*1","v":0},{"$f":"IF('Relevés de  commissions'!D9=\"AGI externes\",'Relevés de  commissions'!P9,0)*1","v":0},0,""]
[null,null,null,null,null,null,null,null,null,null,null,null,{"$f":"IF('Relevés de  commissions'!D10=\"AGI externes\",'Relevés de  commissions'!M10,0)*1","v":0},{"$f":"IF('Relevés de  commissions'!D10=\"AGI externes\",'Relevés de  commissions'!N10,0)*1","v":0},{"$f":"IF('Relevés de  commissions'!D10=\"AGI externes\",'Relevés de  commissions'!O10,0)*1","v":0},{"$f":"IF('Relevés de  commissions'!D10=\"AGI externes\",'Relevés de  commissions'!P10,0)*1","v":0},0,""]
[null,null,null,null,null,null,null,null,null,null,null,null,{"$f":"IF('Relevés de  commissions'!D11=\"AGI externes\",'Relevés de  commissions'!M11,0)*1","v":0},{"$f":"IF('Relevés de  commissions'!D11=\"AGI externes\",'Relevés de  commissions'!N11,0)*1","v":0},{"$f":"IF('Relevés de  commissions'!D11=\"AGI externes\",'Relevés de  commissions'!O11,0)*1","v":0},{"$f":"IF('Relevés de  commissions'!D11=\"AGI externes\",'Relevés de  commissions'!P11,0)*1","v":0},0,""]
[null,null,null,null,null,null,null,null,null,null,null,null,{"$f":"IF('Relevés de  commissions'!D12=\"AGI externes\",'Relevés de  commissions'!M12,0)*1","v":0},{"$f":"IF('Relevés de  commissions'!D12=\"AGI externes\",'Relevés de  commissions'!N12,0)*1","v":0},{"$f":"IF('Relevés de  commissions'!D12=\"AGI externes\",'Relevés de  commissions'!O12,0)*1","v":0},{"$f":"IF('Relevés de  commissions'!D12=\"AGI externes\",'Relevés de  commissions'!P12,0)*1","v":0},0,""]
[null,null,null,null,null,null,null,null,null,null,null,null,{"$f":"IF('Relevés de  commissions'!D13=\"AGI externes\",'Relevés de  commissions'!M13,0)*1","v":0},{"$f":"IF('Relevés de  commissions'!D13=\"AGI externes\",'Relevés de  commissions'!N13,0)*1","v":0},{"$f":"IF('Relevés de  commissions'!D13=\"AGI externes\",'Relevés de  commissions'!O13,0)*1","v":0},{"$f":"IF('Relevés de  commissions'!D13=\"AGI externes\",'Relevés de  commissions'!P13,0)*1","v":0},0,""]
[null,null,null,null,null,null,null,null,null,null,null,null,{"$f":"IF('Relevés de  commissions'!D14=\"AGI externes\",'Relevés de  commissions'!M14,0)*1","v":0},{"$f":"IF('Relevés de  commissions'!D14=\"AGI externes\",'Relevés de  commissions'!N14,0)*1","v":0},{"$f":"IF('Relevés de  commissions'!D14=\"AGI externes\",'Relevés de  commissions'!O14,0)*1","v":0},{"$f":"IF('Relevés de  commissions'!D14=\"AGI externes\",'Relevés de  commissions'!P14,0)*1","v":0},0,""]
[null,null,null,null,null,null,null,null,null,null,null,null,{"$f":"IF('Relevés de  commissions'!D15=\"AGI externes\",'Relevés de  commissions'!M15,0)*1","v":0},{"$f":"IF('Relevés de  commissions'!D15=\"AGI externes\",'Relevés de  commissions'!N15,0)*1","v":0},{"$f":"IF('Relevés de  commissions'!D15=\"AGI externes\",'Relevés de  commissions'!O15,0)*1","v":0},{"$f":"IF('Relevés de  commissions'!D15=\"AGI externes\",'Relevés de  commissions'!P15,0)*1","v":0},0,""]
[null,null,null,null,null,null,null,null,null,null,null,null,{"$f":"IF('Relevés de  commissions'!D16=\"AGI externes\",'Relevés de  commissions'!M16,0)*1","v":0},{"$f":"IF('Relevés de  commissions'!D16=\"AGI externes\",'Relevés de  commissions'!N16,0)*1","v":0},{"$f":"IF('Relevés de  commissions'!D16=\"AGI externes\",'Relevés de  commissions'!O16,0)*1","v":0},{"$f":"IF('Relevés de  commissions'!D16=\"AGI externes\",'Relevés de  commissions'!P16,0)*1","v":0},0,""]
[null,null,null,null,null,null,null,null,null,null,null,null,{"$f":"IF('Relevés de  commissions'!D17=\"AGI externes\",'Relevés de  commissions'!M17,0)*1","v":0},{"$f":"IF('Relevés de  commissions'!D17=\"AGI externes\",'Relevés de  commissions'!N17,0)*1","v":0},{"$f":"IF('Relevés de  commissions'!D17=\"AGI externes\",'Relevés de  commissions'!O17,0)*1","v":0},{"$f":"IF('Relevés de  commissions'!D17=\"AGI externes\",'Relevés de  commissions'!P17,0)*1","v":0},0,""]
[null,null,null,null,null,null,null,null,null,null,null,null,{"$f":"IF('Relevés de  commissions'!D18=\"AGI externes\",'Relevés de  commissions'!M18,0)*1","v":0},{"$f":"IF('Relevés de  commissions'!D18=\"AGI externes\",'Relevés de  commissions'!N18,0)*1","v":0},{"$f":"IF('Relevés de  commissions'!D18=\"AGI externes\",'Relevés de  commissions'!O18,0)*1","v":0},{"$f":"IF('Relevés de  commissions'!D18=\"AGI externes\",'Relevés de  commissions'!P18,0)*1","v":0},0,""]
[null,null,null,null,null,null,null,null,null,null,null,null,{"$f":"IF('Relevés de  commissions'!D19=\"AGI externes\",'Relevés de  commissions'!M19,0)*1","v":0},{"$f":"IF('Relevés de  commissions'!D19=\"AGI externes\",'Relevés de  commissions'!N19,0)*1","v":0},{"$f":"IF('Relevés de  commissions'!D19=\"AGI externes\",'Relevés de  commissions'!O19,0)*1","v":0},{"$f":"IF('Relevés de  commissions'!D19=\"AGI externes\",'Relevés de  commissions'!P19,0)*1","v":0},0,""]
[null,null,null,null,null,null,null,null,null,null,null,null,{"$f":"IF('Relevés de  commissions'!D20=\"AGI externes\",'Relevés de  commissions'!M20,0)*1","v":0},{"$f":"IF('Relevés de  commissions'!D20=\"AGI externes\",'Relevés de  commissions'!N20,0)*1","v":0},{"$f":"IF('Relevés de  commissions'!D20=\"AGI externes\",'Relevés de  commissions'!O20,0)*1","v":0},{"$f":"IF('Relevés de  commissions'!D20=\"AGI externes\",'Relevés de  commissions'!P20,0)*1","v":0},0,""]
[null,null,null,null,null,null,null,null,null,null,null,null,{"$f":"IF('Relevés de  commissions'!D21=\"AGI externes\",'Relevés de  commissions'!M21,0)*1","v":0},{"$f":"IF('Relevés de  commissions'!D21=\"AGI externes\",'Relevés de  commissions'!N21,0)*1","v":0},{"$f":"IF('Relevés de  commissions'!D21=\"AGI externes\",'Relevés de  commissions'!O21,0)*1","v":0},{"$f":"IF('Relevés de  commissions'!D21=\"AGI externes\",'Relevés de  commissions'!P21,0)*1","v":0},0,""]
[null,null,null,null,null,null,null,null,null,null,null,null,{"$f":"IF('Relevés de  commissions'!D22=\"AGI externes\",'Relevés de  commissions'!M22,0)*1","v":0},{"$f":"IF('Relevés de  commissions'!D22=\"AGI externes\",'Relevés de  commissions'!N22,0)*1","v":0},{"$f":"IF('Relevés de  commissions'!D22=\"AGI externes\",'Relevés de  commissions'!O22,0)*1","v":0},{"$f":"IF('Relevés de  commissions'!D22=\"AGI externes\",'Relevés de  commissions'!P22,0)*1","v":0},0,""]
[null,null,null,null,null,null,null,null,null,null,null,null,{"$f":"IF('Relevés de  commissions'!D23=\"AGI externes\",'Relevés de  commissions'!M23,0)*1","v":0},{"$f":"IF('Relevés de  commissions'!D23=\"AGI externes\",'Relevés de  commissions'!N23,0)*1","v":0},{"$f":"IF('Relevés de  commissions'!D23=\"AGI externes\",'Relevés de  commissions'!O23,0)*1","v":0},{"$f":"IF('Relevés de  commissions'!D23=\"AGI externes\",'Relevés de  commissions'!P23,0)*1","v":0},0,""]
[null,null,null,null,null,null,null,null,null,null,null,null,{"$f":"IF('Relevés de  commissions'!D24=\"AGI externes\",'Relevés de  commissions'!M24,0)*1","v":0},{"$f":"IF('Relevés de  commissions'!D24=\"AGI externes\",'Relevés de  commissions'!N24,0)*1","v":0},{"$f":"IF('Relevés de  commissions'!D24=\"AGI externes\",'Relevés de  commissions'!O24,0)*1","v":0},{"$f":"IF('Relevés de  commissions'!D24=\"AGI externes\",'Relevés de  commissions'!P24,0)*1","v":0},0,""]
[null,null,null,null,null,null,null,null,null,null,null,null,{"$f":"IF('Relevés de  commissions'!D25=\"AGI externes\",'Relevés de  commissions'!M25,0)*1","v":0},{"$f":"IF('Relevés de  commissions'!D25=\"AGI externes\",'Relevés de  commissions'!N25,0)*1","v":0},{"$f":"IF('Relevés de  commissions'!D25=\"AGI externes\",'Relevés de  commissions'!O25,0)*1","v":0},{"$f":"IF('Relevés de  commissions'!D25=\"AGI externes\",'Relevés de  commissions'!P25,0)*1","v":0},0,""]
[null,null,null,null,null,null,null,null,null,null,null,null,{"$f":"IF('Relevés de  commissions'!D26=\"AGI externes\",'Relevés de  commissions'!M26,0)*1","v":0},{"$f":"IF('Relevés de  commissions'!D26=\"AGI externes\",'Relevés de  commissions'!N26,0)*1","v":0},{"$f":"IF('Relevés de  commissions'!D26=\"AGI externes\",'Relevés de  commissions'!O26,0)*1","v":0},{"$f":"IF('Relevés de  commissions'!D26=\"AGI externes\",'Relevés de  commissions'!P26,0)*1","v":0},0,""]
[null,null,null,null,null,null,null,null,null,null,null,null,{"$f":"IF('Relevés de  commissions'!D27=\"AGI externes\",'Relevés de  commissions'!M27,0)*1","v":0},{"$f":"IF('Relevés de  commissions'!D27=\"AGI externes\",'Relevés de  commissions'!N27,0)*1","v":0},{"$f":"IF('Relevés de  commissions'!D27=\"AGI externes\",'Relevés de  commissions'!O27,0)*1","v":0},{"$f":"IF('Relevés de  commissions'!D27=\"AGI externes\",'Relevés de  commissions'!P27,0)*1","v":0},0,""]
[null,null,null,null,null,null,null,null,null,null,null,null,{"$f":"IF('Relevés de  commissions'!D28=\"AGI externes\",'Relevés de  commissions'!M28,0)*1","v":0},{"$f":"IF('Relevés de  commissions'!D28=\"AGI externes\",'Relevés de  commissions'!N28,0)*1","v":0},{"$f":"IF('Relevés de  commissions'!D28=\"AGI externes\",'Relevés de  commissions'!O28,0)*1","v":0},{"$f":"IF('Relevés de  commissions'!D28=\"AGI externes\",'Relevés de  commissions'!P28,0)*1","v":0},0,""]
[null,null,null,null,null,null,null,null,null,null,null,null,{"$f":"IF('Relevés de  commissions'!D29=\"AGI externes\",'Relevés de  commissions'!M29,0)*1","v":0},{"$f":"IF('Relevés de  commissions'!D29=\"AGI externes\",'Relevés de  commissions'!N29,0)*1","v":0},{"$f":"IF('Relevés de  commissions'!D29=\"AGI externes\",'Relevés de  commissions'!O29,0)*1","v":0},{"$f":"IF('Relevés de  commissions'!D29=\"AGI externes\",'Relevés de  commissions'!P29,0)*1","v":0},0,""]
[null,null,null,null,null,null,null,null,null,null,null,null,{"$f":"IF('Relevés de  commissions'!D30=\"AGI externes\",'Relevés de  commissions'!M30,0)*1","v":0},{"$f":"IF('Relevés de  commissions'!D30=\"AGI externes\",'Relevés de  commissions'!N30,0)*1","v":0},{"$f":"IF('Relevés de  commissions'!D30=\"AGI externes\",'Relevés de  commissions'!O30,0)*1","v":0},{"$f":"IF('Relevés de  commissions'!D30=\"AGI externes\",'Relevés de  commissions'!P30,0)*1","v":0},0,""]
[null,null,null,null,null,null,null,null,null,null,null,null,{"$f":"IF('Relevés de  commissions'!D31=\"AGI externes\",'Relevés de  commissions'!M31,0)*1","v":0},{"$f":"IF('Relevés de  commissions'!D31=\"AGI externes\",'Relevés de  commissions'!N31,0)*1","v":0},{"$f":"IF('Relevés de  commissions'!D31=\"AGI externes\",'Relevés de  commissions'!O31,0)*1","v":0},{"$f":"IF('Relevés de  commissions'!D31=\"AGI externes\",'Relevés de  commissions'!P31,0)*1","v":0},0,""]
[null,null,null,null,null,null,null,null,null,null,null,null,{"$f":"IF('Relevés de  commissions'!D32=\"AGI externes\",'Relevés de  commissions'!M32,0)*1","v":0},{"$f":"IF('Relevés de  commissions'!D32=\"AGI externes\",'Relevés de  commissions'!N32,0)*1","v":0},{"$f":"IF('Relevés de  commissions'!D32=\"AGI externes\",'Relevés de  commissions'!O32,0)*1","v":0},{"$f":"IF('Relevés de  commissions'!D32=\"AGI externes\",'Relevés de  commissions'!P32,0)*1","v":0},0,""]
[null,null,null,null,null,null,null,null,null,null,null,null,{"$f":"IF('Relevés de  commissions'!D33=\"AGI externes\",'Relevés de  commissions'!M33,0)*1","v":0},{"$f":"IF('Relevés de  commissions'!D33=\"AGI externes\",'Relevés de  commissions'!N33,0)*1","v":0},{"$f":"IF('Relevés de  commissions'!D33=\"AGI externes\",'Relevés de  commissions'!O33,0)*1","v":0},{"$f":"IF('Relevés de  commissions'!D33=\"AGI externes\",'Relevés de  commissions'!P33,0)*1","v":0},0,""]
[null,null,null,null,null,null,null,null,null,null,null,null,{"$f":"IF('Relevés de  commissions'!D34=\"AGI externes\",'Relevés de  commissions'!M34,0)*1","v":0},{"$f":"IF('Relevés de  commissions'!D34=\"AGI externes\",'Relevés de  commissions'!N34,0)*1","v":0},{"$f":"IF('Relevés de  commissions'!D34=\"AGI externes\",'Relevés de  commissions'!O34,0)*1","v":0},{"$f":"IF('Relevés de  commissions'!D34=\"AGI externes\",'Relevés de  commissions'!P34,0)*1","v":0},0,""]
[null,null,null,null,null,null,null,null,null,null,null,null,{"$f":"IF('Relevés de  commissions'!D35=\"AGI externes\",'Relevés de  commissions'!M35,0)*1","v":0},{"$f":"IF('Relevés de  commissions'!D35=\"AGI externes\",'Relevés de  commissions'!N35,0)*1","v":0},{"$f":"IF('Relevés de  commissions'!D35=\"AGI externes\",'Relevés de  commissions'!O35,0)*1","v":0},{"$f":"IF('Relevés de  commissions'!D35=\"AGI externes\",'Relevés de  commissions'!P35,0)*1","v":0},0,""]
[null,null,null,null,null,null,null,null,null,null,null,null,{"$f":"IF('Relevés de  commissions'!D36=\"AGI externes\",'Relevés de  commissions'!M36,0)*1","v":0},{"$f":"IF('Relevés de  commissions'!D36=\"AGI externes\",'Relevés de  commissions'!N36,0)*1","v":0},{"$f":"IF('Relevés de  commissions'!D36=\"AGI externes\",'Relevés de  commissions'!O36,0)*1","v":0},{"$f":"IF('Relevés de  commissions'!D36=\"AGI externes\",'Relevés de  commissions'!P36,0)*1","v":0},0,""]
[null,null,null,null,null,null,null,null,null,null,null,null,{"$f":"IF('Relevés de  commissions'!D37=\"AGI externes\",'Relevés de  commissions'!M37,0)*1","v":0},{"$f":"IF('Relevés de  commissions'!D37=\"AGI externes\",'Relevés de  commissions'!N37,0)*1","v":0},{"$f":"IF('Relevés de  commissions'!D37=\"AGI externes\",'Relevés de  commissions'!O37,0)*1","v":0},{"$f":"IF('Relevés de  commissions'!D37=\"AGI externes\",'Relevés de  commissions'!P37,0)*1","v":0},0,""]
[null,null,null,null,null,null,null,null,null,null,null,null,{"$f":"IF('Relevés de  commissions'!D38=\"AGI externes\",'Relevés de  commissions'!M38,0)*1","v":0},{"$f":"IF('Relevés de  commissions'!D38=\"AGI externes\",'Relevés de  commissions'!N38,0)*1","v":0},{"$f":"IF('Relevés de  commissions'!D38=\"AGI externes\",'Relevés de  commissions'!O38,0)*1","v":0},{"$f":"IF('Relevés de  commissions'!D38=\"AGI externes\",'Relevés de  commissions'!P38,0)*1","v":0},0,""]
[null,null,null,null,null,null,null,null,null,null,null,null,{"$f":"IF('Relevés de  commissions'!D39=\"AGI externes\",'Relevés de  commissions'!M39,0)*1","v":0},{"$f":"IF('Relevés de  commissions'!D39=\"AGI externes\",'Relevés de  commissions'!N39,0)*1","v":0},{"$f":"IF('Relevés de  commissions'!D39=\"AGI externes\",'Relevés de  commissions'!O39,0)*1","v":0},{"$f":"IF('Relevés de  commissions'!D39=\"AGI externes\",'Relevés de  commissions'!P39,0)*1","v":0},0,""]
[null,null,null,null,null,null,null,null,null,null,null,null,{"$f":"IF('Relevés de  commissions'!D40=\"AGI externes\",'Relevés de  commissions'!M40,0)*1","v":0},{"$f":"IF('Relevés de  commissions'!D40=\"AGI externes\",'Relevés de  commissions'!N40,0)*1","v":0},{"$f":"IF('Relevés de  commissions'!D40=\"AGI externes\",'Relevés de  commissions'!O40,0)*1","v":0},{"$f":"IF('Relevés de  commissions'!D40=\"AGI externes\",'Relevés de  commissions'!P40,0)*1","v":0},0,""]
[null,null,null,null,null,null,null,null,null,null,null,null,{"$f":"IF('Relevés de  commissions'!D41=\"AGI externes\",'Relevés de  commissions'!M41,0)*1","v":0},{"$f":"IF('Relevés de  commissions'!D41=\"AGI externes\",'Relevés de  commissions'!N41,0)*1","v":0},{"$f":"IF('Relevés de  commissions'!D41=\"AGI externes\",'Relevés de  commissions'!O41,0)*1","v":0},{"$f":"IF('Relevés de  commissions'!D41=\"AGI externes\",'Relevés de  commissions'!P41,0)*1","v":0},0,""]
[null,null,null,null,null,null,null,null,null,null,null,null,{"$f":"IF('Relevés de  commissions'!D42=\"AGI externes\",'Relevés de  commissions'!M42,0)*1","v":0},{"$f":"IF('Relevés de  commissions'!D42=\"AGI externes\",'Relevés de  commissions'!N42,0)*1","v":0},{"$f":"IF('Relevés de  commissions'!D42=\"AGI externes\",'Relevés de  commissions'!O42,0)*1","v":0},{"$f":"IF('Relevés de  commissions'!D42=\"AGI externes\",'Relevés de  commissions'!P42,0)*1","v":0},0,""]
[null,null,null,null,null,null,null,null,null,null,null,null,{"$f":"IF('Relevés de  commissions'!D43=\"AGI externes\",'Relevés de  commissions'!M43,0)*1","v":0},{"$f":"IF('Relevés de  commissions'!D43=\"AGI externes\",'Relevés de  commissions'!N43,0)*1","v":0},{"$f":"IF('Relevés de  commissions'!D43=\"AGI externes\",'Relevés de  commissions'!O43,0)*1","v":0},{"$f":"IF('Relevés de  commissions'!D43=\"AGI externes\",'Relevés de  commissions'!P43,0)*1","v":0},0,""]
[null,null,null,null,null,null,null,null,null,null,null,null,{"$f":"IF('Relevés de  commissions'!D44=\"AGI externes\",'Relevés de  commissions'!M44,0)*1","v":0},{"$f":"IF('Relevés de  commissions'!D44=\"AGI externes\",'Relevés de  commissions'!N44,0)*1","v":0},{"$f":"IF('Relevés de  commissions'!D44=\"AGI externes\",'Relevés de  commissions'!O44,0)*1","v":0},{"$f":"IF('Relevés de  commissions'!D44=\"AGI externes\",'Relevés de  commissions'!P44,0)*1","v":0},0,""]
[null,null,null,null,null,null,null,null,null,null,null,null,{"$f":"IF('Relevés de  commissions'!D45=\"AGI externes\",'Relevés de  commissions'!M45,0)*1","v":0},{"$f":"IF('Relevés de  commissions'!D45=\"AGI externes\",'Relevés de  commissions'!N45,0)*1","v":0},{"$f":"IF('Relevés de  commissions'!D45=\"AGI externes\",'Relevés de  commissions'!O45,0)*1","v":0},{"$f":"IF('Relevés de  commissions'!D45=\"AGI externes\",'Relevés de  commissions'!P45,0)*1","v":0},0,""]
[null,null,null,null,null,null,null,null,null,null,null,null,{"$f":"IF('Relevés de  commissions'!D46=\"AGI externes\",'Relevés de  commissions'!M46,0)*1","v":0},{"$f":"IF('Relevés de  commissions'!D46=\"AGI externes\",'Relevés de  commissions'!N46,0)*1","v":0},{"$f":"IF('Relevés de  commissions'!D46=\"AGI externes\",'Relevés de  commissions'!O46,0)*1","v":0},{"$f":"IF('Relevés de  commissions'!D46=\"AGI externes\",'Relevés de  commissions'!P46,0)*1","v":0},0,""]
[null,null,null,null,null,null,null,null,null,null,null,null,{"$f":"IF('Relevés de  commissions'!D47=\"AGI externes\",'Relevés de  commissions'!M47,0)*1","v":0},{"$f":"IF('Relevés de  commissions'!D47=\"AGI externes\",'Relevés de  commissions'!N47,0)*1","v":0},{"$f":"IF('Relevés de  commissions'!D47=\"AGI externes\",'Relevés de  commissions'!O47,0)*1","v":0},{"$f":"IF('Relevés de  commissions'!D47=\"AGI externes\",'Relevés de  commissions'!P47,0)*1","v":0},0,""]
[null,null,null,null,null,null,null,null,null,null,null,null,{"$f":"IF('Relevés de  commissions'!D48=\"AGI externes\",'Relevés de  commissions'!M48,0)*1","v":0},{"$f":"IF('Relevés de  commissions'!D48=\"AGI externes\",'Relevés de  commissions'!N48,0)*1","v":0},{"$f":"IF('Relevés de  commissions'!D48=\"AGI externes\",'Relevés de  commissions'!O48,0)*1","v":0},{"$f":"IF('Relevés de  commissions'!D48=\"AGI externes\",'Relevés de  commissions'!P48,0)*1","v":0},0,""]
[null,null,null,null,null,null,null,null,null,null,null,null,{"$f":"IF('Relevés de  commissions'!D49=\"AGI externes\",'Relevés de  commissions'!M49,0)*1","v":0},{"$f":"IF('Relevés de  commissions'!D49=\"AGI externes\",'Relevés de  commissions'!N49,0)*1","v":0},{"$f":"IF('Relevés de  commissions'!D49=\"AGI externes\",'Relevés de  commissions'!O49,0)*1","v":0},{"$f":"IF('Relevés de  commissions'!D49=\"AGI externes\",'Relevés de  commissions'!P49,0)*1","v":0},0,""]
[null,null,null,null,null,null,null,null,null,null,null,null,{"$f":"IF('Relevés de  commissions'!D50=\"AGI externes\",'Relevés de  commissions'!M50,0)*1","v":0},{"$f":"IF('Relevés de  commissions'!D50=\"AGI externes\",'Relevés de  commissions'!N50,0)*1","v":0},{"$f":"IF('Relevés de  commissions'!D50=\"AGI externes\",'Relevés de  commissions'!O50,0)*1","v":0},{"$f":"IF('Relevés de  commissions'!D50=\"AGI externes\",'Relevés de  commissions'!P50,0)*1","v":0},0,""]
[null,null,null,null,null,null,null,null,null,null,null,null,{"$f":"IF('Relevés de  commissions'!D51=\"AGI externes\",'Relevés de  commissions'!M51,0)*1","v":0},{"$f":"IF('Relevés de  commissions'!D51=\"AGI externes\",'Relevés de  commissions'!N51,0)*1","v":0},{"$f":"IF('Relevés de  commissions'!D51=\"AGI externes\",'Relevés de  commissions'!O51,0)*1","v":0},{"$f":"IF('Relevés de  commissions'!D51=\"AGI externes\",'Relevés de  commissions'!P51,0)*1","v":0},0,""]
[null,null,null,null,null,null,null,null,null,null,null,null,{"$f":"IF('Relevés de  commissions'!D52=\"AGI externes\",'Relevés de  commissions'!M52,0)*1","v":0},{"$f":"IF('Relevés de  commissions'!D52=\"AGI externes\",'Relevés de  commissions'!N52,0)*1","v":0},{"$f":"IF('Relevés de  commissions'!D52=\"AGI externes\",'Relevés de  commissions'!O52,0)*1","v":0},{"$f":"IF('Relevés de  commissions'!D52=\"AGI externes\",'Relevés de  commissions'!P52,0)*1","v":0},0,""]
[null,null,null,null,null,null,null,null,null,null,null,null,{"$f":"IF('Relevés de  commissions'!D53=\"AGI externes\",'Relevés de  commissions'!M53,0)*1","v":0},{"$f":"IF('Relevés de  commissions'!D53=\"AGI externes\",'Relevés de  commissions'!N53,0)*1","v":0},{"$f":"IF('Relevés de  commissions'!D53=\"AGI externes\",'Relevés de  commissions'!O53,0)*1","v":0},{"$f":"IF('Relevés de  commissions'!D53=\"AGI externes\",'Relevés de  commissions'!P53,0)*1","v":0},0,""]
[null,null,null,null,null,null,null,null,null,null,null,null,{"$f":"IF('Relevés de  commissions'!D54=\"AGI externes\",'Relevés de  commissions'!M54,0)*1","v":0},{"$f":"IF('Relevés de  commissions'!D54=\"AGI externes\",'Relevés de  commissions'!N54,0)*1","v":0},{"$f":"IF('Relevés de  commissions'!D54=\"AGI externes\",'Relevés de  commissions'!O54,0)*1","v":0},{"$f":"IF('Relevés de  commissions'!D54=\"AGI externes\",'Relevés de  commissions'!P54,0)*1","v":0},0,""]
[null,null,null,null,null,null,null,null,null,null,null,null,{"$f":"IF('Relevés de  commissions'!D55=\"AGI externes\",'Relevés de  commissions'!M55,0)*1","v":0},{"$f":"IF('Relevés de  commissions'!D55=\"AGI externes\",'Relevés de  commissions'!N55,0)*1","v":0},{"$f":"IF('Relevés de  commissions'!D55=\"AGI externes\",'Relevés de  commissions'!O55,0)*1","v":0},{"$f":"IF('Relevés de  commissions'!D55=\"AGI externes\",'Relevés de  commissions'!P55,0)*1","v":0},0,""]
[null,null,null,null,null,null,null,null,null,null,null,null,{"$f":"IF('Relevés de  commissions'!D56=\"AGI externes\",'Relevés de  commissions'!M56,0)*1","v":0},{"$f":"IF('Relevés de  commissions'!D56=\"AGI externes\",'Relevés de  commissions'!N56,0)*1","v":0},{"$f":"IF('Relevés de  commissions'!D56=\"AGI externes\",'Relevés de  commissions'!O56,0)*1","v":0},{"$f":"IF('Relevés de  commissions'!D56=\"AGI externes\",'Relevés de  commissions'!P56,0)*1","v":0},0,""]
[null,null,null,null,null,null,null,null,null,null,null,null,{"$f":"IF('Relevés de  commissions'!D57=\"AGI externes\",'Relevés de  commissions'!M57,0)*1","v":0},{"$f":"IF('Relevés de  commissions'!D57=\"AGI externes\",'Relevés de  commissions'!N57,0)*1","v":0},{"$f":"IF('Relevés de  commissions'!D57=\"AGI externes\",'Relevés de  commissions'!O57,0)*1","v":0},{"$f":"IF('Relevés de  commissions'!D57=\"AGI externes\",'Relevés de  commissions'!P57,0)*1","v":0},0,""]
[null,null,null,null,null,null,null,null,null,null,null,null,{"$f":"IF('Relevés de  commissions'!D58=\"AGI externes\",'Relevés de  commissions'!M58,0)*1","v":0},{"$f":"IF('Relevés de  commissions'!D58=\"AGI externes\",'Relevés de  commissions'!N58,0)*1","v":0},{"$f":"IF('Relevés de  commissions'!D58=\"AGI externes\",'Relevés de  commissions'!O58,0)*1","v":0},{"$f":"IF('Relevés de  commissions'!D58=\"AGI externes\",'Relevés de  commissions'!P58,0)*1","v":0},0,""]
[null,null,null,null,null,null,null,null,null,null,null,null,{"$f":"IF('Relevés de  commissions'!D59=\"AGI externes\",'Relevés de  commissions'!M59,0)*1","v":0},{"$f":"IF('Relevés de  commissions'!D59=\"AGI externes\",'Relevés de  commissions'!N59,0)*1","v":0},{"$f":"IF('Relevés de  commissions'!D59=\"AGI externes\",'Relevés de  commissions'!O59,0)*1","v":0},{"$f":"IF('Relevés de  commissions'!D59=\"AGI externes\",'Relevés de  commissions'!P59,0)*1","v":0},0,""]
[null,null,null,null,null,null,null,null,null,null,null,null,{"$f":"IF('Relevés de  commissions'!D60=\"AGI externes\",'Relevés de  commissions'!M60,0)*1","v":0},{"$f":"IF('Relevés de  commissions'!D60=\"AGI externes\",'Relevés de  commissions'!N60,0)*1","v":0},{"$f":"IF('Relevés de  commissions'!D60=\"AGI externes\",'Relevés de  commissions'!O60,0)*1","v":0},{"$f":"IF('Relevés de  commissions'!D60=\"AGI externes\",'Relevés de  commissions'!P60,0)*1","v":0},0,""]
[null,null,null,null,null,null,null,null,null,null,null,null,{"$f":"IF('Relevés de  commissions'!D61=\"AGI externes\",'Relevés de  commissions'!M61,0)*1","v":0},{"$f":"IF('Relevés de  commissions'!D61=\"AGI externes\",'Relevés de  commissions'!N61,0)*1","v":0},{"$f":"IF('Relevés de  commissions'!D61=\"AGI externes\",'Relevés de  commissions'!O61,0)*1","v":0},{"$f":"IF('Relevés de  commissions'!D61=\"AGI externes\",'Relevés de  commissions'!P61,0)*1","v":0},0,""]
[null,null,null,null,null,null,null,null,null,null,null,null,{"$f":"IF('Relevés de  commissions'!D62=\"AGI externes\",'Relevés de  commissions'!M62,0)*1","v":0},{"$f":"IF('Relevés de  commissions'!D62=\"AGI externes\",'Relevés de  commissions'!N62,0)*1","v":0},{"$f":"IF('Relevés de  commissions'!D62=\"AGI externes\",'Relevés de  commissions'!O62,0)*1","v":0},{"$f":"IF('Relevés de  commissions'!D62=\"AGI externes\",'Relevés de  commissions'!P62,0)*1","v":0},0,""]
[null,null,null,null,null,null,null,null,null,null,null,null,{"$f":"IF('Relevés de  commissions'!D63=\"AGI externes\",'Relevés de  commissions'!M63,0)*1","v":0},{"$f":"IF('Relevés de  commissions'!D63=\"AGI externes\",'Relevés de  commissions'!N63,0)*1","v":0},{"$f":"IF('Relevés de  commissions'!D63=\"AGI externes\",'Relevés de  commissions'!O63,0)*1","v":0},{"$f":"IF('Relevés de  commissions'!D63=\"AGI externes\",'Relevés de  commissions'!P63,0)*1","v":0},0,""]
[null,null,null,null,null,null,null,null,null,null,null,null,{"$f":"IF('Relevés de  commissions'!D64=\"AGI externes\",'Relevés de  commissions'!M64,0)*1","v":0},{"$f":"IF('Relevés de  commissions'!D64=\"AGI externes\",'Relevés de  commissions'!N64,0)*1","v":0},{"$f":"IF('Relevés de  commissions'!D64=\"AGI externes\",'Relevés de  commissions'!O64,0)*1","v":0},{"$f":"IF('Relevés de  commissions'!D64=\"AGI externes\",'Relevés de  commissions'!P64,0)*1","v":0},0,""]
[null,null,null,null,null,null,null,null,null,null,null,null,{"$f":"IF('Relevés de  commissions'!D65=\"AGI externes\",'Relevés de  commissions'!M65,0)*1","v":0},{"$f":"IF('Relevés de  commissions'!D65=\"AGI externes\",'Relevés de  commissions'!N65,0)*1","v":0},{"$f":"IF('Relevés de  commissions'!D65=\"AGI externes\",'Relevés de  commissions'!O65,0)*1","v":0},{"$f":"IF('Relevés de  commissions'!D65=\"AGI externes\",'Relevés de  commissions'!P65,0)*1","v":0},0,""]
[null,null,null,null,null,null,null,null,null,null,null,null,{"$f":"IF('Relevés de  commissions'!D66=\"AGI externes\",'Relevés de  commissions'!M66,0)*1","v":0},{"$f":"IF('Relevés de  commissions'!D66=\"AGI externes\",'Relevés de  commissions'!N66,0)*1","v":0},{"$f":"IF('Relevés de  commissions'!D66=\"AGI externes\",'Relevés de  commissions'!O66,0)*1","v":0},{"$f":"IF('Relevés de  commissions'!D66=\"AGI externes\",'Relevés de  commissions'!P66,0)*1","v":0},0,""]
[null,null,null,null,null,null,null,null,null,null,null,null,{"$f":"IF('Relevés de  commissions'!D67=\"AGI externes\",'Relevés de  commissions'!M67,0)*1","v":0},{"$f":"IF('Relevés de  commissions'!D67=\"AGI externes\",'Relevés de  commissions'!N67,0)*1","v":0},{"$f":"IF('Relevés de  commissions'!D67=\"AGI externes\",'Relevés de  commissions'!O67,0)*1","v":0},{"$f":"IF('Relevés de  commissions'!D67=\"AGI externes\",'Relevés de  commissions'!P67,0)*1","v":0},{"$f":"IF(N69=0,O69,\"\")","v":0},{"$f":"IF(N69=10,O69,\"\")","v":""}]
[null,null,null,null,null,null,null,null,null,null,null,null,{"$f":"IF('Relevés de  commissions'!D68=\"AGI externes\",'Relevés de  commissions'!M68,0)*1","v":0},{"$f":"IF('Relevés de  commissions'!D68=\"AGI externes\",'Relevés de  commissions'!N68,0)*1","v":0},{"$f":"IF('Relevés de  commissions'!D68=\"AGI externes\",'Relevés de  commissions'!O68,0)*1","v":0},{"$f":"IF('Relevés de  commissions'!D68=\"AGI externes\",'Relevés de  commissions'!P68,0)*1","v":0},0,""]
[null,null,null,null,null,null,null,null,null,null,null,null,{"$f":"IF('Relevés de  commissions'!D69=\"AGI externes\",'Relevés de  commissions'!M69,0)*1","v":0},{"$f":"IF('Relevés de  commissions'!D69=\"AGI externes\",'Relevés de  commissions'!N69,0)*1","v":0},{"$f":"IF('Relevés de  commissions'!D69=\"AGI externes\",'Relevés de  commissions'!O69,0)*1","v":0},{"$f":"IF('Relevés de  commissions'!D69=\"AGI externes\",'Relevés de  commissions'!P69,0)*1","v":0},0,""]
[null,null,null,null,null,null,null,null,null,null,null,null,{"$f":"IF('Relevés de  commissions'!D70=\"AGI externes\",'Relevés de  commissions'!M70,0)*1","v":0},{"$f":"IF('Relevés de  commissions'!D70=\"AGI externes\",'Relevés de  commissions'!N70,0)*1","v":0},{"$f":"IF('Relevés de  commissions'!D70=\"AGI externes\",'Relevés de  commissions'!O70,0)*1","v":0},{"$f":"IF('Relevés de  commissions'!D70=\"AGI externes\",'Relevés de  commissions'!P70,0)*1","v":0},0,""]
[null,null,null,null,null,null,null,null,null,null,null,null,{"$f":"IF('Relevés de  commissions'!D71=\"AGI externes\",'Relevés de  commissions'!M71,0)*1","v":0},{"$f":"IF('Relevés de  commissions'!D71=\"AGI externes\",'Relevés de  commissions'!N71,0)*1","v":0},{"$f":"IF('Relevés de  commissions'!D71=\"AGI externes\",'Relevés de  commissions'!O71,0)*1","v":0},{"$f":"IF('Relevés de  commissions'!D71=\"AGI externes\",'Relevés de  commissions'!P71,0)*1","v":0},0,""]
[null,null,null,null,null,null,null,null,null,null,null,null,{"$f":"IF('Relevés de  commissions'!D72=\"AGI externes\",'Relevés de  commissions'!M72,0)*1","v":0},{"$f":"IF('Relevés de  commissions'!D72=\"AGI externes\",'Relevés de  commissions'!N72,0)*1","v":0},{"$f":"IF('Relevés de  commissions'!D72=\"AGI externes\",'Relevés de  commissions'!O72,0)*1","v":0},{"$f":"IF('Relevés de  commissions'!D72=\"AGI externes\",'Relevés de  commissions'!P72,0)*1","v":0},0,""]
[null,null,null,null,null,null,null,null,null,null,null,null,{"$f":"IF('Relevés de  commissions'!D73=\"AGI externes\",'Relevés de  commissions'!M73,0)*1","v":0},{"$f":"IF('Relevés de  commissions'!D73=\"AGI externes\",'Relevés de  commissions'!N73,0)*1","v":0},{"$f":"IF('Relevés de  commissions'!D73=\"AGI externes\",'Relevés de  commissions'!O73,0)*1","v":0},{"$f":"IF('Relevés de  commissions'!D73=\"AGI externes\",'Relevés de  commissions'!P73,0)*1","v":0},0,""]
[null,null,null,null,null,null,null,null,null,null,null,null,{"$f":"IF('Relevés de  commissions'!D74=\"AGI externes\",'Relevés de  commissions'!M74,0)*1","v":0},{"$f":"IF('Relevés de  commissions'!D74=\"AGI externes\",'Relevés de  commissions'!N74,0)*1","v":0},{"$f":"IF('Relevés de  commissions'!D74=\"AGI externes\",'Relevés de  commissions'!O74,0)*1","v":0},{"$f":"IF('Relevés de  commissions'!D74=\"AGI externes\",'Relevés de  commissions'!P74,0)*1","v":0},0,""]
[null,null,null,null,null,null,null,null,null,null,null,null,{"$f":"IF('Relevés de  commissions'!D75=\"AGI externes\",'Relevés de  commissions'!M75,0)*1","v":0},{"$f":"IF('Relevés de  commissions'!D75=\"AGI externes\",'Relevés de  commissions'!N75,0)*1","v":0},{"$f":"IF('Relevés de  commissions'!D75=\"AGI externes\",'Relevés de  commissions'!O75,0)*1","v":0},{"$f":"IF('Relevés de  commissions'!D75=\"AGI externes\",'Relevés de  commissions'!P75,0)*1","v":0},0,""]
[null,null,null,null,null,null,null,null,null,null,null,null,{"$f":"IF('Relevés de  commissions'!D76=\"AGI externes\",'Relevés de  commissions'!M76,0)*1","v":0},{"$f":"IF('Relevés de  commissions'!D76=\"AGI externes\",'Relevés de  commissions'!N76,0)*1","v":0},{"$f":"IF('Relevés de  commissions'!D76=\"AGI externes\",'Relevés de  commissions'!O76,0)*1","v":0},{"$f":"IF('Relevés de  commissions'!D76=\"AGI externes\",'Relevés de  commissions'!P76,0)*1","v":0},0,""]
[null,null,null,null,null,null,null,null,null,null,null,null,{"$f":"IF('Relevés de  commissions'!D77=\"AGI externes\",'Relevés de  commissions'!M77,0)*1","v":0},{"$f":"IF('Relevés de  commissions'!D77=\"AGI externes\",'Relevés de  commissions'!N77,0)*1","v":0},{"$f":"IF('Relevés de  commissions'!D77=\"AGI externes\",'Relevés de  commissions'!O77,0)*1","v":0},{"$f":"IF('Relevés de  commissions'!D77=\"AGI externes\",'Relevés de  commissions'!P77,0)*1","v":0},0,""]
[null,null,null,null,null,null,null,null,null,null,null,null,{"$f":"IF('Relevés de  commissions'!D78=\"AGI externes\",'Relevés de  commissions'!M78,0)*1","v":0},{"$f":"IF('Relevés de  commissions'!D78=\"AGI externes\",'Relevés de  commissions'!N78,0)*1","v":0},{"$f":"IF('Relevés de  commissions'!D78=\"AGI externes\",'Relevés de  commissions'!O78,0)*1","v":0},{"$f":"IF('Relevés de  commissions'!D78=\"AGI externes\",'Relevés de  commissions'!P78,0)*1","v":0},0,""]
[null,null,null,null,null,null,null,null,null,null,null,null,{"$f":"IF('Relevés de  commissions'!D79=\"AGI externes\",'Relevés de  commissions'!M79,0)*1","v":0},{"$f":"IF('Relevés de  commissions'!D79=\"AGI externes\",'Relevés de  commissions'!N79,0)*1","v":0},{"$f":"IF('Relevés de  commissions'!D79=\"AGI externes\",'Relevés de  commissions'!O79,0)*1","v":0},{"$f":"IF('Relevés de  commissions'!D79=\"AGI externes\",'Relevés de  commissions'!P79,0)*1","v":0},0,""]
[null,null,null,null,null,null,null,null,null,null,null,null,{"$f":"IF('Relevés de  commissions'!D80=\"AGI externes\",'Relevés de  commissions'!M80,0)*1","v":0},{"$f":"IF('Relevés de  commissions'!D80=\"AGI externes\",'Relevés de  commissions'!N80,0)*1","v":0},{"$f":"IF('Relevés de  commissions'!D80=\"AGI externes\",'Relevés de  commissions'!O80,0)*1","v":0},{"$f":"IF('Relevés de  commissions'!D80=\"AGI externes\",'Relevés de  commissions'!P80,0)*1","v":0},0,""]
[null,null,null,null,null,null,null,null,null,null,null,null,{"$f":"IF('Relevés de  commissions'!D81=\"AGI externes\",'Relevés de  commissions'!M81,0)*1","v":0},{"$f":"IF('Relevés de  commissions'!D81=\"AGI externes\",'Relevés de  commissions'!N81,0)*1","v":0},{"$f":"IF('Relevés de  commissions'!D81=\"AGI externes\",'Relevés de  commissions'!O81,0)*1","v":0},{"$f":"IF('Relevés de  commissions'!D81=\"AGI externes\",'Relevés de  commissions'!P81,0)*1","v":0},0,""]
[null,null,null,null,null,null,null,null,null,null,null,null,{"$f":"IF('Relevés de  commissions'!D82=\"AGI externes\",'Relevés de  commissions'!M82,0)*1","v":0},{"$f":"IF('Relevés de  commissions'!D82=\"AGI externes\",'Relevés de  commissions'!N82,0)*1","v":0},{"$f":"IF('Relevés de  commissions'!D82=\"AGI externes\",'Relevés de  commissions'!O82,0)*1","v":0},{"$f":"IF('Relevés de  commissions'!D82=\"AGI externes\",'Relevés de  commissions'!P82,0)*1","v":0},0,""]
[null,null,null,null,null,null,null,null,null,null,null,null,{"$f":"IF('Relevés de  commissions'!D83=\"AGI externes\",'Relevés de  commissions'!M83,0)*1","v":0},{"$f":"IF('Relevés de  commissions'!D83=\"AGI externes\",'Relevés de  commissions'!N83,0)*1","v":0},{"$f":"IF('Relevés de  commissions'!D83=\"AGI externes\",'Relevés de  commissions'!O83,0)*1","v":0},{"$f":"IF('Relevés de  commissions'!D83=\"AGI externes\",'Relevés de  commissions'!P83,0)*1","v":0},0,""]
[null,null,null,null,null,null,null,null,null,null,null,null,{"$f":"IF('Relevés de  commissions'!D84=\"AGI externes\",'Relevés de  commissions'!M84,0)*1","v":0},{"$f":"IF('Relevés de  commissions'!D84=\"AGI externes\",'Relevés de  commissions'!N84,0)*1","v":0},{"$f":"IF('Relevés de  commissions'!D84=\"AGI externes\",'Relevés de  commissions'!O84,0)*1","v":0},{"$f":"IF('Relevés de  commissions'!D84=\"AGI externes\",'Relevés de  commissions'!P84,0)*1","v":0},0,""]
[null,null,null,null,null,null,null,null,null,null,null,null,{"$f":"IF('Relevés de  commissions'!D85=\"AGI externes\",'Relevés de  commissions'!M85,0)*1","v":0},{"$f":"IF('Relevés de  commissions'!D85=\"AGI externes\",'Relevés de  commissions'!N85,0)*1","v":0},{"$f":"IF('Relevés de  commissions'!D85=\"AGI externes\",'Relevés de  commissions'!O85,0)*1","v":0},{"$f":"IF('Relevés de  commissions'!D85=\"AGI externes\",'Relevés de  commissions'!P85,0)*1","v":0},0,""]
[null,null,null,null,null,null,null,null,null,null,null,null,{"$f":"IF('Relevés de  commissions'!D86=\"AGI externes\",'Relevés de  commissions'!M86,0)*1","v":0},{"$f":"IF('Relevés de  commissions'!D86=\"AGI externes\",'Relevés de  commissions'!N86,0)*1","v":0},{"$f":"IF('Relevés de  commissions'!D86=\"AGI externes\",'Relevés de  commissions'!O86,0)*1","v":0},{"$f":"IF('Relevés de  commissions'!D86=\"AGI externes\",'Relevés de  commissions'!P86,0)*1","v":0},0,""]
[null,null,null,null,null,null,null,null,null,null,null,null,{"$f":"IF('Relevés de  commissions'!D87=\"AGI externes\",'Relevés de  commissions'!M87,0)*1","v":0},{"$f":"IF('Relevés de  commissions'!D87=\"AGI externes\",'Relevés de  commissions'!N87,0)*1","v":0},{"$f":"IF('Relevés de  commissions'!D87=\"AGI externes\",'Relevés de  commissions'!O87,0)*1","v":0},{"$f":"IF('Relevés de  commissions'!D87=\"AGI externes\",'Relevés de  commissions'!P87,0)*1","v":0},0,""]
[null,null,null,null,null,null,null,null,null,null,null,null,{"$f":"IF('Relevés de  commissions'!D88=\"AGI externes\",'Relevés de  commissions'!M88,0)*1","v":0},{"$f":"IF('Relevés de  commissions'!D88=\"AGI externes\",'Relevés de  commissions'!N88,0)*1","v":0},{"$f":"IF('Relevés de  commissions'!D88=\"AGI externes\",'Relevés de  commissions'!O88,0)*1","v":0},{"$f":"IF('Relevés de  commissions'!D88=\"AGI externes\",'Relevés de  commissions'!P88,0)*1","v":0},0,""]
[null,null,null,null,null,null,null,null,null,null,null,null,{"$f":"IF('Relevés de  commissions'!D89=\"AGI externes\",'Relevés de  commissions'!M89,0)*1","v":0},{"$f":"IF('Relevés de  commissions'!D89=\"AGI externes\",'Relevés de  commissions'!N89,0)*1","v":0},{"$f":"IF('Relevés de  commissions'!D89=\"AGI externes\",'Relevés de  commissions'!O89,0)*1","v":0},{"$f":"IF('Relevés de  commissions'!D89=\"AGI externes\",'Relevés de  commissions'!P89,0)*1","v":0},0,""]
[null,null,null,null,null,null,null,null,null,null,null,null,{"$f":"IF('Relevés de  commissions'!D90=\"AGI externes\",'Relevés de  commissions'!M90,0)*1","v":0},{"$f":"IF('Relevés de  commissions'!D90=\"AGI externes\",'Relevés de  commissions'!N90,0)*1","v":0},{"$f":"IF('Relevés de  commissions'!D90=\"AGI externes\",'Relevés de  commissions'!O90,0)*1","v":0},{"$f":"IF('Relevés de  commissions'!D90=\"AGI externes\",'Relevés de  commissions'!P90,0)*1","v":0},0,""]
[null,null,null,null,null,null,null,null,null,null,null,null,{"$f":"IF('Relevés de  commissions'!D91=\"AGI externes\",'Relevés de  commissions'!M91,0)*1","v":0},{"$f":"IF('Relevés de  commissions'!D91=\"AGI externes\",'Relevés de  commissions'!N91,0)*1","v":0},{"$f":"IF('Relevés de  commissions'!D91=\"AGI externes\",'Relevés de  commissions'!O91,0)*1","v":0},{"$f":"IF('Relevés de  commissions'!D91=\"AGI externes\",'Relevés de  commissions'!P91,0)*1","v":0},0,""]
[null,null,null,null,null,null,null,null,null,null,null,null,{"$f":"IF('Relevés de  commissions'!D92=\"AGI externes\",'Relevés de  commissions'!M92,0)*1","v":0},{"$f":"IF('Relevés de  commissions'!D92=\"AGI externes\",'Relevés de  commissions'!N92,0)*1","v":0},{"$f":"IF('Relevés de  commissions'!D92=\"AGI externes\",'Relevés de  commissions'!O92,0)*1","v":0},{"$f":"IF('Relevés de  commissions'!D92=\"AGI externes\",'Relevés de  commissions'!P92,0)*1","v":0},0,""]
[null,null,null,null,null,null,null,null,null,null,null,null,{"$f":"IF('Relevés de  commissions'!D93=\"AGI externes\",'Relevés de  commissions'!M93,0)*1","v":0},{"$f":"IF('Relevés de  commissions'!D93=\"AGI externes\",'Relevés de  commissions'!N93,0)*1","v":0},{"$f":"IF('Relevés de  commissions'!D93=\"AGI externes\",'Relevés de  commissions'!O93,0)*1","v":0},{"$f":"IF('Relevés de  commissions'!D93=\"AGI externes\",'Relevés de  commissions'!P93,0)*1","v":0},0,""]
[null,null,null,null,null,null,null,null,null,null,null,null,{"$f":"IF('Relevés de  commissions'!D94=\"AGI externes\",'Relevés de  commissions'!M94,0)*1","v":0},{"$f":"IF('Relevés de  commissions'!D94=\"AGI externes\",'Relevés de  commissions'!N94,0)*1","v":0},{"$f":"IF('Relevés de  commissions'!D94=\"AGI externes\",'Relevés de  commissions'!O94,0)*1","v":0},{"$f":"IF('Relevés de  commissions'!D94=\"AGI externes\",'Relevés de  commissions'!P94,0)*1","v":0},0,""]
[null,null,null,null,null,null,null,null,null,null,null,null,{"$f":"IF('Relevés de  commissions'!D95=\"AGI externes\",'Relevés de  commissions'!M95,0)*1","v":0},{"$f":"IF('Relevés de  commissions'!D95=\"AGI externes\",'Relevés de  commissions'!N95,0)*1","v":0},{"$f":"IF('Relevés de  commissions'!D95=\"AGI externes\",'Relevés de  commissions'!O95,0)*1","v":0},{"$f":"IF('Relevés de  commissions'!D95=\"AGI externes\",'Relevés de  commissions'!P95,0)*1","v":0},0,""]
[null,null,null,null,null,null,null,null,null,null,null,null,{"$f":"IF('Relevés de  commissions'!D96=\"AGI externes\",'Relevés de  commissions'!M96,0)*1","v":0},{"$f":"IF('Relevés de  commissions'!D96=\"AGI externes\",'Relevés de  commissions'!N96,0)*1","v":0},{"$f":"IF('Relevés de  commissions'!D96=\"AGI externes\",'Relevés de  commissions'!O96,0)*1","v":0},{"$f":"IF('Relevés de  commissions'!D96=\"AGI externes\",'Relevés de  commissions'!P96,0)*1","v":0},0,""]
[null,null,null,null,null,null,null,null,null,null,null,null,{"$f":"IF('Relevés de  commissions'!D97=\"AGI externes\",'Relevés de  commissions'!M97,0)*1","v":0},{"$f":"IF('Relevés de  commissions'!D97=\"AGI externes\",'Relevés de  commissions'!N97,0)*1","v":0},{"$f":"IF('Relevés de  commissions'!D97=\"AGI externes\",'Relevés de  commissions'!O97,0)*1","v":0},{"$f":"IF('Relevés de  commissions'!D97=\"AGI externes\",'Relevés de  commissions'!P97,0)*1","v":0},0,""]
[null,null,null,null,null,null,null,null,null,null,null,null,{"$f":"IF('Relevés de  commissions'!D98=\"AGI externes\",'Relevés de  commissions'!M98,0)*1","v":0},{"$f":"IF('Relevés de  commissions'!D98=\"AGI externes\",'Relevés de  commissions'!N98,0)*1","v":0},{"$f":"IF('Relevés de  commissions'!D98=\"AGI externes\",'Relevés de  commissions'!O98,0)*1","v":0},{"$f":"IF('Relevés de  commissions'!D98=\"AGI externes\",'Relevés de  commissions'!P98,0)*1","v":0},0,""]
[null,null,null,null,null,null,null,null,null,null,null,null,{"$f":"IF('Relevés de  commissions'!D99=\"AGI externes\",'Relevés de  commissions'!M99,0)*1","v":0},{"$f":"IF('Relevés de  commissions'!D99=\"AGI externes\",'Relevés de  commissions'!N99,0)*1","v":0},{"$f":"IF('Relevés de  commissions'!D99=\"AGI externes\",'Relevés de  commissions'!O99,0)*1","v":0},{"$f":"IF('Relevés de  commissions'!D99=\"AGI externes\",'Relevés de  commissions'!P99,0)*1","v":0},0,""]
[null,null,null,null,null,null,null,null,null,null,null,null,{"$f":"IF('Relevés de  commissions'!D100=\"AGI externes\",'Relevés de  commissions'!M100,0)*1","v":0},{"$f":"IF('Relevés de  commissions'!D100=\"AGI externes\",'Relevés de  commissions'!N100,0)*1","v":0},{"$f":"IF('Relevés de  commissions'!D100=\"AGI externes\",'Relevés de  commissions'!O100,0)*1","v":0},{"$f":"IF('Relevés de  commissions'!D100=\"AGI externes\",'Relevés de  commissions'!P100,0)*1","v":0},0,""]
[null,null,null,null,null,null,null,null,null,null,null,null,{"$f":"IF('Relevés de  commissions'!D101=\"AGI externes\",'Relevés de  commissions'!M101,0)*1","v":0},{"$f":"IF('Relevés de  commissions'!D101=\"AGI externes\",'Relevés de  commissions'!N101,0)*1","v":0},{"$f":"IF('Relevés de  commissions'!D101=\"AGI externes\",'Relevés de  commissions'!O101,0)*1","v":0},{"$f":"IF('Relevés de  commissions'!D101=\"AGI externes\",'Relevés de  commissions'!P101,0)*1","v":0},0,""]
[null,null,null,null,null,null,null,null,null,null,null,null,{"$f":"IF('Relevés de  commissions'!D102=\"AGI externes\",'Relevés de  commissions'!M102,0)*1","v":0},{"$f":"IF('Relevés de  commissions'!D102=\"AGI externes\",'Relevés de  commissions'!N102,0)*1","v":0},{"$f":"IF('Relevés de  commissions'!D102=\"AGI externes\",'Relevés de  commissions'!O102,0)*1","v":0},{"$f":"IF('Relevés de  commissions'!D102=\"AGI externes\",'Relevés de  commissions'!P102,0)*1","v":0},0,""]
[null,null,null,null,null,null,null,null,null,null,null,null,{"$f":"IF('Relevés de  commissions'!D103=\"AGI externes\",'Relevés de  commissions'!M103,0)*1","v":0},{"$f":"IF('Relevés de  commissions'!D103=\"AGI externes\",'Relevés de  commissions'!N103,0)*1","v":0},{"$f":"IF('Relevés de  commissions'!D103=\"AGI externes\",'Relevés de  commissions'!O103,0)*1","v":0},{"$f":"IF('Relevés de  commissions'!D103=\"AGI externes\",'Relevés de  commissions'!P103,0)*1","v":0},0,""]
[null,null,null,null,null,null,null,null,null,null,null,null,{"$f":"IF('Relevés de  commissions'!D104=\"AGI externes\",'Relevés de  commissions'!M104,0)*1","v":0},{"$f":"IF('Relevés de  commissions'!D104=\"AGI externes\",'Relevés de  commissions'!N104,0)*1","v":0},{"$f":"IF('Relevés de  commissions'!D104=\"AGI externes\",'Relevés de  commissions'!O104,0)*1","v":0},{"$f":"IF('Relevés de  commissions'!D104=\"AGI externes\",'Relevés de  commissions'!P104,0)*1","v":0},0,""]
[null,null,null,null,null,null,null,null,null,null,null,null,{"$f":"IF('Relevés de  commissions'!D105=\"AGI externes\",'Relevés de  commissions'!M105,0)*1","v":0},{"$f":"IF('Relevés de  commissions'!D105=\"AGI externes\",'Relevés de  commissions'!N105,0)*1","v":0},{"$f":"IF('Relevés de  commissions'!D105=\"AGI externes\",'Relevés de  commissions'!O105,0)*1","v":0},{"$f":"IF('Relevés de  commissions'!D105=\"AGI externes\",'Relevés de  commissions'!P105,0)*1","v":0},0,""]
[null,null,null,null,null,null,null,null,null,null,null,null,{"$f":"IF('Relevés de  commissions'!D106=\"AGI externes\",'Relevés de  commissions'!M106,0)*1","v":0},{"$f":"IF('Relevés de  commissions'!D106=\"AGI externes\",'Relevés de  commissions'!N106,0)*1","v":0},{"$f":"IF('Relevés de  commissions'!D106=\"AGI externes\",'Relevés de  commissions'!O106,0)*1","v":0},{"$f":"IF('Relevés de  commissions'!D106=\"AGI externes\",'Relevés de  commissions'!P106,0)*1","v":0},0,""]
[null,null,null,null,null,null,null,null,null,null,null,null,{"$f":"IF('Relevés de  commissions'!D107=\"AGI externes\",'Relevés de  commissions'!M107,0)*1","v":0},{"$f":"IF('Relevés de  commissions'!D107=\"AGI externes\",'Relevés de  commissions'!N107,0)*1","v":0},{"$f":"IF('Relevés de  commissions'!D107=\"AGI externes\",'Relevés de  commissions'!O107,0)*1","v":0},{"$f":"IF('Relevés de  commissions'!D107=\"AGI externes\",'Relevés de  commissions'!P107,0)*1","v":0},0,""]
[null,null,null,null,null,null,null,null,null,null,null,null,{"$f":"IF('Relevés de  commissions'!D108=\"AGI externes\",'Relevés de  commissions'!M108,0)*1","v":0},{"$f":"IF('Relevés de  commissions'!D108=\"AGI externes\",'Relevés de  commissions'!N108,0)*1","v":0},{"$f":"IF('Relevés de  commissions'!D108=\"AGI externes\",'Relevés de  commissions'!O108,0)*1","v":0},{"$f":"IF('Relevés de  commissions'!D108=\"AGI externes\",'Relevés de  commissions'!P108,0)*1","v":0},0,""]
[null,null,null,null,null,null,null,null,null,null,null,null,{"$f":"IF('Relevés de  commissions'!D109=\"AGI externes\",'Relevés de  commissions'!M109,0)*1","v":0},{"$f":"IF('Relevés de  commissions'!D109=\"AGI externes\",'Relevés de  commissions'!N109,0)*1","v":0},{"$f":"IF('Relevés de  commissions'!D109=\"AGI externes\",'Relevés de  commissions'!O109,0)*1","v":0},{"$f":"IF('Relevés de  commissions'!D109=\"AGI externes\",'Relevés de  commissions'!P109,0)*1","v":0},0,""]
[null,null,null,null,null,null,null,null,null,null,null,null,{"$f":"IF('Relevés de  commissions'!D110=\"AGI externes\",'Relevés de  commissions'!M110,0)*1","v":0},{"$f":"IF('Relevés de  commissions'!D110=\"AGI externes\",'Relevés de  commissions'!N110,0)*1","v":0},{"$f":"IF('Relevés de  commissions'!D110=\"AGI externes\",'Relevés de  commissions'!O110,0)*1","v":0},{"$f":"IF('Relevés de  commissions'!D110=\"AGI externes\",'Relevés de  commissions'!P110,0)*1","v":0},0,""]
[null,null,null,null,null,null,null,null,null,null,null,null,{"$f":"IF('Relevés de  commissions'!D111=\"AGI externes\",'Relevés de  commissions'!M111,0)*1","v":0},{"$f":"IF('Relevés de  commissions'!D111=\"AGI externes\",'Relevés de  commissions'!N111,0)*1","v":0},{"$f":"IF('Relevés de  commissions'!D111=\"AGI externes\",'Relevés de  commissions'!O111,0)*1","v":0},{"$f":"IF('Relevés de  commissions'!D111=\"AGI externes\",'Relevés de  commissions'!P111,0)*1","v":0},0,""]
[null,null,null,null,null,null,null,null,null,null,null,null,{"$f":"IF('Relevés de  commissions'!D112=\"AGI externes\",'Relevés de  commissions'!M112,0)*1","v":0},{"$f":"IF('Relevés de  commissions'!D112=\"AGI externes\",'Relevés de  commissions'!N112,0)*1","v":0},{"$f":"IF('Relevés de  commissions'!D112=\"AGI externes\",'Relevés de  commissions'!O112,0)*1","v":0},{"$f":"IF('Relevés de  commissions'!D112=\"AGI externes\",'Relevés de  commissions'!P112,0)*1","v":0},0,""]
[null,null,null,null,null,null,null,null,null,null,null,null,{"$f":"IF('Relevés de  commissions'!D113=\"AGI externes\",'Relevés de  commissions'!M113,0)*1","v":0},{"$f":"IF('Relevés de  commissions'!D113=\"AGI externes\",'Relevés de  commissions'!N113,0)*1","v":0},{"$f":"IF('Relevés de  commissions'!D113=\"AGI externes\",'Relevés de  commissions'!O113,0)*1","v":0},{"$f":"IF('Relevés de  commissions'!D113=\"AGI externes\",'Relevés de  commissions'!P113,0)*1","v":0},0,""]
[null,null,null,null,null,null,null,null,null,null,null,null,{"$f":"IF('Relevés de  commissions'!D114=\"AGI externes\",'Relevés de  commissions'!M114,0)*1","v":0},{"$f":"IF('Relevés de  commissions'!D114=\"AGI externes\",'Relevés de  commissions'!N114,0)*1","v":0},{"$f":"IF('Relevés de  commissions'!D114=\"AGI externes\",'Relevés de  commissions'!O114,0)*1","v":0},{"$f":"IF('Relevés de  commissions'!D114=\"AGI externes\",'Relevés de  commissions'!P114,0)*1","v":0},0,""]
[null,null,null,null,null,null,null,null,null,null,null,null,{"$f":"IF('Relevés de  commissions'!D115=\"AGI externes\",'Relevés de  commissions'!M115,0)*1","v":0},{"$f":"IF('Relevés de  commissions'!D115=\"AGI externes\",'Relevés de  commissions'!N115,0)*1","v":0},{"$f":"IF('Relevés de  commissions'!D115=\"AGI externes\",'Relevés de  commissions'!O115,0)*1","v":0},{"$f":"IF('Relevés de  commissions'!D115=\"AGI externes\",'Relevés de  commissions'!P115,0)*1","v":0},0,""]
[null,null,null,null,null,null,null,null,null,null,null,null,{"$f":"IF('Relevés de  commissions'!D116=\"AGI externes\",'Relevés de  commissions'!M116,0)*1","v":0},{"$f":"IF('Relevés de  commissions'!D116=\"AGI externes\",'Relevés de  commissions'!N116,0)*1","v":0},{"$f":"IF('Relevés de  commissions'!D116=\"AGI externes\",'Relevés de  commissions'!O116,0)*1","v":0},{"$f":"IF('Relevés de  commissions'!D116=\"AGI externes\",'Relevés de  commissions'!P116,0)*1","v":0},0,""]
[null,null,null,null,null,null,null,null,null,null,null,null,{"$f":"IF('Relevés de  commissions'!D117=\"AGI externes\",'Relevés de  commissions'!M117,0)*1","v":0},{"$f":"IF('Relevés de  commissions'!D117=\"AGI externes\",'Relevés de  commissions'!N117,0)*1","v":0},{"$f":"IF('Relevés de  commissions'!D117=\"AGI externes\",'Relevés de  commissions'!O117,0)*1","v":0},{"$f":"IF('Relevés de  commissions'!D117=\"AGI externes\",'Relevés de  commissions'!P117,0)*1","v":0},0,""]
[null,null,null,null,null,null,null,null,null,null,null,null,{"$f":"IF('Relevés de  commissions'!D118=\"AGI externes\",'Relevés de  commissions'!M118,0)*1","v":0},{"$f":"IF('Relevés de  commissions'!D118=\"AGI externes\",'Relevés de  commissions'!N118,0)*1","v":0},{"$f":"IF('Relevés de  commissions'!D118=\"AGI externes\",'Relevés de  commissions'!O118,0)*1","v":0},{"$f":"IF('Relevés de  commissions'!D118=\"AGI externes\",'Relevés de  commissions'!P118,0)*1","v":0},0,""]
[null,null,null,null,null,null,null,null,null,null,null,null,{"$f":"IF('Relevés de  commissions'!D119=\"AGI externes\",'Relevés de  commissions'!M119,0)*1","v":0},{"$f":"IF('Relevés de  commissions'!D119=\"AGI externes\",'Relevés de  commissions'!N119,0)*1","v":0},{"$f":"IF('Relevés de  commissions'!D119=\"AGI externes\",'Relevés de  commissions'!O119,0)*1","v":0},{"$f":"IF('Relevés de  commissions'!D119=\"AGI externes\",'Relevés de  commissions'!P119,0)*1","v":0},0,""]
[null,null,null,null,null,null,null,null,null,null,null,null,{"$f":"IF('Relevés de  commissions'!D120=\"AGI externes\",'Relevés de  commissions'!M120,0)*1","v":0},{"$f":"IF('Relevés de  commissions'!D120=\"AGI externes\",'Relevés de  commissions'!N120,0)*1","v":0},{"$f":"IF('Relevés de  commissions'!D120=\"AGI externes\",'Relevés de  commissions'!O120,0)*1","v":0},{"$f":"IF('Relevés de  commissions'!D120=\"AGI externes\",'Relevés de  commissions'!P120,0)*1","v":0},0,""]
[null,null,null,null,null,null,null,null,null,null,null,null,{"$f":"IF('Relevés de  commissions'!D121=\"AGI externes\",'Relevés de  commissions'!M121,0)*1","v":0},{"$f":"IF('Relevés de  commissions'!D121=\"AGI externes\",'Relevés de  commissions'!N121,0)*1","v":0},{"$f":"IF('Relevés de  commissions'!D121=\"AGI externes\",'Relevés de  commissions'!O121,0)*1","v":0},{"$f":"IF('Relevés de  commissions'!D121=\"AGI externes\",'Relevés de  commissions'!P121,0)*1","v":0},0,""]
[null,null,null,null,null,null,null,null,null,null,null,null,{"$f":"IF('Relevés de  commissions'!D122=\"AGI externes\",'Relevés de  commissions'!M122,0)*1","v":0},{"$f":"IF('Relevés de  commissions'!D122=\"AGI externes\",'Relevés de  commissions'!N122,0)*1","v":0},{"$f":"IF('Relevés de  commissions'!D122=\"AGI externes\",'Relevés de  commissions'!O122,0)*1","v":0},{"$f":"IF('Relevés de  commissions'!D122=\"AGI externes\",'Relevés de  commissions'!P122,0)*1","v":0},0,""]
[null,null,null,null,null,null,null,null,null,null,null,null,{"$f":"IF('Relevés de  commissions'!D123=\"AGI externes\",'Relevés de  commissions'!M123,0)*1","v":0},{"$f":"IF('Relevés de  commissions'!D123=\"AGI externes\",'Relevés de  commissions'!N123,0)*1","v":0},{"$f":"IF('Relevés de  commissions'!D123=\"AGI externes\",'Relevés de  commissions'!O123,0)*1","v":0},{"$f":"IF('Relevés de  commissions'!D123=\"AGI externes\",'Relevés de  commissions'!P123,0)*1","v":0},0,""]
[null,null,null,null,null,null,null,null,null,null,null,null,{"$f":"IF('Relevés de  commissions'!D124=\"AGI externes\",'Relevés de  commissions'!M124,0)*1","v":0},{"$f":"IF('Relevés de  commissions'!D124=\"AGI externes\",'Relevés de  commissions'!N124,0)*1","v":0},{"$f":"IF('Relevés de  commissions'!D124=\"AGI externes\",'Relevés de  commissions'!O124,0)*1","v":0},{"$f":"IF('Relevés de  commissions'!D124=\"AGI externes\",'Relevés de  commissions'!P124,0)*1","v":0},0,""]
[null,null,null,null,null,null,null,null,null,null,null,null,{"$f":"IF('Relevés de  commissions'!D125=\"AGI externes\",'Relevés de  commissions'!M125,0)*1","v":0},{"$f":"IF('Relevés de  commissions'!D125=\"AGI externes\",'Relevés de  commissions'!N125,0)*1","v":0},{"$f":"IF('Relevés de  commissions'!D125=\"AGI externes\",'Relevés de  commissions'!O125,0)*1","v":0},{"$f":"IF('Relevés de  commissions'!D125=\"AGI externes\",'Relevés de  commissions'!P125,0)*1","v":0},0,""]
[null,null,null,null,null,null,null,null,null,null,null,null,{"$f":"IF('Relevés de  commissions'!D126=\"AGI externes\",'Relevés de  commissions'!M126,0)*1","v":0},{"$f":"IF('Relevés de  commissions'!D126=\"AGI externes\",'Relevés de  commissions'!N126,0)*1","v":0},{"$f":"IF('Relevés de  commissions'!D126=\"AGI externes\",'Relevés de  commissions'!O126,0)*1","v":0},{"$f":"IF('Relevés de  commissions'!D126=\"AGI externes\",'Relevés de  commissions'!P126,0)*1","v":0},0,""]
[null,null,null,null,null,null,null,null,null,null,null,null,{"$f":"IF('Relevés de  commissions'!D127=\"AGI externes\",'Relevés de  commissions'!M127,0)*1","v":0},{"$f":"IF('Relevés de  commissions'!D127=\"AGI externes\",'Relevés de  commissions'!N127,0)*1","v":0},{"$f":"IF('Relevés de  commissions'!D127=\"AGI externes\",'Relevés de  commissions'!O127,0)*1","v":0},{"$f":"IF('Relevés de  commissions'!D127=\"AGI externes\",'Relevés de  commissions'!P127,0)*1","v":0},0,""]
[null,null,null,null,null,null,null,null,null,null,null,null,{"$f":"IF('Relevés de  commissions'!D128=\"AGI externes\",'Relevés de  commissions'!M128,0)*1","v":0},{"$f":"IF('Relevés de  commissions'!D128=\"AGI externes\",'Relevés de  commissions'!N128,0)*1","v":0},{"$f":"IF('Relevés de  commissions'!D128=\"AGI externes\",'Relevés de  commissions'!O128,0)*1","v":0},{"$f":"IF('Relevés de  commissions'!D128=\"AGI externes\",'Relevés de  commissions'!P128,0)*1","v":0},0,""]
[null,null,null,null,null,null,null,null,null,null,null,null,{"$f":"IF('Relevés de  commissions'!D129=\"AGI externes\",'Relevés de  commissions'!M129,0)*1","v":0},{"$f":"IF('Relevés de  commissions'!D129=\"AGI externes\",'Relevés de  commissions'!N129,0)*1","v":0},{"$f":"IF('Relevés de  commissions'!D129=\"AGI externes\",'Relevés de  commissions'!O129,0)*1","v":0},{"$f":"IF('Relevés de  commissions'!D129=\"AGI externes\",'Relevés de  commissions'!P129,0)*1","v":0},0,""]
[null,null,null,null,null,null,null,null,null,null,null,null,{"$f":"IF('Relevés de  commissions'!D130=\"AGI externes\",'Relevés de  commissions'!M130,0)*1","v":0},{"$f":"IF('Relevés de  commissions'!D130=\"AGI externes\",'Relevés de  commissions'!N130,0)*1","v":0},{"$f":"IF('Relevés de  commissions'!D130=\"AGI externes\",'Relevés de  commissions'!O130,0)*1","v":0},{"$f":"IF('Relevés de  commissions'!D130=\"AGI externes\",'Relevés de  commissions'!P130,0)*1","v":0},0,""]
[null,null,null,null,null,null,null,null,null,null,null,null,{"$f":"IF('Relevés de  commissions'!D131=\"AGI externes\",'Relevés de  commissions'!M131,0)*1","v":0},{"$f":"IF('Relevés de  commissions'!D131=\"AGI externes\",'Relevés de  commissions'!N131,0)*1","v":0},{"$f":"IF('Relevés de  commissions'!D131=\"AGI externes\",'Relevés de  commissions'!O131,0)*1","v":0},{"$f":"IF('Relevés de  commissions'!D131=\"AGI externes\",'Relevés de  commissions'!P131,0)*1","v":0},{"$f":"IF(N133=0,O133,\"\")","v":0},{"$f":"IF(N133=10,O133,\"\")","v":""}]
[null,null,null,null,null,null,null,null,null,null,null,null,{"$f":"IF('Relevés de  commissions'!D132=\"AGI externes\",'Relevés de  commissions'!M132,0)*1","v":0},{"$f":"IF('Relevés de  commissions'!D132=\"AGI externes\",'Relevés de  commissions'!N132,0)*1","v":0},{"$f":"IF('Relevés de  commissions'!D132=\"AGI externes\",'Relevés de  commissions'!O132,0)*1","v":0},{"$f":"IF('Relevés de  commissions'!D132=\"AGI externes\",'Relevés de  commissions'!P132,0)*1","v":0},0,""]
[null,null,null,null,null,null,null,null,null,null,null,null,{"$f":"IF('Relevés de  commissions'!D133=\"AGI externes\",'Relevés de  commissions'!M133,0)*1","v":0},{"$f":"IF('Relevés de  commissions'!D133=\"AGI externes\",'Relevés de  commissions'!N133,0)*1","v":0},{"$f":"IF('Relevés de  commissions'!D133=\"AGI externes\",'Relevés de  commissions'!O133,0)*1","v":0},{"$f":"IF('Relevés de  commissions'!D133=\"AGI externes\",'Relevés de  commissions'!P133,0)*1","v":0},0,""]
[null,null,null,null,null,null,null,null,null,null,null,null,{"$f":"IF('Relevés de  commissions'!D134=\"AGI externes\",'Relevés de  commissions'!M134,0)*1","v":0},{"$f":"IF('Relevés de  commissions'!D134=\"AGI externes\",'Relevés de  commissions'!N134,0)*1","v":0},{"$f":"IF('Relevés de  commissions'!D134=\"AGI externes\",'Relevés de  commissions'!O134,0)*1","v":0},{"$f":"IF('Relevés de  commissions'!D134=\"AGI externes\",'Relevés de  commissions'!P134,0)*1","v":0},0,""]
[null,null,null,null,null,null,null,null,null,null,null,null,{"$f":"IF('Relevés de  commissions'!D135=\"AGI externes\",'Relevés de  commissions'!M135,0)*1","v":0},{"$f":"IF('Relevés de  commissions'!D135=\"AGI externes\",'Relevés de  commissions'!N135,0)*1","v":0},{"$f":"IF('Relevés de  commissions'!D135=\"AGI externes\",'Relevés de  commissions'!O135,0)*1","v":0},{"$f":"IF('Relevés de  commissions'!D135=\"AGI externes\",'Relevés de  commissions'!P135,0)*1","v":0},0,""]
[null,null,null,null,null,null,null,null,null,null,null,null,{"$f":"IF('Relevés de  commissions'!D136=\"AGI externes\",'Relevés de  commissions'!M136,0)*1","v":0},{"$f":"IF('Relevés de  commissions'!D136=\"AGI externes\",'Relevés de  commissions'!N136,0)*1","v":0},{"$f":"IF('Relevés de  commissions'!D136=\"AGI externes\",'Relevés de  commissions'!O136,0)*1","v":0},{"$f":"IF('Relevés de  commissions'!D136=\"AGI externes\",'Relevés de  commissions'!P136,0)*1","v":0},0,""]
[null,null,null,null,null,null,null,null,null,null,null,null,{"$f":"IF('Relevés de  commissions'!D137=\"AGI externes\",'Relevés de  commissions'!M137,0)*1","v":0},{"$f":"IF('Relevés de  commissions'!D137=\"AGI externes\",'Relevés de  commissions'!N137,0)*1","v":0},{"$f":"IF('Relevés de  commissions'!D137=\"AGI externes\",'Relevés de  commissions'!O137,0)*1","v":0},{"$f":"IF('Relevés de  commissions'!D137=\"AGI externes\",'Relevés de  commissions'!P137,0)*1","v":0},0,""]
[null,null,null,null,null,null,null,null,null,null,null,null,{"$f":"IF('Relevés de  commissions'!D138=\"AGI externes\",'Relevés de  commissions'!M138,0)*1","v":0},{"$f":"IF('Relevés de  commissions'!D138=\"AGI externes\",'Relevés de  commissions'!N138,0)*1","v":0},{"$f":"IF('Relevés de  commissions'!D138=\"AGI externes\",'Relevés de  commissions'!O138,0)*1","v":0},{"$f":"IF('Relevés de  commissions'!D138=\"AGI externes\",'Relevés de  commissions'!P138,0)*1","v":0},0,""]
[null,null,null,null,null,null,null,null,null,null,null,null,{"$f":"IF('Relevés de  commissions'!D139=\"AGI externes\",'Relevés de  commissions'!M139,0)*1","v":0},{"$f":"IF('Relevés de  commissions'!D139=\"AGI externes\",'Relevés de  commissions'!N139,0)*1","v":0},{"$f":"IF('Relevés de  commissions'!D139=\"AGI externes\",'Relevés de  commissions'!O139,0)*1","v":0},{"$f":"IF('Relevés de  commissions'!D139=\"AGI externes\",'Relevés de  commissions'!P139,0)*1","v":0},0,""]
[null,null,null,null,null,null,null,null,null,null,null,null,{"$f":"IF('Relevés de  commissions'!D140=\"AGI externes\",'Relevés de  commissions'!M140,0)*1","v":0},{"$f":"IF('Relevés de  commissions'!D140=\"AGI externes\",'Relevés de  commissions'!N140,0)*1","v":0},{"$f":"IF('Relevés de  commissions'!D140=\"AGI externes\",'Relevés de  commissions'!O140,0)*1","v":0},{"$f":"IF('Relevés de  commissions'!D140=\"AGI externes\",'Relevés de  commissions'!P140,0)*1","v":0},0,""]
[null,null,null,null,null,null,null,null,null,null,null,null,{"$f":"IF('Relevés de  commissions'!D141=\"AGI externes\",'Relevés de  commissions'!M141,0)*1","v":0},{"$f":"IF('Relevés de  commissions'!D141=\"AGI externes\",'Relevés de  commissions'!N141,0)*1","v":0},{"$f":"IF('Relevés de  commissions'!D141=\"AGI externes\",'Relevés de  commissions'!O141,0)*1","v":0},{"$f":"IF('Relevés de  commissions'!D141=\"AGI externes\",'Relevés de  commissions'!P141,0)*1","v":0},0,""]
[null,null,null,null,null,null,null,null,null,null,null,null,{"$f":"IF('Relevés de  commissions'!D142=\"AGI externes\",'Relevés de  commissions'!M142,0)*1","v":0},{"$f":"IF('Relevés de  commissions'!D142=\"AGI externes\",'Relevés de  commissions'!N142,0)*1","v":0},{"$f":"IF('Relevés de  commissions'!D142=\"AGI externes\",'Relevés de  commissions'!O142,0)*1","v":0},{"$f":"IF('Relevés de  commissions'!D142=\"AGI externes\",'Relevés de  commissions'!P142,0)*1","v":0},0,""]
[null,null,null,null,null,null,null,null,null,null,null,null,{"$f":"IF('Relevés de  commissions'!D143=\"AGI externes\",'Relevés de  commissions'!M143,0)*1","v":0},{"$f":"IF('Relevés de  commissions'!D143=\"AGI externes\",'Relevés de  commissions'!N143,0)*1","v":0},{"$f":"IF('Relevés de  commissions'!D143=\"AGI externes\",'Relevés de  commissions'!O143,0)*1","v":0},{"$f":"IF('Relevés de  commissions'!D143=\"AGI externes\",'Relevés de  commissions'!P143,0)*1","v":0},0,""]
[null,null,null,null,null,null,null,null,null,null,null,null,{"$f":"IF('Relevés de  commissions'!D144=\"AGI externes\",'Relevés de  commissions'!M144,0)*1","v":0},{"$f":"IF('Relevés de  commissions'!D144=\"AGI externes\",'Relevés de  commissions'!N144,0)*1","v":0},{"$f":"IF('Relevés de  commissions'!D144=\"AGI externes\",'Relevés de  commissions'!O144,0)*1","v":0},{"$f":"IF('Relevés de  commissions'!D144=\"AGI externes\",'Relevés de  commissions'!P144,0)*1","v":0},0,""]
[null,null,null,null,null,null,null,null,null,null,null,null,{"$f":"IF('Relevés de  commissions'!D145=\"AGI externes\",'Relevés de  commissions'!M145,0)*1","v":0},{"$f":"IF('Relevés de  commissions'!D145=\"AGI externes\",'Relevés de  commissions'!N145,0)*1","v":0},{"$f":"IF('Relevés de  commissions'!D145=\"AGI externes\",'Relevés de  commissions'!O145,0)*1","v":0},{"$f":"IF('Relevés de  commissions'!D145=\"AGI externes\",'Relevés de  commissions'!P145,0)*1","v":0},0,""]
[null,null,null,null,null,null,null,null,null,null,null,null,{"$f":"IF('Relevés de  commissions'!D146=\"AGI externes\",'Relevés de  commissions'!M146,0)*1","v":0},{"$f":"IF('Relevés de  commissions'!D146=\"AGI externes\",'Relevés de  commissions'!N146,0)*1","v":0},{"$f":"IF('Relevés de  commissions'!D146=\"AGI externes\",'Relevés de  commissions'!O146,0)*1","v":0},{"$f":"IF('Relevés de  commissions'!D146=\"AGI externes\",'Relevés de  commissions'!P146,0)*1","v":0},0,""]
[null,null,null,null,null,null,null,null,null,null,null,null,{"$f":"IF('Relevés de  commissions'!D147=\"AGI externes\",'Relevés de  commissions'!M147,0)*1","v":0},{"$f":"IF('Relevés de  commissions'!D147=\"AGI externes\",'Relevés de  commissions'!N147,0)*1","v":0},{"$f":"IF('Relevés de  commissions'!D147=\"AGI externes\",'Relevés de  commissions'!O147,0)*1","v":0},{"$f":"IF('Relevés de  commissions'!D147=\"AGI externes\",'Relevés de  commissions'!P147,0)*1","v":0},0,""]
[null,null,null,null,null,null,null,null,null,null,null,null,{"$f":"IF('Relevés de  commissions'!D148=\"AGI externes\",'Relevés de  commissions'!M148,0)*1","v":0},{"$f":"IF('Relevés de  commissions'!D148=\"AGI externes\",'Relevés de  commissions'!N148,0)*1","v":0},{"$f":"IF('Relevés de  commissions'!D148=\"AGI externes\",'Relevés de  commissions'!O148,0)*1","v":0},{"$f":"IF('Relevés de  commissions'!D148=\"AGI externes\",'Relevés de  commissions'!P148,0)*1","v":0},0,""]
[null,null,null,null,null,null,null,null,null,null,null,null,{"$f":"IF('Relevés de  commissions'!D149=\"AGI externes\",'Relevés de  commissions'!M149,0)*1","v":0},{"$f":"IF('Relevés de  commissions'!D149=\"AGI externes\",'Relevés de  commissions'!N149,0)*1","v":0},{"$f":"IF('Relevés de  commissions'!D149=\"AGI externes\",'Relevés de  commissions'!O149,0)*1","v":0},{"$f":"IF('Relevés de  commissions'!D149=\"AGI externes\",'Relevés de  commissions'!P149,0)*1","v":0},0,""]
[null,null,null,null,null,null,null,null,null,null,null,null,{"$f":"IF('Relevés de  commissions'!D150=\"AGI externes\",'Relevés de  commissions'!M150,0)*1","v":0},{"$f":"IF('Relevés de  commissions'!D150=\"AGI externes\",'Relevés de  commissions'!N150,0)*1","v":0},{"$f":"IF('Relevés de  commissions'!D150=\"AGI externes\",'Relevés de  commissions'!O150,0)*1","v":0},{"$f":"IF('Relevés de  commissions'!D150=\"AGI externes\",'Relevés de  commissions'!P150,0)*1","v":0},0,""]
[null,null,null,null,null,null,null,null,null,null,null,null,{"$f":"IF('Relevés de  commissions'!D151=\"AGI externes\",'Relevés de  commissions'!M151,0)*1","v":0},{"$f":"IF('Relevés de  commissions'!D151=\"AGI externes\",'Relevés de  commissions'!N151,0)*1","v":0},{"$f":"IF('Relevés de  commissions'!D151=\"AGI externes\",'Relevés de  commissions'!O151,0)*1","v":0},{"$f":"IF('Relevés de  commissions'!D151=\"AGI externes\",'Relevés de  commissions'!P151,0)*1","v":0},0,""]
[null,null,null,null,null,null,null,null,null,null,null,null,{"$f":"IF('Relevés de  commissions'!D152=\"AGI externes\",'Relevés de  commissions'!M152,0)*1","v":0},{"$f":"IF('Relevés de  commissions'!D152=\"AGI externes\",'Relevés de  commissions'!N152,0)*1","v":0},{"$f":"IF('Relevés de  commissions'!D152=\"AGI externes\",'Relevés de  commissions'!O152,0)*1","v":0},{"$f":"IF('Relevés de  commissions'!D152=\"AGI externes\",'Relevés de  commissions'!P152,0)*1","v":0},0,""]
[null,null,null,null,null,null,null,null,null,null,null,null,{"$f":"IF('Relevés de  commissions'!D153=\"AGI externes\",'Relevés de  commissions'!M153,0)*1","v":0},{"$f":"IF('Relevés de  commissions'!D153=\"AGI externes\",'Relevés de  commissions'!N153,0)*1","v":0},{"$f":"IF('Relevés de  commissions'!D153=\"AGI externes\",'Relevés de  commissions'!O153,0)*1","v":0},{"$f":"IF('Relevés de  commissions'!D153=\"AGI externes\",'Relevés de  commissions'!P153,0)*1","v":0},0,""]
[null,null,null,null,null,null,null,null,null,null,null,null,{"$f":"IF('Relevés de  commissions'!D154=\"AGI externes\",'Relevés de  commissions'!M154,0)*1","v":0},{"$f":"IF('Relevés de  commissions'!D154=\"AGI externes\",'Relevés de  commissions'!N154,0)*1","v":0},{"$f":"IF('Relevés de  commissions'!D154=\"AGI externes\",'Relevés de  commissions'!O154,0)*1","v":0},{"$f":"IF('Relevés de  commissions'!D154=\"AGI externes\",'Relevés de  commissions'!P154,0)*1","v":0},0,""]
[null,null,null,null,null,null,null,null,null,null,null,null,{"$f":"IF('Relevés de  commissions'!D155=\"AGI externes\",'Relevés de  commissions'!M155,0)*1","v":0},{"$f":"IF('Relevés de  commissions'!D155=\"AGI externes\",'Relevés de  commissions'!N155,0)*1","v":0},{"$f":"IF('Relevés de  commissions'!D155=\"AGI externes\",'Relevés de  commissions'!O155,0)*1","v":0},{"$f":"IF('Relevés de  commissions'!D155=\"AGI externes\",'Relevés de  commissions'!P155,0)*1","v":0},0,""]
[null,null,null,null,null,null,null,null,null,null,null,null,{"$f":"IF('Relevés de  commissions'!D156=\"AGI externes\",'Relevés de  commissions'!M156,0)*1","v":0},{"$f":"IF('Relevés de  commissions'!D156=\"AGI externes\",'Relevés de  commissions'!N156,0)*1","v":0},{"$f":"IF('Relevés de  commissions'!D156=\"AGI externes\",'Relevés de  commissions'!O156,0)*1","v":0},{"$f":"IF('Relevés de  commissions'!D156=\"AGI externes\",'Relevés de  commissions'!P156,0)*1","v":0},0,""]
[null,null,null,null,null,null,null,null,null,null,null,null,{"$f":"IF('Relevés de  commissions'!D157=\"AGI externes\",'Relevés de  commissions'!M157,0)*1","v":0},{"$f":"IF('Relevés de  commissions'!D157=\"AGI externes\",'Relevés de  commissions'!N157,0)*1","v":0},{"$f":"IF('Relevés de  commissions'!D157=\"AGI externes\",'Relevés de  commissions'!O157,0)*1","v":0},{"$f":"IF('Relevés de  commissions'!D157=\"AGI externes\",'Relevés de  commissions'!P157,0)*1","v":0},0,""]
[null,null,null,null,null,null,null,null,null,null,null,null,{"$f":"IF('Relevés de  commissions'!D158=\"AGI externes\",'Relevés de  commissions'!M158,0)*1","v":0},{"$f":"IF('Relevés de  commissions'!D158=\"AGI externes\",'Relevés de  commissions'!N158,0)*1","v":0},{"$f":"IF('Relevés de  commissions'!D158=\"AGI externes\",'Relevés de  commissions'!O158,0)*1","v":0},{"$f":"IF('Relevés de  commissions'!D158=\"AGI externes\",'Relevés de  commissions'!P158,0)*1","v":0},0,""]
[null,null,null,null,null,null,null,null,null,null,null,null,{"$f":"IF('Relevés de  commissions'!D159=\"AGI externes\",'Relevés de  commissions'!M159,0)*1","v":0},{"$f":"IF('Relevés de  commissions'!D159=\"AGI externes\",'Relevés de  commissions'!N159,0)*1","v":0},{"$f":"IF('Relevés de  commissions'!D159=\"AGI externes\",'Relevés de  commissions'!O159,0)*1","v":0},{"$f":"IF('Relevés de  commissions'!D159=\"AGI externes\",'Relevés de  commissions'!P159,0)*1","v":0},0,""]
[null,null,null,null,null,null,null,null,null,null,null,null,{"$f":"IF('Relevés de  commissions'!D160=\"AGI externes\",'Relevés de  commissions'!M160,0)*1","v":0},{"$f":"IF('Relevés de  commissions'!D160=\"AGI externes\",'Relevés de  commissions'!N160,0)*1","v":0},{"$f":"IF('Relevés de  commissions'!D160=\"AGI externes\",'Relevés de  commissions'!O160,0)*1","v":0},{"$f":"IF('Relevés de  commissions'!D160=\"AGI externes\",'Relevés de  commissions'!P160,0)*1","v":0},0,""]
[null,null,null,null,null,null,null,null,null,null,null,null,{"$f":"IF('Relevés de  commissions'!D161=\"AGI externes\",'Relevés de  commissions'!M161,0)*1","v":0},{"$f":"IF('Relevés de  commissions'!D161=\"AGI externes\",'Relevés de  commissions'!N161,0)*1","v":0},{"$f":"IF('Relevés de  commissions'!D161=\"AGI externes\",'Relevés de  commissions'!O161,0)*1","v":0},{"$f":"IF('Relevés de  commissions'!D161=\"AGI externes\",'Relevés de  commissions'!P161,0)*1","v":0},0,""]
[null,null,null,null,null,null,null,null,null,null,null,null,{"$f":"IF('Relevés de  commissions'!D162=\"AGI externes\",'Relevés de  commissions'!M162,0)*1","v":0},{"$f":"IF('Relevés de  commissions'!D162=\"AGI externes\",'Relevés de  commissions'!N162,0)*1","v":0},{"$f":"IF('Relevés de  commissions'!D162=\"AGI externes\",'Relevés de  commissions'!O162,0)*1","v":0},{"$f":"IF('Relevés de  commissions'!D162=\"AGI externes\",'Relevés de  commissions'!P162,0)*1","v":0},0,""]
[null,null,null,null,null,null,null,null,null,null,null,null,{"$f":"IF('Relevés de  commissions'!D163=\"AGI externes\",'Relevés de  commissions'!M163,0)*1","v":0},{"$f":"IF('Relevés de  commissions'!D163=\"AGI externes\",'Relevés de  commissions'!N163,0)*1","v":0},{"$f":"IF('Relevés de  commissions'!D163=\"AGI externes\",'Relevés de  commissions'!O163,0)*1","v":0},{"$f":"IF('Relevés de  commissions'!D163=\"AGI externes\",'Relevés de  commissions'!P163,0)*1","v":0},0,""]
[null,null,null,null,null,null,null,null,null,null,null,null,{"$f":"IF('Relevés de  commissions'!D164=\"AGI externes\",'Relevés de  commissions'!M164,0)*1","v":0},{"$f":"IF('Relevés de  commissions'!D164=\"AGI externes\",'Relevés de  commissions'!N164,0)*1","v":0},{"$f":"IF('Relevés de  commissions'!D164=\"AGI externes\",'Relevés de  commissions'!O164,0)*1","v":0},{"$f":"IF('Relevés de  commissions'!D164=\"AGI externes\",'Relevés de  commissions'!P164,0)*1","v":0},0,""]
[null,null,null,null,null,null,null,null,null,null,null,null,{"$f":"IF('Relevés de  commissions'!D165=\"AGI externes\",'Relevés de  commissions'!M165,0)*1","v":0},{"$f":"IF('Relevés de  commissions'!D165=\"AGI externes\",'Relevés de  commissions'!N165,0)*1","v":0},{"$f":"IF('Relevés de  commissions'!D165=\"AGI externes\",'Relevés de  commissions'!O165,0)*1","v":0},{"$f":"IF('Relevés de  commissions'!D165=\"AGI externes\",'Relevés de  commissions'!P165,0)*1","v":0},0,""]
[null,null,null,null,null,null,null,null,null,null,null,null,{"$f":"IF('Relevés de  commissions'!D166=\"AGI externes\",'Relevés de  commissions'!M166,0)*1","v":0},{"$f":"IF('Relevés de  commissions'!D166=\"AGI externes\",'Relevés de  commissions'!N166,0)*1","v":0},{"$f":"IF('Relevés de  commissions'!D166=\"AGI externes\",'Relevés de  commissions'!O166,0)*1","v":0},{"$f":"IF('Relevés de  commissions'!D166=\"AGI externes\",'Relevés de  commissions'!P166,0)*1","v":0},0,""]
[null,null,null,null,null,null,null,null,null,null,null,null,{"$f":"IF('Relevés de  commissions'!D167=\"AGI externes\",'Relevés de  commissions'!M167,0)*1","v":0},{"$f":"IF('Relevés de  commissions'!D167=\"AGI externes\",'Relevés de  commissions'!N167,0)*1","v":0},{"$f":"IF('Relevés de  commissions'!D167=\"AGI externes\",'Relevés de  commissions'!O167,0)*1","v":0},{"$f":"IF('Relevés de  commissions'!D167=\"AGI externes\",'Relevés de  commissions'!P167,0)*1","v":0},0,""]
[null,null,null,null,null,null,null,null,null,null,null,null,{"$f":"IF('Relevés de  commissions'!D168=\"AGI externes\",'Relevés de  commissions'!M168,0)*1","v":0},{"$f":"IF('Relevés de  commissions'!D168=\"AGI externes\",'Relevés de  commissions'!N168,0)*1","v":0},{"$f":"IF('Relevés de  commissions'!D168=\"AGI externes\",'Relevés de  commissions'!O168,0)*1","v":0},{"$f":"IF('Relevés de  commissions'!D168=\"AGI externes\",'Relevés de  commissions'!P168,0)*1","v":0},0,""]
[null,null,null,null,null,null,null,null,null,null,null,null,{"$f":"IF('Relevés de  commissions'!D169=\"AGI externes\",'Relevés de  commissions'!M169,0)*1","v":0},{"$f":"IF('Relevés de  commissions'!D169=\"AGI externes\",'Relevés de  commissions'!N169,0)*1","v":0},{"$f":"IF('Relevés de  commissions'!D169=\"AGI externes\",'Relevés de  commissions'!O169,0)*1","v":0},{"$f":"IF('Relevés de  commissions'!D169=\"AGI externes\",'Relevés de  commissions'!P169,0)*1","v":0},0,""]
[null,null,null,null,null,null,null,null,null,null,null,null,{"$f":"IF('Relevés de  commissions'!D170=\"AGI externes\",'Relevés de  commissions'!M170,0)*1","v":0},{"$f":"IF('Relevés de  commissions'!D170=\"AGI externes\",'Relevés de  commissions'!N170,0)*1","v":0},{"$f":"IF('Relevés de  commissions'!D170=\"AGI externes\",'Relevés de  commissions'!O170,0)*1","v":0},{"$f":"IF('Relevés de  commissions'!D170=\"AGI externes\",'Relevés de  commissions'!P170,0)*1","v":0},0,""]
[null,null,null,null,null,null,null,null,null,null,null,null,{"$f":"IF('Relevés de  commissions'!D171=\"AGI externes\",'Relevés de  commissions'!M171,0)*1","v":0},{"$f":"IF('Relevés de  commissions'!D171=\"AGI externes\",'Relevés de  commissions'!N171,0)*1","v":0},{"$f":"IF('Relevés de  commissions'!D171=\"AGI externes\",'Relevés de  commissions'!O171,0)*1","v":0},{"$f":"IF('Relevés de  commissions'!D171=\"AGI externes\",'Relevés de  commissions'!P171,0)*1","v":0},0,""]
[null,null,null,null,null,null,null,null,null,null,null,null,{"$f":"IF('Relevés de  commissions'!D172=\"AGI externes\",'Relevés de  commissions'!M172,0)*1","v":0},{"$f":"IF('Relevés de  commissions'!D172=\"AGI externes\",'Relevés de  commissions'!N172,0)*1","v":0},{"$f":"IF('Relevés de  commissions'!D172=\"AGI externes\",'Relevés de  commissions'!O172,0)*1","v":0},{"$f":"IF('Relevés de  commissions'!D172=\"AGI externes\",'Relevés de  commissions'!P172,0)*1","v":0},0,""]
[null,null,null,null,null,null,null,null,null,null,null,null,{"$f":"IF('Relevés de  commissions'!D173=\"AGI externes\",'Relevés de  commissions'!M173,0)*1","v":0},{"$f":"IF('Relevés de  commissions'!D173=\"AGI externes\",'Relevés de  commissions'!N173,0)*1","v":0},{"$f":"IF('Relevés de  commissions'!D173=\"AGI externes\",'Relevés de  commissions'!O173,0)*1","v":0},{"$f":"IF('Relevés de  commissions'!D173=\"AGI externes\",'Relevés de  commissions'!P173,0)*1","v":0},0,""]
[null,null,null,null,null,null,null,null,null,null,null,null,{"$f":"IF('Relevés de  commissions'!D174=\"AGI externes\",'Relevés de  commissions'!M174,0)*1","v":0},{"$f":"IF('Relevés de  commissions'!D174=\"AGI externes\",'Relevés de  commissions'!N174,0)*1","v":0},{"$f":"IF('Relevés de  commissions'!D174=\"AGI externes\",'Relevés de  commissions'!O174,0)*1","v":0},{"$f":"IF('Relevés de  commissions'!D174=\"AGI externes\",'Relevés de  commissions'!P174,0)*1","v":0},0,""]
[null,null,null,null,null,null,null,null,null,null,null,null,{"$f":"IF('Relevés de  commissions'!D175=\"AGI externes\",'Relevés de  commissions'!M175,0)*1","v":0},{"$f":"IF('Relevés de  commissions'!D175=\"AGI externes\",'Relevés de  commissions'!N175,0)*1","v":0},{"$f":"IF('Relevés de  commissions'!D175=\"AGI externes\",'Relevés de  commissions'!O175,0)*1","v":0},{"$f":"IF('Relevés de  commissions'!D175=\"AGI externes\",'Relevés de  commissions'!P175,0)*1","v":0},0,""]
[null,null,null,null,null,null,null,null,null,null,null,null,{"$f":"IF('Relevés de  commissions'!D176=\"AGI externes\",'Relevés de  commissions'!M176,0)*1","v":0},{"$f":"IF('Relevés de  commissions'!D176=\"AGI externes\",'Relevés de  commissions'!N176,0)*1","v":0},{"$f":"IF('Relevés de  commissions'!D176=\"AGI externes\",'Relevés de  commissions'!O176,0)*1","v":0},{"$f":"IF('Relevés de  commissions'!D176=\"AGI externes\",'Relevés de  commissions'!P176,0)*1","v":0},0,""]
[null,null,null,null,null,null,null,null,null,null,null,null,{"$f":"IF('Relevés de  commissions'!D177=\"AGI externes\",'Relevés de  commissions'!M177,0)*1","v":0},{"$f":"IF('Relevés de  commissions'!D177=\"AGI externes\",'Relevés de  commissions'!N177,0)*1","v":0},{"$f":"IF('Relevés de  commissions'!D177=\"AGI externes\",'Relevés de  commissions'!O177,0)*1","v":0},{"$f":"IF('Relevés de  commissions'!D177=\"AGI externes\",'Relevés de  commissions'!P177,0)*1","v":0},0,""]
[null,null,null,null,null,null,null,null,null,null,null,null,{"$f":"IF('Relevés de  commissions'!D178=\"AGI externes\",'Relevés de  commissions'!M178,0)*1","v":0},{"$f":"IF('Relevés de  commissions'!D178=\"AGI externes\",'Relevés de  commissions'!N178,0)*1","v":0},{"$f":"IF('Relevés de  commissions'!D178=\"AGI externes\",'Relevés de  commissions'!O178,0)*1","v":0},{"$f":"IF('Relevés de  commissions'!D178=\"AGI externes\",'Relevés de  commissions'!P178,0)*1","v":0},0,""]
[null,null,null,null,null,null,null,null,null,null,null,null,{"$f":"IF('Relevés de  commissions'!D179=\"AGI externes\",'Relevés de  commissions'!M179,0)*1","v":0},{"$f":"IF('Relevés de  commissions'!D179=\"AGI externes\",'Relevés de  commissions'!N179,0)*1","v":0},{"$f":"IF('Relevés de  commissions'!D179=\"AGI externes\",'Relevés de  commissions'!O179,0)*1","v":0},{"$f":"IF('Relevés de  commissions'!D179=\"AGI externes\",'Relevés de  commissions'!P179,0)*1","v":0},0,""]
[null,null,null,null,null,null,null,null,null,null,null,null,{"$f":"IF('Relevés de  commissions'!D180=\"AGI externes\",'Relevés de  commissions'!M180,0)*1","v":0},{"$f":"IF('Relevés de  commissions'!D180=\"AGI externes\",'Relevés de  commissions'!N180,0)*1","v":0},{"$f":"IF('Relevés de  commissions'!D180=\"AGI externes\",'Relevés de  commissions'!O180,0)*1","v":0},{"$f":"IF('Relevés de  commissions'!D180=\"AGI externes\",'Relevés de  commissions'!P180,0)*1","v":0},0,""]
[null,null,null,null,null,null,null,null,null,null,null,null,{"$f":"IF('Relevés de  commissions'!D181=\"AGI externes\",'Relevés de  commissions'!M181,0)*1","v":0},{"$f":"IF('Relevés de  commissions'!D181=\"AGI externes\",'Relevés de  commissions'!N181,0)*1","v":0},{"$f":"IF('Relevés de  commissions'!D181=\"AGI externes\",'Relevés de  commissions'!O181,0)*1","v":0},{"$f":"IF('Relevés de  commissions'!D181=\"AGI externes\",'Relevés de  commissions'!P181,0)*1","v":0},0,""]
[null,null,null,null,null,null,null,null,null,null,null,null,{"$f":"IF('Relevés de  commissions'!D182=\"AGI externes\",'Relevés de  commissions'!M182,0)*1","v":0},{"$f":"IF('Relevés de  commissions'!D182=\"AGI externes\",'Relevés de  commissions'!N182,0)*1","v":0},{"$f":"IF('Relevés de  commissions'!D182=\"AGI externes\",'Relevés de  commissions'!O182,0)*1","v":0},{"$f":"IF('Relevés de  commissions'!D182=\"AGI externes\",'Relevés de  commissions'!P182,0)*1","v":0},0,""]
[null,null,null,null,null,null,null,null,null,null,null,null,{"$f":"IF('Relevés de  commissions'!D183=\"AGI externes\",'Relevés de  commissions'!M183,0)*1","v":0},{"$f":"IF('Relevés de  commissions'!D183=\"AGI externes\",'Relevés de  commissions'!N183,0)*1","v":0},{"$f":"IF('Relevés de  commissions'!D183=\"AGI externes\",'Relevés de  commissions'!O183,0)*1","v":0},{"$f":"IF('Relevés de  commissions'!D183=\"AGI externes\",'Relevés de  commissions'!P183,0)*1","v":0},0,""]
[null,null,null,null,null,null,null,null,null,null,null,null,{"$f":"IF('Relevés de  commissions'!D184=\"AGI externes\",'Relevés de  commissions'!M184,0)*1","v":0},{"$f":"IF('Relevés de  commissions'!D184=\"AGI externes\",'Relevés de  commissions'!N184,0)*1","v":0},{"$f":"IF('Relevés de  commissions'!D184=\"AGI externes\",'Relevés de  commissions'!O184,0)*1","v":0},{"$f":"IF('Relevés de  commissions'!D184=\"AGI externes\",'Relevés de  commissions'!P184,0)*1","v":0},0,""]
[null,null,null,null,null,null,null,null,null,null,null,null,{"$f":"IF('Relevés de  commissions'!D185=\"AGI externes\",'Relevés de  commissions'!M185,0)*1","v":0},{"$f":"IF('Relevés de  commissions'!D185=\"AGI externes\",'Relevés de  commissions'!N185,0)*1","v":0},{"$f":"IF('Relevés de  commissions'!D185=\"AGI externes\",'Relevés de  commissions'!O185,0)*1","v":0},{"$f":"IF('Relevés de  commissions'!D185=\"AGI externes\",'Relevés de  commissions'!P185,0)*1","v":0},0,""]
[null,null,null,null,null,null,null,null,null,null,null,null,{"$f":"IF('Relevés de  commissions'!D186=\"AGI externes\",'Relevés de  commissions'!M186,0)*1","v":0},{"$f":"IF('Relevés de  commissions'!D186=\"AGI externes\",'Relevés de  commissions'!N186,0)*1","v":0},{"$f":"IF('Relevés de  commissions'!D186=\"AGI externes\",'Relevés de  commissions'!O186,0)*1","v":0},{"$f":"IF('Relevés de  commissions'!D186=\"AGI externes\",'Relevés de  commissions'!P186,0)*1","v":0},0,""]
[null,null,null,null,null,null,null,null,null,null,null,null,{"$f":"IF('Relevés de  commissions'!D187=\"AGI externes\",'Relevés de  commissions'!M187,0)*1","v":0},{"$f":"IF('Relevés de  commissions'!D187=\"AGI externes\",'Relevés de  commissions'!N187,0)*1","v":0},{"$f":"IF('Relevés de  commissions'!D187=\"AGI externes\",'Relevés de  commissions'!O187,0)*1","v":0},{"$f":"IF('Relevés de  commissions'!D187=\"AGI externes\",'Relevés de  commissions'!P187,0)*1","v":0},0,""]
[null,null,null,null,null,null,null,null,null,null,null,null,{"$f":"IF('Relevés de  commissions'!D188=\"AGI externes\",'Relevés de  commissions'!M188,0)*1","v":0},{"$f":"IF('Relevés de  commissions'!D188=\"AGI externes\",'Relevés de  commissions'!N188,0)*1","v":0},{"$f":"IF('Relevés de  commissions'!D188=\"AGI externes\",'Relevés de  commissions'!O188,0)*1","v":0},{"$f":"IF('Relevés de  commissions'!D188=\"AGI externes\",'Relevés de  commissions'!P188,0)*1","v":0},0,""]
[null,null,null,null,null,null,null,null,null,null,null,null,{"$f":"IF('Relevés de  commissions'!D189=\"AGI externes\",'Relevés de  commissions'!M189,0)*1","v":0},{"$f":"IF('Relevés de  commissions'!D189=\"AGI externes\",'Relevés de  commissions'!N189,0)*1","v":0},{"$f":"IF('Relevés de  commissions'!D189=\"AGI externes\",'Relevés de  commissions'!O189,0)*1","v":0},{"$f":"IF('Relevés de  commissions'!D189=\"AGI externes\",'Relevés de  commissions'!P189,0)*1","v":0},0,""]
[null,null,null,null,null,null,null,null,null,null,null,null,{"$f":"IF('Relevés de  commissions'!D190=\"AGI externes\",'Relevés de  commissions'!M190,0)*1","v":0},{"$f":"IF('Relevés de  commissions'!D190=\"AGI externes\",'Relevés de  commissions'!N190,0)*1","v":0},{"$f":"IF('Relevés de  commissions'!D190=\"AGI externes\",'Relevés de  commissions'!O190,0)*1","v":0},{"$f":"IF('Relevés de  commissions'!D190=\"AGI externes\",'Relevés de  commissions'!P190,0)*1","v":0},0,""]
[null,null,null,null,null,null,null,null,null,null,null,null,{"$f":"IF('Relevés de  commissions'!D191=\"AGI externes\",'Relevés de  commissions'!M191,0)*1","v":0},{"$f":"IF('Relevés de  commissions'!D191=\"AGI externes\",'Relevés de  commissions'!N191,0)*1","v":0},{"$f":"IF('Relevés de  commissions'!D191=\"AGI externes\",'Relevés de  commissions'!O191,0)*1","v":0},{"$f":"IF('Relevés de  commissions'!D191=\"AGI externes\",'Relevés de  commissions'!P191,0)*1","v":0},0,""]
[null,null,null,null,null,null,null,null,null,null,null,null,{"$f":"IF('Relevés de  commissions'!D192=\"AGI externes\",'Relevés de  commissions'!M192,0)*1","v":0},{"$f":"IF('Relevés de  commissions'!D192=\"AGI externes\",'Relevés de  commissions'!N192,0)*1","v":0},{"$f":"IF('Relevés de  commissions'!D192=\"AGI externes\",'Relevés de  commissions'!O192,0)*1","v":0},{"$f":"IF('Relevés de  commissions'!D192=\"AGI externes\",'Relevés de  commissions'!P192,0)*1","v":0},0,""]
[null,null,null,null,null,null,null,null,null,null,null,null,{"$f":"IF('Relevés de  commissions'!D193=\"AGI externes\",'Relevés de  commissions'!M193,0)*1","v":0},{"$f":"IF('Relevés de  commissions'!D193=\"AGI externes\",'Relevés de  commissions'!N193,0)*1","v":0},{"$f":"IF('Relevés de  commissions'!D193=\"AGI externes\",'Relevés de  commissions'!O193,0)*1","v":0},{"$f":"IF('Relevés de  commissions'!D193=\"AGI externes\",'Relevés de  commissions'!P193,0)*1","v":0},0,""]
[null,null,null,null,null,null,null,null,null,null,null,null,{"$f":"IF('Relevés de  commissions'!D194=\"AGI externes\",'Relevés de  commissions'!M194,0)*1","v":0},{"$f":"IF('Relevés de  commissions'!D194=\"AGI externes\",'Relevés de  commissions'!N194,0)*1","v":0},{"$f":"IF('Relevés de  commissions'!D194=\"AGI externes\",'Relevés de  commissions'!O194,0)*1","v":0},{"$f":"IF('Relevés de  commissions'!D194=\"AGI externes\",'Relevés de  commissions'!P194,0)*1","v":0},0,""]
[null,null,null,null,null,null,null,null,null,null,null,null,{"$f":"IF('Relevés de  commissions'!D195=\"AGI externes\",'Relevés de  commissions'!M195,0)*1","v":0},{"$f":"IF('Relevés de  commissions'!D195=\"AGI externes\",'Relevés de  commissions'!N195,0)*1","v":0},{"$f":"IF('Relevés de  commissions'!D195=\"AGI externes\",'Relevés de  commissions'!O195,0)*1","v":0},{"$f":"IF('Relevés de  commissions'!D195=\"AGI externes\",'Relevés de  commissions'!P195,0)*1","v":0},{"$f":"IF(N197=0,O197,\"\")","v":0},{"$f":"IF(N197=10,O197,\"\")","v":""}]
[null,null,null,null,null,null,null,null,null,null,null,null,{"$f":"IF('Relevés de  commissions'!D196=\"AGI externes\",'Relevés de  commissions'!M196,0)*1","v":0},{"$f":"IF('Relevés de  commissions'!D196=\"AGI externes\",'Relevés de  commissions'!N196,0)*1","v":0},{"$f":"IF('Relevés de  commissions'!D196=\"AGI externes\",'Relevés de  commissions'!O196,0)*1","v":0},{"$f":"IF('Relevés de  commissions'!D196=\"AGI externes\",'Relevés de  commissions'!P196,0)*1","v":0},0,""]
[null,null,null,null,null,null,null,null,null,null,null,null,{"$f":"IF('Relevés de  commissions'!D197=\"AGI externes\",'Relevés de  commissions'!M197,0)*1","v":0},{"$f":"IF('Relevés de  commissions'!D197=\"AGI externes\",'Relevés de  commissions'!N197,0)*1","v":0},{"$f":"IF('Relevés de  commissions'!D197=\"AGI externes\",'Relevés de  commissions'!O197,0)*1","v":0},{"$f":"IF('Relevés de  commissions'!D197=\"AGI externes\",'Relevés de  commissions'!P197,0)*1","v":0},0,""]
[null,null,null,null,null,null,null,null,null,null,null,null,{"$f":"IF('Relevés de  commissions'!D198=\"AGI externes\",'Relevés de  commissions'!M198,0)*1","v":0},{"$f":"IF('Relevés de  commissions'!D198=\"AGI externes\",'Relevés de  commissions'!N198,0)*1","v":0},{"$f":"IF('Relevés de  commissions'!D198=\"AGI externes\",'Relevés de  commissions'!O198,0)*1","v":0},{"$f":"IF('Relevés de  commissions'!D198=\"AGI externes\",'Relevés de  commissions'!P198,0)*1","v":0},0,""]
[null,null,null,null,null,null,null,null,null,null,null,null,{"$f":"IF('Relevés de  commissions'!D199=\"AGI externes\",'Relevés de  commissions'!M199,0)*1","v":0},{"$f":"IF('Relevés de  commissions'!D199=\"AGI externes\",'Relevés de  commissions'!N199,0)*1","v":0},{"$f":"IF('Relevés de  commissions'!D199=\"AGI externes\",'Relevés de  commissions'!O199,0)*1","v":0},{"$f":"IF('Relevés de  commissions'!D199=\"AGI externes\",'Relevés de  commissions'!P199,0)*1","v":0},0,""]
[null,null,null,null,null,null,null,null,null,null,null,null,{"$f":"IF('Relevés de  commissions'!D200=\"AGI externes\",'Relevés de  commissions'!M200,0)*1","v":0},{"$f":"IF('Relevés de  commissions'!D200=\"AGI externes\",'Relevés de  commissions'!N200,0)*1","v":0},{"$f":"IF('Relevés de  commissions'!D200=\"AGI externes\",'Relevés de  commissions'!O200,0)*1","v":0},{"$f":"IF('Relevés de  commissions'!D200=\"AGI externes\",'Relevés de  commissions'!P200,0)*1","v":0},0,""]
[null,null,null,null,null,null,null,null,null,null,null,null,{"$f":"IF('Relevés de  commissions'!D201=\"AGI externes\",'Relevés de  commissions'!M201,0)*1","v":0},{"$f":"IF('Relevés de  commissions'!D201=\"AGI externes\",'Relevés de  commissions'!N201,0)*1","v":0},{"$f":"IF('Relevés de  commissions'!D201=\"AGI externes\",'Relevés de  commissions'!O201,0)*1","v":0},{"$f":"IF('Relevés de  commissions'!D201=\"AGI externes\",'Relevés de  commissions'!P201,0)*1","v":0},0,""]
[null,null,null,null,null,null,null,null,null,null,null,null,{"$f":"IF('Relevés de  commissions'!D202=\"AGI externes\",'Relevés de  commissions'!M202,0)*1","v":0},{"$f":"IF('Relevés de  commissions'!D202=\"AGI externes\",'Relevés de  commissions'!N202,0)*1","v":0},{"$f":"IF('Relevés de  commissions'!D202=\"AGI externes\",'Relevés de  commissions'!O202,0)*1","v":0},{"$f":"IF('Relevés de  commissions'!D202=\"AGI externes\",'Relevés de  commissions'!P202,0)*1","v":0},0,""]
[null,null,null,null,null,null,null,null,null,null,null,null,{"$f":"IF('Relevés de  commissions'!D203=\"AGI externes\",'Relevés de  commissions'!M203,0)*1","v":0},{"$f":"IF('Relevés de  commissions'!D203=\"AGI externes\",'Relevés de  commissions'!N203,0)*1","v":0},{"$f":"IF('Relevés de  commissions'!D203=\"AGI externes\",'Relevés de  commissions'!O203,0)*1","v":0},{"$f":"IF('Relevés de  commissions'!D203=\"AGI externes\",'Relevés de  commissions'!P203,0)*1","v":0},0,""]
[null,null,null,null,null,null,null,null,null,null,null,null,{"$f":"IF('Relevés de  commissions'!D204=\"AGI externes\",'Relevés de  commissions'!M204,0)*1","v":0},{"$f":"IF('Relevés de  commissions'!D204=\"AGI externes\",'Relevés de  commissions'!N204,0)*1","v":0},{"$f":"IF('Relevés de  commissions'!D204=\"AGI externes\",'Relevés de  commissions'!O204,0)*1","v":0},{"$f":"IF('Relevés de  commissions'!D204=\"AGI externes\",'Relevés de  commissions'!P204,0)*1","v":0},0,""]
[null,null,null,null,null,null,null,null,null,null,null,null,{"$f":"IF('Relevés de  commissions'!D205=\"AGI externes\",'Relevés de  commissions'!M205,0)*1","v":0},{"$f":"IF('Relevés de  commissions'!D205=\"AGI externes\",'Relevés de  commissions'!N205,0)*1","v":0},{"$f":"IF('Relevés de  commissions'!D205=\"AGI externes\",'Relevés de  commissions'!O205,0)*1","v":0},{"$f":"IF('Relevés de  commissions'!D205=\"AGI externes\",'Relevés de  commissions'!P205,0)*1","v":0},0,""]
[null,null,null,null,null,null,null,null,null,null,null,null,{"$f":"IF('Relevés de  commissions'!D206=\"AGI externes\",'Relevés de  commissions'!M206,0)*1","v":0},{"$f":"IF('Relevés de  commissions'!D206=\"AGI externes\",'Relevés de  commissions'!N206,0)*1","v":0},{"$f":"IF('Relevés de  commissions'!D206=\"AGI externes\",'Relevés de  commissions'!O206,0)*1","v":0},{"$f":"IF('Relevés de  commissions'!D206=\"AGI externes\",'Relevés de  commissions'!P206,0)*1","v":0},0,""]
[null,null,null,null,null,null,null,null,null,null,null,null,{"$f":"IF('Relevés de  commissions'!D207=\"AGI externes\",'Relevés de  commissions'!M207,0)*1","v":0},{"$f":"IF('Relevés de  commissions'!D207=\"AGI externes\",'Relevés de  commissions'!N207,0)*1","v":0},{"$f":"IF('Relevés de  commissions'!D207=\"AGI externes\",'Relevés de  commissions'!O207,0)*1","v":0},{"$f":"IF('Relevés de  commissions'!D207=\"AGI externes\",'Relevés de  commissions'!P207,0)*1","v":0},0,""]
[null,null,null,null,null,null,null,null,null,null,null,null,{"$f":"IF('Relevés de  commissions'!D208=\"AGI externes\",'Relevés de  commissions'!M208,0)*1","v":0},{"$f":"IF('Relevés de  commissions'!D208=\"AGI externes\",'Relevés de  commissions'!N208,0)*1","v":0},{"$f":"IF('Relevés de  commissions'!D208=\"AGI externes\",'Relevés de  commissions'!O208,0)*1","v":0},{"$f":"IF('Relevés de  commissions'!D208=\"AGI externes\",'Relevés de  commissions'!P208,0)*1","v":0},0,""]
[null,null,null,null,null,null,null,null,null,null,null,null,{"$f":"IF('Relevés de  commissions'!D209=\"AGI externes\",'Relevés de  commissions'!M209,0)*1","v":0},{"$f":"IF('Relevés de  commissions'!D209=\"AGI externes\",'Relevés de  commissions'!N209,0)*1","v":0},{"$f":"IF('Relevés de  commissions'!D209=\"AGI externes\",'Relevés de  commissions'!O209,0)*1","v":0},{"$f":"IF('Relevés de  commissions'!D209=\"AGI externes\",'Relevés de  commissions'!P209,0)*1","v":0},0,""]
[null,null,null,null,null,null,null,null,null,null,null,null,{"$f":"IF('Relevés de  commissions'!D210=\"AGI externes\",'Relevés de  commissions'!M210,0)*1","v":0},{"$f":"IF('Relevés de  commissions'!D210=\"AGI externes\",'Relevés de  commissions'!N210,0)*1","v":0},{"$f":"IF('Relevés de  commissions'!D210=\"AGI externes\",'Relevés de  commissions'!O210,0)*1","v":0},{"$f":"IF('Relevés de  commissions'!D210=\"AGI externes\",'Relevés de  commissions'!P210,0)*1","v":0},0,""]
[null,null,null,null,null,null,null,null,null,null,null,null,{"$f":"IF('Relevés de  commissions'!D211=\"AGI externes\",'Relevés de  commissions'!M211,0)*1","v":0},{"$f":"IF('Relevés de  commissions'!D211=\"AGI externes\",'Relevés de  commissions'!N211,0)*1","v":0},{"$f":"IF('Relevés de  commissions'!D211=\"AGI externes\",'Relevés de  commissions'!O211,0)*1","v":0},{"$f":"IF('Relevés de  commissions'!D211=\"AGI externes\",'Relevés de  commissions'!P211,0)*1","v":0},0,""]
[null,null,null,null,null,null,null,null,null,null,null,null,{"$f":"IF('Relevés de  commissions'!D212=\"AGI externes\",'Relevés de  commissions'!M212,0)*1","v":0},{"$f":"IF('Relevés de  commissions'!D212=\"AGI externes\",'Relevés de  commissions'!N212,0)*1","v":0},{"$f":"IF('Relevés de  commissions'!D212=\"AGI externes\",'Relevés de  commissions'!O212,0)*1","v":0},{"$f":"IF('Relevés de  commissions'!D212=\"AGI externes\",'Relevés de  commissions'!P212,0)*1","v":0},0,""]
[null,null,null,null,null,null,null,null,null,null,null,null,{"$f":"IF('Relevés de  commissions'!D213=\"AGI externes\",'Relevés de  commissions'!M213,0)*1","v":0},{"$f":"IF('Relevés de  commissions'!D213=\"AGI externes\",'Relevés de  commissions'!N213,0)*1","v":0},{"$f":"IF('Relevés de  commissions'!D213=\"AGI externes\",'Relevés de  commissions'!O213,0)*1","v":0},{"$f":"IF('Relevés de  commissions'!D213=\"AGI externes\",'Relevés de  commissions'!P213,0)*1","v":0},0,""]
[null,null,null,null,null,null,null,null,null,null,null,null,{"$f":"IF('Relevés de  commissions'!D214=\"AGI externes\",'Relevés de  commissions'!M214,0)*1","v":0},{"$f":"IF('Relevés de  commissions'!D214=\"AGI externes\",'Relevés de  commissions'!N214,0)*1","v":0},{"$f":"IF('Relevés de  commissions'!D214=\"AGI externes\",'Relevés de  commissions'!O214,0)*1","v":0},{"$f":"IF('Relevés de  commissions'!D214=\"AGI externes\",'Relevés de  commissions'!P214,0)*1","v":0},0,""]
[null,null,null,null,null,null,null,null,null,null,null,null,{"$f":"IF('Relevés de  commissions'!D215=\"AGI externes\",'Relevés de  commissions'!M215,0)*1","v":0},{"$f":"IF('Relevés de  commissions'!D215=\"AGI externes\",'Relevés de  commissions'!N215,0)*1","v":0},{"$f":"IF('Relevés de  commissions'!D215=\"AGI externes\",'Relevés de  commissions'!O215,0)*1","v":0},{"$f":"IF('Relevés de  commissions'!D215=\"AGI externes\",'Relevés de  commissions'!P215,0)*1","v":0},0,""]
[null,null,null,null,null,null,null,null,null,null,null,null,{"$f":"IF('Relevés de  commissions'!D216=\"AGI externes\",'Relevés de  commissions'!M216,0)*1","v":0},{"$f":"IF('Relevés de  commissions'!D216=\"AGI externes\",'Relevés de  commissions'!N216,0)*1","v":0},{"$f":"IF('Relevés de  commissions'!D216=\"AGI externes\",'Relevés de  commissions'!O216,0)*1","v":0},{"$f":"IF('Relevés de  commissions'!D216=\"AGI externes\",'Relevés de  commissions'!P216,0)*1","v":0},0,""]
[null,null,null,null,null,null,null,null,null,null,null,null,{"$f":"IF('Relevés de  commissions'!D217=\"AGI externes\",'Relevés de  commissions'!M217,0)*1","v":0},{"$f":"IF('Relevés de  commissions'!D217=\"AGI externes\",'Relevés de  commissions'!N217,0)*1","v":0},{"$f":"IF('Relevés de  commissions'!D217=\"AGI externes\",'Relevés de  commissions'!O217,0)*1","v":0},{"$f":"IF('Relevés de  commissions'!D217=\"AGI externes\",'Relevés de  commissions'!P217,0)*1","v":0},0,""]
[null,null,null,null,null,null,null,null,null,null,null,null,{"$f":"IF('Relevés de  commissions'!D218=\"AGI externes\",'Relevés de  commissions'!M218,0)*1","v":0},{"$f":"IF('Relevés de  commissions'!D218=\"AGI externes\",'Relevés de  commissions'!N218,0)*1","v":0},{"$f":"IF('Relevés de  commissions'!D218=\"AGI externes\",'Relevés de  commissions'!O218,0)*1","v":0},{"$f":"IF('Relevés de  commissions'!D218=\"AGI externes\",'Relevés de  commissions'!P218,0)*1","v":0},0,""]
[null,null,null,null,null,null,null,null,null,null,null,null,{"$f":"IF('Relevés de  commissions'!D219=\"AGI externes\",'Relevés de  commissions'!M219,0)*1","v":0},{"$f":"IF('Relevés de  commissions'!D219=\"AGI externes\",'Relevés de  commissions'!N219,0)*1","v":0},{"$f":"IF('Relevés de  commissions'!D219=\"AGI externes\",'Relevés de  commissions'!O219,0)*1","v":0},{"$f":"IF('Relevés de  commissions'!D219=\"AGI externes\",'Relevés de  commissions'!P219,0)*1","v":0},0,""]
[null,null,null,null,null,null,null,null,null,null,null,null,{"$f":"IF('Relevés de  commissions'!D220=\"AGI externes\",'Relevés de  commissions'!M220,0)*1","v":0},{"$f":"IF('Relevés de  commissions'!D220=\"AGI externes\",'Relevés de  commissions'!N220,0)*1","v":0},{"$f":"IF('Relevés de  commissions'!D220=\"AGI externes\",'Relevés de  commissions'!O220,0)*1","v":0},{"$f":"IF('Relevés de  commissions'!D220=\"AGI externes\",'Relevés de  commissions'!P220,0)*1","v":0},0,""]
[null,null,null,null,null,null,null,null,null,null,null,null,{"$f":"IF('Relevés de  commissions'!D221=\"AGI externes\",'Relevés de  commissions'!M221,0)*1","v":0},{"$f":"IF('Relevés de  commissions'!D221=\"AGI externes\",'Relevés de  commissions'!N221,0)*1","v":0},{"$f":"IF('Relevés de  commissions'!D221=\"AGI externes\",'Relevés de  commissions'!O221,0)*1","v":0},{"$f":"IF('Relevés de  commissions'!D221=\"AGI externes\",'Relevés de  commissions'!P221,0)*1","v":0},0,""]
[null,null,null,null,null,null,null,null,null,null,null,null,{"$f":"IF('Relevés de  commissions'!D222=\"AGI externes\",'Relevés de  commissions'!M222,0)*1","v":0},{"$f":"IF('Relevés de  commissions'!D222=\"AGI externes\",'Relevés de  commissions'!N222,0)*1","v":0},{"$f":"IF('Relevés de  commissions'!D222=\"AGI externes\",'Relevés de  commissions'!O222,0)*1","v":0},{"$f":"IF('Relevés de  commissions'!D222=\"AGI externes\",'Relevés de  commissions'!P222,0)*1","v":0},0,""]
[null,null,null,null,null,null,null,null,null,null,null,null,{"$f":"IF('Relevés de  commissions'!D223=\"AGI externes\",'Relevés de  commissions'!M223,0)*1","v":0},{"$f":"IF('Relevés de  commissions'!D223=\"AGI externes\",'Relevés de  commissions'!N223,0)*1","v":0},{"$f":"IF('Relevés de  commissions'!D223=\"AGI externes\",'Relevés de  commissions'!O223,0)*1","v":0},{"$f":"IF('Relevés de  commissions'!D223=\"AGI externes\",'Relevés de  commissions'!P223,0)*1","v":0},0,""]
[null,null,null,null,null,null,null,null,null,null,null,null,{"$f":"IF('Relevés de  commissions'!D224=\"AGI externes\",'Relevés de  commissions'!M224,0)*1","v":0},{"$f":"IF('Relevés de  commissions'!D224=\"AGI externes\",'Relevés de  commissions'!N224,0)*1","v":0},{"$f":"IF('Relevés de  commissions'!D224=\"AGI externes\",'Relevés de  commissions'!O224,0)*1","v":0},{"$f":"IF('Relevés de  commissions'!D224=\"AGI externes\",'Relevés de  commissions'!P224,0)*1","v":0},0,""]
[null,null,null,null,null,null,null,null,null,null,null,null,{"$f":"IF('Relevés de  commissions'!D225=\"AGI externes\",'Relevés de  commissions'!M225,0)*1","v":0},{"$f":"IF('Relevés de  commissions'!D225=\"AGI externes\",'Relevés de  commissions'!N225,0)*1","v":0},{"$f":"IF('Relevés de  commissions'!D225=\"AGI externes\",'Relevés de  commissions'!O225,0)*1","v":0},{"$f":"IF('Relevés de  commissions'!D225=\"AGI externes\",'Relevés de  commissions'!P225,0)*1","v":0},0,""]
[null,null,null,null,null,null,null,null,null,null,null,null,{"$f":"IF('Relevés de  commissions'!D226=\"AGI externes\",'Relevés de  commissions'!M226,0)*1","v":0},{"$f":"IF('Relevés de  commissions'!D226=\"AGI externes\",'Relevés de  commissions'!N226,0)*1","v":0},{"$f":"IF('Relevés de  commissions'!D226=\"AGI externes\",'Relevés de  commissions'!O226,0)*1","v":0},{"$f":"IF('Relevés de  commissions'!D226=\"AGI externes\",'Relevés de  commissions'!P226,0)*1","v":0},0,""]
[null,null,null,null,null,null,null,null,null,null,null,null,{"$f":"IF('Relevés de  commissions'!D227=\"AGI externes\",'Relevés de  commissions'!M227,0)*1","v":0},{"$f":"IF('Relevés de  commissions'!D227=\"AGI externes\",'Relevés de  commissions'!N227,0)*1","v":0},{"$f":"IF('Relevés de  commissions'!D227=\"AGI externes\",'Relevés de  commissions'!O227,0)*1","v":0},{"$f":"IF('Relevés de  commissions'!D227=\"AGI externes\",'Relevés de  commissions'!P227,0)*1","v":0},0,""]
[null,null,null,null,null,null,null,null,null,null,null,null,{"$f":"IF('Relevés de  commissions'!D228=\"AGI externes\",'Relevés de  commissions'!M228,0)*1","v":0},{"$f":"IF('Relevés de  commissions'!D228=\"AGI externes\",'Relevés de  commissions'!N228,0)*1","v":0},{"$f":"IF('Relevés de  commissions'!D228=\"AGI externes\",'Relevés de  commissions'!O228,0)*1","v":0},{"$f":"IF('Relevés de  commissions'!D228=\"AGI externes\",'Relevés de  commissions'!P228,0)*1","v":0},0,""]
[null,null,null,null,null,null,null,null,null,null,null,null,{"$f":"IF('Relevés de  commissions'!D229=\"AGI externes\",'Relevés de  commissions'!M229,0)*1","v":0},{"$f":"IF('Relevés de  commissions'!D229=\"AGI externes\",'Relevés de  commissions'!N229,0)*1","v":0},{"$f":"IF('Relevés de  commissions'!D229=\"AGI externes\",'Relevés de  commissions'!O229,0)*1","v":0},{"$f":"IF('Relevés de  commissions'!D229=\"AGI externes\",'Relevés de  commissions'!P229,0)*1","v":0},0,""]
[null,null,null,null,null,null,null,null,null,null,null,null,{"$f":"IF('Relevés de  commissions'!D230=\"AGI externes\",'Relevés de  commissions'!M230,0)*1","v":0},{"$f":"IF('Relevés de  commissions'!D230=\"AGI externes\",'Relevés de  commissions'!N230,0)*1","v":0},{"$f":"IF('Relevés de  commissions'!D230=\"AGI externes\",'Relevés de  commissions'!O230,0)*1","v":0},{"$f":"IF('Relevés de  commissions'!D230=\"AGI externes\",'Relevés de  commissions'!P230,0)*1","v":0},0,""]
[null,null,null,null,null,null,null,null,null,null,null,null,{"$f":"IF('Relevés de  commissions'!D231=\"AGI externes\",'Relevés de  commissions'!M231,0)*1","v":0},{"$f":"IF('Relevés de  commissions'!D231=\"AGI externes\",'Relevés de  commissions'!N231,0)*1","v":0},{"$f":"IF('Relevés de  commissions'!D231=\"AGI externes\",'Relevés de  commissions'!O231,0)*1","v":0},{"$f":"IF('Relevés de  commissions'!D231=\"AGI externes\",'Relevés de  commissions'!P231,0)*1","v":0},0,""]
[null,null,null,null,null,null,null,null,null,null,null,null,{"$f":"IF('Relevés de  commissions'!D232=\"AGI externes\",'Relevés de  commissions'!M232,0)*1","v":0},{"$f":"IF('Relevés de  commissions'!D232=\"AGI externes\",'Relevés de  commissions'!N232,0)*1","v":0},{"$f":"IF('Relevés de  commissions'!D232=\"AGI externes\",'Relevés de  commissions'!O232,0)*1","v":0},{"$f":"IF('Relevés de  commissions'!D232=\"AGI externes\",'Relevés de  commissions'!P232,0)*1","v":0},0,""]
[null,null,null,null,null,null,null,null,null,null,null,null,{"$f":"IF('Relevés de  commissions'!D233=\"AGI externes\",'Relevés de  commissions'!M233,0)*1","v":0},{"$f":"IF('Relevés de  commissions'!D233=\"AGI externes\",'Relevés de  commissions'!N233,0)*1","v":0},{"$f":"IF('Relevés de  commissions'!D233=\"AGI externes\",'Relevés de  commissions'!O233,0)*1","v":0},{"$f":"IF('Relevés de  commissions'!D233=\"AGI externes\",'Relevés de  commissions'!P233,0)*1","v":0},0,""]
[null,null,null,null,null,null,null,null,null,null,null,null,{"$f":"IF('Relevés de  commissions'!D234=\"AGI externes\",'Relevés de  commissions'!M234,0)*1","v":0},{"$f":"IF('Relevés de  commissions'!D234=\"AGI externes\",'Relevés de  commissions'!N234,0)*1","v":0},{"$f":"IF('Relevés de  commissions'!D234=\"AGI externes\",'Relevés de  commissions'!O234,0)*1","v":0},{"$f":"IF('Relevés de  commissions'!D234=\"AGI externes\",'Relevés de  commissions'!P234,0)*1","v":0},0,""]
[null,null,null,null,null,null,null,null,null,null,null,null,{"$f":"IF('Relevés de  commissions'!D235=\"AGI externes\",'Relevés de  commissions'!M235,0)*1","v":0},{"$f":"IF('Relevés de  commissions'!D235=\"AGI externes\",'Relevés de  commissions'!N235,0)*1","v":0},{"$f":"IF('Relevés de  commissions'!D235=\"AGI externes\",'Relevés de  commissions'!O235,0)*1","v":0},{"$f":"IF('Relevés de  commissions'!D235=\"AGI externes\",'Relevés de  commissions'!P235,0)*1","v":0},0,""]
[null,null,null,null,null,null,null,null,null,null,null,null,{"$f":"IF('Relevés de  commissions'!D236=\"AGI externes\",'Relevés de  commissions'!M236,0)*1","v":0},{"$f":"IF('Relevés de  commissions'!D236=\"AGI externes\",'Relevés de  commissions'!N236,0)*1","v":0},{"$f":"IF('Relevés de  commissions'!D236=\"AGI externes\",'Relevés de  commissions'!O236,0)*1","v":0},{"$f":"IF('Relevés de  commissions'!D236=\"AGI externes\",'Relevés de  commissions'!P236,0)*1","v":0},0,""]
[null,null,null,null,null,null,null,null,null,null,null,null,{"$f":"IF('Relevés de  commissions'!D237=\"AGI externes\",'Relevés de  commissions'!M237,0)*1","v":0},{"$f":"IF('Relevés de  commissions'!D237=\"AGI externes\",'Relevés de  commissions'!N237,0)*1","v":0},{"$f":"IF('Relevés de  commissions'!D237=\"AGI externes\",'Relevés de  commissions'!O237,0)*1","v":0},{"$f":"IF('Relevés de  commissions'!D237=\"AGI externes\",'Relevés de  commissions'!P237,0)*1","v":0},0,""]
[null,null,null,null,null,null,null,null,null,null,null,null,{"$f":"IF('Relevés de  commissions'!D238=\"AGI externes\",'Relevés de  commissions'!M238,0)*1","v":0},{"$f":"IF('Relevés de  commissions'!D238=\"AGI externes\",'Relevés de  commissions'!N238,0)*1","v":0},{"$f":"IF('Relevés de  commissions'!D238=\"AGI externes\",'Relevés de  commissions'!O238,0)*1","v":0},{"$f":"IF('Relevés de  commissions'!D238=\"AGI externes\",'Relevés de  commissions'!P238,0)*1","v":0},0,""]
[null,null,null,null,null,null,null,null,null,null,null,null,{"$f":"IF('Relevés de  commissions'!D239=\"AGI externes\",'Relevés de  commissions'!M239,0)*1","v":0},{"$f":"IF('Relevés de  commissions'!D239=\"AGI externes\",'Relevés de  commissions'!N239,0)*1","v":0},{"$f":"IF('Relevés de  commissions'!D239=\"AGI externes\",'Relevés de  commissions'!O239,0)*1","v":0},{"$f":"IF('Relevés de  commissions'!D239=\"AGI externes\",'Relevés de  commissions'!P239,0)*1","v":0},0,""]
[null,null,null,null,null,null,null,null,null,null,null,null,{"$f":"IF('Relevés de  commissions'!D240=\"AGI externes\",'Relevés de  commissions'!M240,0)*1","v":0},{"$f":"IF('Relevés de  commissions'!D240=\"AGI externes\",'Relevés de  commissions'!N240,0)*1","v":0},{"$f":"IF('Relevés de  commissions'!D240=\"AGI externes\",'Relevés de  commissions'!O240,0)*1","v":0},{"$f":"IF('Relevés de  commissions'!D240=\"AGI externes\",'Relevés de  commissions'!P240,0)*1","v":0},0,""]
[null,null,null,null,null,null,null,null,null,null,null,null,{"$f":"IF('Relevés de  commissions'!D241=\"AGI externes\",'Relevés de  commissions'!M241,0)*1","v":0},{"$f":"IF('Relevés de  commissions'!D241=\"AGI externes\",'Relevés de  commissions'!N241,0)*1","v":0},{"$f":"IF('Relevés de  commissions'!D241=\"AGI externes\",'Relevés de  commissions'!O241,0)*1","v":0},{"$f":"IF('Relevés de  commissions'!D241=\"AGI externes\",'Relevés de  commissions'!P241,0)*1","v":0},0,""]
[null,null,null,null,null,null,null,null,null,null,null,null,{"$f":"IF('Relevés de  commissions'!D242=\"AGI externes\",'Relevés de  commissions'!M242,0)*1","v":0},{"$f":"IF('Relevés de  commissions'!D242=\"AGI externes\",'Relevés de  commissions'!N242,0)*1","v":0},{"$f":"IF('Relevés de  commissions'!D242=\"AGI externes\",'Relevés de  commissions'!O242,0)*1","v":0},{"$f":"IF('Relevés de  commissions'!D242=\"AGI externes\",'Relevés de  commissions'!P242,0)*1","v":0},0,""]
[null,null,null,null,null,null,null,null,null,null,null,null,{"$f":"IF('Relevés de  commissions'!D243=\"AGI externes\",'Relevés de  commissions'!M243,0)*1","v":0},{"$f":"IF('Relevés de  commissions'!D243=\"AGI externes\",'Relevés de  commissions'!N243,0)*1","v":0},{"$f":"IF('Relevés de  commissions'!D243=\"AGI externes\",'Relevés de  commissions'!O243,0)*1","v":0},{"$f":"IF('Relevés de  commissions'!D243=\"AGI externes\",'Relevés de  commissions'!P243,0)*1","v":0},0,""]
[null,null,null,null,null,null,null,null,null,null,null,null,{"$f":"IF('Relevés de  commissions'!D244=\"AGI externes\",'Relevés de  commissions'!M244,0)*1","v":0},{"$f":"IF('Relevés de  commissions'!D244=\"AGI externes\",'Relevés de  commissions'!N244,0)*1","v":0},{"$f":"IF('Relevés de  commissions'!D244=\"AGI externes\",'Relevés de  commissions'!O244,0)*1","v":0},{"$f":"IF('Relevés de  commissions'!D244=\"AGI externes\",'Relevés de  commissions'!P244,0)*1","v":0},0,""]
[null,null,null,null,null,null,null,null,null,null,null,null,{"$f":"IF('Relevés de  commissions'!D245=\"AGI externes\",'Relevés de  commissions'!M245,0)*1","v":0},{"$f":"IF('Relevés de  commissions'!D245=\"AGI externes\",'Relevés de  commissions'!N245,0)*1","v":0},{"$f":"IF('Relevés de  commissions'!D245=\"AGI externes\",'Relevés de  commissions'!O245,0)*1","v":0},{"$f":"IF('Relevés de  commissions'!D245=\"AGI externes\",'Relevés de  commissions'!P245,0)*1","v":0},0,""]
[null,null,null,null,null,null,null,null,null,null,null,null,{"$f":"IF('Relevés de  commissions'!D246=\"AGI externes\",'Relevés de  commissions'!M246,0)*1","v":0},{"$f":"IF('Relevés de  commissions'!D246=\"AGI externes\",'Relevés de  commissions'!N246,0)*1","v":0},{"$f":"IF('Relevés de  commissions'!D246=\"AGI externes\",'Relevés de  commissions'!O246,0)*1","v":0},{"$f":"IF('Relevés de  commissions'!D246=\"AGI externes\",'Relevés de  commissions'!P246,0)*1","v":0},0,""]
[null,null,null,null,null,null,null,null,null,null,null,null,{"$f":"IF('Relevés de  commissions'!D247=\"AGI externes\",'Relevés de  commissions'!M247,0)*1","v":0},{"$f":"IF('Relevés de  commissions'!D247=\"AGI externes\",'Relevés de  commissions'!N247,0)*1","v":0},{"$f":"IF('Relevés de  commissions'!D247=\"AGI externes\",'Relevés de  commissions'!O247,0)*1","v":0},{"$f":"IF('Relevés de  commissions'!D247=\"AGI externes\",'Relevés de  commissions'!P247,0)*1","v":0},0,""]
[null,null,null,null,null,null,null,null,null,null,null,null,{"$f":"IF('Relevés de  commissions'!D248=\"AGI externes\",'Relevés de  commissions'!M248,0)*1","v":0},{"$f":"IF('Relevés de  commissions'!D248=\"AGI externes\",'Relevés de  commissions'!N248,0)*1","v":0},{"$f":"IF('Relevés de  commissions'!D248=\"AGI externes\",'Relevés de  commissions'!O248,0)*1","v":0},{"$f":"IF('Relevés de  commissions'!D248=\"AGI externes\",'Relevés de  commissions'!P248,0)*1","v":0},0,""]
[null,null,null,null,null,null,null,null,null,null,null,null,{"$f":"IF('Relevés de  commissions'!D249=\"AGI externes\",'Relevés de  commissions'!M249,0)*1","v":0},{"$f":"IF('Relevés de  commissions'!D249=\"AGI externes\",'Relevés de  commissions'!N249,0)*1","v":0},{"$f":"IF('Relevés de  commissions'!D249=\"AGI externes\",'Relevés de  commissions'!O249,0)*1","v":0},{"$f":"IF('Relevés de  commissions'!D249=\"AGI externes\",'Relevés de  commissions'!P249,0)*1","v":0},0,""]
[null,null,null,null,null,null,null,null,null,null,null,null,{"$f":"IF('Relevés de  commissions'!D250=\"AGI externes\",'Relevés de  commissions'!M250,0)*1","v":0},{"$f":"IF('Relevés de  commissions'!D250=\"AGI externes\",'Relevés de  commissions'!N250,0)*1","v":0},{"$f":"IF('Relevés de  commissions'!D250=\"AGI externes\",'Relevés de  commissions'!O250,0)*1","v":0},{"$f":"IF('Relevés de  commissions'!D250=\"AGI externes\",'Relevés de  commissions'!P250,0)*1","v":0},0,""]
[null,null,null,null,null,null,null,null,null,null,null,null,{"$f":"IF('Relevés de  commissions'!D251=\"AGI externes\",'Relevés de  commissions'!M251,0)*1","v":0},{"$f":"IF('Relevés de  commissions'!D251=\"AGI externes\",'Relevés de  commissions'!N251,0)*1","v":0},{"$f":"IF('Relevés de  commissions'!D251=\"AGI externes\",'Relevés de  commissions'!O251,0)*1","v":0},{"$f":"IF('Relevés de  commissions'!D251=\"AGI externes\",'Relevés de  commissions'!P251,0)*1","v":0},0,""]
[null,null,null,null,null,null,null,null,null,null,null,null,{"$f":"IF('Relevés de  commissions'!D252=\"AGI externes\",'Relevés de  commissions'!M252,0)*1","v":0},{"$f":"IF('Relevés de  commissions'!D252=\"AGI externes\",'Relevés de  commissions'!N252,0)*1","v":0},{"$f":"IF('Relevés de  commissions'!D252=\"AGI externes\",'Relevés de  commissions'!O252,0)*1","v":0},{"$f":"IF('Relevés de  commissions'!D252=\"AGI externes\",'Relevés de  commissions'!P252,0)*1","v":0},0,""]
[null,null,null,null,null,null,null,null,null,null,null,null,{"$f":"IF('Relevés de  commissions'!D253=\"AGI externes\",'Relevés de  commissions'!M253,0)*1","v":0},{"$f":"IF('Relevés de  commissions'!D253=\"AGI externes\",'Relevés de  commissions'!N253,0)*1","v":0},{"$f":"IF('Relevés de  commissions'!D253=\"AGI externes\",'Relevés de  commissions'!O253,0)*1","v":0},{"$f":"IF('Relevés de  commissions'!D253=\"AGI externes\",'Relevés de  commissions'!P253,0)*1","v":0},0,""]
[null,null,null,null,null,null,null,null,null,null,null,null,{"$f":"IF('Relevés de  commissions'!D254=\"AGI externes\",'Relevés de  commissions'!M254,0)*1","v":0},{"$f":"IF('Relevés de  commissions'!D254=\"AGI externes\",'Relevés de  commissions'!N254,0)*1","v":0},{"$f":"IF('Relevés de  commissions'!D254=\"AGI externes\",'Relevés de  commissions'!O254,0)*1","v":0},{"$f":"IF('Relevés de  commissions'!D254=\"AGI externes\",'Relevés de  commissions'!P254,0)*1","v":0},0,""]
[null,null,null,null,null,null,null,null,null,null,null,null,{"$f":"IF('Relevés de  commissions'!D255=\"AGI externes\",'Relevés de  commissions'!M255,0)*1","v":0},{"$f":"IF('Relevés de  commissions'!D255=\"AGI externes\",'Relevés de  commissions'!N255,0)*1","v":0},{"$f":"IF('Relevés de  commissions'!D255=\"AGI externes\",'Relevés de  commissions'!O255,0)*1","v":0},{"$f":"IF('Relevés de  commissions'!D255=\"AGI externes\",'Relevés de  commissions'!P255,0)*1","v":0},0,""]
[null,null,null,null,null,null,null,null,null,null,null,null,{"$f":"IF('Relevés de  commissions'!D256=\"AGI externes\",'Relevés de  commissions'!M256,0)*1","v":0},{"$f":"IF('Relevés de  commissions'!D256=\"AGI externes\",'Relevés de  commissions'!N256,0)*1","v":0},{"$f":"IF('Relevés de  commissions'!D256=\"AGI externes\",'Relevés de  commissions'!O256,0)*1","v":0},{"$f":"IF('Relevés de  commissions'!D256=\"AGI externes\",'Relevés de  commissions'!P256,0)*1","v":0},0,""]
[null,null,null,null,null,null,null,null,null,null,null,null,{"$f":"IF('Relevés de  commissions'!D257=\"AGI externes\",'Relevés de  commissions'!M257,0)*1","v":0},{"$f":"IF('Relevés de  commissions'!D257=\"AGI externes\",'Relevés de  commissions'!N257,0)*1","v":0},{"$f":"IF('Relevés de  commissions'!D257=\"AGI externes\",'Relevés de  commissions'!O257,0)*1","v":0},{"$f":"IF('Relevés de  commissions'!D257=\"AGI externes\",'Relevés de  commissions'!P257,0)*1","v":0},0,""]
[null,null,null,null,null,null,null,null,null,null,null,null,{"$f":"IF('Relevés de  commissions'!D258=\"AGI externes\",'Relevés de  commissions'!M258,0)*1","v":0},{"$f":"IF('Relevés de  commissions'!D258=\"AGI externes\",'Relevés de  commissions'!N258,0)*1","v":0},{"$f":"IF('Relevés de  commissions'!D258=\"AGI externes\",'Relevés de  commissions'!O258,0)*1","v":0},{"$f":"IF('Relevés de  commissions'!D258=\"AGI externes\",'Relevés de  commissions'!P258,0)*1","v":0},0,""]
[null,null,null,null,null,null,null,null,null,null,null,null,{"$f":"IF('Relevés de  commissions'!D259=\"AGI externes\",'Relevés de  commissions'!M259,0)*1","v":0},{"$f":"IF('Relevés de  commissions'!D259=\"AGI externes\",'Relevés de  commissions'!N259,0)*1","v":0},{"$f":"IF('Relevés de  commissions'!D259=\"AGI externes\",'Relevés de  commissions'!O259,0)*1","v":0},{"$f":"IF('Relevés de  commissions'!D259=\"AGI externes\",'Relevés de  commissions'!P259,0)*1","v":0},{"$f":"IF(N261=0,O261,\"\")","v":0},{"$f":"IF(N261=10,O261,\"\")","v":""}]
[null,null,null,null,null,null,null,null,null,null,null,null,{"$f":"IF('Relevés de  commissions'!D260=\"AGI externes\",'Relevés de  commissions'!M260,0)*1","v":0},{"$f":"IF('Relevés de  commissions'!D260=\"AGI externes\",'Relevés de  commissions'!N260,0)*1","v":0},{"$f":"IF('Relevés de  commissions'!D260=\"AGI externes\",'Relevés de  commissions'!O260,0)*1","v":0},{"$f":"IF('Relevés de  commissions'!D260=\"AGI externes\",'Relevés de  commissions'!P260,0)*1","v":0},0,""]
[null,null,null,null,null,null,null,null,null,null,null,null,{"$f":"IF('Relevés de  commissions'!D261=\"AGI externes\",'Relevés de  commissions'!M261,0)*1","v":0},{"$f":"IF('Relevés de  commissions'!D261=\"AGI externes\",'Relevés de  commissions'!N261,0)*1","v":0},{"$f":"IF('Relevés de  commissions'!D261=\"AGI externes\",'Relevés de  commissions'!O261,0)*1","v":0},{"$f":"IF('Relevés de  commissions'!D261=\"AGI externes\",'Relevés de  commissions'!P261,0)*1","v":0},0,""]
[null,null,null,null,null,null,null,null,null,null,null,null,{"$f":"IF('Relevés de  commissions'!D262=\"AGI externes\",'Relevés de  commissions'!M262,0)*1","v":0},{"$f":"IF('Relevés de  commissions'!D262=\"AGI externes\",'Relevés de  commissions'!N262,0)*1","v":0},{"$f":"IF('Relevés de  commissions'!D262=\"AGI externes\",'Relevés de  commissions'!O262,0)*1","v":0},{"$f":"IF('Relevés de  commissions'!D262=\"AGI externes\",'Relevés de  commissions'!P262,0)*1","v":0},0,""]
[null,null,null,null,null,null,null,null,null,null,null,null,{"$f":"IF('Relevés de  commissions'!D263=\"AGI externes\",'Relevés de  commissions'!M263,0)*1","v":0},{"$f":"IF('Relevés de  commissions'!D263=\"AGI externes\",'Relevés de  commissions'!N263,0)*1","v":0},{"$f":"IF('Relevés de  commissions'!D263=\"AGI externes\",'Relevés de  commissions'!O263,0)*1","v":0},{"$f":"IF('Relevés de  commissions'!D263=\"AGI externes\",'Relevés de  commissions'!P263,0)*1","v":0},0,""]
[null,null,null,null,null,null,null,null,null,null,null,null,{"$f":"IF('Relevés de  commissions'!D264=\"AGI externes\",'Relevés de  commissions'!M264,0)*1","v":0},{"$f":"IF('Relevés de  commissions'!D264=\"AGI externes\",'Relevés de  commissions'!N264,0)*1","v":0},{"$f":"IF('Relevés de  commissions'!D264=\"AGI externes\",'Relevés de  commissions'!O264,0)*1","v":0},{"$f":"IF('Relevés de  commissions'!D264=\"AGI externes\",'Relevés de  commissions'!P264,0)*1","v":0},0,""]
[null,null,null,null,null,null,null,null,null,null,null,null,{"$f":"IF('Relevés de  commissions'!D265=\"AGI externes\",'Relevés de  commissions'!M265,0)*1","v":0},{"$f":"IF('Relevés de  commissions'!D265=\"AGI externes\",'Relevés de  commissions'!N265,0)*1","v":0},{"$f":"IF('Relevés de  commissions'!D265=\"AGI externes\",'Relevés de  commissions'!O265,0)*1","v":0},{"$f":"IF('Relevés de  commissions'!D265=\"AGI externes\",'Relevés de  commissions'!P265,0)*1","v":0},0,""]
[null,null,null,null,null,null,null,null,null,null,null,null,{"$f":"IF('Relevés de  commissions'!D266=\"AGI externes\",'Relevés de  commissions'!M266,0)*1","v":0},{"$f":"IF('Relevés de  commissions'!D266=\"AGI externes\",'Relevés de  commissions'!N266,0)*1","v":0},{"$f":"IF('Relevés de  commissions'!D266=\"AGI externes\",'Relevés de  commissions'!O266,0)*1","v":0},{"$f":"IF('Relevés de  commissions'!D266=\"AGI externes\",'Relevés de  commissions'!P266,0)*1","v":0},0,""]
[null,null,null,null,null,null,null,null,null,null,null,null,{"$f":"IF('Relevés de  commissions'!D267=\"AGI externes\",'Relevés de  commissions'!M267,0)*1","v":0},{"$f":"IF('Relevés de  commissions'!D267=\"AGI externes\",'Relevés de  commissions'!N267,0)*1","v":0},{"$f":"IF('Relevés de  commissions'!D267=\"AGI externes\",'Relevés de  commissions'!O267,0)*1","v":0},{"$f":"IF('Relevés de  commissions'!D267=\"AGI externes\",'Relevés de  commissions'!P267,0)*1","v":0},0,""]
[null,null,null,null,null,null,null,null,null,null,null,null,{"$f":"IF('Relevés de  commissions'!D268=\"AGI externes\",'Relevés de  commissions'!M268,0)*1","v":0},{"$f":"IF('Relevés de  commissions'!D268=\"AGI externes\",'Relevés de  commissions'!N268,0)*1","v":0},{"$f":"IF('Relevés de  commissions'!D268=\"AGI externes\",'Relevés de  commissions'!O268,0)*1","v":0},{"$f":"IF('Relevés de  commissions'!D268=\"AGI externes\",'Relevés de  commissions'!P268,0)*1","v":0},0,""]
[null,null,null,null,null,null,null,null,null,null,null,null,{"$f":"IF('Relevés de  commissions'!D269=\"AGI externes\",'Relevés de  commissions'!M269,0)*1","v":0},{"$f":"IF('Relevés de  commissions'!D269=\"AGI externes\",'Relevés de  commissions'!N269,0)*1","v":0},{"$f":"IF('Relevés de  commissions'!D269=\"AGI externes\",'Relevés de  commissions'!O269,0)*1","v":0},{"$f":"IF('Relevés de  commissions'!D269=\"AGI externes\",'Relevés de  commissions'!P269,0)*1","v":0},0,""]
[null,null,null,null,null,null,null,null,null,null,null,null,{"$f":"IF('Relevés de  commissions'!D270=\"AGI externes\",'Relevés de  commissions'!M270,0)*1","v":0},{"$f":"IF('Relevés de  commissions'!D270=\"AGI externes\",'Relevés de  commissions'!N270,0)*1","v":0},{"$f":"IF('Relevés de  commissions'!D270=\"AGI externes\",'Relevés de  commissions'!O270,0)*1","v":0},{"$f":"IF('Relevés de  commissions'!D270=\"AGI externes\",'Relevés de  commissions'!P270,0)*1","v":0},0,""]
[null,null,null,null,null,null,null,null,null,null,null,null,{"$f":"IF('Relevés de  commissions'!D271=\"AGI externes\",'Relevés de  commissions'!M271,0)*1","v":0},{"$f":"IF('Relevés de  commissions'!D271=\"AGI externes\",'Relevés de  commissions'!N271,0)*1","v":0},{"$f":"IF('Relevés de  commissions'!D271=\"AGI externes\",'Relevés de  commissions'!O271,0)*1","v":0},{"$f":"IF('Relevés de  commissions'!D271=\"AGI externes\",'Relevés de  commissions'!P271,0)*1","v":0},0,""]
[null,null,null,null,null,null,null,null,null,null,null,null,{"$f":"IF('Relevés de  commissions'!D272=\"AGI externes\",'Relevés de  commissions'!M272,0)*1","v":0},{"$f":"IF('Relevés de  commissions'!D272=\"AGI externes\",'Relevés de  commissions'!N272,0)*1","v":0},{"$f":"IF('Relevés de  commissions'!D272=\"AGI externes\",'Relevés de  commissions'!O272,0)*1","v":0},{"$f":"IF('Relevés de  commissions'!D272=\"AGI externes\",'Relevés de  commissions'!P272,0)*1","v":0},0,""]
[null,null,null,null,null,null,null,null,null,null,null,null,{"$f":"IF('Relevés de  commissions'!D273=\"AGI externes\",'Relevés de  commissions'!M273,0)*1","v":0},{"$f":"IF('Relevés de  commissions'!D273=\"AGI externes\",'Relevés de  commissions'!N273,0)*1","v":0},{"$f":"IF('Relevés de  commissions'!D273=\"AGI externes\",'Relevés de  commissions'!O273,0)*1","v":0},{"$f":"IF('Relevés de  commissions'!D273=\"AGI externes\",'Relevés de  commissions'!P273,0)*1","v":0},0,""]
[null,null,null,null,null,null,null,null,null,null,null,null,{"$f":"IF('Relevés de  commissions'!D274=\"AGI externes\",'Relevés de  commissions'!M274,0)*1","v":0},{"$f":"IF('Relevés de  commissions'!D274=\"AGI externes\",'Relevés de  commissions'!N274,0)*1","v":0},{"$f":"IF('Relevés de  commissions'!D274=\"AGI externes\",'Relevés de  commissions'!O274,0)*1","v":0},{"$f":"IF('Relevés de  commissions'!D274=\"AGI externes\",'Relevés de  commissions'!P274,0)*1","v":0},0,""]
[null,null,null,null,null,null,null,null,null,null,null,null,{"$f":"IF('Relevés de  commissions'!D275=\"AGI externes\",'Relevés de  commissions'!M275,0)*1","v":0},{"$f":"IF('Relevés de  commissions'!D275=\"AGI externes\",'Relevés de  commissions'!N275,0)*1","v":0},{"$f":"IF('Relevés de  commissions'!D275=\"AGI externes\",'Relevés de  commissions'!O275,0)*1","v":0},{"$f":"IF('Relevés de  commissions'!D275=\"AGI externes\",'Relevés de  commissions'!P275,0)*1","v":0},0,""]
[null,null,null,null,null,null,null,null,null,null,null,null,{"$f":"IF('Relevés de  commissions'!D276=\"AGI externes\",'Relevés de  commissions'!M276,0)*1","v":0},{"$f":"IF('Relevés de  commissions'!D276=\"AGI externes\",'Relevés de  commissions'!N276,0)*1","v":0},{"$f":"IF('Relevés de  commissions'!D276=\"AGI externes\",'Relevés de  commissions'!O276,0)*1","v":0},{"$f":"IF('Relevés de  commissions'!D276=\"AGI externes\",'Relevés de  commissions'!P276,0)*1","v":0},0,""]
[null,null,null,null,null,null,null,null,null,null,null,null,{"$f":"IF('Relevés de  commissions'!D277=\"AGI externes\",'Relevés de  commissions'!M277,0)*1","v":0},{"$f":"IF('Relevés de  commissions'!D277=\"AGI externes\",'Relevés de  commissions'!N277,0)*1","v":0},{"$f":"IF('Relevés de  commissions'!D277=\"AGI externes\",'Relevés de  commissions'!O277,0)*1","v":0},{"$f":"IF('Relevés de  commissions'!D277=\"AGI externes\",'Relevés de  commissions'!P277,0)*1","v":0},0,""]
[null,null,null,null,null,null,null,null,null,null,null,null,{"$f":"IF('Relevés de  commissions'!D278=\"AGI externes\",'Relevés de  commissions'!M278,0)*1","v":0},{"$f":"IF('Relevés de  commissions'!D278=\"AGI externes\",'Relevés de  commissions'!N278,0)*1","v":0},{"$f":"IF('Relevés de  commissions'!D278=\"AGI externes\",'Relevés de  commissions'!O278,0)*1","v":0},{"$f":"IF('Relevés de  commissions'!D278=\"AGI externes\",'Relevés de  commissions'!P278,0)*1","v":0},0,""]
[null,null,null,null,null,null,null,null,null,null,null,null,{"$f":"IF('Relevés de  commissions'!D279=\"AGI externes\",'Relevés de  commissions'!M279,0)*1","v":0},{"$f":"IF('Relevés de  commissions'!D279=\"AGI externes\",'Relevés de  commissions'!N279,0)*1","v":0},{"$f":"IF('Relevés de  commissions'!D279=\"AGI externes\",'Relevés de  commissions'!O279,0)*1","v":0},{"$f":"IF('Relevés de  commissions'!D279=\"AGI externes\",'Relevés de  commissions'!P279,0)*1","v":0},0,""]
[null,null,null,null,null,null,null,null,null,null,null,null,{"$f":"IF('Relevés de  commissions'!D280=\"AGI externes\",'Relevés de  commissions'!M280,0)*1","v":0},{"$f":"IF('Relevés de  commissions'!D280=\"AGI externes\",'Relevés de  commissions'!N280,0)*1","v":0},{"$f":"IF('Relevés de  commissions'!D280=\"AGI externes\",'Relevés de  commissions'!O280,0)*1","v":0},{"$f":"IF('Relevés de  commissions'!D280=\"AGI externes\",'Relevés de  commissions'!P280,0)*1","v":0},0,""]
[null,null,null,null,null,null,null,null,null,null,null,null,{"$f":"IF('Relevés de  commissions'!D281=\"AGI externes\",'Relevés de  commissions'!M281,0)*1","v":0},{"$f":"IF('Relevés de  commissions'!D281=\"AGI externes\",'Relevés de  commissions'!N281,0)*1","v":0},{"$f":"IF('Relevés de  commissions'!D281=\"AGI externes\",'Relevés de  commissions'!O281,0)*1","v":0},{"$f":"IF('Relevés de  commissions'!D281=\"AGI externes\",'Relevés de  commissions'!P281,0)*1","v":0},0,""]
[null,null,null,null,null,null,null,null,null,null,null,null,{"$f":"IF('Relevés de  commissions'!D282=\"AGI externes\",'Relevés de  commissions'!M282,0)*1","v":0},{"$f":"IF('Relevés de  commissions'!D282=\"AGI externes\",'Relevés de  commissions'!N282,0)*1","v":0},{"$f":"IF('Relevés de  commissions'!D282=\"AGI externes\",'Relevés de  commissions'!O282,0)*1","v":0},{"$f":"IF('Relevés de  commissions'!D282=\"AGI externes\",'Relevés de  commissions'!P282,0)*1","v":0},0,""]
[null,null,null,null,null,null,null,null,null,null,null,null,{"$f":"IF('Relevés de  commissions'!D283=\"AGI externes\",'Relevés de  commissions'!M283,0)*1","v":0},{"$f":"IF('Relevés de  commissions'!D283=\"AGI externes\",'Relevés de  commissions'!N283,0)*1","v":0},{"$f":"IF('Relevés de  commissions'!D283=\"AGI externes\",'Relevés de  commissions'!O283,0)*1","v":0},{"$f":"IF('Relevés de  commissions'!D283=\"AGI externes\",'Relevés de  commissions'!P283,0)*1","v":0},0,""]
[null,null,null,null,null,null,null,null,null,null,null,null,{"$f":"IF('Relevés de  commissions'!D284=\"AGI externes\",'Relevés de  commissions'!M284,0)*1","v":0},{"$f":"IF('Relevés de  commissions'!D284=\"AGI externes\",'Relevés de  commissions'!N284,0)*1","v":0},{"$f":"IF('Relevés de  commissions'!D284=\"AGI externes\",'Relevés de  commissions'!O284,0)*1","v":0},{"$f":"IF('Relevés de  commissions'!D284=\"AGI externes\",'Relevés de  commissions'!P284,0)*1","v":0},0,""]
[null,null,null,null,null,null,null,null,null,null,null,null,{"$f":"IF('Relevés de  commissions'!D285=\"AGI externes\",'Relevés de  commissions'!M285,0)*1","v":0},{"$f":"IF('Relevés de  commissions'!D285=\"AGI externes\",'Relevés de  commissions'!N285,0)*1","v":0},{"$f":"IF('Relevés de  commissions'!D285=\"AGI externes\",'Relevés de  commissions'!O285,0)*1","v":0},{"$f":"IF('Relevés de  commissions'!D285=\"AGI externes\",'Relevés de  commissions'!P285,0)*1","v":0},0,""]
[null,null,null,null,null,null,null,null,null,null,null,null,{"$f":"IF('Relevés de  commissions'!D286=\"AGI externes\",'Relevés de  commissions'!M286,0)*1","v":0},{"$f":"IF('Relevés de  commissions'!D286=\"AGI externes\",'Relevés de  commissions'!N286,0)*1","v":0},{"$f":"IF('Relevés de  commissions'!D286=\"AGI externes\",'Relevés de  commissions'!O286,0)*1","v":0},{"$f":"IF('Relevés de  commissions'!D286=\"AGI externes\",'Relevés de  commissions'!P286,0)*1","v":0},0,""]
[null,null,null,null,null,null,null,null,null,null,null,null,{"$f":"IF('Relevés de  commissions'!D287=\"AGI externes\",'Relevés de  commissions'!M287,0)*1","v":0},{"$f":"IF('Relevés de  commissions'!D287=\"AGI externes\",'Relevés de  commissions'!N287,0)*1","v":0},{"$f":"IF('Relevés de  commissions'!D287=\"AGI externes\",'Relevés de  commissions'!O287,0)*1","v":0},{"$f":"IF('Relevés de  commissions'!D287=\"AGI externes\",'Relevés de  commissions'!P287,0)*1","v":0},0,""]
[null,null,null,null,null,null,null,null,null,null,null,null,{"$f":"IF('Relevés de  commissions'!D288=\"AGI externes\",'Relevés de  commissions'!M288,0)*1","v":0},{"$f":"IF('Relevés de  commissions'!D288=\"AGI externes\",'Relevés de  commissions'!N288,0)*1","v":0},{"$f":"IF('Relevés de  commissions'!D288=\"AGI externes\",'Relevés de  commissions'!O288,0)*1","v":0},{"$f":"IF('Relevés de  commissions'!D288=\"AGI externes\",'Relevés de  commissions'!P288,0)*1","v":0},0,""]
[null,null,null,null,null,null,null,null,null,null,null,null,{"$f":"IF('Relevés de  commissions'!D289=\"AGI externes\",'Relevés de  commissions'!M289,0)*1","v":0},{"$f":"IF('Relevés de  commissions'!D289=\"AGI externes\",'Relevés de  commissions'!N289,0)*1","v":0},{"$f":"IF('Relevés de  commissions'!D289=\"AGI externes\",'Relevés de  commissions'!O289,0)*1","v":0},{"$f":"IF('Relevés de  commissions'!D289=\"AGI externes\",'Relevés de  commissions'!P289,0)*1","v":0},0,""]
[null,null,null,null,null,null,null,null,null,null,null,null,{"$f":"IF('Relevés de  commissions'!D290=\"AGI externes\",'Relevés de  commissions'!M290,0)*1","v":0},{"$f":"IF('Relevés de  commissions'!D290=\"AGI externes\",'Relevés de  commissions'!N290,0)*1","v":0},{"$f":"IF('Relevés de  commissions'!D290=\"AGI externes\",'Relevés de  commissions'!O290,0)*1","v":0},{"$f":"IF('Relevés de  commissions'!D290=\"AGI externes\",'Relevés de  commissions'!P290,0)*1","v":0},0,""]
[null,null,null,null,null,null,null,null,null,null,null,null,{"$f":"IF('Relevés de  commissions'!D291=\"AGI externes\",'Relevés de  commissions'!M291,0)*1","v":0},{"$f":"IF('Relevés de  commissions'!D291=\"AGI externes\",'Relevés de  commissions'!N291,0)*1","v":0},{"$f":"IF('Relevés de  commissions'!D291=\"AGI externes\",'Relevés de  commissions'!O291,0)*1","v":0},{"$f":"IF('Relevés de  commissions'!D291=\"AGI externes\",'Relevés de  commissions'!P291,0)*1","v":0},0,""]
[null,null,null,null,null,null,null,null,null,null,null,null,{"$f":"IF('Relevés de  commissions'!D292=\"AGI externes\",'Relevés de  commissions'!M292,0)*1","v":0},{"$f":"IF('Relevés de  commissions'!D292=\"AGI externes\",'Relevés de  commissions'!N292,0)*1","v":0},{"$f":"IF('Relevés de  commissions'!D292=\"AGI externes\",'Relevés de  commissions'!O292,0)*1","v":0},{"$f":"IF('Relevés de  commissions'!D292=\"AGI externes\",'Relevés de  commissions'!P292,0)*1","v":0},0,""]
[null,null,null,null,null,null,null,null,null,null,null,null,{"$f":"IF('Relevés de  commissions'!D293=\"AGI externes\",'Relevés de  commissions'!M293,0)*1","v":0},{"$f":"IF('Relevés de  commissions'!D293=\"AGI externes\",'Relevés de  commissions'!N293,0)*1","v":0},{"$f":"IF('Relevés de  commissions'!D293=\"AGI externes\",'Relevés de  commissions'!O293,0)*1","v":0},{"$f":"IF('Relevés de  commissions'!D293=\"AGI externes\",'Relevés de  commissions'!P293,0)*1","v":0},0,""]
[null,null,null,null,null,null,null,null,null,null,null,null,{"$f":"IF('Relevés de  commissions'!D294=\"AGI externes\",'Relevés de  commissions'!M294,0)*1","v":0},{"$f":"IF('Relevés de  commissions'!D294=\"AGI externes\",'Relevés de  commissions'!N294,0)*1","v":0},{"$f":"IF('Relevés de  commissions'!D294=\"AGI externes\",'Relevés de  commissions'!O294,0)*1","v":0},{"$f":"IF('Relevés de  commissions'!D294=\"AGI externes\",'Relevés de  commissions'!P294,0)*1","v":0},0,""]
[null,null,null,null,null,null,null,null,null,null,null,null,{"$f":"IF('Relevés de  commissions'!D295=\"AGI externes\",'Relevés de  commissions'!M295,0)*1","v":0},{"$f":"IF('Relevés de  commissions'!D295=\"AGI externes\",'Relevés de  commissions'!N295,0)*1","v":0},{"$f":"IF('Relevés de  commissions'!D295=\"AGI externes\",'Relevés de  commissions'!O295,0)*1","v":0},{"$f":"IF('Relevés de  commissions'!D295=\"AGI externes\",'Relevés de  commissions'!P295,0)*1","v":0},0,""]
[null,null,null,null,null,null,null,null,null,null,null,null,{"$f":"IF('Relevés de  commissions'!D296=\"AGI externes\",'Relevés de  commissions'!M296,0)*1","v":0},{"$f":"IF('Relevés de  commissions'!D296=\"AGI externes\",'Relevés de  commissions'!N296,0)*1","v":0},{"$f":"IF('Relevés de  commissions'!D296=\"AGI externes\",'Relevés de  commissions'!O296,0)*1","v":0},{"$f":"IF('Relevés de  commissions'!D296=\"AGI externes\",'Relevés de  commissions'!P296,0)*1","v":0},0,""]
[null,null,null,null,null,null,null,null,null,null,null,null,{"$f":"IF('Relevés de  commissions'!D297=\"AGI externes\",'Relevés de  commissions'!M297,0)*1","v":0},{"$f":"IF('Relevés de  commissions'!D297=\"AGI externes\",'Relevés de  commissions'!N297,0)*1","v":0},{"$f":"IF('Relevés de  commissions'!D297=\"AGI externes\",'Relevés de  commissions'!O297,0)*1","v":0},{"$f":"IF('Relevés de  commissions'!D297=\"AGI externes\",'Relevés de  commissions'!P297,0)*1","v":0},0,""]
[null,null,null,null,null,null,null,null,null,null,null,null,{"$f":"IF('Relevés de  commissions'!D298=\"AGI externes\",'Relevés de  commissions'!M298,0)*1","v":0},{"$f":"IF('Relevés de  commissions'!D298=\"AGI externes\",'Relevés de  commissions'!N298,0)*1","v":0},{"$f":"IF('Relevés de  commissions'!D298=\"AGI externes\",'Relevés de  commissions'!O298,0)*1","v":0},{"$f":"IF('Relevés de  commissions'!D298=\"AGI externes\",'Relevés de  commissions'!P298,0)*1","v":0},0,""]
[null,null,null,null,null,null,null,null,null,null,null,null,{"$f":"IF('Relevés de  commissions'!D299=\"AGI externes\",'Relevés de  commissions'!M299,0)*1","v":0},{"$f":"IF('Relevés de  commissions'!D299=\"AGI externes\",'Relevés de  commissions'!N299,0)*1","v":0},{"$f":"IF('Relevés de  commissions'!D299=\"AGI externes\",'Relevés de  commissions'!O299,0)*1","v":0},{"$f":"IF('Relevés de  commissions'!D299=\"AGI externes\",'Relevés de  commissions'!P299,0)*1","v":0},0,""]
[null,null,null,null,null,null,null,null,null,null,null,null,{"$f":"IF('Relevés de  commissions'!D300=\"AGI externes\",'Relevés de  commissions'!M300,0)*1","v":0},{"$f":"IF('Relevés de  commissions'!D300=\"AGI externes\",'Relevés de  commissions'!N300,0)*1","v":0},{"$f":"IF('Relevés de  commissions'!D300=\"AGI externes\",'Relevés de  commissions'!O300,0)*1","v":0},{"$f":"IF('Relevés de  commissions'!D300=\"AGI externes\",'Relevés de  commissions'!P300,0)*1","v":0},0,""]
[null,null,null,null,null,null,null,null,null,null,null,null,{"$f":"IF('Relevés de  commissions'!D301=\"AGI externes\",'Relevés de  commissions'!M301,0)*1","v":0},{"$f":"IF('Relevés de  commissions'!D301=\"AGI externes\",'Relevés de  commissions'!N301,0)*1","v":0},{"$f":"IF('Relevés de  commissions'!D301=\"AGI externes\",'Relevés de  commissions'!O301,0)*1","v":0},{"$f":"IF('Relevés de  commissions'!D301=\"AGI externes\",'Relevés de  commissions'!P301,0)*1","v":0},0,""]
[null,null,null,null,null,null,null,null,null,null,null,null,{"$f":"IF('Relevés de  commissions'!D302=\"AGI externes\",'Relevés de  commissions'!M302,0)*1","v":0},{"$f":"IF('Relevés de  commissions'!D302=\"AGI externes\",'Relevés de  commissions'!N302,0)*1","v":0},{"$f":"IF('Relevés de  commissions'!D302=\"AGI externes\",'Relevés de  commissions'!O302,0)*1","v":0},{"$f":"IF('Relevés de  commissions'!D302=\"AGI externes\",'Relevés de  commissions'!P302,0)*1","v":0},0,""]
[null,null,null,null,null,null,null,null,null,null,null,null,{"$f":"IF('Relevés de  commissions'!D303=\"AGI externes\",'Relevés de  commissions'!M303,0)*1","v":0},{"$f":"IF('Relevés de  commissions'!D303=\"AGI externes\",'Relevés de  commissions'!N303,0)*1","v":0},{"$f":"IF('Relevés de  commissions'!D303=\"AGI externes\",'Relevés de  commissions'!O303,0)*1","v":0},{"$f":"IF('Relevés de  commissions'!D303=\"AGI externes\",'Relevés de  commissions'!P303,0)*1","v":0},0,""]
[null,null,null,null,null,null,null,null,null,null,null,null,{"$f":"IF('Relevés de  commissions'!D304=\"AGI externes\",'Relevés de  commissions'!M304,0)*1","v":0},{"$f":"IF('Relevés de  commissions'!D304=\"AGI externes\",'Relevés de  commissions'!N304,0)*1","v":0},{"$f":"IF('Relevés de  commissions'!D304=\"AGI externes\",'Relevés de  commissions'!O304,0)*1","v":0},{"$f":"IF('Relevés de  commissions'!D304=\"AGI externes\",'Relevés de  commissions'!P304,0)*1","v":0},0,""]
[null,null,null,null,null,null,null,null,null,null,null,null,{"$f":"IF('Relevés de  commissions'!D305=\"AGI externes\",'Relevés de  commissions'!M305,0)*1","v":0},{"$f":"IF('Relevés de  commissions'!D305=\"AGI externes\",'Relevés de  commissions'!N305,0)*1","v":0},{"$f":"IF('Relevés de  commissions'!D305=\"AGI externes\",'Relevés de  commissions'!O305,0)*1","v":0},{"$f":"IF('Relevés de  commissions'!D305=\"AGI externes\",'Relevés de  commissions'!P305,0)*1","v":0},0,""]
[null,null,null,null,null,null,null,null,null,null,null,null,{"$f":"IF('Relevés de  commissions'!D306=\"AGI externes\",'Relevés de  commissions'!M306,0)*1","v":0},{"$f":"IF('Relevés de  commissions'!D306=\"AGI externes\",'Relevés de  commissions'!N306,0)*1","v":0},{"$f":"IF('Relevés de  commissions'!D306=\"AGI externes\",'Relevés de  commissions'!O306,0)*1","v":0},{"$f":"IF('Relevés de  commissions'!D306=\"AGI externes\",'Relevés de  commissions'!P306,0)*1","v":0},0,""]
[null,null,null,null,null,null,null,null,null,null,null,null,{"$f":"IF('Relevés de  commissions'!D307=\"AGI externes\",'Relevés de  commissions'!M307,0)*1","v":0},{"$f":"IF('Relevés de  commissions'!D307=\"AGI externes\",'Relevés de  commissions'!N307,0)*1","v":0},{"$f":"IF('Relevés de  commissions'!D307=\"AGI externes\",'Relevés de  commissions'!O307,0)*1","v":0},{"$f":"IF('Relevés de  commissions'!D307=\"AGI externes\",'Relevés de  commissions'!P307,0)*1","v":0},0,""]
[null,null,null,null,null,null,null,null,null,null,null,null,{"$f":"IF('Relevés de  commissions'!D308=\"AGI externes\",'Relevés de  commissions'!M308,0)*1","v":0},{"$f":"IF('Relevés de  commissions'!D308=\"AGI externes\",'Relevés de  commissions'!N308,0)*1","v":0},{"$f":"IF('Relevés de  commissions'!D308=\"AGI externes\",'Relevés de  commissions'!O308,0)*1","v":0},{"$f":"IF('Relevés de  commissions'!D308=\"AGI externes\",'Relevés de  commissions'!P308,0)*1","v":0},0,""]
[null,null,null,null,null,null,null,null,null,null,null,null,{"$f":"IF('Relevés de  commissions'!D309=\"AGI externes\",'Relevés de  commissions'!M309,0)*1","v":0},{"$f":"IF('Relevés de  commissions'!D309=\"AGI externes\",'Relevés de  commissions'!N309,0)*1","v":0},{"$f":"IF('Relevés de  commissions'!D309=\"AGI externes\",'Relevés de  commissions'!O309,0)*1","v":0},{"$f":"IF('Relevés de  commissions'!D309=\"AGI externes\",'Relevés de  commissions'!P309,0)*1","v":0},0,""]
[null,null,null,null,null,null,null,null,null,null,null,null,{"$f":"IF('Relevés de  commissions'!D310=\"AGI externes\",'Relevés de  commissions'!M310,0)*1","v":0},{"$f":"IF('Relevés de  commissions'!D310=\"AGI externes\",'Relevés de  commissions'!N310,0)*1","v":0},{"$f":"IF('Relevés de  commissions'!D310=\"AGI externes\",'Relevés de  commissions'!O310,0)*1","v":0},{"$f":"IF('Relevés de  commissions'!D310=\"AGI externes\",'Relevés de  commissions'!P310,0)*1","v":0},0,""]
[null,null,null,null,null,null,null,null,null,null,null,null,{"$f":"IF('Relevés de  commissions'!D311=\"AGI externes\",'Relevés de  commissions'!M311,0)*1","v":0},{"$f":"IF('Relevés de  commissions'!D311=\"AGI externes\",'Relevés de  commissions'!N311,0)*1","v":0},{"$f":"IF('Relevés de  commissions'!D311=\"AGI externes\",'Relevés de  commissions'!O311,0)*1","v":0},{"$f":"IF('Relevés de  commissions'!D311=\"AGI externes\",'Relevés de  commissions'!P311,0)*1","v":0},0,""]
[null,null,null,null,null,null,null,null,null,null,null,null,{"$f":"IF('Relevés de  commissions'!D312=\"AGI externes\",'Relevés de  commissions'!M312,0)*1","v":0},{"$f":"IF('Relevés de  commissions'!D312=\"AGI externes\",'Relevés de  commissions'!N312,0)*1","v":0},{"$f":"IF('Relevés de  commissions'!D312=\"AGI externes\",'Relevés de  commissions'!O312,0)*1","v":0},{"$f":"IF('Relevés de  commissions'!D312=\"AGI externes\",'Relevés de  commissions'!P312,0)*1","v":0},0,""]
[null,null,null,null,null,null,null,null,null,null,null,null,{"$f":"IF('Relevés de  commissions'!D313=\"AGI externes\",'Relevés de  commissions'!M313,0)*1","v":0},{"$f":"IF('Relevés de  commissions'!D313=\"AGI externes\",'Relevés de  commissions'!N313,0)*1","v":0},{"$f":"IF('Relevés de  commissions'!D313=\"AGI externes\",'Relevés de  commissions'!O313,0)*1","v":0},{"$f":"IF('Relevés de  commissions'!D313=\"AGI externes\",'Relevés de  commissions'!P313,0)*1","v":0},0,""]
[null,null,null,null,null,null,null,null,null,null,null,null,{"$f":"IF('Relevés de  commissions'!D314=\"AGI externes\",'Relevés de  commissions'!M314,0)*1","v":0},{"$f":"IF('Relevés de  commissions'!D314=\"AGI externes\",'Relevés de  commissions'!N314,0)*1","v":0},{"$f":"IF('Relevés de  commissions'!D314=\"AGI externes\",'Relevés de  commissions'!O314,0)*1","v":0},{"$f":"IF('Relevés de  commissions'!D314=\"AGI externes\",'Relevés de  commissions'!P314,0)*1","v":0},0,""]
[null,null,null,null,null,null,null,null,null,null,null,null,{"$f":"IF('Relevés de  commissions'!D315=\"AGI externes\",'Relevés de  commissions'!M315,0)*1","v":0},{"$f":"IF('Relevés de  commissions'!D315=\"AGI externes\",'Relevés de  commissions'!N315,0)*1","v":0},{"$f":"IF('Relevés de  commissions'!D315=\"AGI externes\",'Relevés de  commissions'!O315,0)*1","v":0},{"$f":"IF('Relevés de  commissions'!D315=\"AGI externes\",'Relevés de  commissions'!P315,0)*1","v":0},0,""]
[null,null,null,null,null,null,null,null,null,null,null,null,{"$f":"IF('Relevés de  commissions'!D316=\"AGI externes\",'Relevés de  commissions'!M316,0)*1","v":0},{"$f":"IF('Relevés de  commissions'!D316=\"AGI externes\",'Relevés de  commissions'!N316,0)*1","v":0},{"$f":"IF('Relevés de  commissions'!D316=\"AGI externes\",'Relevés de  commissions'!O316,0)*1","v":0},{"$f":"IF('Relevés de  commissions'!D316=\"AGI externes\",'Relevés de  commissions'!P316,0)*1","v":0},0,""]
[null,null,null,null,null,null,null,null,null,null,null,null,{"$f":"IF('Relevés de  commissions'!D317=\"AGI externes\",'Relevés de  commissions'!M317,0)*1","v":0},{"$f":"IF('Relevés de  commissions'!D317=\"AGI externes\",'Relevés de  commissions'!N317,0)*1","v":0},{"$f":"IF('Relevés de  commissions'!D317=\"AGI externes\",'Relevés de  commissions'!O317,0)*1","v":0},{"$f":"IF('Relevés de  commissions'!D317=\"AGI externes\",'Relevés de  commissions'!P317,0)*1","v":0},0,""]
[null,null,null,null,null,null,null,null,null,null,null,null,{"$f":"IF('Relevés de  commissions'!D318=\"AGI externes\",'Relevés de  commissions'!M318,0)*1","v":0},{"$f":"IF('Relevés de  commissions'!D318=\"AGI externes\",'Relevés de  commissions'!N318,0)*1","v":0},{"$f":"IF('Relevés de  commissions'!D318=\"AGI externes\",'Relevés de  commissions'!O318,0)*1","v":0},{"$f":"IF('Relevés de  commissions'!D318=\"AGI externes\",'Relevés de  commissions'!P318,0)*1","v":0},0,""]
[null,null,null,null,null,null,null,null,null,null,null,null,{"$f":"IF('Relevés de  commissions'!D319=\"AGI externes\",'Relevés de  commissions'!M319,0)*1","v":0},{"$f":"IF('Relevés de  commissions'!D319=\"AGI externes\",'Relevés de  commissions'!N319,0)*1","v":0},{"$f":"IF('Relevés de  commissions'!D319=\"AGI externes\",'Relevés de  commissions'!O319,0)*1","v":0},{"$f":"IF('Relevés de  commissions'!D319=\"AGI externes\",'Relevés de  commissions'!P319,0)*1","v":0},0,""]
[null,null,null,null,null,null,null,null,null,null,null,null,{"$f":"IF('Relevés de  commissions'!D320=\"AGI externes\",'Relevés de  commissions'!M320,0)*1","v":0},{"$f":"IF('Relevés de  commissions'!D320=\"AGI externes\",'Relevés de  commissions'!N320,0)*1","v":0},{"$f":"IF('Relevés de  commissions'!D320=\"AGI externes\",'Relevés de  commissions'!O320,0)*1","v":0},{"$f":"IF('Relevés de  commissions'!D320=\"AGI externes\",'Relevés de  commissions'!P320,0)*1","v":0},0,""]
[null,null,null,null,null,null,null,null,null,null,null,null,{"$f":"IF('Relevés de  commissions'!D321=\"AGI externes\",'Relevés de  commissions'!M321,0)*1","v":0},{"$f":"IF('Relevés de  commissions'!D321=\"AGI externes\",'Relevés de  commissions'!N321,0)*1","v":0},{"$f":"IF('Relevés de  commissions'!D321=\"AGI externes\",'Relevés de  commissions'!O321,0)*1","v":0},{"$f":"IF('Relevés de  commissions'!D321=\"AGI externes\",'Relevés de  commissions'!P321,0)*1","v":0},0,""]
[null,null,null,null,null,null,null,null,null,null,null,null,{"$f":"IF('Relevés de  commissions'!D322=\"AGI externes\",'Relevés de  commissions'!M322,0)*1","v":0},{"$f":"IF('Relevés de  commissions'!D322=\"AGI externes\",'Relevés de  commissions'!N322,0)*1","v":0},{"$f":"IF('Relevés de  commissions'!D322=\"AGI externes\",'Relevés de  commissions'!O322,0)*1","v":0},{"$f":"IF('Relevés de  commissions'!D322=\"AGI externes\",'Relevés de  commissions'!P322,0)*1","v":0},0,""]
[null,null,null,null,null,null,null,null,null,null,null,null,{"$f":"IF('Relevés de  commissions'!D323=\"AGI externes\",'Relevés de  commissions'!M323,0)*1","v":0},{"$f":"IF('Relevés de  commissions'!D323=\"AGI externes\",'Relevés de  commissions'!N323,0)*1","v":0},{"$f":"IF('Relevés de  commissions'!D323=\"AGI externes\",'Relevés de  commissions'!O323,0)*1","v":0},{"$f":"IF('Relevés de  commissions'!D323=\"AGI externes\",'Relevés de  commissions'!P323,0)*1","v":0},{"$f":"IF(N325=0,O325,\"\")","v":0},{"$f":"IF(N325=10,O325,\"\")","v":""}]
[null,null,null,null,null,null,null,null,null,null,null,null,{"$f":"IF('Relevés de  commissions'!D324=\"AGI externes\",'Relevés de  commissions'!M324,0)*1","v":0},{"$f":"IF('Relevés de  commissions'!D324=\"AGI externes\",'Relevés de  commissions'!N324,0)*1","v":0},{"$f":"IF('Relevés de  commissions'!D324=\"AGI externes\",'Relevés de  commissions'!O324,0)*1","v":0},{"$f":"IF('Relevés de  commissions'!D324=\"AGI externes\",'Relevés de  commissions'!P324,0)*1","v":0},0,""]
[null,null,null,null,null,null,null,null,null,null,null,null,{"$f":"IF('Relevés de  commissions'!D325=\"AGI externes\",'Relevés de  commissions'!M325,0)*1","v":0},{"$f":"IF('Relevés de  commissions'!D325=\"AGI externes\",'Relevés de  commissions'!N325,0)*1","v":0},{"$f":"IF('Relevés de  commissions'!D325=\"AGI externes\",'Relevés de  commissions'!O325,0)*1","v":0},{"$f":"IF('Relevés de  commissions'!D325=\"AGI externes\",'Relevés de  commissions'!P325,0)*1","v":0},0,""]
[null,null,null,null,null,null,null,null,null,null,null,null,{"$f":"IF('Relevés de  commissions'!D326=\"AGI externes\",'Relevés de  commissions'!M326,0)*1","v":0},{"$f":"IF('Relevés de  commissions'!D326=\"AGI externes\",'Relevés de  commissions'!N326,0)*1","v":0},{"$f":"IF('Relevés de  commissions'!D326=\"AGI externes\",'Relevés de  commissions'!O326,0)*1","v":0},{"$f":"IF('Relevés de  commissions'!D326=\"AGI externes\",'Relevés de  commissions'!P326,0)*1","v":0},0,""]
[null,null,null,null,null,null,null,null,null,null,null,null,{"$f":"IF('Relevés de  commissions'!D327=\"AGI externes\",'Relevés de  commissions'!M327,0)*1","v":0},{"$f":"IF('Relevés de  commissions'!D327=\"AGI externes\",'Relevés de  commissions'!N327,0)*1","v":0},{"$f":"IF('Relevés de  commissions'!D327=\"AGI externes\",'Relevés de  commissions'!O327,0)*1","v":0},{"$f":"IF('Relevés de  commissions'!D327=\"AGI externes\",'Relevés de  commissions'!P327,0)*1","v":0},0,""]
[null,null,null,null,null,null,null,null,null,null,null,null,{"$f":"IF('Relevés de  commissions'!D328=\"AGI externes\",'Relevés de  commissions'!M328,0)*1","v":0},{"$f":"IF('Relevés de  commissions'!D328=\"AGI externes\",'Relevés de  commissions'!N328,0)*1","v":0},{"$f":"IF('Relevés de  commissions'!D328=\"AGI externes\",'Relevés de  commissions'!O328,0)*1","v":0},{"$f":"IF('Relevés de  commissions'!D328=\"AGI externes\",'Relevés de  commissions'!P328,0)*1","v":0},0,""]
[null,null,null,null,null,null,null,null,null,null,null,null,{"$f":"IF('Relevés de  commissions'!D329=\"AGI externes\",'Relevés de  commissions'!M329,0)*1","v":0},{"$f":"IF('Relevés de  commissions'!D329=\"AGI externes\",'Relevés de  commissions'!N329,0)*1","v":0},{"$f":"IF('Relevés de  commissions'!D329=\"AGI externes\",'Relevés de  commissions'!O329,0)*1","v":0},{"$f":"IF('Relevés de  commissions'!D329=\"AGI externes\",'Relevés de  commissions'!P329,0)*1","v":0},0,""]
[null,null,null,null,null,null,null,null,null,null,null,null,{"$f":"IF('Relevés de  commissions'!D330=\"AGI externes\",'Relevés de  commissions'!M330,0)*1","v":0},{"$f":"IF('Relevés de  commissions'!D330=\"AGI externes\",'Relevés de  commissions'!N330,0)*1","v":0},{"$f":"IF('Relevés de  commissions'!D330=\"AGI externes\",'Relevés de  commissions'!O330,0)*1","v":0},{"$f":"IF('Relevés de  commissions'!D330=\"AGI externes\",'Relevés de  commissions'!P330,0)*1","v":0},0,""]
[null,null,null,null,null,null,null,null,null,null,null,null,{"$f":"IF('Relevés de  commissions'!D331=\"AGI externes\",'Relevés de  commissions'!M331,0)*1","v":0},{"$f":"IF('Relevés de  commissions'!D331=\"AGI externes\",'Relevés de  commissions'!N331,0)*1","v":0},{"$f":"IF('Relevés de  commissions'!D331=\"AGI externes\",'Relevés de  commissions'!O331,0)*1","v":0},{"$f":"IF('Relevés de  commissions'!D331=\"AGI externes\",'Relevés de  commissions'!P331,0)*1","v":0},0,""]
[null,null,null,null,null,null,null,null,null,null,null,null,{"$f":"IF('Relevés de  commissions'!D332=\"AGI externes\",'Relevés de  commissions'!M332,0)*1","v":0},{"$f":"IF('Relevés de  commissions'!D332=\"AGI externes\",'Relevés de  commissions'!N332,0)*1","v":0},{"$f":"IF('Relevés de  commissions'!D332=\"AGI externes\",'Relevés de  commissions'!O332,0)*1","v":0},{"$f":"IF('Relevés de  commissions'!D332=\"AGI externes\",'Relevés de  commissions'!P332,0)*1","v":0},0,""]
[null,null,null,null,null,null,null,null,null,null,null,null,{"$f":"IF('Relevés de  commissions'!D333=\"AGI externes\",'Relevés de  commissions'!M333,0)*1","v":0},{"$f":"IF('Relevés de  commissions'!D333=\"AGI externes\",'Relevés de  commissions'!N333,0)*1","v":0},{"$f":"IF('Relevés de  commissions'!D333=\"AGI externes\",'Relevés de  commissions'!O333,0)*1","v":0},{"$f":"IF('Relevés de  commissions'!D333=\"AGI externes\",'Relevés de  commissions'!P333,0)*1","v":0},0,""]
[null,null,null,null,null,null,null,null,null,null,null,null,{"$f":"IF('Relevés de  commissions'!D334=\"AGI externes\",'Relevés de  commissions'!M334,0)*1","v":0},{"$f":"IF('Relevés de  commissions'!D334=\"AGI externes\",'Relevés de  commissions'!N334,0)*1","v":0},{"$f":"IF('Relevés de  commissions'!D334=\"AGI externes\",'Relevés de  commissions'!O334,0)*1","v":0},{"$f":"IF('Relevés de  commissions'!D334=\"AGI externes\",'Relevés de  commissions'!P334,0)*1","v":0},0,""]
[null,null,null,null,null,null,null,null,null,null,null,null,{"$f":"IF('Relevés de  commissions'!D335=\"AGI externes\",'Relevés de  commissions'!M335,0)*1","v":0},{"$f":"IF('Relevés de  commissions'!D335=\"AGI externes\",'Relevés de  commissions'!N335,0)*1","v":0},{"$f":"IF('Relevés de  commissions'!D335=\"AGI externes\",'Relevés de  commissions'!O335,0)*1","v":0},{"$f":"IF('Relevés de  commissions'!D335=\"AGI externes\",'Relevés de  commissions'!P335,0)*1","v":0},0,""]
[null,null,null,null,null,null,null,null,null,null,null,null,{"$f":"IF('Relevés de  commissions'!D336=\"AGI externes\",'Relevés de  commissions'!M336,0)*1","v":0},{"$f":"IF('Relevés de  commissions'!D336=\"AGI externes\",'Relevés de  commissions'!N336,0)*1","v":0},{"$f":"IF('Relevés de  commissions'!D336=\"AGI externes\",'Relevés de  commissions'!O336,0)*1","v":0},{"$f":"IF('Relevés de  commissions'!D336=\"AGI externes\",'Relevés de  commissions'!P336,0)*1","v":0},0,""]
[null,null,null,null,null,null,null,null,null,null,null,null,{"$f":"IF('Relevés de  commissions'!D337=\"AGI externes\",'Relevés de  commissions'!M337,0)*1","v":0},{"$f":"IF('Relevés de  commissions'!D337=\"AGI externes\",'Relevés de  commissions'!N337,0)*1","v":0},{"$f":"IF('Relevés de  commissions'!D337=\"AGI externes\",'Relevés de  commissions'!O337,0)*1","v":0},{"$f":"IF('Relevés de  commissions'!D337=\"AGI externes\",'Relevés de  commissions'!P337,0)*1","v":0},0,""]
[null,null,null,null,null,null,null,null,null,null,null,null,{"$f":"IF('Relevés de  commissions'!D338=\"AGI externes\",'Relevés de  commissions'!M338,0)*1","v":0},{"$f":"IF('Relevés de  commissions'!D338=\"AGI externes\",'Relevés de  commissions'!N338,0)*1","v":0},{"$f":"IF('Relevés de  commissions'!D338=\"AGI externes\",'Relevés de  commissions'!O338,0)*1","v":0},{"$f":"IF('Relevés de  commissions'!D338=\"AGI externes\",'Relevés de  commissions'!P338,0)*1","v":0},0,""]
[null,null,null,null,null,null,null,null,null,null,null,null,{"$f":"IF('Relevés de  commissions'!D339=\"AGI externes\",'Relevés de  commissions'!M339,0)*1","v":0},{"$f":"IF('Relevés de  commissions'!D339=\"AGI externes\",'Relevés de  commissions'!N339,0)*1","v":0},{"$f":"IF('Relevés de  commissions'!D339=\"AGI externes\",'Relevés de  commissions'!O339,0)*1","v":0},{"$f":"IF('Relevés de  commissions'!D339=\"AGI externes\",'Relevés de  commissions'!P339,0)*1","v":0},0,""]
[null,null,null,null,null,null,null,null,null,null,null,null,{"$f":"IF('Relevés de  commissions'!D340=\"AGI externes\",'Relevés de  commissions'!M340,0)*1","v":0},{"$f":"IF('Relevés de  commissions'!D340=\"AGI externes\",'Relevés de  commissions'!N340,0)*1","v":0},{"$f":"IF('Relevés de  commissions'!D340=\"AGI externes\",'Relevés de  commissions'!O340,0)*1","v":0},{"$f":"IF('Relevés de  commissions'!D340=\"AGI externes\",'Relevés de  commissions'!P340,0)*1","v":0},0,""]
[null,null,null,null,null,null,null,null,null,null,null,null,{"$f":"IF('Relevés de  commissions'!D341=\"AGI externes\",'Relevés de  commissions'!M341,0)*1","v":0},{"$f":"IF('Relevés de  commissions'!D341=\"AGI externes\",'Relevés de  commissions'!N341,0)*1","v":0},{"$f":"IF('Relevés de  commissions'!D341=\"AGI externes\",'Relevés de  commissions'!O341,0)*1","v":0},{"$f":"IF('Relevés de  commissions'!D341=\"AGI externes\",'Relevés de  commissions'!P341,0)*1","v":0},0,""]
[null,null,null,null,null,null,null,null,null,null,null,null,{"$f":"IF('Relevés de  commissions'!D342=\"AGI externes\",'Relevés de  commissions'!M342,0)*1","v":0},{"$f":"IF('Relevés de  commissions'!D342=\"AGI externes\",'Relevés de  commissions'!N342,0)*1","v":0},{"$f":"IF('Relevés de  commissions'!D342=\"AGI externes\",'Relevés de  commissions'!O342,0)*1","v":0},{"$f":"IF('Relevés de  commissions'!D342=\"AGI externes\",'Relevés de  commissions'!P342,0)*1","v":0},0,""]
[null,null,null,null,null,null,null,null,null,null,null,null,{"$f":"IF('Relevés de  commissions'!D343=\"AGI externes\",'Relevés de  commissions'!M343,0)*1","v":0},{"$f":"IF('Relevés de  commissions'!D343=\"AGI externes\",'Relevés de  commissions'!N343,0)*1","v":0},{"$f":"IF('Relevés de  commissions'!D343=\"AGI externes\",'Relevés de  commissions'!O343,0)*1","v":0},{"$f":"IF('Relevés de  commissions'!D343=\"AGI externes\",'Relevés de  commissions'!P343,0)*1","v":0},0,""]
[null,null,null,null,null,null,null,null,null,null,null,null,{"$f":"IF('Relevés de  commissions'!D344=\"AGI externes\",'Relevés de  commissions'!M344,0)*1","v":0},{"$f":"IF('Relevés de  commissions'!D344=\"AGI externes\",'Relevés de  commissions'!N344,0)*1","v":0},{"$f":"IF('Relevés de  commissions'!D344=\"AGI externes\",'Relevés de  commissions'!O344,0)*1","v":0},{"$f":"IF('Relevés de  commissions'!D344=\"AGI externes\",'Relevés de  commissions'!P344,0)*1","v":0},0,""]
[null,null,null,null,null,null,null,null,null,null,null,null,{"$f":"IF('Relevés de  commissions'!D345=\"AGI externes\",'Relevés de  commissions'!M345,0)*1","v":0},{"$f":"IF('Relevés de  commissions'!D345=\"AGI externes\",'Relevés de  commissions'!N345,0)*1","v":0},{"$f":"IF('Relevés de  commissions'!D345=\"AGI externes\",'Relevés de  commissions'!O345,0)*1","v":0},{"$f":"IF('Relevés de  commissions'!D345=\"AGI externes\",'Relevés de  commissions'!P345,0)*1","v":0},0,""]
[null,null,null,null,null,null,null,null,null,null,null,null,{"$f":"IF('Relevés de  commissions'!D346=\"AGI externes\",'Relevés de  commissions'!M346,0)*1","v":0},{"$f":"IF('Relevés de  commissions'!D346=\"AGI externes\",'Relevés de  commissions'!N346,0)*1","v":0},{"$f":"IF('Relevés de  commissions'!D346=\"AGI externes\",'Relevés de  commissions'!O346,0)*1","v":0},{"$f":"IF('Relevés de  commissions'!D346=\"AGI externes\",'Relevés de  commissions'!P346,0)*1","v":0},0,""]
[null,null,null,null,null,null,null,null,null,null,null,null,{"$f":"IF('Relevés de  commissions'!D347=\"AGI externes\",'Relevés de  commissions'!M347,0)*1","v":0},{"$f":"IF('Relevés de  commissions'!D347=\"AGI externes\",'Relevés de  commissions'!N347,0)*1","v":0},{"$f":"IF('Relevés de  commissions'!D347=\"AGI externes\",'Relevés de  commissions'!O347,0)*1","v":0},{"$f":"IF('Relevés de  commissions'!D347=\"AGI externes\",'Relevés de  commissions'!P347,0)*1","v":0},0,""]
[null,null,null,null,null,null,null,null,null,null,null,null,{"$f":"IF('Relevés de  commissions'!D348=\"AGI externes\",'Relevés de  commissions'!M348,0)*1","v":0},{"$f":"IF('Relevés de  commissions'!D348=\"AGI externes\",'Relevés de  commissions'!N348,0)*1","v":0},{"$f":"IF('Relevés de  commissions'!D348=\"AGI externes\",'Relevés de  commissions'!O348,0)*1","v":0},{"$f":"IF('Relevés de  commissions'!D348=\"AGI externes\",'Relevés de  commissions'!P348,0)*1","v":0},0,""]
[null,null,null,null,null,null,null,null,null,null,null,null,{"$f":"IF('Relevés de  commissions'!D349=\"AGI externes\",'Relevés de  commissions'!M349,0)*1","v":0},{"$f":"IF('Relevés de  commissions'!D349=\"AGI externes\",'Relevés de  commissions'!N349,0)*1","v":0},{"$f":"IF('Relevés de  commissions'!D349=\"AGI externes\",'Relevés de  commissions'!O349,0)*1","v":0},{"$f":"IF('Relevés de  commissions'!D349=\"AGI externes\",'Relevés de  commissions'!P349,0)*1","v":0},0,""]
[null,null,null,null,null,null,null,null,null,null,null,null,{"$f":"IF('Relevés de  commissions'!D350=\"AGI externes\",'Relevés de  commissions'!M350,0)*1","v":0},{"$f":"IF('Relevés de  commissions'!D350=\"AGI externes\",'Relevés de  commissions'!N350,0)*1","v":0},{"$f":"IF('Relevés de  commissions'!D350=\"AGI externes\",'Relevés de  commissions'!O350,0)*1","v":0},{"$f":"IF('Relevés de  commissions'!D350=\"AGI externes\",'Relevés de  commissions'!P350,0)*1","v":0},0,""]
[null,null,null,null,null,null,null,null,null,null,null,null,{"$f":"IF('Relevés de  commissions'!D351=\"AGI externes\",'Relevés de  commissions'!M351,0)*1","v":0},{"$f":"IF('Relevés de  commissions'!D351=\"AGI externes\",'Relevés de  commissions'!N351,0)*1","v":0},{"$f":"IF('Relevés de  commissions'!D351=\"AGI externes\",'Relevés de  commissions'!O351,0)*1","v":0},{"$f":"IF('Relevés de  commissions'!D351=\"AGI externes\",'Relevés de  commissions'!P351,0)*1","v":0},0,""]
[null,null,null,null,null,null,null,null,null,null,null,null,{"$f":"IF('Relevés de  commissions'!D352=\"AGI externes\",'Relevés de  commissions'!M352,0)*1","v":0},{"$f":"IF('Relevés de  commissions'!D352=\"AGI externes\",'Relevés de  commissions'!N352,0)*1","v":0},{"$f":"IF('Relevés de  commissions'!D352=\"AGI externes\",'Relevés de  commissions'!O352,0)*1","v":0},{"$f":"IF('Relevés de  commissions'!D352=\"AGI externes\",'Relevés de  commissions'!P352,0)*1","v":0},0,""]
[null,null,null,null,null,null,null,null,null,null,null,null,{"$f":"IF('Relevés de  commissions'!D353=\"AGI externes\",'Relevés de  commissions'!M353,0)*1","v":0},{"$f":"IF('Relevés de  commissions'!D353=\"AGI externes\",'Relevés de  commissions'!N353,0)*1","v":0},{"$f":"IF('Relevés de  commissions'!D353=\"AGI externes\",'Relevés de  commissions'!O353,0)*1","v":0},{"$f":"IF('Relevés de  commissions'!D353=\"AGI externes\",'Relevés de  commissions'!P353,0)*1","v":0},0,""]
[null,null,null,null,null,null,null,null,null,null,null,null,{"$f":"IF('Relevés de  commissions'!D354=\"AGI externes\",'Relevés de  commissions'!M354,0)*1","v":0},{"$f":"IF('Relevés de  commissions'!D354=\"AGI externes\",'Relevés de  commissions'!N354,0)*1","v":0},{"$f":"IF('Relevés de  commissions'!D354=\"AGI externes\",'Relevés de  commissions'!O354,0)*1","v":0},{"$f":"IF('Relevés de  commissions'!D354=\"AGI externes\",'Relevés de  commissions'!P354,0)*1","v":0},0,""]
[null,null,null,null,null,null,null,null,null,null,null,null,{"$f":"IF('Relevés de  commissions'!D355=\"AGI externes\",'Relevés de  commissions'!M355,0)*1","v":0},{"$f":"IF('Relevés de  commissions'!D355=\"AGI externes\",'Relevés de  commissions'!N355,0)*1","v":0},{"$f":"IF('Relevés de  commissions'!D355=\"AGI externes\",'Relevés de  commissions'!O355,0)*1","v":0},{"$f":"IF('Relevés de  commissions'!D355=\"AGI externes\",'Relevés de  commissions'!P355,0)*1","v":0},0,""]
[null,null,null,null,null,null,null,null,null,null,null,null,{"$f":"IF('Relevés de  commissions'!D356=\"AGI externes\",'Relevés de  commissions'!M356,0)*1","v":0},{"$f":"IF('Relevés de  commissions'!D356=\"AGI externes\",'Relevés de  commissions'!N356,0)*1","v":0},{"$f":"IF('Relevés de  commissions'!D356=\"AGI externes\",'Relevés de  commissions'!O356,0)*1","v":0},{"$f":"IF('Relevés de  commissions'!D356=\"AGI externes\",'Relevés de  commissions'!P356,0)*1","v":0},0,""]
[null,null,null,null,null,null,null,null,null,null,null,null,{"$f":"IF('Relevés de  commissions'!D357=\"AGI externes\",'Relevés de  commissions'!M357,0)*1","v":0},{"$f":"IF('Relevés de  commissions'!D357=\"AGI externes\",'Relevés de  commissions'!N357,0)*1","v":0},{"$f":"IF('Relevés de  commissions'!D357=\"AGI externes\",'Relevés de  commissions'!O357,0)*1","v":0},{"$f":"IF('Relevés de  commissions'!D357=\"AGI externes\",'Relevés de  commissions'!P357,0)*1","v":0},0,""]
[null,null,null,null,null,null,null,null,null,null,null,null,{"$f":"IF('Relevés de  commissions'!D358=\"AGI externes\",'Relevés de  commissions'!M358,0)*1","v":0},{"$f":"IF('Relevés de  commissions'!D358=\"AGI externes\",'Relevés de  commissions'!N358,0)*1","v":0},{"$f":"IF('Relevés de  commissions'!D358=\"AGI externes\",'Relevés de  commissions'!O358,0)*1","v":0},{"$f":"IF('Relevés de  commissions'!D358=\"AGI externes\",'Relevés de  commissions'!P358,0)*1","v":0},0,""]
[null,null,null,null,null,null,null,null,null,null,null,null,{"$f":"IF('Relevés de  commissions'!D359=\"AGI externes\",'Relevés de  commissions'!M359,0)*1","v":0},{"$f":"IF('Relevés de  commissions'!D359=\"AGI externes\",'Relevés de  commissions'!N359,0)*1","v":0},{"$f":"IF('Relevés de  commissions'!D359=\"AGI externes\",'Relevés de  commissions'!O359,0)*1","v":0},{"$f":"IF('Relevés de  commissions'!D359=\"AGI externes\",'Relevés de  commissions'!P359,0)*1","v":0},0,""]
[null,null,null,null,null,null,null,null,null,null,null,null,{"$f":"IF('Relevés de  commissions'!D360=\"AGI externes\",'Relevés de  commissions'!M360,0)*1","v":0},{"$f":"IF('Relevés de  commissions'!D360=\"AGI externes\",'Relevés de  commissions'!N360,0)*1","v":0},{"$f":"IF('Relevés de  commissions'!D360=\"AGI externes\",'Relevés de  commissions'!O360,0)*1","v":0},{"$f":"IF('Relevés de  commissions'!D360=\"AGI externes\",'Relevés de  commissions'!P360,0)*1","v":0},0,""]
[null,null,null,null,null,null,null,null,null,null,null,null,{"$f":"IF('Relevés de  commissions'!D361=\"AGI externes\",'Relevés de  commissions'!M361,0)*1","v":0},{"$f":"IF('Relevés de  commissions'!D361=\"AGI externes\",'Relevés de  commissions'!N361,0)*1","v":0},{"$f":"IF('Relevés de  commissions'!D361=\"AGI externes\",'Relevés de  commissions'!O361,0)*1","v":0},{"$f":"IF('Relevés de  commissions'!D361=\"AGI externes\",'Relevés de  commissions'!P361,0)*1","v":0},0,""]
[null,null,null,null,null,null,null,null,null,null,null,null,{"$f":"IF('Relevés de  commissions'!D362=\"AGI externes\",'Relevés de  commissions'!M362,0)*1","v":0},{"$f":"IF('Relevés de  commissions'!D362=\"AGI externes\",'Relevés de  commissions'!N362,0)*1","v":0},{"$f":"IF('Relevés de  commissions'!D362=\"AGI externes\",'Relevés de  commissions'!O362,0)*1","v":0},{"$f":"IF('Relevés de  commissions'!D362=\"AGI externes\",'Relevés de  commissions'!P362,0)*1","v":0},0,""]
[null,null,null,null,null,null,null,null,null,null,null,null,{"$f":"IF('Relevés de  commissions'!D363=\"AGI externes\",'Relevés de  commissions'!M363,0)*1","v":0},{"$f":"IF('Relevés de  commissions'!D363=\"AGI externes\",'Relevés de  commissions'!N363,0)*1","v":0},{"$f":"IF('Relevés de  commissions'!D363=\"AGI externes\",'Relevés de  commissions'!O363,0)*1","v":0},{"$f":"IF('Relevés de  commissions'!D363=\"AGI externes\",'Relevés de  commissions'!P363,0)*1","v":0},0,""]
[null,null,null,null,null,null,null,null,null,null,null,null,{"$f":"IF('Relevés de  commissions'!D364=\"AGI externes\",'Relevés de  commissions'!M364,0)*1","v":0},{"$f":"IF('Relevés de  commissions'!D364=\"AGI externes\",'Relevés de  commissions'!N364,0)*1","v":0},{"$f":"IF('Relevés de  commissions'!D364=\"AGI externes\",'Relevés de  commissions'!O364,0)*1","v":0},{"$f":"IF('Relevés de  commissions'!D364=\"AGI externes\",'Relevés de  commissions'!P364,0)*1","v":0},0,""]
[null,null,null,null,null,null,null,null,null,null,null,null,{"$f":"IF('Relevés de  commissions'!D365=\"AGI externes\",'Relevés de  commissions'!M365,0)*1","v":0},{"$f":"IF('Relevés de  commissions'!D365=\"AGI externes\",'Relevés de  commissions'!N365,0)*1","v":0},{"$f":"IF('Relevés de  commissions'!D365=\"AGI externes\",'Relevés de  commissions'!O365,0)*1","v":0},{"$f":"IF('Relevés de  commissions'!D365=\"AGI externes\",'Relevés de  commissions'!P365,0)*1","v":0},0,""]
[null,null,null,null,null,null,null,null,null,null,null,null,{"$f":"IF('Relevés de  commissions'!D366=\"AGI externes\",'Relevés de  commissions'!M366,0)*1","v":0},{"$f":"IF('Relevés de  commissions'!D366=\"AGI externes\",'Relevés de  commissions'!N366,0)*1","v":0},{"$f":"IF('Relevés de  commissions'!D366=\"AGI externes\",'Relevés de  commissions'!O366,0)*1","v":0},{"$f":"IF('Relevés de  commissions'!D366=\"AGI externes\",'Relevés de  commissions'!P366,0)*1","v":0},0,""]
[null,null,null,null,null,null,null,null,null,null,null,null,{"$f":"IF('Relevés de  commissions'!D367=\"AGI externes\",'Relevés de  commissions'!M367,0)*1","v":0},{"$f":"IF('Relevés de  commissions'!D367=\"AGI externes\",'Relevés de  commissions'!N367,0)*1","v":0},{"$f":"IF('Relevés de  commissions'!D367=\"AGI externes\",'Relevés de  commissions'!O367,0)*1","v":0},{"$f":"IF('Relevés de  commissions'!D367=\"AGI externes\",'Relevés de  commissions'!P367,0)*1","v":0},0,""]
[null,null,null,null,null,null,null,null,null,null,null,null,{"$f":"IF('Relevés de  commissions'!D368=\"AGI externes\",'Relevés de  commissions'!M368,0)*1","v":0},{"$f":"IF('Relevés de  commissions'!D368=\"AGI externes\",'Relevés de  commissions'!N368,0)*1","v":0},{"$f":"IF('Relevés de  commissions'!D368=\"AGI externes\",'Relevés de  commissions'!O368,0)*1","v":0},{"$f":"IF('Relevés de  commissions'!D368=\"AGI externes\",'Relevés de  commissions'!P368,0)*1","v":0},0,""]
[null,null,null,null,null,null,null,null,null,null,null,null,{"$f":"IF('Relevés de  commissions'!D369=\"AGI externes\",'Relevés de  commissions'!M369,0)*1","v":0},{"$f":"IF('Relevés de  commissions'!D369=\"AGI externes\",'Relevés de  commissions'!N369,0)*1","v":0},{"$f":"IF('Relevés de  commissions'!D369=\"AGI externes\",'Relevés de  commissions'!O369,0)*1","v":0},{"$f":"IF('Relevés de  commissions'!D369=\"AGI externes\",'Relevés de  commissions'!P369,0)*1","v":0},0,""]
[null,null,null,null,null,null,null,null,null,null,null,null,{"$f":"IF('Relevés de  commissions'!D370=\"AGI externes\",'Relevés de  commissions'!M370,0)*1","v":0},{"$f":"IF('Relevés de  commissions'!D370=\"AGI externes\",'Relevés de  commissions'!N370,0)*1","v":0},{"$f":"IF('Relevés de  commissions'!D370=\"AGI externes\",'Relevés de  commissions'!O370,0)*1","v":0},{"$f":"IF('Relevés de  commissions'!D370=\"AGI externes\",'Relevés de  commissions'!P370,0)*1","v":0},0,""]
[null,null,null,null,null,null,null,null,null,null,null,null,{"$f":"IF('Relevés de  commissions'!D371=\"AGI externes\",'Relevés de  commissions'!M371,0)*1","v":0},{"$f":"IF('Relevés de  commissions'!D371=\"AGI externes\",'Relevés de  commissions'!N371,0)*1","v":0},{"$f":"IF('Relevés de  commissions'!D371=\"AGI externes\",'Relevés de  commissions'!O371,0)*1","v":0},{"$f":"IF('Relevés de  commissions'!D371=\"AGI externes\",'Relevés de  commissions'!P371,0)*1","v":0},0,""]
[null,null,null,null,null,null,null,null,null,null,null,null,{"$f":"IF('Relevés de  commissions'!D372=\"AGI externes\",'Relevés de  commissions'!M372,0)*1","v":0},{"$f":"IF('Relevés de  commissions'!D372=\"AGI externes\",'Relevés de  commissions'!N372,0)*1","v":0},{"$f":"IF('Relevés de  commissions'!D372=\"AGI externes\",'Relevés de  commissions'!O372,0)*1","v":0},{"$f":"IF('Relevés de  commissions'!D372=\"AGI externes\",'Relevés de  commissions'!P372,0)*1","v":0},0,""]
[null,null,null,null,null,null,null,null,null,null,null,null,{"$f":"IF('Relevés de  commissions'!D373=\"AGI externes\",'Relevés de  commissions'!M373,0)*1","v":0},{"$f":"IF('Relevés de  commissions'!D373=\"AGI externes\",'Relevés de  commissions'!N373,0)*1","v":0},{"$f":"IF('Relevés de  commissions'!D373=\"AGI externes\",'Relevés de  commissions'!O373,0)*1","v":0},{"$f":"IF('Relevés de  commissions'!D373=\"AGI externes\",'Relevés de  commissions'!P373,0)*1","v":0},0,""]
[null,null,null,null,null,null,null,null,null,null,null,null,{"$f":"IF('Relevés de  commissions'!D374=\"AGI externes\",'Relevés de  commissions'!M374,0)*1","v":0},{"$f":"IF('Relevés de  commissions'!D374=\"AGI externes\",'Relevés de  commissions'!N374,0)*1","v":0},{"$f":"IF('Relevés de  commissions'!D374=\"AGI externes\",'Relevés de  commissions'!O374,0)*1","v":0},{"$f":"IF('Relevés de  commissions'!D374=\"AGI externes\",'Relevés de  commissions'!P374,0)*1","v":0},0,""]
[null,null,null,null,null,null,null,null,null,null,null,null,{"$f":"IF('Relevés de  commissions'!D375=\"AGI externes\",'Relevés de  commissions'!M375,0)*1","v":0},{"$f":"IF('Relevés de  commissions'!D375=\"AGI externes\",'Relevés de  commissions'!N375,0)*1","v":0},{"$f":"IF('Relevés de  commissions'!D375=\"AGI externes\",'Relevés de  commissions'!O375,0)*1","v":0},{"$f":"IF('Relevés de  commissions'!D375=\"AGI externes\",'Relevés de  commissions'!P375,0)*1","v":0},0,""]
[null,null,null,null,null,null,null,null,null,null,null,null,{"$f":"IF('Relevés de  commissions'!D376=\"AGI externes\",'Relevés de  commissions'!M376,0)*1","v":0},{"$f":"IF('Relevés de  commissions'!D376=\"AGI externes\",'Relevés de  commissions'!N376,0)*1","v":0},{"$f":"IF('Relevés de  commissions'!D376=\"AGI externes\",'Relevés de  commissions'!O376,0)*1","v":0},{"$f":"IF('Relevés de  commissions'!D376=\"AGI externes\",'Relevés de  commissions'!P376,0)*1","v":0},0,""]
[null,null,null,null,null,null,null,null,null,null,null,null,{"$f":"IF('Relevés de  commissions'!D377=\"AGI externes\",'Relevés de  commissions'!M377,0)*1","v":0},{"$f":"IF('Relevés de  commissions'!D377=\"AGI externes\",'Relevés de  commissions'!N377,0)*1","v":0},{"$f":"IF('Relevés de  commissions'!D377=\"AGI externes\",'Relevés de  commissions'!O377,0)*1","v":0},{"$f":"IF('Relevés de  commissions'!D377=\"AGI externes\",'Relevés de  commissions'!P377,0)*1","v":0},0,""]
[null,null,null,null,null,null,null,null,null,null,null,null,{"$f":"IF('Relevés de  commissions'!D378=\"AGI externes\",'Relevés de  commissions'!M378,0)*1","v":0},{"$f":"IF('Relevés de  commissions'!D378=\"AGI externes\",'Relevés de  commissions'!N378,0)*1","v":0},{"$f":"IF('Relevés de  commissions'!D378=\"AGI externes\",'Relevés de  commissions'!O378,0)*1","v":0},{"$f":"IF('Relevés de  commissions'!D378=\"AGI externes\",'Relevés de  commissions'!P378,0)*1","v":0},0,""]
[null,null,null,null,null,null,null,null,null,null,null,null,{"$f":"IF('Relevés de  commissions'!D379=\"AGI externes\",'Relevés de  commissions'!M379,0)*1","v":0},{"$f":"IF('Relevés de  commissions'!D379=\"AGI externes\",'Relevés de  commissions'!N379,0)*1","v":0},{"$f":"IF('Relevés de  commissions'!D379=\"AGI externes\",'Relevés de  commissions'!O379,0)*1","v":0},{"$f":"IF('Relevés de  commissions'!D379=\"AGI externes\",'Relevés de  commissions'!P379,0)*1","v":0},0,""]
[null,null,null,null,null,null,null,null,null,null,null,null,{"$f":"IF('Relevés de  commissions'!D380=\"AGI externes\",'Relevés de  commissions'!M380,0)*1","v":0},{"$f":"IF('Relevés de  commissions'!D380=\"AGI externes\",'Relevés de  commissions'!N380,0)*1","v":0},{"$f":"IF('Relevés de  commissions'!D380=\"AGI externes\",'Relevés de  commissions'!O380,0)*1","v":0},{"$f":"IF('Relevés de  commissions'!D380=\"AGI externes\",'Relevés de  commissions'!P380,0)*1","v":0},0,""]
[null,null,null,null,null,null,null,null,null,null,null,null,{"$f":"IF('Relevés de  commissions'!D381=\"AGI externes\",'Relevés de  commissions'!M381,0)*1","v":0},{"$f":"IF('Relevés de  commissions'!D381=\"AGI externes\",'Relevés de  commissions'!N381,0)*1","v":0},{"$f":"IF('Relevés de  commissions'!D381=\"AGI externes\",'Relevés de  commissions'!O381,0)*1","v":0},{"$f":"IF('Relevés de  commissions'!D381=\"AGI externes\",'Relevés de  commissions'!P381,0)*1","v":0},0,""]
[null,null,null,null,null,null,null,null,null,null,null,null,{"$f":"IF('Relevés de  commissions'!D382=\"AGI externes\",'Relevés de  commissions'!M382,0)*1","v":0},{"$f":"IF('Relevés de  commissions'!D382=\"AGI externes\",'Relevés de  commissions'!N382,0)*1","v":0},{"$f":"IF('Relevés de  commissions'!D382=\"AGI externes\",'Relevés de  commissions'!O382,0)*1","v":0},{"$f":"IF('Relevés de  commissions'!D382=\"AGI externes\",'Relevés de  commissions'!P382,0)*1","v":0},0,""]
[null,null,null,null,null,null,null,null,null,null,null,null,{"$f":"IF('Relevés de  commissions'!D383=\"AGI externes\",'Relevés de  commissions'!M383,0)*1","v":0},{"$f":"IF('Relevés de  commissions'!D383=\"AGI externes\",'Relevés de  commissions'!N383,0)*1","v":0},{"$f":"IF('Relevés de  commissions'!D383=\"AGI externes\",'Relevés de  commissions'!O383,0)*1","v":0},{"$f":"IF('Relevés de  commissions'!D383=\"AGI externes\",'Relevés de  commissions'!P383,0)*1","v":0},0,""]
[null,null,null,null,null,null,null,null,null,null,null,null,{"$f":"IF('Relevés de  commissions'!D384=\"AGI externes\",'Relevés de  commissions'!M384,0)*1","v":0},{"$f":"IF('Relevés de  commissions'!D384=\"AGI externes\",'Relevés de  commissions'!N384,0)*1","v":0},{"$f":"IF('Relevés de  commissions'!D384=\"AGI externes\",'Relevés de  commissions'!O384,0)*1","v":0},{"$f":"IF('Relevés de  commissions'!D384=\"AGI externes\",'Relevés de  commissions'!P384,0)*1","v":0},0,""]
[null,null,null,null,null,null,null,null,null,null,null,null,{"$f":"IF('Relevés de  commissions'!D385=\"AGI externes\",'Relevés de  commissions'!M385,0)*1","v":0},{"$f":"IF('Relevés de  commissions'!D385=\"AGI externes\",'Relevés de  commissions'!N385,0)*1","v":0},{"$f":"IF('Relevés de  commissions'!D385=\"AGI externes\",'Relevés de  commissions'!O385,0)*1","v":0},{"$f":"IF('Relevés de  commissions'!D385=\"AGI externes\",'Relevés de  commissions'!P385,0)*1","v":0},0,""]
[null,null,null,null,null,null,null,null,null,null,null,null,{"$f":"IF('Relevés de  commissions'!D386=\"AGI externes\",'Relevés de  commissions'!M386,0)*1","v":0},{"$f":"IF('Relevés de  commissions'!D386=\"AGI externes\",'Relevés de  commissions'!N386,0)*1","v":0},{"$f":"IF('Relevés de  commissions'!D386=\"AGI externes\",'Relevés de  commissions'!O386,0)*1","v":0},{"$f":"IF('Relevés de  commissions'!D386=\"AGI externes\",'Relevés de  commissions'!P386,0)*1","v":0},0,""]
[null,null,null,null,null,null,null,null,null,null,null,null,{"$f":"IF('Relevés de  commissions'!D387=\"AGI externes\",'Relevés de  commissions'!M387,0)*1","v":0},{"$f":"IF('Relevés de  commissions'!D387=\"AGI externes\",'Relevés de  commissions'!N387,0)*1","v":0},{"$f":"IF('Relevés de  commissions'!D387=\"AGI externes\",'Relevés de  commissions'!O387,0)*1","v":0},{"$f":"IF('Relevés de  commissions'!D387=\"AGI externes\",'Relevés de  commissions'!P387,0)*1","v":0},{"$f":"IF(N389=0,O389,\"\")","v":0},{"$f":"IF(N389=10,O389,\"\")","v":""}]
[null,null,null,null,null,null,null,null,null,null,null,null,{"$f":"IF('Relevés de  commissions'!D388=\"AGI externes\",'Relevés de  commissions'!M388,0)*1","v":0},{"$f":"IF('Relevés de  commissions'!D388=\"AGI externes\",'Relevés de  commissions'!N388,0)*1","v":0},{"$f":"IF('Relevés de  commissions'!D388=\"AGI externes\",'Relevés de  commissions'!O388,0)*1","v":0},{"$f":"IF('Relevés de  commissions'!D388=\"AGI externes\",'Relevés de  commissions'!P388,0)*1","v":0},0,""]
[null,null,null,null,null,null,null,null,null,null,null,null,{"$f":"IF('Relevés de  commissions'!D389=\"AGI externes\",'Relevés de  commissions'!M389,0)*1","v":0},{"$f":"IF('Relevés de  commissions'!D389=\"AGI externes\",'Relevés de  commissions'!N389,0)*1","v":0},{"$f":"IF('Relevés de  commissions'!D389=\"AGI externes\",'Relevés de  commissions'!O389,0)*1","v":0},{"$f":"IF('Relevés de  commissions'!D389=\"AGI externes\",'Relevés de  commissions'!P389,0)*1","v":0},0,""]
[null,null,null,null,null,null,null,null,null,null,null,null,{"$f":"IF('Relevés de  commissions'!D390=\"AGI externes\",'Relevés de  commissions'!M390,0)*1","v":0},{"$f":"IF('Relevés de  commissions'!D390=\"AGI externes\",'Relevés de  commissions'!N390,0)*1","v":0},{"$f":"IF('Relevés de  commissions'!D390=\"AGI externes\",'Relevés de  commissions'!O390,0)*1","v":0},{"$f":"IF('Relevés de  commissions'!D390=\"AGI externes\",'Relevés de  commissions'!P390,0)*1","v":0},0,""]
[null,null,null,null,null,null,null,null,null,null,null,null,{"$f":"IF('Relevés de  commissions'!D391=\"AGI externes\",'Relevés de  commissions'!M391,0)*1","v":0},{"$f":"IF('Relevés de  commissions'!D391=\"AGI externes\",'Relevés de  commissions'!N391,0)*1","v":0},{"$f":"IF('Relevés de  commissions'!D391=\"AGI externes\",'Relevés de  commissions'!O391,0)*1","v":0},{"$f":"IF('Relevés de  commissions'!D391=\"AGI externes\",'Relevés de  commissions'!P391,0)*1","v":0},0,""]
[null,null,null,null,null,null,null,null,null,null,null,null,{"$f":"IF('Relevés de  commissions'!D392=\"AGI externes\",'Relevés de  commissions'!M392,0)*1","v":0},{"$f":"IF('Relevés de  commissions'!D392=\"AGI externes\",'Relevés de  commissions'!N392,0)*1","v":0},{"$f":"IF('Relevés de  commissions'!D392=\"AGI externes\",'Relevés de  commissions'!O392,0)*1","v":0},{"$f":"IF('Relevés de  commissions'!D392=\"AGI externes\",'Relevés de  commissions'!P392,0)*1","v":0},0,""]
[null,null,null,null,null,null,null,null,null,null,null,null,{"$f":"IF('Relevés de  commissions'!D393=\"AGI externes\",'Relevés de  commissions'!M393,0)*1","v":0},{"$f":"IF('Relevés de  commissions'!D393=\"AGI externes\",'Relevés de  commissions'!N393,0)*1","v":0},{"$f":"IF('Relevés de  commissions'!D393=\"AGI externes\",'Relevés de  commissions'!O393,0)*1","v":0},{"$f":"IF('Relevés de  commissions'!D393=\"AGI externes\",'Relevés de  commissions'!P393,0)*1","v":0},0,""]
[null,null,null,null,null,null,null,null,null,null,null,null,{"$f":"IF('Relevés de  commissions'!D394=\"AGI externes\",'Relevés de  commissions'!M394,0)*1","v":0},{"$f":"IF('Relevés de  commissions'!D394=\"AGI externes\",'Relevés de  commissions'!N394,0)*1","v":0},{"$f":"IF('Relevés de  commissions'!D394=\"AGI externes\",'Relevés de  commissions'!O394,0)*1","v":0},{"$f":"IF('Relevés de  commissions'!D394=\"AGI externes\",'Relevés de  commissions'!P394,0)*1","v":0},0,""]
[null,null,null,null,null,null,null,null,null,null,null,null,{"$f":"IF('Relevés de  commissions'!D395=\"AGI externes\",'Relevés de  commissions'!M395,0)*1","v":0},{"$f":"IF('Relevés de  commissions'!D395=\"AGI externes\",'Relevés de  commissions'!N395,0)*1","v":0},{"$f":"IF('Relevés de  commissions'!D395=\"AGI externes\",'Relevés de  commissions'!O395,0)*1","v":0},{"$f":"IF('Relevés de  commissions'!D395=\"AGI externes\",'Relevés de  commissions'!P395,0)*1","v":0},0,""]
[null,null,null,null,null,null,null,null,null,null,null,null,{"$f":"IF('Relevés de  commissions'!D396=\"AGI externes\",'Relevés de  commissions'!M396,0)*1","v":0},{"$f":"IF('Relevés de  commissions'!D396=\"AGI externes\",'Relevés de  commissions'!N396,0)*1","v":0},{"$f":"IF('Relevés de  commissions'!D396=\"AGI externes\",'Relevés de  commissions'!O396,0)*1","v":0},{"$f":"IF('Relevés de  commissions'!D396=\"AGI externes\",'Relevés de  commissions'!P396,0)*1","v":0},0,""]
[null,null,null,null,null,null,null,null,null,null,null,null,{"$f":"IF('Relevés de  commissions'!D397=\"AGI externes\",'Relevés de  commissions'!M397,0)*1","v":0},{"$f":"IF('Relevés de  commissions'!D397=\"AGI externes\",'Relevés de  commissions'!N397,0)*1","v":0},{"$f":"IF('Relevés de  commissions'!D397=\"AGI externes\",'Relevés de  commissions'!O397,0)*1","v":0},{"$f":"IF('Relevés de  commissions'!D397=\"AGI externes\",'Relevés de  commissions'!P397,0)*1","v":0},0,""]
[null,null,null,null,null,null,null,null,null,null,null,null,{"$f":"IF('Relevés de  commissions'!D398=\"AGI externes\",'Relevés de  commissions'!M398,0)*1","v":0},{"$f":"IF('Relevés de  commissions'!D398=\"AGI externes\",'Relevés de  commissions'!N398,0)*1","v":0},{"$f":"IF('Relevés de  commissions'!D398=\"AGI externes\",'Relevés de  commissions'!O398,0)*1","v":0},{"$f":"IF('Relevés de  commissions'!D398=\"AGI externes\",'Relevés de  commissions'!P398,0)*1","v":0},0,""]
[null,null,null,null,null,null,null,null,null,null,null,null,{"$f":"IF('Relevés de  commissions'!D399=\"AGI externes\",'Relevés de  commissions'!M399,0)*1","v":0},{"$f":"IF('Relevés de  commissions'!D399=\"AGI externes\",'Relevés de  commissions'!N399,0)*1","v":0},{"$f":"IF('Relevés de  commissions'!D399=\"AGI externes\",'Relevés de  commissions'!O399,0)*1","v":0},{"$f":"IF('Relevés de  commissions'!D399=\"AGI externes\",'Relevés de  commissions'!P399,0)*1","v":0},0,""]
[null,null,null,null,null,null,null,null,null,null,null,null,{"$f":"IF('Relevés de  commissions'!D400=\"AGI externes\",'Relevés de  commissions'!M400,0)*1","v":0},{"$f":"IF('Relevés de  commissions'!D400=\"AGI externes\",'Relevés de  commissions'!N400,0)*1","v":0},{"$f":"IF('Relevés de  commissions'!D400=\"AGI externes\",'Relevés de  commissions'!O400,0)*1","v":0},{"$f":"IF('Relevés de  commissions'!D400=\"AGI externes\",'Relevés de  commissions'!P400,0)*1","v":0},0,""]
[null,null,null,null,null,null,null,null,null,null,null,null,{"$f":"IF('Relevés de  commissions'!D401=\"AGI externes\",'Relevés de  commissions'!M401,0)*1","v":0},{"$f":"IF('Relevés de  commissions'!D401=\"AGI externes\",'Relevés de  commissions'!N401,0)*1","v":0},{"$f":"IF('Relevés de  commissions'!D401=\"AGI externes\",'Relevés de  commissions'!O401,0)*1","v":0},{"$f":"IF('Relevés de  commissions'!D401=\"AGI externes\",'Relevés de  commissions'!P401,0)*1","v":0},0,""]
[null,null,null,null,null,null,null,null,null,null,null,null,{"$f":"IF('Relevés de  commissions'!D402=\"AGI externes\",'Relevés de  commissions'!M402,0)*1","v":0},{"$f":"IF('Relevés de  commissions'!D402=\"AGI externes\",'Relevés de  commissions'!N402,0)*1","v":0},{"$f":"IF('Relevés de  commissions'!D402=\"AGI externes\",'Relevés de  commissions'!O402,0)*1","v":0},{"$f":"IF('Relevés de  commissions'!D402=\"AGI externes\",'Relevés de  commissions'!P402,0)*1","v":0},0,""]
[null,null,null,null,null,null,null,null,null,null,null,null,{"$f":"IF('Relevés de  commissions'!D403=\"AGI externes\",'Relevés de  commissions'!M403,0)*1","v":0},{"$f":"IF('Relevés de  commissions'!D403=\"AGI externes\",'Relevés de  commissions'!N403,0)*1","v":0},{"$f":"IF('Relevés de  commissions'!D403=\"AGI externes\",'Relevés de  commissions'!O403,0)*1","v":0},{"$f":"IF('Relevés de  commissions'!D403=\"AGI externes\",'Relevés de  commissions'!P403,0)*1","v":0},0,""]
[null,null,null,null,null,null,null,null,null,null,null,null,{"$f":"IF('Relevés de  commissions'!D404=\"AGI externes\",'Relevés de  commissions'!M404,0)*1","v":0},{"$f":"IF('Relevés de  commissions'!D404=\"AGI externes\",'Relevés de  commissions'!N404,0)*1","v":0},{"$f":"IF('Relevés de  commissions'!D404=\"AGI externes\",'Relevés de  commissions'!O404,0)*1","v":0},{"$f":"IF('Relevés de  commissions'!D404=\"AGI externes\",'Relevés de  commissions'!P404,0)*1","v":0},0,""]
[null,null,null,null,null,null,null,null,null,null,null,null,{"$f":"IF('Relevés de  commissions'!D405=\"AGI externes\",'Relevés de  commissions'!M405,0)*1","v":0},{"$f":"IF('Relevés de  commissions'!D405=\"AGI externes\",'Relevés de  commissions'!N405,0)*1","v":0},{"$f":"IF('Relevés de  commissions'!D405=\"AGI externes\",'Relevés de  commissions'!O405,0)*1","v":0},{"$f":"IF('Relevés de  commissions'!D405=\"AGI externes\",'Relevés de  commissions'!P405,0)*1","v":0},0,""]
[null,null,null,null,null,null,null,null,null,null,null,null,{"$f":"IF('Relevés de  commissions'!D406=\"AGI externes\",'Relevés de  commissions'!M406,0)*1","v":0},{"$f":"IF('Relevés de  commissions'!D406=\"AGI externes\",'Relevés de  commissions'!N406,0)*1","v":0},{"$f":"IF('Relevés de  commissions'!D406=\"AGI externes\",'Relevés de  commissions'!O406,0)*1","v":0},{"$f":"IF('Relevés de  commissions'!D406=\"AGI externes\",'Relevés de  commissions'!P406,0)*1","v":0},0,""]
[null,null,null,null,null,null,null,null,null,null,null,null,{"$f":"IF('Relevés de  commissions'!D407=\"AGI externes\",'Relevés de  commissions'!M407,0)*1","v":0},{"$f":"IF('Relevés de  commissions'!D407=\"AGI externes\",'Relevés de  commissions'!N407,0)*1","v":0},{"$f":"IF('Relevés de  commissions'!D407=\"AGI externes\",'Relevés de  commissions'!O407,0)*1","v":0},{"$f":"IF('Relevés de  commissions'!D407=\"AGI externes\",'Relevés de  commissions'!P407,0)*1","v":0},0,""]
[null,null,null,null,null,null,null,null,null,null,null,null,{"$f":"IF('Relevés de  commissions'!D408=\"AGI externes\",'Relevés de  commissions'!M408,0)*1","v":0},{"$f":"IF('Relevés de  commissions'!D408=\"AGI externes\",'Relevés de  commissions'!N408,0)*1","v":0},{"$f":"IF('Relevés de  commissions'!D408=\"AGI externes\",'Relevés de  commissions'!O408,0)*1","v":0},{"$f":"IF('Relevés de  commissions'!D408=\"AGI externes\",'Relevés de  commissions'!P408,0)*1","v":0},0,""]
[null,null,null,null,null,null,null,null,null,null,null,null,{"$f":"IF('Relevés de  commissions'!D409=\"AGI externes\",'Relevés de  commissions'!M409,0)*1","v":0},{"$f":"IF('Relevés de  commissions'!D409=\"AGI externes\",'Relevés de  commissions'!N409,0)*1","v":0},{"$f":"IF('Relevés de  commissions'!D409=\"AGI externes\",'Relevés de  commissions'!O409,0)*1","v":0},{"$f":"IF('Relevés de  commissions'!D409=\"AGI externes\",'Relevés de  commissions'!P409,0)*1","v":0},0,""]
[null,null,null,null,null,null,null,null,null,null,null,null,{"$f":"IF('Relevés de  commissions'!D410=\"AGI externes\",'Relevés de  commissions'!M410,0)*1","v":0},{"$f":"IF('Relevés de  commissions'!D410=\"AGI externes\",'Relevés de  commissions'!N410,0)*1","v":0},{"$f":"IF('Relevés de  commissions'!D410=\"AGI externes\",'Relevés de  commissions'!O410,0)*1","v":0},{"$f":"IF('Relevés de  commissions'!D410=\"AGI externes\",'Relevés de  commissions'!P410,0)*1","v":0},0,""]
[null,null,null,null,null,null,null,null,null,null,null,null,{"$f":"IF('Relevés de  commissions'!D411=\"AGI externes\",'Relevés de  commissions'!M411,0)*1","v":0},{"$f":"IF('Relevés de  commissions'!D411=\"AGI externes\",'Relevés de  commissions'!N411,0)*1","v":0},{"$f":"IF('Relevés de  commissions'!D411=\"AGI externes\",'Relevés de  commissions'!O411,0)*1","v":0},{"$f":"IF('Relevés de  commissions'!D411=\"AGI externes\",'Relevés de  commissions'!P411,0)*1","v":0},0,""]
[null,null,null,null,null,null,null,null,null,null,null,null,{"$f":"IF('Relevés de  commissions'!D412=\"AGI externes\",'Relevés de  commissions'!M412,0)*1","v":0},{"$f":"IF('Relevés de  commissions'!D412=\"AGI externes\",'Relevés de  commissions'!N412,0)*1","v":0},{"$f":"IF('Relevés de  commissions'!D412=\"AGI externes\",'Relevés de  commissions'!O412,0)*1","v":0},{"$f":"IF('Relevés de  commissions'!D412=\"AGI externes\",'Relevés de  commissions'!P412,0)*1","v":0},0,""]
[null,null,null,null,null,null,null,null,null,null,null,null,{"$f":"IF('Relevés de  commissions'!D413=\"AGI externes\",'Relevés de  commissions'!M413,0)*1","v":0},{"$f":"IF('Relevés de  commissions'!D413=\"AGI externes\",'Relevés de  commissions'!N413,0)*1","v":0},{"$f":"IF('Relevés de  commissions'!D413=\"AGI externes\",'Relevés de  commissions'!O413,0)*1","v":0},{"$f":"IF('Relevés de  commissions'!D413=\"AGI externes\",'Relevés de  commissions'!P413,0)*1","v":0},0,""]
[null,null,null,null,null,null,null,null,null,null,null,null,{"$f":"IF('Relevés de  commissions'!D414=\"AGI externes\",'Relevés de  commissions'!M414,0)*1","v":0},{"$f":"IF('Relevés de  commissions'!D414=\"AGI externes\",'Relevés de  commissions'!N414,0)*1","v":0},{"$f":"IF('Relevés de  commissions'!D414=\"AGI externes\",'Relevés de  commissions'!O414,0)*1","v":0},{"$f":"IF('Relevés de  commissions'!D414=\"AGI externes\",'Relevés de  commissions'!P414,0)*1","v":0},0,""]
[null,null,null,null,null,null,null,null,null,null,null,null,{"$f":"IF('Relevés de  commissions'!D415=\"AGI externes\",'Relevés de  commissions'!M415,0)*1","v":0},{"$f":"IF('Relevés de  commissions'!D415=\"AGI externes\",'Relevés de  commissions'!N415,0)*1","v":0},{"$f":"IF('Relevés de  commissions'!D415=\"AGI externes\",'Relevés de  commissions'!O415,0)*1","v":0},{"$f":"IF('Relevés de  commissions'!D415=\"AGI externes\",'Relevés de  commissions'!P415,0)*1","v":0},0,""]
[null,null,null,null,null,null,null,null,null,null,null,null,{"$f":"IF('Relevés de  commissions'!D416=\"AGI externes\",'Relevés de  commissions'!M416,0)*1","v":0},{"$f":"IF('Relevés de  commissions'!D416=\"AGI externes\",'Relevés de  commissions'!N416,0)*1","v":0},{"$f":"IF('Relevés de  commissions'!D416=\"AGI externes\",'Relevés de  commissions'!O416,0)*1","v":0},{"$f":"IF('Relevés de  commissions'!D416=\"AGI externes\",'Relevés de  commissions'!P416,0)*1","v":0},0,""]
[null,null,null,null,null,null,null,null,null,null,null,null,{"$f":"IF('Relevés de  commissions'!D417=\"AGI externes\",'Relevés de  commissions'!M417,0)*1","v":0},{"$f":"IF('Relevés de  commissions'!D417=\"AGI externes\",'Relevés de  commissions'!N417,0)*1","v":0},{"$f":"IF('Relevés de  commissions'!D417=\"AGI externes\",'Relevés de  commissions'!O417,0)*1","v":0},{"$f":"IF('Relevés de  commissions'!D417=\"AGI externes\",'Relevés de  commissions'!P417,0)*1","v":0},0,""]
[null,null,null,null,null,null,null,null,null,null,null,null,{"$f":"IF('Relevés de  commissions'!D418=\"AGI externes\",'Relevés de  commissions'!M418,0)*1","v":0},{"$f":"IF('Relevés de  commissions'!D418=\"AGI externes\",'Relevés de  commissions'!N418,0)*1","v":0},{"$f":"IF('Relevés de  commissions'!D418=\"AGI externes\",'Relevés de  commissions'!O418,0)*1","v":0},{"$f":"IF('Relevés de  commissions'!D418=\"AGI externes\",'Relevés de  commissions'!P418,0)*1","v":0},0,""]
[null,null,null,null,null,null,null,null,null,null,null,null,{"$f":"IF('Relevés de  commissions'!D419=\"AGI externes\",'Relevés de  commissions'!M419,0)*1","v":0},{"$f":"IF('Relevés de  commissions'!D419=\"AGI externes\",'Relevés de  commissions'!N419,0)*1","v":0},{"$f":"IF('Relevés de  commissions'!D419=\"AGI externes\",'Relevés de  commissions'!O419,0)*1","v":0},{"$f":"IF('Relevés de  commissions'!D419=\"AGI externes\",'Relevés de  commissions'!P419,0)*1","v":0},0,""]
[null,null,null,null,null,null,null,null,null,null,null,null,{"$f":"IF('Relevés de  commissions'!D420=\"AGI externes\",'Relevés de  commissions'!M420,0)*1","v":0},{"$f":"IF('Relevés de  commissions'!D420=\"AGI externes\",'Relevés de  commissions'!N420,0)*1","v":0},{"$f":"IF('Relevés de  commissions'!D420=\"AGI externes\",'Relevés de  commissions'!O420,0)*1","v":0},{"$f":"IF('Relevés de  commissions'!D420=\"AGI externes\",'Relevés de  commissions'!P420,0)*1","v":0},0,""]
[null,null,null,null,null,null,null,null,null,null,null,null,{"$f":"IF('Relevés de  commissions'!D421=\"AGI externes\",'Relevés de  commissions'!M421,0)*1","v":0},{"$f":"IF('Relevés de  commissions'!D421=\"AGI externes\",'Relevés de  commissions'!N421,0)*1","v":0},{"$f":"IF('Relevés de  commissions'!D421=\"AGI externes\",'Relevés de  commissions'!O421,0)*1","v":0},{"$f":"IF('Relevés de  commissions'!D421=\"AGI externes\",'Relevés de  commissions'!P421,0)*1","v":0},0,""]
[null,null,null,null,null,null,null,null,null,null,null,null,{"$f":"IF('Relevés de  commissions'!D422=\"AGI externes\",'Relevés de  commissions'!M422,0)*1","v":0},{"$f":"IF('Relevés de  commissions'!D422=\"AGI externes\",'Relevés de  commissions'!N422,0)*1","v":0},{"$f":"IF('Relevés de  commissions'!D422=\"AGI externes\",'Relevés de  commissions'!O422,0)*1","v":0},{"$f":"IF('Relevés de  commissions'!D422=\"AGI externes\",'Relevés de  commissions'!P422,0)*1","v":0},0,""]
[null,null,null,null,null,null,null,null,null,null,null,null,{"$f":"IF('Relevés de  commissions'!D423=\"AGI externes\",'Relevés de  commissions'!M423,0)*1","v":0},{"$f":"IF('Relevés de  commissions'!D423=\"AGI externes\",'Relevés de  commissions'!N423,0)*1","v":0},{"$f":"IF('Relevés de  commissions'!D423=\"AGI externes\",'Relevés de  commissions'!O423,0)*1","v":0},{"$f":"IF('Relevés de  commissions'!D423=\"AGI externes\",'Relevés de  commissions'!P423,0)*1","v":0},0,""]
[null,null,null,null,null,null,null,null,null,null,null,null,{"$f":"IF('Relevés de  commissions'!D424=\"AGI externes\",'Relevés de  commissions'!M424,0)*1","v":0},{"$f":"IF('Relevés de  commissions'!D424=\"AGI externes\",'Relevés de  commissions'!N424,0)*1","v":0},{"$f":"IF('Relevés de  commissions'!D424=\"AGI externes\",'Relevés de  commissions'!O424,0)*1","v":0},{"$f":"IF('Relevés de  commissions'!D424=\"AGI externes\",'Relevés de  commissions'!P424,0)*1","v":0},0,""]
[null,null,null,null,null,null,null,null,null,null,null,null,{"$f":"IF('Relevés de  commissions'!D425=\"AGI externes\",'Relevés de  commissions'!M425,0)*1","v":0},{"$f":"IF('Relevés de  commissions'!D425=\"AGI externes\",'Relevés de  commissions'!N425,0)*1","v":0},{"$f":"IF('Relevés de  commissions'!D425=\"AGI externes\",'Relevés de  commissions'!O425,0)*1","v":0},{"$f":"IF('Relevés de  commissions'!D425=\"AGI externes\",'Relevés de  commissions'!P425,0)*1","v":0},0,""]
[null,null,null,null,null,null,null,null,null,null,null,null,{"$f":"IF('Relevés de  commissions'!D426=\"AGI externes\",'Relevés de  commissions'!M426,0)*1","v":0},{"$f":"IF('Relevés de  commissions'!D426=\"AGI externes\",'Relevés de  commissions'!N426,0)*1","v":0},{"$f":"IF('Relevés de  commissions'!D426=\"AGI externes\",'Relevés de  commissions'!O426,0)*1","v":0},{"$f":"IF('Relevés de  commissions'!D426=\"AGI externes\",'Relevés de  commissions'!P426,0)*1","v":0},0,""]
[null,null,null,null,null,null,null,null,null,null,null,null,{"$f":"IF('Relevés de  commissions'!D427=\"AGI externes\",'Relevés de  commissions'!M427,0)*1","v":0},{"$f":"IF('Relevés de  commissions'!D427=\"AGI externes\",'Relevés de  commissions'!N427,0)*1","v":0},{"$f":"IF('Relevés de  commissions'!D427=\"AGI externes\",'Relevés de  commissions'!O427,0)*1","v":0},{"$f":"IF('Relevés de  commissions'!D427=\"AGI externes\",'Relevés de  commissions'!P427,0)*1","v":0},0,""]
[null,null,null,null,null,null,null,null,null,null,null,null,{"$f":"IF('Relevés de  commissions'!D428=\"AGI externes\",'Relevés de  commissions'!M428,0)*1","v":0},{"$f":"IF('Relevés de  commissions'!D428=\"AGI externes\",'Relevés de  commissions'!N428,0)*1","v":0},{"$f":"IF('Relevés de  commissions'!D428=\"AGI externes\",'Relevés de  commissions'!O428,0)*1","v":0},{"$f":"IF('Relevés de  commissions'!D428=\"AGI externes\",'Relevés de  commissions'!P428,0)*1","v":0},0,""]
[null,null,null,null,null,null,null,null,null,null,null,null,{"$f":"IF('Relevés de  commissions'!D429=\"AGI externes\",'Relevés de  commissions'!M429,0)*1","v":0},{"$f":"IF('Relevés de  commissions'!D429=\"AGI externes\",'Relevés de  commissions'!N429,0)*1","v":0},{"$f":"IF('Relevés de  commissions'!D429=\"AGI externes\",'Relevés de  commissions'!O429,0)*1","v":0},{"$f":"IF('Relevés de  commissions'!D429=\"AGI externes\",'Relevés de  commissions'!P429,0)*1","v":0},0,""]
[null,null,null,null,null,null,null,null,null,null,null,null,{"$f":"IF('Relevés de  commissions'!D430=\"AGI externes\",'Relevés de  commissions'!M430,0)*1","v":0},{"$f":"IF('Relevés de  commissions'!D430=\"AGI externes\",'Relevés de  commissions'!N430,0)*1","v":0},{"$f":"IF('Relevés de  commissions'!D430=\"AGI externes\",'Relevés de  commissions'!O430,0)*1","v":0},{"$f":"IF('Relevés de  commissions'!D430=\"AGI externes\",'Relevés de  commissions'!P430,0)*1","v":0},0,""]
[null,null,null,null,null,null,null,null,null,null,null,null,{"$f":"IF('Relevés de  commissions'!D431=\"AGI externes\",'Relevés de  commissions'!M431,0)*1","v":0},{"$f":"IF('Relevés de  commissions'!D431=\"AGI externes\",'Relevés de  commissions'!N431,0)*1","v":0},{"$f":"IF('Relevés de  commissions'!D431=\"AGI externes\",'Relevés de  commissions'!O431,0)*1","v":0},{"$f":"IF('Relevés de  commissions'!D431=\"AGI externes\",'Relevés de  commissions'!P431,0)*1","v":0},0,""]
[null,null,null,null,null,null,null,null,null,null,null,null,{"$f":"IF('Relevés de  commissions'!D432=\"AGI externes\",'Relevés de  commissions'!M432,0)*1","v":0},{"$f":"IF('Relevés de  commissions'!D432=\"AGI externes\",'Relevés de  commissions'!N432,0)*1","v":0},{"$f":"IF('Relevés de  commissions'!D432=\"AGI externes\",'Relevés de  commissions'!O432,0)*1","v":0},{"$f":"IF('Relevés de  commissions'!D432=\"AGI externes\",'Relevés de  commissions'!P432,0)*1","v":0},0,""]
[null,null,null,null,null,null,null,null,null,null,null,null,{"$f":"IF('Relevés de  commissions'!D433=\"AGI externes\",'Relevés de  commissions'!M433,0)*1","v":0},{"$f":"IF('Relevés de  commissions'!D433=\"AGI externes\",'Relevés de  commissions'!N433,0)*1","v":0},{"$f":"IF('Relevés de  commissions'!D433=\"AGI externes\",'Relevés de  commissions'!O433,0)*1","v":0},{"$f":"IF('Relevés de  commissions'!D433=\"AGI externes\",'Relevés de  commissions'!P433,0)*1","v":0},0,""]
[null,null,null,null,null,null,null,null,null,null,null,null,{"$f":"IF('Relevés de  commissions'!D434=\"AGI externes\",'Relevés de  commissions'!M434,0)*1","v":0},{"$f":"IF('Relevés de  commissions'!D434=\"AGI externes\",'Relevés de  commissions'!N434,0)*1","v":0},{"$f":"IF('Relevés de  commissions'!D434=\"AGI externes\",'Relevés de  commissions'!O434,0)*1","v":0},{"$f":"IF('Relevés de  commissions'!D434=\"AGI externes\",'Relevés de  commissions'!P434,0)*1","v":0},0,""]
[null,null,null,null,null,null,null,null,null,null,null,null,{"$f":"IF('Relevés de  commissions'!D435=\"AGI externes\",'Relevés de  commissions'!M435,0)*1","v":0},{"$f":"IF('Relevés de  commissions'!D435=\"AGI externes\",'Relevés de  commissions'!N435,0)*1","v":0},{"$f":"IF('Relevés de  commissions'!D435=\"AGI externes\",'Relevés de  commissions'!O435,0)*1","v":0},{"$f":"IF('Relevés de  commissions'!D435=\"AGI externes\",'Relevés de  commissions'!P435,0)*1","v":0},0,""]
[null,null,null,null,null,null,null,null,null,null,null,null,{"$f":"IF('Relevés de  commissions'!D436=\"AGI externes\",'Relevés de  commissions'!M436,0)*1","v":0},{"$f":"IF('Relevés de  commissions'!D436=\"AGI externes\",'Relevés de  commissions'!N436,0)*1","v":0},{"$f":"IF('Relevés de  commissions'!D436=\"AGI externes\",'Relevés de  commissions'!O436,0)*1","v":0},{"$f":"IF('Relevés de  commissions'!D436=\"AGI externes\",'Relevés de  commissions'!P436,0)*1","v":0},0,""]
[null,null,null,null,null,null,null,null,null,null,null,null,{"$f":"IF('Relevés de  commissions'!D437=\"AGI externes\",'Relevés de  commissions'!M437,0)*1","v":0},{"$f":"IF('Relevés de  commissions'!D437=\"AGI externes\",'Relevés de  commissions'!N437,0)*1","v":0},{"$f":"IF('Relevés de  commissions'!D437=\"AGI externes\",'Relevés de  commissions'!O437,0)*1","v":0},{"$f":"IF('Relevés de  commissions'!D437=\"AGI externes\",'Relevés de  commissions'!P437,0)*1","v":0},0,""]
[null,null,null,null,null,null,null,null,null,null,null,null,{"$f":"IF('Relevés de  commissions'!D438=\"AGI externes\",'Relevés de  commissions'!M438,0)*1","v":0},{"$f":"IF('Relevés de  commissions'!D438=\"AGI externes\",'Relevés de  commissions'!N438,0)*1","v":0},{"$f":"IF('Relevés de  commissions'!D438=\"AGI externes\",'Relevés de  commissions'!O438,0)*1","v":0},{"$f":"IF('Relevés de  commissions'!D438=\"AGI externes\",'Relevés de  commissions'!P438,0)*1","v":0},0,""]
[null,null,null,null,null,null,null,null,null,null,null,null,{"$f":"IF('Relevés de  commissions'!D439=\"AGI externes\",'Relevés de  commissions'!M439,0)*1","v":0},{"$f":"IF('Relevés de  commissions'!D439=\"AGI externes\",'Relevés de  commissions'!N439,0)*1","v":0},{"$f":"IF('Relevés de  commissions'!D439=\"AGI externes\",'Relevés de  commissions'!O439,0)*1","v":0},{"$f":"IF('Relevés de  commissions'!D439=\"AGI externes\",'Relevés de  commissions'!P439,0)*1","v":0},0,""]
[null,null,null,null,null,null,null,null,null,null,null,null,{"$f":"IF('Relevés de  commissions'!D440=\"AGI externes\",'Relevés de  commissions'!M440,0)*1","v":0},{"$f":"IF('Relevés de  commissions'!D440=\"AGI externes\",'Relevés de  commissions'!N440,0)*1","v":0},{"$f":"IF('Relevés de  commissions'!D440=\"AGI externes\",'Relevés de  commissions'!O440,0)*1","v":0},{"$f":"IF('Relevés de  commissions'!D440=\"AGI externes\",'Relevés de  commissions'!P440,0)*1","v":0},0,""]
[null,null,null,null,null,null,null,null,null,null,null,null,{"$f":"IF('Relevés de  commissions'!D441=\"AGI externes\",'Relevés de  commissions'!M441,0)*1","v":0},{"$f":"IF('Relevés de  commissions'!D441=\"AGI externes\",'Relevés de  commissions'!N441,0)*1","v":0},{"$f":"IF('Relevés de  commissions'!D441=\"AGI externes\",'Relevés de  commissions'!O441,0)*1","v":0},{"$f":"IF('Relevés de  commissions'!D441=\"AGI externes\",'Relevés de  commissions'!P441,0)*1","v":0},0,""]
[null,null,null,null,null,null,null,null,null,null,null,null,{"$f":"IF('Relevés de  commissions'!D442=\"AGI externes\",'Relevés de  commissions'!M442,0)*1","v":0},{"$f":"IF('Relevés de  commissions'!D442=\"AGI externes\",'Relevés de  commissions'!N442,0)*1","v":0},{"$f":"IF('Relevés de  commissions'!D442=\"AGI externes\",'Relevés de  commissions'!O442,0)*1","v":0},{"$f":"IF('Relevés de  commissions'!D442=\"AGI externes\",'Relevés de  commissions'!P442,0)*1","v":0},0,""]
[null,null,null,null,null,null,null,null,null,null,null,null,{"$f":"IF('Relevés de  commissions'!D443=\"AGI externes\",'Relevés de  commissions'!M443,0)*1","v":0},{"$f":"IF('Relevés de  commissions'!D443=\"AGI externes\",'Relevés de  commissions'!N443,0)*1","v":0},{"$f":"IF('Relevés de  commissions'!D443=\"AGI externes\",'Relevés de  commissions'!O443,0)*1","v":0},{"$f":"IF('Relevés de  commissions'!D443=\"AGI externes\",'Relevés de  commissions'!P443,0)*1","v":0},0,""]
[null,null,null,null,null,null,null,null,null,null,null,null,{"$f":"IF('Relevés de  commissions'!D444=\"AGI externes\",'Relevés de  commissions'!M444,0)*1","v":0},{"$f":"IF('Relevés de  commissions'!D444=\"AGI externes\",'Relevés de  commissions'!N444,0)*1","v":0},{"$f":"IF('Relevés de  commissions'!D444=\"AGI externes\",'Relevés de  commissions'!O444,0)*1","v":0},{"$f":"IF('Relevés de  commissions'!D444=\"AGI externes\",'Relevés de  commissions'!P444,0)*1","v":0},0,""]
[null,null,null,null,null,null,null,null,null,null,null,null,{"$f":"IF('Relevés de  commissions'!D445=\"AGI externes\",'Relevés de  commissions'!M445,0)*1","v":0},{"$f":"IF('Relevés de  commissions'!D445=\"AGI externes\",'Relevés de  commissions'!N445,0)*1","v":0},{"$f":"IF('Relevés de  commissions'!D445=\"AGI externes\",'Relevés de  commissions'!O445,0)*1","v":0},{"$f":"IF('Relevés de  commissions'!D445=\"AGI externes\",'Relevés de  commissions'!P445,0)*1","v":0},0,""]
[null,null,null,null,null,null,null,null,null,null,null,null,{"$f":"IF('Relevés de  commissions'!D446=\"AGI externes\",'Relevés de  commissions'!M446,0)*1","v":0},{"$f":"IF('Relevés de  commissions'!D446=\"AGI externes\",'Relevés de  commissions'!N446,0)*1","v":0},{"$f":"IF('Relevés de  commissions'!D446=\"AGI externes\",'Relevés de  commissions'!O446,0)*1","v":0},{"$f":"IF('Relevés de  commissions'!D446=\"AGI externes\",'Relevés de  commissions'!P446,0)*1","v":0},0,""]
[null,null,null,null,null,null,null,null,null,null,null,null,{"$f":"IF('Relevés de  commissions'!D447=\"AGI externes\",'Relevés de  commissions'!M447,0)*1","v":0},{"$f":"IF('Relevés de  commissions'!D447=\"AGI externes\",'Relevés de  commissions'!N447,0)*1","v":0},{"$f":"IF('Relevés de  commissions'!D447=\"AGI externes\",'Relevés de  commissions'!O447,0)*1","v":0},{"$f":"IF('Relevés de  commissions'!D447=\"AGI externes\",'Relevés de  commissions'!P447,0)*1","v":0},0,""]
[null,null,null,null,null,null,null,null,null,null,null,null,{"$f":"IF('Relevés de  commissions'!D448=\"AGI externes\",'Relevés de  commissions'!M448,0)*1","v":0},{"$f":"IF('Relevés de  commissions'!D448=\"AGI externes\",'Relevés de  commissions'!N448,0)*1","v":0},{"$f":"IF('Relevés de  commissions'!D448=\"AGI externes\",'Relevés de  commissions'!O448,0)*1","v":0},{"$f":"IF('Relevés de  commissions'!D448=\"AGI externes\",'Relevés de  commissions'!P448,0)*1","v":0},0,""]
[null,null,null,null,null,null,null,null,null,null,null,null,{"$f":"IF('Relevés de  commissions'!D449=\"AGI externes\",'Relevés de  commissions'!M449,0)*1","v":0},{"$f":"IF('Relevés de  commissions'!D449=\"AGI externes\",'Relevés de  commissions'!N449,0)*1","v":0},{"$f":"IF('Relevés de  commissions'!D449=\"AGI externes\",'Relevés de  commissions'!O449,0)*1","v":0},{"$f":"IF('Relevés de  commissions'!D449=\"AGI externes\",'Relevés de  commissions'!P449,0)*1","v":0},0,""]
[null,null,null,null,null,null,null,null,null,null,null,null,{"$f":"IF('Relevés de  commissions'!D450=\"AGI externes\",'Relevés de  commissions'!M450,0)*1","v":0},{"$f":"IF('Relevés de  commissions'!D450=\"AGI externes\",'Relevés de  commissions'!N450,0)*1","v":0},{"$f":"IF('Relevés de  commissions'!D450=\"AGI externes\",'Relevés de  commissions'!O450,0)*1","v":0},{"$f":"IF('Relevés de  commissions'!D450=\"AGI externes\",'Relevés de  commissions'!P450,0)*1","v":0},0,""]
[null,null,null,null,null,null,null,null,null,null,null,null,{"$f":"IF('Relevés de  commissions'!D451=\"AGI externes\",'Relevés de  commissions'!M451,0)*1","v":0},{"$f":"IF('Relevés de  commissions'!D451=\"AGI externes\",'Relevés de  commissions'!N451,0)*1","v":0},{"$f":"IF('Relevés de  commissions'!D451=\"AGI externes\",'Relevés de  commissions'!O451,0)*1","v":0},{"$f":"IF('Relevés de  commissions'!D451=\"AGI externes\",'Relevés de  commissions'!P451,0)*1","v":0},{"$f":"IF(N453=0,O453,\"\")","v":0},{"$f":"IF(N453=10,O453,\"\")","v":""}]
[null,null,null,null,null,null,null,null,null,null,null,null,{"$f":"IF('Relevés de  commissions'!D452=\"AGI externes\",'Relevés de  commissions'!M452,0)*1","v":0},{"$f":"IF('Relevés de  commissions'!D452=\"AGI externes\",'Relevés de  commissions'!N452,0)*1","v":0},{"$f":"IF('Relevés de  commissions'!D452=\"AGI externes\",'Relevés de  commissions'!O452,0)*1","v":0},{"$f":"IF('Relevés de  commissions'!D452=\"AGI externes\",'Relevés de  commissions'!P452,0)*1","v":0},0,""]
[null,null,null,null,null,null,null,null,null,null,null,null,{"$f":"IF('Relevés de  commissions'!D453=\"AGI externes\",'Relevés de  commissions'!M453,0)*1","v":0},{"$f":"IF('Relevés de  commissions'!D453=\"AGI externes\",'Relevés de  commissions'!N453,0)*1","v":0},{"$f":"IF('Relevés de  commissions'!D453=\"AGI externes\",'Relevés de  commissions'!O453,0)*1","v":0},{"$f":"IF('Relevés de  commissions'!D453=\"AGI externes\",'Relevés de  commissions'!P453,0)*1","v":0},0,""]
[null,null,null,null,null,null,null,null,null,null,null,null,{"$f":"IF('Relevés de  commissions'!D454=\"AGI externes\",'Relevés de  commissions'!M454,0)*1","v":0},{"$f":"IF('Relevés de  commissions'!D454=\"AGI externes\",'Relevés de  commissions'!N454,0)*1","v":0},{"$f":"IF('Relevés de  commissions'!D454=\"AGI externes\",'Relevés de  commissions'!O454,0)*1","v":0},{"$f":"IF('Relevés de  commissions'!D454=\"AGI externes\",'Relevés de  commissions'!P454,0)*1","v":0},0,""]
[null,null,null,null,null,null,null,null,null,null,null,null,{"$f":"IF('Relevés de  commissions'!D455=\"AGI externes\",'Relevés de  commissions'!M455,0)*1","v":0},{"$f":"IF('Relevés de  commissions'!D455=\"AGI externes\",'Relevés de  commissions'!N455,0)*1","v":0},{"$f":"IF('Relevés de  commissions'!D455=\"AGI externes\",'Relevés de  commissions'!O455,0)*1","v":0},{"$f":"IF('Relevés de  commissions'!D455=\"AGI externes\",'Relevés de  commissions'!P455,0)*1","v":0},0,""]
[null,null,null,null,null,null,null,null,null,null,null,null,{"$f":"IF('Relevés de  commissions'!D456=\"AGI externes\",'Relevés de  commissions'!M456,0)*1","v":0},{"$f":"IF('Relevés de  commissions'!D456=\"AGI externes\",'Relevés de  commissions'!N456,0)*1","v":0},{"$f":"IF('Relevés de  commissions'!D456=\"AGI externes\",'Relevés de  commissions'!O456,0)*1","v":0},{"$f":"IF('Relevés de  commissions'!D456=\"AGI externes\",'Relevés de  commissions'!P456,0)*1","v":0},0,""]
[null,null,null,null,null,null,null,null,null,null,null,null,{"$f":"IF('Relevés de  commissions'!D457=\"AGI externes\",'Relevés de  commissions'!M457,0)*1","v":0},{"$f":"IF('Relevés de  commissions'!D457=\"AGI externes\",'Relevés de  commissions'!N457,0)*1","v":0},{"$f":"IF('Relevés de  commissions'!D457=\"AGI externes\",'Relevés de  commissions'!O457,0)*1","v":0},{"$f":"IF('Relevés de  commissions'!D457=\"AGI externes\",'Relevés de  commissions'!P457,0)*1","v":0},0,""]
[null,null,null,null,null,null,null,null,null,null,null,null,{"$f":"IF('Relevés de  commissions'!D458=\"AGI externes\",'Relevés de  commissions'!M458,0)*1","v":0},{"$f":"IF('Relevés de  commissions'!D458=\"AGI externes\",'Relevés de  commissions'!N458,0)*1","v":0},{"$f":"IF('Relevés de  commissions'!D458=\"AGI externes\",'Relevés de  commissions'!O458,0)*1","v":0},{"$f":"IF('Relevés de  commissions'!D458=\"AGI externes\",'Relevés de  commissions'!P458,0)*1","v":0},0,""]
[null,null,null,null,null,null,null,null,null,null,null,null,{"$f":"IF('Relevés de  commissions'!D459=\"AGI externes\",'Relevés de  commissions'!M459,0)*1","v":0},{"$f":"IF('Relevés de  commissions'!D459=\"AGI externes\",'Relevés de  commissions'!N459,0)*1","v":0},{"$f":"IF('Relevés de  commissions'!D459=\"AGI externes\",'Relevés de  commissions'!O459,0)*1","v":0},{"$f":"IF('Relevés de  commissions'!D459=\"AGI externes\",'Relevés de  commissions'!P459,0)*1","v":0},0,""]
[null,null,null,null,null,null,null,null,null,null,null,null,{"$f":"IF('Relevés de  commissions'!D460=\"AGI externes\",'Relevés de  commissions'!M460,0)*1","v":0},{"$f":"IF('Relevés de  commissions'!D460=\"AGI externes\",'Relevés de  commissions'!N460,0)*1","v":0},{"$f":"IF('Relevés de  commissions'!D460=\"AGI externes\",'Relevés de  commissions'!O460,0)*1","v":0},{"$f":"IF('Relevés de  commissions'!D460=\"AGI externes\",'Relevés de  commissions'!P460,0)*1","v":0},0,""]
[null,null,null,null,null,null,null,null,null,null,null,null,{"$f":"IF('Relevés de  commissions'!D461=\"AGI externes\",'Relevés de  commissions'!M461,0)*1","v":0},{"$f":"IF('Relevés de  commissions'!D461=\"AGI externes\",'Relevés de  commissions'!N461,0)*1","v":0},{"$f":"IF('Relevés de  commissions'!D461=\"AGI externes\",'Relevés de  commissions'!O461,0)*1","v":0},{"$f":"IF('Relevés de  commissions'!D461=\"AGI externes\",'Relevés de  commissions'!P461,0)*1","v":0},0,""]
[null,null,null,null,null,null,null,null,null,null,null,null,{"$f":"IF('Relevés de  commissions'!D462=\"AGI externes\",'Relevés de  commissions'!M462,0)*1","v":0},{"$f":"IF('Relevés de  commissions'!D462=\"AGI externes\",'Relevés de  commissions'!N462,0)*1","v":0},{"$f":"IF('Relevés de  commissions'!D462=\"AGI externes\",'Relevés de  commissions'!O462,0)*1","v":0},{"$f":"IF('Relevés de  commissions'!D462=\"AGI externes\",'Relevés de  commissions'!P462,0)*1","v":0},0,""]
[null,null,null,null,null,null,null,null,null,null,null,null,{"$f":"IF('Relevés de  commissions'!D463=\"AGI externes\",'Relevés de  commissions'!M463,0)*1","v":0},{"$f":"IF('Relevés de  commissions'!D463=\"AGI externes\",'Relevés de  commissions'!N463,0)*1","v":0},{"$f":"IF('Relevés de  commissions'!D463=\"AGI externes\",'Relevés de  commissions'!O463,0)*1","v":0},{"$f":"IF('Relevés de  commissions'!D463=\"AGI externes\",'Relevés de  commissions'!P463,0)*1","v":0},0,""]
[null,null,null,null,null,null,null,null,null,null,null,null,{"$f":"IF('Relevés de  commissions'!D464=\"AGI externes\",'Relevés de  commissions'!M464,0)*1","v":0},{"$f":"IF('Relevés de  commissions'!D464=\"AGI externes\",'Relevés de  commissions'!N464,0)*1","v":0},{"$f":"IF('Relevés de  commissions'!D464=\"AGI externes\",'Relevés de  commissions'!O464,0)*1","v":0},{"$f":"IF('Relevés de  commissions'!D464=\"AGI externes\",'Relevés de  commissions'!P464,0)*1","v":0},0,""]
[null,null,null,null,null,null,null,null,null,null,null,null,{"$f":"IF('Relevés de  commissions'!D465=\"AGI externes\",'Relevés de  commissions'!M465,0)*1","v":0},{"$f":"IF('Relevés de  commissions'!D465=\"AGI externes\",'Relevés de  commissions'!N465,0)*1","v":0},{"$f":"IF('Relevés de  commissions'!D465=\"AGI externes\",'Relevés de  commissions'!O465,0)*1","v":0},{"$f":"IF('Relevés de  commissions'!D465=\"AGI externes\",'Relevés de  commissions'!P465,0)*1","v":0},0,""]
[null,null,null,null,null,null,null,null,null,null,null,null,{"$f":"IF('Relevés de  commissions'!D466=\"AGI externes\",'Relevés de  commissions'!M466,0)*1","v":0},{"$f":"IF('Relevés de  commissions'!D466=\"AGI externes\",'Relevés de  commissions'!N466,0)*1","v":0},{"$f":"IF('Relevés de  commissions'!D466=\"AGI externes\",'Relevés de  commissions'!O466,0)*1","v":0},{"$f":"IF('Relevés de  commissions'!D466=\"AGI externes\",'Relevés de  commissions'!P466,0)*1","v":0},0,""]
[null,null,null,null,null,null,null,null,null,null,null,null,{"$f":"IF('Relevés de  commissions'!D467=\"AGI externes\",'Relevés de  commissions'!M467,0)*1","v":0},{"$f":"IF('Relevés de  commissions'!D467=\"AGI externes\",'Relevés de  commissions'!N467,0)*1","v":0},{"$f":"IF('Relevés de  commissions'!D467=\"AGI externes\",'Relevés de  commissions'!O467,0)*1","v":0},{"$f":"IF('Relevés de  commissions'!D467=\"AGI externes\",'Relevés de  commissions'!P467,0)*1","v":0},0,""]
[null,null,null,null,null,null,null,null,null,null,null,null,{"$f":"IF('Relevés de  commissions'!D468=\"AGI externes\",'Relevés de  commissions'!M468,0)*1","v":0},{"$f":"IF('Relevés de  commissions'!D468=\"AGI externes\",'Relevés de  commissions'!N468,0)*1","v":0},{"$f":"IF('Relevés de  commissions'!D468=\"AGI externes\",'Relevés de  commissions'!O468,0)*1","v":0},{"$f":"IF('Relevés de  commissions'!D468=\"AGI externes\",'Relevés de  commissions'!P468,0)*1","v":0},0,""]
[null,null,null,null,null,null,null,null,null,null,null,null,{"$f":"IF('Relevés de  commissions'!D469=\"AGI externes\",'Relevés de  commissions'!M469,0)*1","v":0},{"$f":"IF('Relevés de  commissions'!D469=\"AGI externes\",'Relevés de  commissions'!N469,0)*1","v":0},{"$f":"IF('Relevés de  commissions'!D469=\"AGI externes\",'Relevés de  commissions'!O469,0)*1","v":0},{"$f":"IF('Relevés de  commissions'!D469=\"AGI externes\",'Relevés de  commissions'!P469,0)*1","v":0},0,""]
[null,null,null,null,null,null,null,null,null,null,null,null,{"$f":"IF('Relevés de  commissions'!D470=\"AGI externes\",'Relevés de  commissions'!M470,0)*1","v":0},{"$f":"IF('Relevés de  commissions'!D470=\"AGI externes\",'Relevés de  commissions'!N470,0)*1","v":0},{"$f":"IF('Relevés de  commissions'!D470=\"AGI externes\",'Relevés de  commissions'!O470,0)*1","v":0},{"$f":"IF('Relevés de  commissions'!D470=\"AGI externes\",'Relevés de  commissions'!P470,0)*1","v":0},0,""]
[null,null,null,null,null,null,null,null,null,null,null,null,{"$f":"IF('Relevés de  commissions'!D471=\"AGI externes\",'Relevés de  commissions'!M471,0)*1","v":0},{"$f":"IF('Relevés de  commissions'!D471=\"AGI externes\",'Relevés de  commissions'!N471,0)*1","v":0},{"$f":"IF('Relevés de  commissions'!D471=\"AGI externes\",'Relevés de  commissions'!O471,0)*1","v":0},{"$f":"IF('Relevés de  commissions'!D471=\"AGI externes\",'Relevés de  commissions'!P471,0)*1","v":0},0,""]
[null,null,null,null,null,null,null,null,null,null,null,null,{"$f":"IF('Relevés de  commissions'!D472=\"AGI externes\",'Relevés de  commissions'!M472,0)*1","v":0},{"$f":"IF('Relevés de  commissions'!D472=\"AGI externes\",'Relevés de  commissions'!N472,0)*1","v":0},{"$f":"IF('Relevés de  commissions'!D472=\"AGI externes\",'Relevés de  commissions'!O472,0)*1","v":0},{"$f":"IF('Relevés de  commissions'!D472=\"AGI externes\",'Relevés de  commissions'!P472,0)*1","v":0},0,""]
[null,null,null,null,null,null,null,null,null,null,null,null,{"$f":"IF('Relevés de  commissions'!D473=\"AGI externes\",'Relevés de  commissions'!M473,0)*1","v":0},{"$f":"IF('Relevés de  commissions'!D473=\"AGI externes\",'Relevés de  commissions'!N473,0)*1","v":0},{"$f":"IF('Relevés de  commissions'!D473=\"AGI externes\",'Relevés de  commissions'!O473,0)*1","v":0},{"$f":"IF('Relevés de  commissions'!D473=\"AGI externes\",'Relevés de  commissions'!P473,0)*1","v":0},0,""]
[null,null,null,null,null,null,null,null,null,null,null,null,{"$f":"IF('Relevés de  commissions'!D474=\"AGI externes\",'Relevés de  commissions'!M474,0)*1","v":0},{"$f":"IF('Relevés de  commissions'!D474=\"AGI externes\",'Relevés de  commissions'!N474,0)*1","v":0},{"$f":"IF('Relevés de  commissions'!D474=\"AGI externes\",'Relevés de  commissions'!O474,0)*1","v":0},{"$f":"IF('Relevés de  commissions'!D474=\"AGI externes\",'Relevés de  commissions'!P474,0)*1","v":0},0,""]
[null,null,null,null,null,null,null,null,null,null,null,null,{"$f":"IF('Relevés de  commissions'!D475=\"AGI externes\",'Relevés de  commissions'!M475,0)*1","v":0},{"$f":"IF('Relevés de  commissions'!D475=\"AGI externes\",'Relevés de  commissions'!N475,0)*1","v":0},{"$f":"IF('Relevés de  commissions'!D475=\"AGI externes\",'Relevés de  commissions'!O475,0)*1","v":0},{"$f":"IF('Relevés de  commissions'!D475=\"AGI externes\",'Relevés de  commissions'!P475,0)*1","v":0},0,""]
[null,null,null,null,null,null,null,null,null,null,null,null,{"$f":"IF('Relevés de  commissions'!D476=\"AGI externes\",'Relevés de  commissions'!M476,0)*1","v":0},{"$f":"IF('Relevés de  commissions'!D476=\"AGI externes\",'Relevés de  commissions'!N476,0)*1","v":0},{"$f":"IF('Relevés de  commissions'!D476=\"AGI externes\",'Relevés de  commissions'!O476,0)*1","v":0},{"$f":"IF('Relevés de  commissions'!D476=\"AGI externes\",'Relevés de  commissions'!P476,0)*1","v":0},0,""]
[null,null,null,null,null,null,null,null,null,null,null,null,{"$f":"IF('Relevés de  commissions'!D477=\"AGI externes\",'Relevés de  commissions'!M477,0)*1","v":0},{"$f":"IF('Relevés de  commissions'!D477=\"AGI externes\",'Relevés de  commissions'!N477,0)*1","v":0},{"$f":"IF('Relevés de  commissions'!D477=\"AGI externes\",'Relevés de  commissions'!O477,0)*1","v":0},{"$f":"IF('Relevés de  commissions'!D477=\"AGI externes\",'Relevés de  commissions'!P477,0)*1","v":0},0,""]
[null,null,null,null,null,null,null,null,null,null,null,null,{"$f":"IF('Relevés de  commissions'!D478=\"AGI externes\",'Relevés de  commissions'!M478,0)*1","v":0},{"$f":"IF('Relevés de  commissions'!D478=\"AGI externes\",'Relevés de  commissions'!N478,0)*1","v":0},{"$f":"IF('Relevés de  commissions'!D478=\"AGI externes\",'Relevés de  commissions'!O478,0)*1","v":0},{"$f":"IF('Relevés de  commissions'!D478=\"AGI externes\",'Relevés de  commissions'!P478,0)*1","v":0},0,""]
[null,null,null,null,null,null,null,null,null,null,null,null,{"$f":"IF('Relevés de  commissions'!D479=\"AGI externes\",'Relevés de  commissions'!M479,0)*1","v":0},{"$f":"IF('Relevés de  commissions'!D479=\"AGI externes\",'Relevés de  commissions'!N479,0)*1","v":0},{"$f":"IF('Relevés de  commissions'!D479=\"AGI externes\",'Relevés de  commissions'!O479,0)*1","v":0},{"$f":"IF('Relevés de  commissions'!D479=\"AGI externes\",'Relevés de  commissions'!P479,0)*1","v":0},0,""]
[null,null,null,null,null,null,null,null,null,null,null,null,{"$f":"IF('Relevés de  commissions'!D480=\"AGI externes\",'Relevés de  commissions'!M480,0)*1","v":0},{"$f":"IF('Relevés de  commissions'!D480=\"AGI externes\",'Relevés de  commissions'!N480,0)*1","v":0},{"$f":"IF('Relevés de  commissions'!D480=\"AGI externes\",'Relevés de  commissions'!O480,0)*1","v":0},{"$f":"IF('Relevés de  commissions'!D480=\"AGI externes\",'Relevés de  commissions'!P480,0)*1","v":0},0,""]
[null,null,null,null,null,null,null,null,null,null,null,null,{"$f":"IF('Relevés de  commissions'!D481=\"AGI externes\",'Relevés de  commissions'!M481,0)*1","v":0},{"$f":"IF('Relevés de  commissions'!D481=\"AGI externes\",'Relevés de  commissions'!N481,0)*1","v":0},{"$f":"IF('Relevés de  commissions'!D481=\"AGI externes\",'Relevés de  commissions'!O481,0)*1","v":0},{"$f":"IF('Relevés de  commissions'!D481=\"AGI externes\",'Relevés de  commissions'!P481,0)*1","v":0},0,""]
[null,null,null,null,null,null,null,null,null,null,null,null,{"$f":"IF('Relevés de  commissions'!D482=\"AGI externes\",'Relevés de  commissions'!M482,0)*1","v":0},{"$f":"IF('Relevés de  commissions'!D482=\"AGI externes\",'Relevés de  commissions'!N482,0)*1","v":0},{"$f":"IF('Relevés de  commissions'!D482=\"AGI externes\",'Relevés de  commissions'!O482,0)*1","v":0},{"$f":"IF('Relevés de  commissions'!D482=\"AGI externes\",'Relevés de  commissions'!P482,0)*1","v":0},0,""]
[null,null,null,null,null,null,null,null,null,null,null,null,{"$f":"IF('Relevés de  commissions'!D483=\"AGI externes\",'Relevés de  commissions'!M483,0)*1","v":0},{"$f":"IF('Relevés de  commissions'!D483=\"AGI externes\",'Relevés de  commissions'!N483,0)*1","v":0},{"$f":"IF('Relevés de  commissions'!D483=\"AGI externes\",'Relevés de  commissions'!O483,0)*1","v":0},{"$f":"IF('Relevés de  commissions'!D483=\"AGI externes\",'Relevés de  commissions'!P483,0)*1","v":0},0,""]
[null,null,null,null,null,null,null,null,null,null,null,null,{"$f":"IF('Relevés de  commissions'!D484=\"AGI externes\",'Relevés de  commissions'!M484,0)*1","v":0},{"$f":"IF('Relevés de  commissions'!D484=\"AGI externes\",'Relevés de  commissions'!N484,0)*1","v":0},{"$f":"IF('Relevés de  commissions'!D484=\"AGI externes\",'Relevés de  commissions'!O484,0)*1","v":0},{"$f":"IF('Relevés de  commissions'!D484=\"AGI externes\",'Relevés de  commissions'!P484,0)*1","v":0},0,""]
[null,null,null,null,null,null,null,null,null,null,null,null,{"$f":"IF('Relevés de  commissions'!D485=\"AGI externes\",'Relevés de  commissions'!M485,0)*1","v":0},{"$f":"IF('Relevés de  commissions'!D485=\"AGI externes\",'Relevés de  commissions'!N485,0)*1","v":0},{"$f":"IF('Relevés de  commissions'!D485=\"AGI externes\",'Relevés de  commissions'!O485,0)*1","v":0},{"$f":"IF('Relevés de  commissions'!D485=\"AGI externes\",'Relevés de  commissions'!P485,0)*1","v":0},0,""]
[null,null,null,null,null,null,null,null,null,null,null,null,{"$f":"IF('Relevés de  commissions'!D486=\"AGI externes\",'Relevés de  commissions'!M486,0)*1","v":0},{"$f":"IF('Relevés de  commissions'!D486=\"AGI externes\",'Relevés de  commissions'!N486,0)*1","v":0},{"$f":"IF('Relevés de  commissions'!D486=\"AGI externes\",'Relevés de  commissions'!O486,0)*1","v":0},{"$f":"IF('Relevés de  commissions'!D486=\"AGI externes\",'Relevés de  commissions'!P486,0)*1","v":0},0,""]
[null,null,null,null,null,null,null,null,null,null,null,null,{"$f":"IF('Relevés de  commissions'!D487=\"AGI externes\",'Relevés de  commissions'!M487,0)*1","v":0},{"$f":"IF('Relevés de  commissions'!D487=\"AGI externes\",'Relevés de  commissions'!N487,0)*1","v":0},{"$f":"IF('Relevés de  commissions'!D487=\"AGI externes\",'Relevés de  commissions'!O487,0)*1","v":0},{"$f":"IF('Relevés de  commissions'!D487=\"AGI externes\",'Relevés de  commissions'!P487,0)*1","v":0},0,""]
[null,null,null,null,null,null,null,null,null,null,null,null,{"$f":"IF('Relevés de  commissions'!D488=\"AGI externes\",'Relevés de  commissions'!M488,0)*1","v":0},{"$f":"IF('Relevés de  commissions'!D488=\"AGI externes\",'Relevés de  commissions'!N488,0)*1","v":0},{"$f":"IF('Relevés de  commissions'!D488=\"AGI externes\",'Relevés de  commissions'!O488,0)*1","v":0},{"$f":"IF('Relevés de  commissions'!D488=\"AGI externes\",'Relevés de  commissions'!P488,0)*1","v":0},0,""]
[null,null,null,null,null,null,null,null,null,null,null,null,{"$f":"IF('Relevés de  commissions'!D489=\"AGI externes\",'Relevés de  commissions'!M489,0)*1","v":0},{"$f":"IF('Relevés de  commissions'!D489=\"AGI externes\",'Relevés de  commissions'!N489,0)*1","v":0},{"$f":"IF('Relevés de  commissions'!D489=\"AGI externes\",'Relevés de  commissions'!O489,0)*1","v":0},{"$f":"IF('Relevés de  commissions'!D489=\"AGI externes\",'Relevés de  commissions'!P489,0)*1","v":0},0,""]
[null,null,null,null,null,null,null,null,null,null,null,null,{"$f":"IF('Relevés de  commissions'!D490=\"AGI externes\",'Relevés de  commissions'!M490,0)*1","v":0},{"$f":"IF('Relevés de  commissions'!D490=\"AGI externes\",'Relevés de  commissions'!N490,0)*1","v":0},{"$f":"IF('Relevés de  commissions'!D490=\"AGI externes\",'Relevés de  commissions'!O490,0)*1","v":0},{"$f":"IF('Relevés de  commissions'!D490=\"AGI externes\",'Relevés de  commissions'!P490,0)*1","v":0},0,""]
[null,null,null,null,null,null,null,null,null,null,null,null,{"$f":"IF('Relevés de  commissions'!D491=\"AGI externes\",'Relevés de  commissions'!M491,0)*1","v":0},{"$f":"IF('Relevés de  commissions'!D491=\"AGI externes\",'Relevés de  commissions'!N491,0)*1","v":0},{"$f":"IF('Relevés de  commissions'!D491=\"AGI externes\",'Relevés de  commissions'!O491,0)*1","v":0},{"$f":"IF('Relevés de  commissions'!D491=\"AGI externes\",'Relevés de  commissions'!P491,0)*1","v":0},0,""]
[null,null,null,null,null,null,null,null,null,null,null,null,{"$f":"IF('Relevés de  commissions'!D492=\"AGI externes\",'Relevés de  commissions'!M492,0)*1","v":0},{"$f":"IF('Relevés de  commissions'!D492=\"AGI externes\",'Relevés de  commissions'!N492,0)*1","v":0},{"$f":"IF('Relevés de  commissions'!D492=\"AGI externes\",'Relevés de  commissions'!O492,0)*1","v":0},{"$f":"IF('Relevés de  commissions'!D492=\"AGI externes\",'Relevés de  commissions'!P492,0)*1","v":0},0,""]
[null,null,null,null,null,null,null,null,null,null,null,null,{"$f":"IF('Relevés de  commissions'!D493=\"AGI externes\",'Relevés de  commissions'!M493,0)*1","v":0},{"$f":"IF('Relevés de  commissions'!D493=\"AGI externes\",'Relevés de  commissions'!N493,0)*1","v":0},{"$f":"IF('Relevés de  commissions'!D493=\"AGI externes\",'Relevés de  commissions'!O493,0)*1","v":0},{"$f":"IF('Relevés de  commissions'!D493=\"AGI externes\",'Relevés de  commissions'!P493,0)*1","v":0},0,""]
[null,null,null,null,null,null,null,null,null,null,null,null,{"$f":"IF('Relevés de  commissions'!D494=\"AGI externes\",'Relevés de  commissions'!M494,0)*1","v":0},{"$f":"IF('Relevés de  commissions'!D494=\"AGI externes\",'Relevés de  commissions'!N494,0)*1","v":0},{"$f":"IF('Relevés de  commissions'!D494=\"AGI externes\",'Relevés de  commissions'!O494,0)*1","v":0},{"$f":"IF('Relevés de  commissions'!D494=\"AGI externes\",'Relevés de  commissions'!P494,0)*1","v":0},0,""]
[null,null,null,null,null,null,null,null,null,null,null,null,{"$f":"IF('Relevés de  commissions'!D495=\"AGI externes\",'Relevés de  commissions'!M495,0)*1","v":0},{"$f":"IF('Relevés de  commissions'!D495=\"AGI externes\",'Relevés de  commissions'!N495,0)*1","v":0},{"$f":"IF('Relevés de  commissions'!D495=\"AGI externes\",'Relevés de  commissions'!O495,0)*1","v":0},{"$f":"IF('Relevés de  commissions'!D495=\"AGI externes\",'Relevés de  commissions'!P495,0)*1","v":0},0,""]
[null,null,null,null,null,null,null,null,null,null,null,null,{"$f":"IF('Relevés de  commissions'!D496=\"AGI externes\",'Relevés de  commissions'!M496,0)*1","v":0},{"$f":"IF('Relevés de  commissions'!D496=\"AGI externes\",'Relevés de  commissions'!N496,0)*1","v":0},{"$f":"IF('Relevés de  commissions'!D496=\"AGI externes\",'Relevés de  commissions'!O496,0)*1","v":0},{"$f":"IF('Relevés de  commissions'!D496=\"AGI externes\",'Relevés de  commissions'!P496,0)*1","v":0},0,""]
[null,null,null,null,null,null,null,null,null,null,null,null,{"$f":"IF('Relevés de  commissions'!D497=\"AGI externes\",'Relevés de  commissions'!M497,0)*1","v":0},{"$f":"IF('Relevés de  commissions'!D497=\"AGI externes\",'Relevés de  commissions'!N497,0)*1","v":0},{"$f":"IF('Relevés de  commissions'!D497=\"AGI externes\",'Relevés de  commissions'!O497,0)*1","v":0},{"$f":"IF('Relevés de  commissions'!D497=\"AGI externes\",'Relevés de  commissions'!P497,0)*1","v":0},0,""]
[null,null,null,null,null,null,null,null,null,null,null,null,{"$f":"IF('Relevés de  commissions'!D498=\"AGI externes\",'Relevés de  commissions'!M498,0)*1","v":0},{"$f":"IF('Relevés de  commissions'!D498=\"AGI externes\",'Relevés de  commissions'!N498,0)*1","v":0},{"$f":"IF('Relevés de  commissions'!D498=\"AGI externes\",'Relevés de  commissions'!O498,0)*1","v":0},{"$f":"IF('Relevés de  commissions'!D498=\"AGI externes\",'Relevés de  commissions'!P498,0)*1","v":0},0,""]
[null,null,null,null,null,null,null,null,null,null,null,null,{"$f":"IF('Relevés de  commissions'!D499=\"AGI externes\",'Relevés de  commissions'!M499,0)*1","v":0},{"$f":"IF('Relevés de  commissions'!D499=\"AGI externes\",'Relevés de  commissions'!N499,0)*1","v":0},{"$f":"IF('Relevés de  commissions'!D499=\"AGI externes\",'Relevés de  commissions'!O499,0)*1","v":0},{"$f":"IF('Relevés de  commissions'!D499=\"AGI externes\",'Relevés de  commissions'!P499,0)*1","v":0},0,""]
[null,null,null,null,null,null,null,null,null,null,null,null,{"$f":"IF('Relevés de  commissions'!D500=\"AGI externes\",'Relevés de  commissions'!M500,0)*1","v":0},{"$f":"IF('Relevés de  commissions'!D500=\"AGI externes\",'Relevés de  commissions'!N500,0)*1","v":0},{"$f":"IF('Relevés de  commissions'!D500=\"AGI externes\",'Relevés de  commissions'!O500,0)*1","v":0},{"$f":"IF('Relevés de  commissions'!D500=\"AGI externes\",'Relevés de  commissions'!P500,0)*1","v":0},0,""]
[null,null,null,null,null,null,null,null,null,null,null,null,{"$f":"IF('Relevés de  commissions'!D501=\"AGI externes\",'Relevés de  commissions'!M501,0)*1","v":0},{"$f":"IF('Relevés de  commissions'!D501=\"AGI externes\",'Relevés de  commissions'!N501,0)*1","v":0},{"$f":"IF('Relevés de  commissions'!D501=\"AGI externes\",'Relevés de  commissions'!O501,0)*1","v":0},{"$f":"IF('Relevés de  commissions'!D501=\"AGI externes\",'Relevés de  commissions'!P501,0)*1","v":0},0,""]
[null,null,null,null,null,null,null,null,null,null,null,null,{"$f":"IF('Relevés de  commissions'!D502=\"AGI externes\",'Relevés de  commissions'!M502,0)*1","v":0},{"$f":"IF('Relevés de  commissions'!D502=\"AGI externes\",'Relevés de  commissions'!N502,0)*1","v":0},{"$f":"IF('Relevés de  commissions'!D502=\"AGI externes\",'Relevés de  commissions'!O502,0)*1","v":0},{"$f":"IF('Relevés de  commissions'!D502=\"AGI externes\",'Relevés de  commissions'!P502,0)*1","v":0},0,""]
[null,null,null,null,null,null,null,null,null,null,null,null,{"$f":"IF('Relevés de  commissions'!D503=\"AGI externes\",'Relevés de  commissions'!M503,0)*1","v":0},{"$f":"IF('Relevés de  commissions'!D503=\"AGI externes\",'Relevés de  commissions'!N503,0)*1","v":0},{"$f":"IF('Relevés de  commissions'!D503=\"AGI externes\",'Relevés de  commissions'!O503,0)*1","v":0},{"$f":"IF('Relevés de  commissions'!D503=\"AGI externes\",'Relevés de  commissions'!P503,0)*1","v":0},0,""]
[null,null,null,null,null,null,null,null,null,null,null,null,{"$f":"IF('Relevés de  commissions'!D504=\"AGI externes\",'Relevés de  commissions'!M504,0)*1","v":0},{"$f":"IF('Relevés de  commissions'!D504=\"AGI externes\",'Relevés de  commissions'!N504,0)*1","v":0},{"$f":"IF('Relevés de  commissions'!D504=\"AGI externes\",'Relevés de  commissions'!O504,0)*1","v":0},{"$f":"IF('Relevés de  commissions'!D504=\"AGI externes\",'Relevés de  commissions'!P504,0)*1","v":0},0,""]
[null,null,null,null,null,null,null,null,null,null,null,null,{"$f":"IF('Relevés de  commissions'!D505=\"AGI externes\",'Relevés de  commissions'!M505,0)*1","v":0},{"$f":"IF('Relevés de  commissions'!D505=\"AGI externes\",'Relevés de  commissions'!N505,0)*1","v":0},{"$f":"IF('Relevés de  commissions'!D505=\"AGI externes\",'Relevés de  commissions'!O505,0)*1","v":0},{"$f":"IF('Relevés de  commissions'!D505=\"AGI externes\",'Relevés de  commissions'!P505,0)*1","v":0},0,""]
[null,null,null,null,null,null,null,null,null,null,null,null,{"$f":"IF('Relevés de  commissions'!D506=\"AGI externes\",'Relevés de  commissions'!M506,0)*1","v":0},{"$f":"IF('Relevés de  commissions'!D506=\"AGI externes\",'Relevés de  commissions'!N506,0)*1","v":0},{"$f":"IF('Relevés de  commissions'!D506=\"AGI externes\",'Relevés de  commissions'!O506,0)*1","v":0},{"$f":"IF('Relevés de  commissions'!D506=\"AGI externes\",'Relevés de  commissions'!P506,0)*1","v":0},0,""]
[null,null,null,null,null,null,null,null,null,null,null,null,{"$f":"IF('Relevés de  commissions'!D507=\"AGI externes\",'Relevés de  commissions'!M507,0)*1","v":0},{"$f":"IF('Relevés de  commissions'!D507=\"AGI externes\",'Relevés de  commissions'!N507,0)*1","v":0},{"$f":"IF('Relevés de  commissions'!D507=\"AGI externes\",'Relevés de  commissions'!O507,0)*1","v":0},{"$f":"IF('Relevés de  commissions'!D507=\"AGI externes\",'Relevés de  commissions'!P507,0)*1","v":0},0,""]
[null,null,null,null,null,null,null,null,null,null,null,null,{"$f":"IF('Relevés de  commissions'!D508=\"AGI externes\",'Relevés de  commissions'!M508,0)*1","v":0},{"$f":"IF('Relevés de  commissions'!D508=\"AGI externes\",'Relevés de  commissions'!N508,0)*1","v":0},{"$f":"IF('Relevés de  commissions'!D508=\"AGI externes\",'Relevés de  commissions'!O508,0)*1","v":0},{"$f":"IF('Relevés de  commissions'!D508=\"AGI externes\",'Relevés de  commissions'!P508,0)*1","v":0},0,""]
[null,null,null,null,null,null,null,null,null,null,null,null,{"$f":"IF('Relevés de  commissions'!D509=\"AGI externes\",'Relevés de  commissions'!M509,0)*1","v":0},{"$f":"IF('Relevés de  commissions'!D509=\"AGI externes\",'Relevés de  commissions'!N509,0)*1","v":0},{"$f":"IF('Relevés de  commissions'!D509=\"AGI externes\",'Relevés de  commissions'!O509,0)*1","v":0},{"$f":"IF('Relevés de  commissions'!D509=\"AGI externes\",'Relevés de  commissions'!P509,0)*1","v":0},0,""]
[null,null,null,null,null,null,null,null,null,null,null,null,{"$f":"IF('Relevés de  commissions'!D510=\"AGI externes\",'Relevés de  commissions'!M510,0)*1","v":0},{"$f":"IF('Relevés de  commissions'!D510=\"AGI externes\",'Relevés de  commissions'!N510,0)*1","v":0},{"$f":"IF('Relevés de  commissions'!D510=\"AGI externes\",'Relevés de  commissions'!O510,0)*1","v":0},{"$f":"IF('Relevés de  commissions'!D510=\"AGI externes\",'Relevés de  commissions'!P510,0)*1","v":0},0,""]
[null,null,null,null,null,null,null,null,null,null,null,null,{"$f":"IF('Relevés de  commissions'!D511=\"AGI externes\",'Relevés de  commissions'!M511,0)*1","v":0},{"$f":"IF('Relevés de  commissions'!D511=\"AGI externes\",'Relevés de  commissions'!N511,0)*1","v":0},{"$f":"IF('Relevés de  commissions'!D511=\"AGI externes\",'Relevés de  commissions'!O511,0)*1","v":0},{"$f":"IF('Relevés de  commissions'!D511=\"AGI externes\",'Relevés de  commissions'!P511,0)*1","v":0},0,""]
[null,null,null,null,null,null,null,null,null,null,null,null,{"$f":"IF('Relevés de  commissions'!D512=\"AGI externes\",'Relevés de  commissions'!M512,0)*1","v":0},{"$f":"IF('Relevés de  commissions'!D512=\"AGI externes\",'Relevés de  commissions'!N512,0)*1","v":0},{"$f":"IF('Relevés de  commissions'!D512=\"AGI externes\",'Relevés de  commissions'!O512,0)*1","v":0},{"$f":"IF('Relevés de  commissions'!D512=\"AGI externes\",'Relevés de  commissions'!P512,0)*1","v":0},0,""]
[null,null,null,null,null,null,null,null,null,null,null,null,{"$f":"IF('Relevés de  commissions'!D513=\"AGI externes\",'Relevés de  commissions'!M513,0)*1","v":0},{"$f":"IF('Relevés de  commissions'!D513=\"AGI externes\",'Relevés de  commissions'!N513,0)*1","v":0},{"$f":"IF('Relevés de  commissions'!D513=\"AGI externes\",'Relevés de  commissions'!O513,0)*1","v":0},{"$f":"IF('Relevés de  commissions'!D513=\"AGI externes\",'Relevés de  commissions'!P513,0)*1","v":0},0,""]
[null,null,null,null,null,null,null,null,null,null,null,null,{"$f":"IF('Relevés de  commissions'!D514=\"AGI externes\",'Relevés de  commissions'!M514,0)*1","v":0},{"$f":"IF('Relevés de  commissions'!D514=\"AGI externes\",'Relevés de  commissions'!N514,0)*1","v":0},{"$f":"IF('Relevés de  commissions'!D514=\"AGI externes\",'Relevés de  commissions'!O514,0)*1","v":0},{"$f":"IF('Relevés de  commissions'!D514=\"AGI externes\",'Relevés de  commissions'!P514,0)*1","v":0},0,""]
[null,null,null,null,null,null,null,null,null,null,null,null,{"$f":"IF('Relevés de  commissions'!D515=\"AGI externes\",'Relevés de  commissions'!M515,0)*1","v":0},{"$f":"IF('Relevés de  commissions'!D515=\"AGI externes\",'Relevés de  commissions'!N515,0)*1","v":0},{"$f":"IF('Relevés de  commissions'!D515=\"AGI externes\",'Relevés de  commissions'!O515,0)*1","v":0},{"$f":"IF('Relevés de  commissions'!D515=\"AGI externes\",'Relevés de  commissions'!P515,0)*1","v":0},{"$f":"IF(N517=0,O517,\"\")","v":0},{"$f":"IF(N517=10,O517,\"\")","v":""}]
[null,null,null,null,null,null,null,null,null,null,null,null,{"$f":"IF('Relevés de  commissions'!D516=\"AGI externes\",'Relevés de  commissions'!M516,0)*1","v":0},{"$f":"IF('Relevés de  commissions'!D516=\"AGI externes\",'Relevés de  commissions'!N516,0)*1","v":0},{"$f":"IF('Relevés de  commissions'!D516=\"AGI externes\",'Relevés de  commissions'!O516,0)*1","v":0},{"$f":"IF('Relevés de  commissions'!D516=\"AGI externes\",'Relevés de  commissions'!P516,0)*1","v":0},0,""]
[null,null,null,null,null,null,null,null,null,null,null,null,{"$f":"IF('Relevés de  commissions'!D517=\"AGI externes\",'Relevés de  commissions'!M517,0)*1","v":0},{"$f":"IF('Relevés de  commissions'!D517=\"AGI externes\",'Relevés de  commissions'!N517,0)*1","v":0},{"$f":"IF('Relevés de  commissions'!D517=\"AGI externes\",'Relevés de  commissions'!O517,0)*1","v":0},{"$f":"IF('Relevés de  commissions'!D517=\"AGI externes\",'Relevés de  commissions'!P517,0)*1","v":0},0,""]
[null,null,null,null,null,null,null,null,null,null,null,null,{"$f":"IF('Relevés de  commissions'!D518=\"AGI externes\",'Relevés de  commissions'!M518,0)*1","v":0},{"$f":"IF('Relevés de  commissions'!D518=\"AGI externes\",'Relevés de  commissions'!N518,0)*1","v":0},{"$f":"IF('Relevés de  commissions'!D518=\"AGI externes\",'Relevés de  commissions'!O518,0)*1","v":0},{"$f":"IF('Relevés de  commissions'!D518=\"AGI externes\",'Relevés de  commissions'!P518,0)*1","v":0},0,""]
[null,null,null,null,null,null,null,null,null,null,null,null,{"$f":"IF('Relevés de  commissions'!D519=\"AGI externes\",'Relevés de  commissions'!M519,0)*1","v":0},{"$f":"IF('Relevés de  commissions'!D519=\"AGI externes\",'Relevés de  commissions'!N519,0)*1","v":0},{"$f":"IF('Relevés de  commissions'!D519=\"AGI externes\",'Relevés de  commissions'!O519,0)*1","v":0},{"$f":"IF('Relevés de  commissions'!D519=\"AGI externes\",'Relevés de  commissions'!P519,0)*1","v":0},0,""]
[null,null,null,null,null,null,null,null,null,null,null,null,{"$f":"IF('Relevés de  commissions'!D520=\"AGI externes\",'Relevés de  commissions'!M520,0)*1","v":0},{"$f":"IF('Relevés de  commissions'!D520=\"AGI externes\",'Relevés de  commissions'!N520,0)*1","v":0},{"$f":"IF('Relevés de  commissions'!D520=\"AGI externes\",'Relevés de  commissions'!O520,0)*1","v":0},{"$f":"IF('Relevés de  commissions'!D520=\"AGI externes\",'Relevés de  commissions'!P520,0)*1","v":0},0,""]
[null,null,null,null,null,null,null,null,null,null,null,null,{"$f":"IF('Relevés de  commissions'!D521=\"AGI externes\",'Relevés de  commissions'!M521,0)*1","v":0},{"$f":"IF('Relevés de  commissions'!D521=\"AGI externes\",'Relevés de  commissions'!N521,0)*1","v":0},{"$f":"IF('Relevés de  commissions'!D521=\"AGI externes\",'Relevés de  commissions'!O521,0)*1","v":0},{"$f":"IF('Relevés de  commissions'!D521=\"AGI externes\",'Relevés de  commissions'!P521,0)*1","v":0},0,""]
[null,null,null,null,null,null,null,null,null,null,null,null,{"$f":"IF('Relevés de  commissions'!D522=\"AGI externes\",'Relevés de  commissions'!M522,0)*1","v":0},{"$f":"IF('Relevés de  commissions'!D522=\"AGI externes\",'Relevés de  commissions'!N522,0)*1","v":0},{"$f":"IF('Relevés de  commissions'!D522=\"AGI externes\",'Relevés de  commissions'!O522,0)*1","v":0},{"$f":"IF('Relevés de  commissions'!D522=\"AGI externes\",'Relevés de  commissions'!P522,0)*1","v":0},0,""]
[null,null,null,null,null,null,null,null,null,null,null,null,{"$f":"IF('Relevés de  commissions'!D523=\"AGI externes\",'Relevés de  commissions'!M523,0)*1","v":0},{"$f":"IF('Relevés de  commissions'!D523=\"AGI externes\",'Relevés de  commissions'!N523,0)*1","v":0},{"$f":"IF('Relevés de  commissions'!D523=\"AGI externes\",'Relevés de  commissions'!O523,0)*1","v":0},{"$f":"IF('Relevés de  commissions'!D523=\"AGI externes\",'Relevés de  commissions'!P523,0)*1","v":0},0,""]
[null,null,null,null,null,null,null,null,null,null,null,null,{"$f":"IF('Relevés de  commissions'!D524=\"AGI externes\",'Relevés de  commissions'!M524,0)*1","v":0},{"$f":"IF('Relevés de  commissions'!D524=\"AGI externes\",'Relevés de  commissions'!N524,0)*1","v":0},{"$f":"IF('Relevés de  commissions'!D524=\"AGI externes\",'Relevés de  commissions'!O524,0)*1","v":0},{"$f":"IF('Relevés de  commissions'!D524=\"AGI externes\",'Relevés de  commissions'!P524,0)*1","v":0},0,""]
[null,null,null,null,null,null,null,null,null,null,null,null,{"$f":"IF('Relevés de  commissions'!D525=\"AGI externes\",'Relevés de  commissions'!M525,0)*1","v":0},{"$f":"IF('Relevés de  commissions'!D525=\"AGI externes\",'Relevés de  commissions'!N525,0)*1","v":0},{"$f":"IF('Relevés de  commissions'!D525=\"AGI externes\",'Relevés de  commissions'!O525,0)*1","v":0},{"$f":"IF('Relevés de  commissions'!D525=\"AGI externes\",'Relevés de  commissions'!P525,0)*1","v":0},0,""]
[null,null,null,null,null,null,null,null,null,null,null,null,{"$f":"IF('Relevés de  commissions'!D526=\"AGI externes\",'Relevés de  commissions'!M526,0)*1","v":0},{"$f":"IF('Relevés de  commissions'!D526=\"AGI externes\",'Relevés de  commissions'!N526,0)*1","v":0},{"$f":"IF('Relevés de  commissions'!D526=\"AGI externes\",'Relevés de  commissions'!O526,0)*1","v":0},{"$f":"IF('Relevés de  commissions'!D526=\"AGI externes\",'Relevés de  commissions'!P526,0)*1","v":0},0,""]
[null,null,null,null,null,null,null,null,null,null,null,null,{"$f":"IF('Relevés de  commissions'!D527=\"AGI externes\",'Relevés de  commissions'!M527,0)*1","v":0},{"$f":"IF('Relevés de  commissions'!D527=\"AGI externes\",'Relevés de  commissions'!N527,0)*1","v":0},{"$f":"IF('Relevés de  commissions'!D527=\"AGI externes\",'Relevés de  commissions'!O527,0)*1","v":0},{"$f":"IF('Relevés de  commissions'!D527=\"AGI externes\",'Relevés de  commissions'!P527,0)*1","v":0},0,""]
[null,null,null,null,null,null,null,null,null,null,null,null,{"$f":"IF('Relevés de  commissions'!D528=\"AGI externes\",'Relevés de  commissions'!M528,0)*1","v":0},{"$f":"IF('Relevés de  commissions'!D528=\"AGI externes\",'Relevés de  commissions'!N528,0)*1","v":0},{"$f":"IF('Relevés de  commissions'!D528=\"AGI externes\",'Relevés de  commissions'!O528,0)*1","v":0},{"$f":"IF('Relevés de  commissions'!D528=\"AGI externes\",'Relevés de  commissions'!P528,0)*1","v":0},0,""]
[null,null,null,null,null,null,null,null,null,null,null,null,{"$f":"IF('Relevés de  commissions'!D529=\"AGI externes\",'Relevés de  commissions'!M529,0)*1","v":0},{"$f":"IF('Relevés de  commissions'!D529=\"AGI externes\",'Relevés de  commissions'!N529,0)*1","v":0},{"$f":"IF('Relevés de  commissions'!D529=\"AGI externes\",'Relevés de  commissions'!O529,0)*1","v":0},{"$f":"IF('Relevés de  commissions'!D529=\"AGI externes\",'Relevés de  commissions'!P529,0)*1","v":0},0,""]
[null,null,null,null,null,null,null,null,null,null,null,null,{"$f":"IF('Relevés de  commissions'!D530=\"AGI externes\",'Relevés de  commissions'!M530,0)*1","v":0},{"$f":"IF('Relevés de  commissions'!D530=\"AGI externes\",'Relevés de  commissions'!N530,0)*1","v":0},{"$f":"IF('Relevés de  commissions'!D530=\"AGI externes\",'Relevés de  commissions'!O530,0)*1","v":0},{"$f":"IF('Relevés de  commissions'!D530=\"AGI externes\",'Relevés de  commissions'!P530,0)*1","v":0},0,""]
[null,null,null,null,null,null,null,null,null,null,null,null,{"$f":"IF('Relevés de  commissions'!D531=\"AGI externes\",'Relevés de  commissions'!M531,0)*1","v":0},{"$f":"IF('Relevés de  commissions'!D531=\"AGI externes\",'Relevés de  commissions'!N531,0)*1","v":0},{"$f":"IF('Relevés de  commissions'!D531=\"AGI externes\",'Relevés de  commissions'!O531,0)*1","v":0},{"$f":"IF('Relevés de  commissions'!D531=\"AGI externes\",'Relevés de  commissions'!P531,0)*1","v":0},0,""]
[null,null,null,null,null,null,null,null,null,null,null,null,{"$f":"IF('Relevés de  commissions'!D532=\"AGI externes\",'Relevés de  commissions'!M532,0)*1","v":0},{"$f":"IF('Relevés de  commissions'!D532=\"AGI externes\",'Relevés de  commissions'!N532,0)*1","v":0},{"$f":"IF('Relevés de  commissions'!D532=\"AGI externes\",'Relevés de  commissions'!O532,0)*1","v":0},{"$f":"IF('Relevés de  commissions'!D532=\"AGI externes\",'Relevés de  commissions'!P532,0)*1","v":0},0,""]
[null,null,null,null,null,null,null,null,null,null,null,null,{"$f":"IF('Relevés de  commissions'!D533=\"AGI externes\",'Relevés de  commissions'!M533,0)*1","v":0},{"$f":"IF('Relevés de  commissions'!D533=\"AGI externes\",'Relevés de  commissions'!N533,0)*1","v":0},{"$f":"IF('Relevés de  commissions'!D533=\"AGI externes\",'Relevés de  commissions'!O533,0)*1","v":0},{"$f":"IF('Relevés de  commissions'!D533=\"AGI externes\",'Relevés de  commissions'!P533,0)*1","v":0},0,""]
[null,null,null,null,null,null,null,null,null,null,null,null,{"$f":"IF('Relevés de  commissions'!D534=\"AGI externes\",'Relevés de  commissions'!M534,0)*1","v":0},{"$f":"IF('Relevés de  commissions'!D534=\"AGI externes\",'Relevés de  commissions'!N534,0)*1","v":0},{"$f":"IF('Relevés de  commissions'!D534=\"AGI externes\",'Relevés de  commissions'!O534,0)*1","v":0},{"$f":"IF('Relevés de  commissions'!D534=\"AGI externes\",'Relevés de  commissions'!P534,0)*1","v":0},0,""]
[null,null,null,null,null,null,null,null,null,null,null,null,{"$f":"IF('Relevés de  commissions'!D535=\"AGI externes\",'Relevés de  commissions'!M535,0)*1","v":0},{"$f":"IF('Relevés de  commissions'!D535=\"AGI externes\",'Relevés de  commissions'!N535,0)*1","v":0},{"$f":"IF('Relevés de  commissions'!D535=\"AGI externes\",'Relevés de  commissions'!O535,0)*1","v":0},{"$f":"IF('Relevés de  commissions'!D535=\"AGI externes\",'Relevés de  commissions'!P535,0)*1","v":0},0,""]
[null,null,null,null,null,null,null,null,null,null,null,null,{"$f":"IF('Relevés de  commissions'!D536=\"AGI externes\",'Relevés de  commissions'!M536,0)*1","v":0},{"$f":"IF('Relevés de  commissions'!D536=\"AGI externes\",'Relevés de  commissions'!N536,0)*1","v":0},{"$f":"IF('Relevés de  commissions'!D536=\"AGI externes\",'Relevés de  commissions'!O536,0)*1","v":0},{"$f":"IF('Relevés de  commissions'!D536=\"AGI externes\",'Relevés de  commissions'!P536,0)*1","v":0},0,""]
[null,null,null,null,null,null,null,null,null,null,null,null,{"$f":"IF('Relevés de  commissions'!D537=\"AGI externes\",'Relevés de  commissions'!M537,0)*1","v":0},{"$f":"IF('Relevés de  commissions'!D537=\"AGI externes\",'Relevés de  commissions'!N537,0)*1","v":0},{"$f":"IF('Relevés de  commissions'!D537=\"AGI externes\",'Relevés de  commissions'!O537,0)*1","v":0},{"$f":"IF('Relevés de  commissions'!D537=\"AGI externes\",'Relevés de  commissions'!P537,0)*1","v":0},0,""]
[null,null,null,null,null,null,null,null,null,null,null,null,{"$f":"IF('Relevés de  commissions'!D538=\"AGI externes\",'Relevés de  commissions'!M538,0)*1","v":0},{"$f":"IF('Relevés de  commissions'!D538=\"AGI externes\",'Relevés de  commissions'!N538,0)*1","v":0},{"$f":"IF('Relevés de  commissions'!D538=\"AGI externes\",'Relevés de  commissions'!O538,0)*1","v":0},{"$f":"IF('Relevés de  commissions'!D538=\"AGI externes\",'Relevés de  commissions'!P538,0)*1","v":0},0,""]
[null,null,null,null,null,null,null,null,null,null,null,null,{"$f":"IF('Relevés de  commissions'!D539=\"AGI externes\",'Relevés de  commissions'!M539,0)*1","v":0},{"$f":"IF('Relevés de  commissions'!D539=\"AGI externes\",'Relevés de  commissions'!N539,0)*1","v":0},{"$f":"IF('Relevés de  commissions'!D539=\"AGI externes\",'Relevés de  commissions'!O539,0)*1","v":0},{"$f":"IF('Relevés de  commissions'!D539=\"AGI externes\",'Relevés de  commissions'!P539,0)*1","v":0},0,""]
[null,null,null,null,null,null,null,null,null,null,null,null,{"$f":"IF('Relevés de  commissions'!D540=\"AGI externes\",'Relevés de  commissions'!M540,0)*1","v":0},{"$f":"IF('Relevés de  commissions'!D540=\"AGI externes\",'Relevés de  commissions'!N540,0)*1","v":0},{"$f":"IF('Relevés de  commissions'!D540=\"AGI externes\",'Relevés de  commissions'!O540,0)*1","v":0},{"$f":"IF('Relevés de  commissions'!D540=\"AGI externes\",'Relevés de  commissions'!P540,0)*1","v":0},0,""]
[null,null,null,null,null,null,null,null,null,null,null,null,{"$f":"IF('Relevés de  commissions'!D541=\"AGI externes\",'Relevés de  commissions'!M541,0)*1","v":0},{"$f":"IF('Relevés de  commissions'!D541=\"AGI externes\",'Relevés de  commissions'!N541,0)*1","v":0},{"$f":"IF('Relevés de  commissions'!D541=\"AGI externes\",'Relevés de  commissions'!O541,0)*1","v":0},{"$f":"IF('Relevés de  commissions'!D541=\"AGI externes\",'Relevés de  commissions'!P541,0)*1","v":0},0,""]
[null,null,null,null,null,null,null,null,null,null,null,null,{"$f":"IF('Relevés de  commissions'!D542=\"AGI externes\",'Relevés de  commissions'!M542,0)*1","v":0},{"$f":"IF('Relevés de  commissions'!D542=\"AGI externes\",'Relevés de  commissions'!N542,0)*1","v":0},{"$f":"IF('Relevés de  commissions'!D542=\"AGI externes\",'Relevés de  commissions'!O542,0)*1","v":0},{"$f":"IF('Relevés de  commissions'!D542=\"AGI externes\",'Relevés de  commissions'!P542,0)*1","v":0},0,""]
[null,null,null,null,null,null,null,null,null,null,null,null,{"$f":"IF('Relevés de  commissions'!D543=\"AGI externes\",'Relevés de  commissions'!M543,0)*1","v":0},{"$f":"IF('Relevés de  commissions'!D543=\"AGI externes\",'Relevés de  commissions'!N543,0)*1","v":0},{"$f":"IF('Relevés de  commissions'!D543=\"AGI externes\",'Relevés de  commissions'!O543,0)*1","v":0},{"$f":"IF('Relevés de  commissions'!D543=\"AGI externes\",'Relevés de  commissions'!P543,0)*1","v":0},0,""]
[null,null,null,null,null,null,null,null,null,null,null,null,{"$f":"IF('Relevés de  commissions'!D544=\"AGI externes\",'Relevés de  commissions'!M544,0)*1","v":0},{"$f":"IF('Relevés de  commissions'!D544=\"AGI externes\",'Relevés de  commissions'!N544,0)*1","v":0},{"$f":"IF('Relevés de  commissions'!D544=\"AGI externes\",'Relevés de  commissions'!O544,0)*1","v":0},{"$f":"IF('Relevés de  commissions'!D544=\"AGI externes\",'Relevés de  commissions'!P544,0)*1","v":0},0,""]
[null,null,null,null,null,null,null,null,null,null,null,null,{"$f":"IF('Relevés de  commissions'!D545=\"AGI externes\",'Relevés de  commissions'!M545,0)*1","v":0},{"$f":"IF('Relevés de  commissions'!D545=\"AGI externes\",'Relevés de  commissions'!N545,0)*1","v":0},{"$f":"IF('Relevés de  commissions'!D545=\"AGI externes\",'Relevés de  commissions'!O545,0)*1","v":0},{"$f":"IF('Relevés de  commissions'!D545=\"AGI externes\",'Relevés de  commissions'!P545,0)*1","v":0},0,""]
[null,null,null,null,null,null,null,null,null,null,null,null,{"$f":"IF('Relevés de  commissions'!D546=\"AGI externes\",'Relevés de  commissions'!M546,0)*1","v":0},{"$f":"IF('Relevés de  commissions'!D546=\"AGI externes\",'Relevés de  commissions'!N546,0)*1","v":0},{"$f":"IF('Relevés de  commissions'!D546=\"AGI externes\",'Relevés de  commissions'!O546,0)*1","v":0},{"$f":"IF('Relevés de  commissions'!D546=\"AGI externes\",'Relevés de  commissions'!P546,0)*1","v":0},0,""]
[null,null,null,null,null,null,null,null,null,null,null,null,{"$f":"IF('Relevés de  commissions'!D547=\"AGI externes\",'Relevés de  commissions'!M547,0)*1","v":0},{"$f":"IF('Relevés de  commissions'!D547=\"AGI externes\",'Relevés de  commissions'!N547,0)*1","v":0},{"$f":"IF('Relevés de  commissions'!D547=\"AGI externes\",'Relevés de  commissions'!O547,0)*1","v":0},{"$f":"IF('Relevés de  commissions'!D547=\"AGI externes\",'Relevés de  commissions'!P547,0)*1","v":0},0,""]
[null,null,null,null,null,null,null,null,null,null,null,null,{"$f":"IF('Relevés de  commissions'!D548=\"AGI externes\",'Relevés de  commissions'!M548,0)*1","v":0},{"$f":"IF('Relevés de  commissions'!D548=\"AGI externes\",'Relevés de  commissions'!N548,0)*1","v":0},{"$f":"IF('Relevés de  commissions'!D548=\"AGI externes\",'Relevés de  commissions'!O548,0)*1","v":0},{"$f":"IF('Relevés de  commissions'!D548=\"AGI externes\",'Relevés de  commissions'!P548,0)*1","v":0},0,""]
[null,null,null,null,null,null,null,null,null,null,null,null,{"$f":"IF('Relevés de  commissions'!D549=\"AGI externes\",'Relevés de  commissions'!M549,0)*1","v":0},{"$f":"IF('Relevés de  commissions'!D549=\"AGI externes\",'Relevés de  commissions'!N549,0)*1","v":0},{"$f":"IF('Relevés de  commissions'!D549=\"AGI externes\",'Relevés de  commissions'!O549,0)*1","v":0},{"$f":"IF('Relevés de  commissions'!D549=\"AGI externes\",'Relevés de  commissions'!P549,0)*1","v":0},0,""]
[null,null,null,null,null,null,null,null,null,null,null,null,{"$f":"IF('Relevés de  commissions'!D550=\"AGI externes\",'Relevés de  commissions'!M550,0)*1","v":0},{"$f":"IF('Relevés de  commissions'!D550=\"AGI externes\",'Relevés de  commissions'!N550,0)*1","v":0},{"$f":"IF('Relevés de  commissions'!D550=\"AGI externes\",'Relevés de  commissions'!O550,0)*1","v":0},{"$f":"IF('Relevés de  commissions'!D550=\"AGI externes\",'Relevés de  commissions'!P550,0)*1","v":0},0,""]
[null,null,null,null,null,null,null,null,null,null,null,null,{"$f":"IF('Relevés de  commissions'!D551=\"AGI externes\",'Relevés de  commissions'!M551,0)*1","v":0},{"$f":"IF('Relevés de  commissions'!D551=\"AGI externes\",'Relevés de  commissions'!N551,0)*1","v":0},{"$f":"IF('Relevés de  commissions'!D551=\"AGI externes\",'Relevés de  commissions'!O551,0)*1","v":0},{"$f":"IF('Relevés de  commissions'!D551=\"AGI externes\",'Relevés de  commissions'!P551,0)*1","v":0},0,""]
[null,null,null,null,null,null,null,null,null,null,null,null,{"$f":"IF('Relevés de  commissions'!D552=\"AGI externes\",'Relevés de  commissions'!M552,0)*1","v":0},{"$f":"IF('Relevés de  commissions'!D552=\"AGI externes\",'Relevés de  commissions'!N552,0)*1","v":0},{"$f":"IF('Relevés de  commissions'!D552=\"AGI externes\",'Relevés de  commissions'!O552,0)*1","v":0},{"$f":"IF('Relevés de  commissions'!D552=\"AGI externes\",'Relevés de  commissions'!P552,0)*1","v":0},0,""]
[null,null,null,null,null,null,null,null,null,null,null,null,{"$f":"IF('Relevés de  commissions'!D553=\"AGI externes\",'Relevés de  commissions'!M553,0)*1","v":0},{"$f":"IF('Relevés de  commissions'!D553=\"AGI externes\",'Relevés de  commissions'!N553,0)*1","v":0},{"$f":"IF('Relevés de  commissions'!D553=\"AGI externes\",'Relevés de  commissions'!O553,0)*1","v":0},{"$f":"IF('Relevés de  commissions'!D553=\"AGI externes\",'Relevés de  commissions'!P553,0)*1","v":0},0,""]
[null,null,null,null,null,null,null,null,null,null,null,null,{"$f":"IF('Relevés de  commissions'!D554=\"AGI externes\",'Relevés de  commissions'!M554,0)*1","v":0},{"$f":"IF('Relevés de  commissions'!D554=\"AGI externes\",'Relevés de  commissions'!N554,0)*1","v":0},{"$f":"IF('Relevés de  commissions'!D554=\"AGI externes\",'Relevés de  commissions'!O554,0)*1","v":0},{"$f":"IF('Relevés de  commissions'!D554=\"AGI externes\",'Relevés de  commissions'!P554,0)*1","v":0},0,""]
[null,null,null,null,null,null,null,null,null,null,null,null,{"$f":"IF('Relevés de  commissions'!D555=\"AGI externes\",'Relevés de  commissions'!M555,0)*1","v":0},{"$f":"IF('Relevés de  commissions'!D555=\"AGI externes\",'Relevés de  commissions'!N555,0)*1","v":0},{"$f":"IF('Relevés de  commissions'!D555=\"AGI externes\",'Relevés de  commissions'!O555,0)*1","v":0},{"$f":"IF('Relevés de  commissions'!D555=\"AGI externes\",'Relevés de  commissions'!P555,0)*1","v":0},0,""]
[null,null,null,null,null,null,null,null,null,null,null,null,{"$f":"IF('Relevés de  commissions'!D556=\"AGI externes\",'Relevés de  commissions'!M556,0)*1","v":0},{"$f":"IF('Relevés de  commissions'!D556=\"AGI externes\",'Relevés de  commissions'!N556,0)*1","v":0},{"$f":"IF('Relevés de  commissions'!D556=\"AGI externes\",'Relevés de  commissions'!O556,0)*1","v":0},{"$f":"IF('Relevés de  commissions'!D556=\"AGI externes\",'Relevés de  commissions'!P556,0)*1","v":0},0,""]
[null,null,null,null,null,null,null,null,null,null,null,null,{"$f":"IF('Relevés de  commissions'!D557=\"AGI externes\",'Relevés de  commissions'!M557,0)*1","v":0},{"$f":"IF('Relevés de  commissions'!D557=\"AGI externes\",'Relevés de  commissions'!N557,0)*1","v":0},{"$f":"IF('Relevés de  commissions'!D557=\"AGI externes\",'Relevés de  commissions'!O557,0)*1","v":0},{"$f":"IF('Relevés de  commissions'!D557=\"AGI externes\",'Relevés de  commissions'!P557,0)*1","v":0},0,""]
[null,null,null,null,null,null,null,null,null,null,null,null,{"$f":"IF('Relevés de  commissions'!D558=\"AGI externes\",'Relevés de  commissions'!M558,0)*1","v":0},{"$f":"IF('Relevés de  commissions'!D558=\"AGI externes\",'Relevés de  commissions'!N558,0)*1","v":0},{"$f":"IF('Relevés de  commissions'!D558=\"AGI externes\",'Relevés de  commissions'!O558,0)*1","v":0},{"$f":"IF('Relevés de  commissions'!D558=\"AGI externes\",'Relevés de  commissions'!P558,0)*1","v":0},0,""]
[null,null,null,null,null,null,null,null,null,null,null,null,{"$f":"IF('Relevés de  commissions'!D559=\"AGI externes\",'Relevés de  commissions'!M559,0)*1","v":0},{"$f":"IF('Relevés de  commissions'!D559=\"AGI externes\",'Relevés de  commissions'!N559,0)*1","v":0},{"$f":"IF('Relevés de  commissions'!D559=\"AGI externes\",'Relevés de  commissions'!O559,0)*1","v":0},{"$f":"IF('Relevés de  commissions'!D559=\"AGI externes\",'Relevés de  commissions'!P559,0)*1","v":0},0,""]
[null,null,null,null,null,null,null,null,null,null,null,null,{"$f":"IF('Relevés de  commissions'!D560=\"AGI externes\",'Relevés de  commissions'!M560,0)*1","v":0},{"$f":"IF('Relevés de  commissions'!D560=\"AGI externes\",'Relevés de  commissions'!N560,0)*1","v":0},{"$f":"IF('Relevés de  commissions'!D560=\"AGI externes\",'Relevés de  commissions'!O560,0)*1","v":0},{"$f":"IF('Relevés de  commissions'!D560=\"AGI externes\",'Relevés de  commissions'!P560,0)*1","v":0},0,""]
[null,null,null,null,null,null,null,null,null,null,null,null,{"$f":"IF('Relevés de  commissions'!D561=\"AGI externes\",'Relevés de  commissions'!M561,0)*1","v":0},{"$f":"IF('Relevés de  commissions'!D561=\"AGI externes\",'Relevés de  commissions'!N561,0)*1","v":0},{"$f":"IF('Relevés de  commissions'!D561=\"AGI externes\",'Relevés de  commissions'!O561,0)*1","v":0},{"$f":"IF('Relevés de  commissions'!D561=\"AGI externes\",'Relevés de  commissions'!P561,0)*1","v":0},0,""]
[null,null,null,null,null,null,null,null,null,null,null,null,{"$f":"IF('Relevés de  commissions'!D562=\"AGI externes\",'Relevés de  commissions'!M562,0)*1","v":0},{"$f":"IF('Relevés de  commissions'!D562=\"AGI externes\",'Relevés de  commissions'!N562,0)*1","v":0},{"$f":"IF('Relevés de  commissions'!D562=\"AGI externes\",'Relevés de  commissions'!O562,0)*1","v":0},{"$f":"IF('Relevés de  commissions'!D562=\"AGI externes\",'Relevés de  commissions'!P562,0)*1","v":0},0,""]
[null,null,null,null,null,null,null,null,null,null,null,null,{"$f":"IF('Relevés de  commissions'!D563=\"AGI externes\",'Relevés de  commissions'!M563,0)*1","v":0},{"$f":"IF('Relevés de  commissions'!D563=\"AGI externes\",'Relevés de  commissions'!N563,0)*1","v":0},{"$f":"IF('Relevés de  commissions'!D563=\"AGI externes\",'Relevés de  commissions'!O563,0)*1","v":0},{"$f":"IF('Relevés de  commissions'!D563=\"AGI externes\",'Relevés de  commissions'!P563,0)*1","v":0},0,""]
[null,null,null,null,null,null,null,null,null,null,null,null,{"$f":"IF('Relevés de  commissions'!D564=\"AGI externes\",'Relevés de  commissions'!M564,0)*1","v":0},{"$f":"IF('Relevés de  commissions'!D564=\"AGI externes\",'Relevés de  commissions'!N564,0)*1","v":0},{"$f":"IF('Relevés de  commissions'!D564=\"AGI externes\",'Relevés de  commissions'!O564,0)*1","v":0},{"$f":"IF('Relevés de  commissions'!D564=\"AGI externes\",'Relevés de  commissions'!P564,0)*1","v":0},0,""]
[null,null,null,null,null,null,null,null,null,null,null,null,{"$f":"IF('Relevés de  commissions'!D565=\"AGI externes\",'Relevés de  commissions'!M565,0)*1","v":0},{"$f":"IF('Relevés de  commissions'!D565=\"AGI externes\",'Relevés de  commissions'!N565,0)*1","v":0},{"$f":"IF('Relevés de  commissions'!D565=\"AGI externes\",'Relevés de  commissions'!O565,0)*1","v":0},{"$f":"IF('Relevés de  commissions'!D565=\"AGI externes\",'Relevés de  commissions'!P565,0)*1","v":0},0,""]
[null,null,null,null,null,null,null,null,null,null,null,null,{"$f":"IF('Relevés de  commissions'!D566=\"AGI externes\",'Relevés de  commissions'!M566,0)*1","v":0},{"$f":"IF('Relevés de  commissions'!D566=\"AGI externes\",'Relevés de  commissions'!N566,0)*1","v":0},{"$f":"IF('Relevés de  commissions'!D566=\"AGI externes\",'Relevés de  commissions'!O566,0)*1","v":0},{"$f":"IF('Relevés de  commissions'!D566=\"AGI externes\",'Relevés de  commissions'!P566,0)*1","v":0},0,""]
[null,null,null,null,null,null,null,null,null,null,null,null,{"$f":"IF('Relevés de  commissions'!D567=\"AGI externes\",'Relevés de  commissions'!M567,0)*1","v":0},{"$f":"IF('Relevés de  commissions'!D567=\"AGI externes\",'Relevés de  commissions'!N567,0)*1","v":0},{"$f":"IF('Relevés de  commissions'!D567=\"AGI externes\",'Relevés de  commissions'!O567,0)*1","v":0},{"$f":"IF('Relevés de  commissions'!D567=\"AGI externes\",'Relevés de  commissions'!P567,0)*1","v":0},0,""]
[null,null,null,null,null,null,null,null,null,null,null,null,{"$f":"IF('Relevés de  commissions'!D568=\"AGI externes\",'Relevés de  commissions'!M568,0)*1","v":0},{"$f":"IF('Relevés de  commissions'!D568=\"AGI externes\",'Relevés de  commissions'!N568,0)*1","v":0},{"$f":"IF('Relevés de  commissions'!D568=\"AGI externes\",'Relevés de  commissions'!O568,0)*1","v":0},{"$f":"IF('Relevés de  commissions'!D568=\"AGI externes\",'Relevés de  commissions'!P568,0)*1","v":0},0,""]
[null,null,null,null,null,null,null,null,null,null,null,null,{"$f":"IF('Relevés de  commissions'!D569=\"AGI externes\",'Relevés de  commissions'!M569,0)*1","v":0},{"$f":"IF('Relevés de  commissions'!D569=\"AGI externes\",'Relevés de  commissions'!N569,0)*1","v":0},{"$f":"IF('Relevés de  commissions'!D569=\"AGI externes\",'Relevés de  commissions'!O569,0)*1","v":0},{"$f":"IF('Relevés de  commissions'!D569=\"AGI externes\",'Relevés de  commissions'!P569,0)*1","v":0},0,""]
[null,null,null,null,null,null,null,null,null,null,null,null,{"$f":"IF('Relevés de  commissions'!D570=\"AGI externes\",'Relevés de  commissions'!M570,0)*1","v":0},{"$f":"IF('Relevés de  commissions'!D570=\"AGI externes\",'Relevés de  commissions'!N570,0)*1","v":0},{"$f":"IF('Relevés de  commissions'!D570=\"AGI externes\",'Relevés de  commissions'!O570,0)*1","v":0},{"$f":"IF('Relevés de  commissions'!D570=\"AGI externes\",'Relevés de  commissions'!P570,0)*1","v":0},0,""]
[null,null,null,null,null,null,null,null,null,null,null,null,{"$f":"IF('Relevés de  commissions'!D571=\"AGI externes\",'Relevés de  commissions'!M571,0)*1","v":0},{"$f":"IF('Relevés de  commissions'!D571=\"AGI externes\",'Relevés de  commissions'!N571,0)*1","v":0},{"$f":"IF('Relevés de  commissions'!D571=\"AGI externes\",'Relevés de  commissions'!O571,0)*1","v":0},{"$f":"IF('Relevés de  commissions'!D571=\"AGI externes\",'Relevés de  commissions'!P571,0)*1","v":0},0,""]
[null,null,null,null,null,null,null,null,null,null,null,null,{"$f":"IF('Relevés de  commissions'!D572=\"AGI externes\",'Relevés de  commissions'!M572,0)*1","v":0},{"$f":"IF('Relevés de  commissions'!D572=\"AGI externes\",'Relevés de  commissions'!N572,0)*1","v":0},{"$f":"IF('Relevés de  commissions'!D572=\"AGI externes\",'Relevés de  commissions'!O572,0)*1","v":0},{"$f":"IF('Relevés de  commissions'!D572=\"AGI externes\",'Relevés de  commissions'!P572,0)*1","v":0},0,""]
[null,null,null,null,null,null,null,null,null,null,null,null,{"$f":"IF('Relevés de  commissions'!D573=\"AGI externes\",'Relevés de  commissions'!M573,0)*1","v":0},{"$f":"IF('Relevés de  commissions'!D573=\"AGI externes\",'Relevés de  commissions'!N573,0)*1","v":0},{"$f":"IF('Relevés de  commissions'!D573=\"AGI externes\",'Relevés de  commissions'!O573,0)*1","v":0},{"$f":"IF('Relevés de  commissions'!D573=\"AGI externes\",'Relevés de  commissions'!P573,0)*1","v":0},0,""]
[null,null,null,null,null,null,null,null,null,null,null,null,{"$f":"IF('Relevés de  commissions'!D574=\"AGI externes\",'Relevés de  commissions'!M574,0)*1","v":0},{"$f":"IF('Relevés de  commissions'!D574=\"AGI externes\",'Relevés de  commissions'!N574,0)*1","v":0},{"$f":"IF('Relevés de  commissions'!D574=\"AGI externes\",'Relevés de  commissions'!O574,0)*1","v":0},{"$f":"IF('Relevés de  commissions'!D574=\"AGI externes\",'Relevés de  commissions'!P574,0)*1","v":0},0,""]
[null,null,null,null,null,null,null,null,null,null,null,null,{"$f":"IF('Relevés de  commissions'!D575=\"AGI externes\",'Relevés de  commissions'!M575,0)*1","v":0},{"$f":"IF('Relevés de  commissions'!D575=\"AGI externes\",'Relevés de  commissions'!N575,0)*1","v":0},{"$f":"IF('Relevés de  commissions'!D575=\"AGI externes\",'Relevés de  commissions'!O575,0)*1","v":0},{"$f":"IF('Relevés de  commissions'!D575=\"AGI externes\",'Relevés de  commissions'!P575,0)*1","v":0},0,""]
[null,null,null,null,null,null,null,null,null,null,null,null,{"$f":"IF('Relevés de  commissions'!D576=\"AGI externes\",'Relevés de  commissions'!M576,0)*1","v":0},{"$f":"IF('Relevés de  commissions'!D576=\"AGI externes\",'Relevés de  commissions'!N576,0)*1","v":0},{"$f":"IF('Relevés de  commissions'!D576=\"AGI externes\",'Relevés de  commissions'!O576,0)*1","v":0},{"$f":"IF('Relevés de  commissions'!D576=\"AGI externes\",'Relevés de  commissions'!P576,0)*1","v":0},0,""]
[null,null,null,null,null,null,null,null,null,null,null,null,{"$f":"IF('Relevés de  commissions'!D577=\"AGI externes\",'Relevés de  commissions'!M577,0)*1","v":0},{"$f":"IF('Relevés de  commissions'!D577=\"AGI externes\",'Relevés de  commissions'!N577,0)*1","v":0},{"$f":"IF('Relevés de  commissions'!D577=\"AGI externes\",'Relevés de  commissions'!O577,0)*1","v":0},{"$f":"IF('Relevés de  commissions'!D577=\"AGI externes\",'Relevés de  commissions'!P577,0)*1","v":0},0,""]
[null,null,null,null,null,null,null,null,null,null,null,null,{"$f":"IF('Relevés de  commissions'!D578=\"AGI externes\",'Relevés de  commissions'!M578,0)*1","v":0},{"$f":"IF('Relevés de  commissions'!D578=\"AGI externes\",'Relevés de  commissions'!N578,0)*1","v":0},{"$f":"IF('Relevés de  commissions'!D578=\"AGI externes\",'Relevés de  commissions'!O578,0)*1","v":0},{"$f":"IF('Relevés de  commissions'!D578=\"AGI externes\",'Relevés de  commissions'!P578,0)*1","v":0},0,""]
[null,null,null,null,null,null,null,null,null,null,null,null,{"$f":"IF('Relevés de  commissions'!D579=\"AGI externes\",'Relevés de  commissions'!M579,0)*1","v":0},{"$f":"IF('Relevés de  commissions'!D579=\"AGI externes\",'Relevés de  commissions'!N579,0)*1","v":0},{"$f":"IF('Relevés de  commissions'!D579=\"AGI externes\",'Relevés de  commissions'!O579,0)*1","v":0},{"$f":"IF('Relevés de  commissions'!D579=\"AGI externes\",'Relevés de  commissions'!P579,0)*1","v":0},{"$f":"IF(N581=0,O581,\"\")","v":0},{"$f":"IF(N581=10,O581,\"\")","v":""}]
[null,null,null,null,null,null,null,null,null,null,null,null,{"$f":"IF('Relevés de  commissions'!D580=\"AGI externes\",'Relevés de  commissions'!M580,0)*1","v":0},{"$f":"IF('Relevés de  commissions'!D580=\"AGI externes\",'Relevés de  commissions'!N580,0)*1","v":0},{"$f":"IF('Relevés de  commissions'!D580=\"AGI externes\",'Relevés de  commissions'!O580,0)*1","v":0},{"$f":"IF('Relevés de  commissions'!D580=\"AGI externes\",'Relevés de  commissions'!P580,0)*1","v":0},0,""]
[null,null,null,null,null,null,null,null,null,null,null,null,{"$f":"IF('Relevés de  commissions'!D581=\"AGI externes\",'Relevés de  commissions'!M581,0)*1","v":0},{"$f":"IF('Relevés de  commissions'!D581=\"AGI externes\",'Relevés de  commissions'!N581,0)*1","v":0},{"$f":"IF('Relevés de  commissions'!D581=\"AGI externes\",'Relevés de  commissions'!O581,0)*1","v":0},{"$f":"IF('Relevés de  commissions'!D581=\"AGI externes\",'Relevés de  commissions'!P581,0)*1","v":0},0,""]
[null,null,null,null,null,null,null,null,null,null,null,null,{"$f":"IF('Relevés de  commissions'!D582=\"AGI externes\",'Relevés de  commissions'!M582,0)*1","v":0},{"$f":"IF('Relevés de  commissions'!D582=\"AGI externes\",'Relevés de  commissions'!N582,0)*1","v":0},{"$f":"IF('Relevés de  commissions'!D582=\"AGI externes\",'Relevés de  commissions'!O582,0)*1","v":0},{"$f":"IF('Relevés de  commissions'!D582=\"AGI externes\",'Relevés de  commissions'!P582,0)*1","v":0},0,""]
[null,null,null,null,null,null,null,null,null,null,null,null,{"$f":"IF('Relevés de  commissions'!D583=\"AGI externes\",'Relevés de  commissions'!M583,0)*1","v":0},{"$f":"IF('Relevés de  commissions'!D583=\"AGI externes\",'Relevés de  commissions'!N583,0)*1","v":0},{"$f":"IF('Relevés de  commissions'!D583=\"AGI externes\",'Relevés de  commissions'!O583,0)*1","v":0},{"$f":"IF('Relevés de  commissions'!D583=\"AGI externes\",'Relevés de  commissions'!P583,0)*1","v":0},0,""]
[null,null,null,null,null,null,null,null,null,null,null,null,{"$f":"IF('Relevés de  commissions'!D584=\"AGI externes\",'Relevés de  commissions'!M584,0)*1","v":0},{"$f":"IF('Relevés de  commissions'!D584=\"AGI externes\",'Relevés de  commissions'!N584,0)*1","v":0},{"$f":"IF('Relevés de  commissions'!D584=\"AGI externes\",'Relevés de  commissions'!O584,0)*1","v":0},{"$f":"IF('Relevés de  commissions'!D584=\"AGI externes\",'Relevés de  commissions'!P584,0)*1","v":0},0,""]
[null,null,null,null,null,null,null,null,null,null,null,null,{"$f":"IF('Relevés de  commissions'!D585=\"AGI externes\",'Relevés de  commissions'!M585,0)*1","v":0},{"$f":"IF('Relevés de  commissions'!D585=\"AGI externes\",'Relevés de  commissions'!N585,0)*1","v":0},{"$f":"IF('Relevés de  commissions'!D585=\"AGI externes\",'Relevés de  commissions'!O585,0)*1","v":0},{"$f":"IF('Relevés de  commissions'!D585=\"AGI externes\",'Relevés de  commissions'!P585,0)*1","v":0},0,""]
[null,null,null,null,null,null,null,null,null,null,null,null,{"$f":"IF('Relevés de  commissions'!D586=\"AGI externes\",'Relevés de  commissions'!M586,0)*1","v":0},{"$f":"IF('Relevés de  commissions'!D586=\"AGI externes\",'Relevés de  commissions'!N586,0)*1","v":0},{"$f":"IF('Relevés de  commissions'!D586=\"AGI externes\",'Relevés de  commissions'!O586,0)*1","v":0},{"$f":"IF('Relevés de  commissions'!D586=\"AGI externes\",'Relevés de  commissions'!P586,0)*1","v":0},0,""]
[null,null,null,null,null,null,null,null,null,null,null,null,{"$f":"IF('Relevés de  commissions'!D587=\"AGI externes\",'Relevés de  commissions'!M587,0)*1","v":0},{"$f":"IF('Relevés de  commissions'!D587=\"AGI externes\",'Relevés de  commissions'!N587,0)*1","v":0},{"$f":"IF('Relevés de  commissions'!D587=\"AGI externes\",'Relevés de  commissions'!O587,0)*1","v":0},{"$f":"IF('Relevés de  commissions'!D587=\"AGI externes\",'Relevés de  commissions'!P587,0)*1","v":0},0,""]
[null,null,null,null,null,null,null,null,null,null,null,null,{"$f":"IF('Relevés de  commissions'!D588=\"AGI externes\",'Relevés de  commissions'!M588,0)*1","v":0},{"$f":"IF('Relevés de  commissions'!D588=\"AGI externes\",'Relevés de  commissions'!N588,0)*1","v":0},{"$f":"IF('Relevés de  commissions'!D588=\"AGI externes\",'Relevés de  commissions'!O588,0)*1","v":0},{"$f":"IF('Relevés de  commissions'!D588=\"AGI externes\",'Relevés de  commissions'!P588,0)*1","v":0},0,""]
[null,null,null,null,null,null,null,null,null,null,null,null,{"$f":"IF('Relevés de  commissions'!D589=\"AGI externes\",'Relevés de  commissions'!M589,0)*1","v":0},{"$f":"IF('Relevés de  commissions'!D589=\"AGI externes\",'Relevés de  commissions'!N589,0)*1","v":0},{"$f":"IF('Relevés de  commissions'!D589=\"AGI externes\",'Relevés de  commissions'!O589,0)*1","v":0},{"$f":"IF('Relevés de  commissions'!D589=\"AGI externes\",'Relevés de  commissions'!P589,0)*1","v":0},0,""]
[null,null,null,null,null,null,null,null,null,null,null,null,{"$f":"IF('Relevés de  commissions'!D590=\"AGI externes\",'Relevés de  commissions'!M590,0)*1","v":0},{"$f":"IF('Relevés de  commissions'!D590=\"AGI externes\",'Relevés de  commissions'!N590,0)*1","v":0},{"$f":"IF('Relevés de  commissions'!D590=\"AGI externes\",'Relevés de  commissions'!O590,0)*1","v":0},{"$f":"IF('Relevés de  commissions'!D590=\"AGI externes\",'Relevés de  commissions'!P590,0)*1","v":0},0,""]
[null,null,null,null,null,null,null,null,null,null,null,null,{"$f":"IF('Relevés de  commissions'!D591=\"AGI externes\",'Relevés de  commissions'!M591,0)*1","v":0},{"$f":"IF('Relevés de  commissions'!D591=\"AGI externes\",'Relevés de  commissions'!N591,0)*1","v":0},{"$f":"IF('Relevés de  commissions'!D591=\"AGI externes\",'Relevés de  commissions'!O591,0)*1","v":0},{"$f":"IF('Relevés de  commissions'!D591=\"AGI externes\",'Relevés de  commissions'!P591,0)*1","v":0},0,""]
[null,null,null,null,null,null,null,null,null,null,null,null,{"$f":"IF('Relevés de  commissions'!D592=\"AGI externes\",'Relevés de  commissions'!M592,0)*1","v":0},{"$f":"IF('Relevés de  commissions'!D592=\"AGI externes\",'Relevés de  commissions'!N592,0)*1","v":0},{"$f":"IF('Relevés de  commissions'!D592=\"AGI externes\",'Relevés de  commissions'!O592,0)*1","v":0},{"$f":"IF('Relevés de  commissions'!D592=\"AGI externes\",'Relevés de  commissions'!P592,0)*1","v":0},0,""]
[null,null,null,null,null,null,null,null,null,null,null,null,{"$f":"IF('Relevés de  commissions'!D593=\"AGI externes\",'Relevés de  commissions'!M593,0)*1","v":0},{"$f":"IF('Relevés de  commissions'!D593=\"AGI externes\",'Relevés de  commissions'!N593,0)*1","v":0},{"$f":"IF('Relevés de  commissions'!D593=\"AGI externes\",'Relevés de  commissions'!O593,0)*1","v":0},{"$f":"IF('Relevés de  commissions'!D593=\"AGI externes\",'Relevés de  commissions'!P593,0)*1","v":0},0,""]
[null,null,null,null,null,null,null,null,null,null,null,null,{"$f":"IF('Relevés de  commissions'!D594=\"AGI externes\",'Relevés de  commissions'!M594,0)*1","v":0},{"$f":"IF('Relevés de  commissions'!D594=\"AGI externes\",'Relevés de  commissions'!N594,0)*1","v":0},{"$f":"IF('Relevés de  commissions'!D594=\"AGI externes\",'Relevés de  commissions'!O594,0)*1","v":0},{"$f":"IF('Relevés de  commissions'!D594=\"AGI externes\",'Relevés de  commissions'!P594,0)*1","v":0},0,""]
[null,null,null,null,null,null,null,null,null,null,null,null,{"$f":"IF('Relevés de  commissions'!D595=\"AGI externes\",'Relevés de  commissions'!M595,0)*1","v":0},{"$f":"IF('Relevés de  commissions'!D595=\"AGI externes\",'Relevés de  commissions'!N595,0)*1","v":0},{"$f":"IF('Relevés de  commissions'!D595=\"AGI externes\",'Relevés de  commissions'!O595,0)*1","v":0},{"$f":"IF('Relevés de  commissions'!D595=\"AGI externes\",'Relevés de  commissions'!P595,0)*1","v":0},0,""]
[null,null,null,null,null,null,null,null,null,null,null,null,{"$f":"IF('Relevés de  commissions'!D596=\"AGI externes\",'Relevés de  commissions'!M596,0)*1","v":0},{"$f":"IF('Relevés de  commissions'!D596=\"AGI externes\",'Relevés de  commissions'!N596,0)*1","v":0},{"$f":"IF('Relevés de  commissions'!D596=\"AGI externes\",'Relevés de  commissions'!O596,0)*1","v":0},{"$f":"IF('Relevés de  commissions'!D596=\"AGI externes\",'Relevés de  commissions'!P596,0)*1","v":0},0,""]
[null,null,null,null,null,null,null,null,null,null,null,null,{"$f":"IF('Relevés de  commissions'!D597=\"AGI externes\",'Relevés de  commissions'!M597,0)*1","v":0},{"$f":"IF('Relevés de  commissions'!D597=\"AGI externes\",'Relevés de  commissions'!N597,0)*1","v":0},{"$f":"IF('Relevés de  commissions'!D597=\"AGI externes\",'Relevés de  commissions'!O597,0)*1","v":0},{"$f":"IF('Relevés de  commissions'!D597=\"AGI externes\",'Relevés de  commissions'!P597,0)*1","v":0},0,""]
[null,null,null,null,null,null,null,null,null,null,null,null,{"$f":"IF('Relevés de  commissions'!D598=\"AGI externes\",'Relevés de  commissions'!M598,0)*1","v":0},{"$f":"IF('Relevés de  commissions'!D598=\"AGI externes\",'Relevés de  commissions'!N598,0)*1","v":0},{"$f":"IF('Relevés de  commissions'!D598=\"AGI externes\",'Relevés de  commissions'!O598,0)*1","v":0},{"$f":"IF('Relevés de  commissions'!D598=\"AGI externes\",'Relevés de  commissions'!P598,0)*1","v":0},0,""]
[null,null,null,null,null,null,null,null,null,null,null,null,{"$f":"IF('Relevés de  commissions'!D599=\"AGI externes\",'Relevés de  commissions'!M599,0)*1","v":0},{"$f":"IF('Relevés de  commissions'!D599=\"AGI externes\",'Relevés de  commissions'!N599,0)*1","v":0},{"$f":"IF('Relevés de  commissions'!D599=\"AGI externes\",'Relevés de  commissions'!O599,0)*1","v":0},{"$f":"IF('Relevés de  commissions'!D599=\"AGI externes\",'Relevés de  commissions'!P599,0)*1","v":0},0,""]
[null,null,null,null,null,null,null,null,null,null,null,null,{"$f":"IF('Relevés de  commissions'!D600=\"AGI externes\",'Relevés de  commissions'!M600,0)*1","v":0},{"$f":"IF('Relevés de  commissions'!D600=\"AGI externes\",'Relevés de  commissions'!N600,0)*1","v":0},{"$f":"IF('Relevés de  commissions'!D600=\"AGI externes\",'Relevés de  commissions'!O600,0)*1","v":0},{"$f":"IF('Relevés de  commissions'!D600=\"AGI externes\",'Relevés de  commissions'!P600,0)*1","v":0},0,""]
[null,null,null,null,null,null,null,null,null,null,null,null,{"$f":"IF('Relevés de  commissions'!D601=\"AGI externes\",'Relevés de  commissions'!M601,0)*1","v":0},{"$f":"IF('Relevés de  commissions'!D601=\"AGI externes\",'Relevés de  commissions'!N601,0)*1","v":0},{"$f":"IF('Relevés de  commissions'!D601=\"AGI externes\",'Relevés de  commissions'!O601,0)*1","v":0},{"$f":"IF('Relevés de  commissions'!D601=\"AGI externes\",'Relevés de  commissions'!P601,0)*1","v":0},0,""]
[null,null,null,null,null,null,null,null,null,null,null,null,{"$f":"IF('Relevés de  commissions'!D602=\"AGI externes\",'Relevés de  commissions'!M602,0)*1","v":0},{"$f":"IF('Relevés de  commissions'!D602=\"AGI externes\",'Relevés de  commissions'!N602,0)*1","v":0},{"$f":"IF('Relevés de  commissions'!D602=\"AGI externes\",'Relevés de  commissions'!O602,0)*1","v":0},{"$f":"IF('Relevés de  commissions'!D602=\"AGI externes\",'Relevés de  commissions'!P602,0)*1","v":0},0,""]
[null,null,null,null,null,null,null,null,null,null,null,null,{"$f":"IF('Relevés de  commissions'!D603=\"AGI externes\",'Relevés de  commissions'!M603,0)*1","v":0},{"$f":"IF('Relevés de  commissions'!D603=\"AGI externes\",'Relevés de  commissions'!N603,0)*1","v":0},{"$f":"IF('Relevés de  commissions'!D603=\"AGI externes\",'Relevés de  commissions'!O603,0)*1","v":0},{"$f":"IF('Relevés de  commissions'!D603=\"AGI externes\",'Relevés de  commissions'!P603,0)*1","v":0},0,""]
[null,null,null,null,null,null,null,null,null,null,null,null,{"$f":"IF('Relevés de  commissions'!D604=\"AGI externes\",'Relevés de  commissions'!M604,0)*1","v":0},{"$f":"IF('Relevés de  commissions'!D604=\"AGI externes\",'Relevés de  commissions'!N604,0)*1","v":0},{"$f":"IF('Relevés de  commissions'!D604=\"AGI externes\",'Relevés de  commissions'!O604,0)*1","v":0},{"$f":"IF('Relevés de  commissions'!D604=\"AGI externes\",'Relevés de  commissions'!P604,0)*1","v":0},0,""]
[null,null,null,null,null,null,null,null,null,null,null,null,{"$f":"IF('Relevés de  commissions'!D605=\"AGI externes\",'Relevés de  commissions'!M605,0)*1","v":0},{"$f":"IF('Relevés de  commissions'!D605=\"AGI externes\",'Relevés de  commissions'!N605,0)*1","v":0},{"$f":"IF('Relevés de  commissions'!D605=\"AGI externes\",'Relevés de  commissions'!O605,0)*1","v":0},{"$f":"IF('Relevés de  commissions'!D605=\"AGI externes\",'Relevés de  commissions'!P605,0)*1","v":0},0,""]
[null,null,null,null,null,null,null,null,null,null,null,null,{"$f":"IF('Relevés de  commissions'!D606=\"AGI externes\",'Relevés de  commissions'!M606,0)*1","v":0},{"$f":"IF('Relevés de  commissions'!D606=\"AGI externes\",'Relevés de  commissions'!N606,0)*1","v":0},{"$f":"IF('Relevés de  commissions'!D606=\"AGI externes\",'Relevés de  commissions'!O606,0)*1","v":0},{"$f":"IF('Relevés de  commissions'!D606=\"AGI externes\",'Relevés de  commissions'!P606,0)*1","v":0},0,""]
[null,null,null,null,null,null,null,null,null,null,null,null,{"$f":"IF('Relevés de  commissions'!D607=\"AGI externes\",'Relevés de  commissions'!M607,0)*1","v":0},{"$f":"IF('Relevés de  commissions'!D607=\"AGI externes\",'Relevés de  commissions'!N607,0)*1","v":0},{"$f":"IF('Relevés de  commissions'!D607=\"AGI externes\",'Relevés de  commissions'!O607,0)*1","v":0},{"$f":"IF('Relevés de  commissions'!D607=\"AGI externes\",'Relevés de  commissions'!P607,0)*1","v":0},0,""]
[null,null,null,null,null,null,null,null,null,null,null,null,{"$f":"IF('Relevés de  commissions'!D608=\"AGI externes\",'Relevés de  commissions'!M608,0)*1","v":0},{"$f":"IF('Relevés de  commissions'!D608=\"AGI externes\",'Relevés de  commissions'!N608,0)*1","v":0},{"$f":"IF('Relevés de  commissions'!D608=\"AGI externes\",'Relevés de  commissions'!O608,0)*1","v":0},{"$f":"IF('Relevés de  commissions'!D608=\"AGI externes\",'Relevés de  commissions'!P608,0)*1","v":0},0,""]
[null,null,null,null,null,null,null,null,null,null,null,null,{"$f":"IF('Relevés de  commissions'!D609=\"AGI externes\",'Relevés de  commissions'!M609,0)*1","v":0},{"$f":"IF('Relevés de  commissions'!D609=\"AGI externes\",'Relevés de  commissions'!N609,0)*1","v":0},{"$f":"IF('Relevés de  commissions'!D609=\"AGI externes\",'Relevés de  commissions'!O609,0)*1","v":0},{"$f":"IF('Relevés de  commissions'!D609=\"AGI externes\",'Relevés de  commissions'!P609,0)*1","v":0},0,""]
[null,null,null,null,null,null,null,null,null,null,null,null,{"$f":"IF('Relevés de  commissions'!D610=\"AGI externes\",'Relevés de  commissions'!M610,0)*1","v":0},{"$f":"IF('Relevés de  commissions'!D610=\"AGI externes\",'Relevés de  commissions'!N610,0)*1","v":0},{"$f":"IF('Relevés de  commissions'!D610=\"AGI externes\",'Relevés de  commissions'!O610,0)*1","v":0},{"$f":"IF('Relevés de  commissions'!D610=\"AGI externes\",'Relevés de  commissions'!P610,0)*1","v":0},0,""]
[null,null,null,null,null,null,null,null,null,null,null,null,{"$f":"IF('Relevés de  commissions'!D611=\"AGI externes\",'Relevés de  commissions'!M611,0)*1","v":0},{"$f":"IF('Relevés de  commissions'!D611=\"AGI externes\",'Relevés de  commissions'!N611,0)*1","v":0},{"$f":"IF('Relevés de  commissions'!D611=\"AGI externes\",'Relevés de  commissions'!O611,0)*1","v":0},{"$f":"IF('Relevés de  commissions'!D611=\"AGI externes\",'Relevés de  commissions'!P611,0)*1","v":0},0,""]
[null,null,null,null,null,null,null,null,null,null,null,null,{"$f":"IF('Relevés de  commissions'!D612=\"AGI externes\",'Relevés de  commissions'!M612,0)*1","v":0},{"$f":"IF('Relevés de  commissions'!D612=\"AGI externes\",'Relevés de  commissions'!N612,0)*1","v":0},{"$f":"IF('Relevés de  commissions'!D612=\"AGI externes\",'Relevés de  commissions'!O612,0)*1","v":0},{"$f":"IF('Relevés de  commissions'!D612=\"AGI externes\",'Relevés de  commissions'!P612,0)*1","v":0},0,""]
[null,null,null,null,null,null,null,null,null,null,null,null,{"$f":"IF('Relevés de  commissions'!D613=\"AGI externes\",'Relevés de  commissions'!M613,0)*1","v":0},{"$f":"IF('Relevés de  commissions'!D613=\"AGI externes\",'Relevés de  commissions'!N613,0)*1","v":0},{"$f":"IF('Relevés de  commissions'!D613=\"AGI externes\",'Relevés de  commissions'!O613,0)*1","v":0},{"$f":"IF('Relevés de  commissions'!D613=\"AGI externes\",'Relevés de  commissions'!P613,0)*1","v":0},0,""]
[null,null,null,null,null,null,null,null,null,null,null,null,{"$f":"IF('Relevés de  commissions'!D614=\"AGI externes\",'Relevés de  commissions'!M614,0)*1","v":0},{"$f":"IF('Relevés de  commissions'!D614=\"AGI externes\",'Relevés de  commissions'!N614,0)*1","v":0},{"$f":"IF('Relevés de  commissions'!D614=\"AGI externes\",'Relevés de  commissions'!O614,0)*1","v":0},{"$f":"IF('Relevés de  commissions'!D614=\"AGI externes\",'Relevés de  commissions'!P614,0)*1","v":0},0,""]
[null,null,null,null,null,null,null,null,null,null,null,null,{"$f":"IF('Relevés de  commissions'!D615=\"AGI externes\",'Relevés de  commissions'!M615,0)*1","v":0},{"$f":"IF('Relevés de  commissions'!D615=\"AGI externes\",'Relevés de  commissions'!N615,0)*1","v":0},{"$f":"IF('Relevés de  commissions'!D615=\"AGI externes\",'Relevés de  commissions'!O615,0)*1","v":0},{"$f":"IF('Relevés de  commissions'!D615=\"AGI externes\",'Relevés de  commissions'!P615,0)*1","v":0},0,""]
[null,null,null,null,null,null,null,null,null,null,null,null,{"$f":"IF('Relevés de  commissions'!D616=\"AGI externes\",'Relevés de  commissions'!M616,0)*1","v":0},{"$f":"IF('Relevés de  commissions'!D616=\"AGI externes\",'Relevés de  commissions'!N616,0)*1","v":0},{"$f":"IF('Relevés de  commissions'!D616=\"AGI externes\",'Relevés de  commissions'!O616,0)*1","v":0},{"$f":"IF('Relevés de  commissions'!D616=\"AGI externes\",'Relevés de  commissions'!P616,0)*1","v":0},0,""]
[null,null,null,null,null,null,null,null,null,null,null,null,{"$f":"IF('Relevés de  commissions'!D617=\"AGI externes\",'Relevés de  commissions'!M617,0)*1","v":0},{"$f":"IF('Relevés de  commissions'!D617=\"AGI externes\",'Relevés de  commissions'!N617,0)*1","v":0},{"$f":"IF('Relevés de  commissions'!D617=\"AGI externes\",'Relevés de  commissions'!O617,0)*1","v":0},{"$f":"IF('Relevés de  commissions'!D617=\"AGI externes\",'Relevés de  commissions'!P617,0)*1","v":0},0,""]
[null,null,null,null,null,null,null,null,null,null,null,null,{"$f":"IF('Relevés de  commissions'!D618=\"AGI externes\",'Relevés de  commissions'!M618,0)*1","v":0},{"$f":"IF('Relevés de  commissions'!D618=\"AGI externes\",'Relevés de  commissions'!N618,0)*1","v":0},{"$f":"IF('Relevés de  commissions'!D618=\"AGI externes\",'Relevés de  commissions'!O618,0)*1","v":0},{"$f":"IF('Relevés de  commissions'!D618=\"AGI externes\",'Relevés de  commissions'!P618,0)*1","v":0},0,""]
[null,null,null,null,null,null,null,null,null,null,null,null,{"$f":"IF('Relevés de  commissions'!D619=\"AGI externes\",'Relevés de  commissions'!M619,0)*1","v":0},{"$f":"IF('Relevés de  commissions'!D619=\"AGI externes\",'Relevés de  commissions'!N619,0)*1","v":0},{"$f":"IF('Relevés de  commissions'!D619=\"AGI externes\",'Relevés de  commissions'!O619,0)*1","v":0},{"$f":"IF('Relevés de  commissions'!D619=\"AGI externes\",'Relevés de  commissions'!P619,0)*1","v":0},0,""]
[null,null,null,null,null,null,null,null,null,null,null,null,{"$f":"IF('Relevés de  commissions'!D620=\"AGI externes\",'Relevés de  commissions'!M620,0)*1","v":0},{"$f":"IF('Relevés de  commissions'!D620=\"AGI externes\",'Relevés de  commissions'!N620,0)*1","v":0},{"$f":"IF('Relevés de  commissions'!D620=\"AGI externes\",'Relevés de  commissions'!O620,0)*1","v":0},{"$f":"IF('Relevés de  commissions'!D620=\"AGI externes\",'Relevés de  commissions'!P620,0)*1","v":0},0,""]
[null,null,null,null,null,null,null,null,null,null,null,null,{"$f":"IF('Relevés de  commissions'!D621=\"AGI externes\",'Relevés de  commissions'!M621,0)*1","v":0},{"$f":"IF('Relevés de  commissions'!D621=\"AGI externes\",'Relevés de  commissions'!N621,0)*1","v":0},{"$f":"IF('Relevés de  commissions'!D621=\"AGI externes\",'Relevés de  commissions'!O621,0)*1","v":0},{"$f":"IF('Relevés de  commissions'!D621=\"AGI externes\",'Relevés de  commissions'!P621,0)*1","v":0},0,""]
[null,null,null,null,null,null,null,null,null,null,null,null,{"$f":"IF('Relevés de  commissions'!D622=\"AGI externes\",'Relevés de  commissions'!M622,0)*1","v":0},{"$f":"IF('Relevés de  commissions'!D622=\"AGI externes\",'Relevés de  commissions'!N622,0)*1","v":0},{"$f":"IF('Relevés de  commissions'!D622=\"AGI externes\",'Relevés de  commissions'!O622,0)*1","v":0},{"$f":"IF('Relevés de  commissions'!D622=\"AGI externes\",'Relevés de  commissions'!P622,0)*1","v":0},0,""]
[null,null,null,null,null,null,null,null,null,null,null,null,{"$f":"IF('Relevés de  commissions'!D623=\"AGI externes\",'Relevés de  commissions'!M623,0)*1","v":0},{"$f":"IF('Relevés de  commissions'!D623=\"AGI externes\",'Relevés de  commissions'!N623,0)*1","v":0},{"$f":"IF('Relevés de  commissions'!D623=\"AGI externes\",'Relevés de  commissions'!O623,0)*1","v":0},{"$f":"IF('Relevés de  commissions'!D623=\"AGI externes\",'Relevés de  commissions'!P623,0)*1","v":0},0,""]
[null,null,null,null,null,null,null,null,null,null,null,null,{"$f":"IF('Relevés de  commissions'!D624=\"AGI externes\",'Relevés de  commissions'!M624,0)*1","v":0},{"$f":"IF('Relevés de  commissions'!D624=\"AGI externes\",'Relevés de  commissions'!N624,0)*1","v":0},{"$f":"IF('Relevés de  commissions'!D624=\"AGI externes\",'Relevés de  commissions'!O624,0)*1","v":0},{"$f":"IF('Relevés de  commissions'!D624=\"AGI externes\",'Relevés de  commissions'!P624,0)*1","v":0},0,""]
[null,null,null,null,null,null,null,null,null,null,null,null,{"$f":"IF('Relevés de  commissions'!D625=\"AGI externes\",'Relevés de  commissions'!M625,0)*1","v":0},{"$f":"IF('Relevés de  commissions'!D625=\"AGI externes\",'Relevés de  commissions'!N625,0)*1","v":0},{"$f":"IF('Relevés de  commissions'!D625=\"AGI externes\",'Relevés de  commissions'!O625,0)*1","v":0},{"$f":"IF('Relevés de  commissions'!D625=\"AGI externes\",'Relevés de  commissions'!P625,0)*1","v":0},0,""]
[null,null,null,null,null,null,null,null,null,null,null,null,{"$f":"IF('Relevés de  commissions'!D626=\"AGI externes\",'Relevés de  commissions'!M626,0)*1","v":0},{"$f":"IF('Relevés de  commissions'!D626=\"AGI externes\",'Relevés de  commissions'!N626,0)*1","v":0},{"$f":"IF('Relevés de  commissions'!D626=\"AGI externes\",'Relevés de  commissions'!O626,0)*1","v":0},{"$f":"IF('Relevés de  commissions'!D626=\"AGI externes\",'Relevés de  commissions'!P626,0)*1","v":0},0,""]
[null,null,null,null,null,null,null,null,null,null,null,null,{"$f":"IF('Relevés de  commissions'!D627=\"AGI externes\",'Relevés de  commissions'!M627,0)*1","v":0},{"$f":"IF('Relevés de  commissions'!D627=\"AGI externes\",'Relevés de  commissions'!N627,0)*1","v":0},{"$f":"IF('Relevés de  commissions'!D627=\"AGI externes\",'Relevés de  commissions'!O627,0)*1","v":0},{"$f":"IF('Relevés de  commissions'!D627=\"AGI externes\",'Relevés de  commissions'!P627,0)*1","v":0},0,""]
[null,null,null,null,null,null,null,null,null,null,null,null,{"$f":"IF('Relevés de  commissions'!D628=\"AGI externes\",'Relevés de  commissions'!M628,0)*1","v":0},{"$f":"IF('Relevés de  commissions'!D628=\"AGI externes\",'Relevés de  commissions'!N628,0)*1","v":0},{"$f":"IF('Relevés de  commissions'!D628=\"AGI externes\",'Relevés de  commissions'!O628,0)*1","v":0},{"$f":"IF('Relevés de  commissions'!D628=\"AGI externes\",'Relevés de  commissions'!P628,0)*1","v":0},0,""]
[null,null,null,null,null,null,null,null,null,null,null,null,{"$f":"IF('Relevés de  commissions'!D629=\"AGI externes\",'Relevés de  commissions'!M629,0)*1","v":0},{"$f":"IF('Relevés de  commissions'!D629=\"AGI externes\",'Relevés de  commissions'!N629,0)*1","v":0},{"$f":"IF('Relevés de  commissions'!D629=\"AGI externes\",'Relevés de  commissions'!O629,0)*1","v":0},{"$f":"IF('Relevés de  commissions'!D629=\"AGI externes\",'Relevés de  commissions'!P629,0)*1","v":0},0,""]
[null,null,null,null,null,null,null,null,null,null,null,null,{"$f":"IF('Relevés de  commissions'!D630=\"AGI externes\",'Relevés de  commissions'!M630,0)*1","v":0},{"$f":"IF('Relevés de  commissions'!D630=\"AGI externes\",'Relevés de  commissions'!N630,0)*1","v":0},{"$f":"IF('Relevés de  commissions'!D630=\"AGI externes\",'Relevés de  commissions'!O630,0)*1","v":0},{"$f":"IF('Relevés de  commissions'!D630=\"AGI externes\",'Relevés de  commissions'!P630,0)*1","v":0},0,""]
[null,null,null,null,null,null,null,null,null,null,null,null,{"$f":"IF('Relevés de  commissions'!D631=\"AGI externes\",'Relevés de  commissions'!M631,0)*1","v":0},{"$f":"IF('Relevés de  commissions'!D631=\"AGI externes\",'Relevés de  commissions'!N631,0)*1","v":0},{"$f":"IF('Relevés de  commissions'!D631=\"AGI externes\",'Relevés de  commissions'!O631,0)*1","v":0},{"$f":"IF('Relevés de  commissions'!D631=\"AGI externes\",'Relevés de  commissions'!P631,0)*1","v":0},0,""]
[null,null,null,null,null,null,null,null,null,null,null,null,{"$f":"IF('Relevés de  commissions'!D632=\"AGI externes\",'Relevés de  commissions'!M632,0)*1","v":0},{"$f":"IF('Relevés de  commissions'!D632=\"AGI externes\",'Relevés de  commissions'!N632,0)*1","v":0},{"$f":"IF('Relevés de  commissions'!D632=\"AGI externes\",'Relevés de  commissions'!O632,0)*1","v":0},{"$f":"IF('Relevés de  commissions'!D632=\"AGI externes\",'Relevés de  commissions'!P632,0)*1","v":0},0,""]
[null,null,null,null,null,null,null,null,null,null,null,null,{"$f":"IF('Relevés de  commissions'!D633=\"AGI externes\",'Relevés de  commissions'!M633,0)*1","v":0},{"$f":"IF('Relevés de  commissions'!D633=\"AGI externes\",'Relevés de  commissions'!N633,0)*1","v":0},{"$f":"IF('Relevés de  commissions'!D633=\"AGI externes\",'Relevés de  commissions'!O633,0)*1","v":0},{"$f":"IF('Relevés de  commissions'!D633=\"AGI externes\",'Relevés de  commissions'!P633,0)*1","v":0},0,""]
[null,null,null,null,null,null,null,null,null,null,null,null,{"$f":"IF('Relevés de  commissions'!D634=\"AGI externes\",'Relevés de  commissions'!M634,0)*1","v":0},{"$f":"IF('Relevés de  commissions'!D634=\"AGI externes\",'Relevés de  commissions'!N634,0)*1","v":0},{"$f":"IF('Relevés de  commissions'!D634=\"AGI externes\",'Relevés de  commissions'!O634,0)*1","v":0},{"$f":"IF('Relevés de  commissions'!D634=\"AGI externes\",'Relevés de  commissions'!P634,0)*1","v":0},0,""]
[null,null,null,null,null,null,null,null,null,null,null,null,{"$f":"IF('Relevés de  commissions'!D635=\"AGI externes\",'Relevés de  commissions'!M635,0)*1","v":0},{"$f":"IF('Relevés de  commissions'!D635=\"AGI externes\",'Relevés de  commissions'!N635,0)*1","v":0},{"$f":"IF('Relevés de  commissions'!D635=\"AGI externes\",'Relevés de  commissions'!O635,0)*1","v":0},{"$f":"IF('Relevés de  commissions'!D635=\"AGI externes\",'Relevés de  commissions'!P635,0)*1","v":0},0,""]
[null,null,null,null,null,null,null,null,null,null,null,null,{"$f":"IF('Relevés de  commissions'!D636=\"AGI externes\",'Relevés de  commissions'!M636,0)*1","v":0},{"$f":"IF('Relevés de  commissions'!D636=\"AGI externes\",'Relevés de  commissions'!N636,0)*1","v":0},{"$f":"IF('Relevés de  commissions'!D636=\"AGI externes\",'Relevés de  commissions'!O636,0)*1","v":0},{"$f":"IF('Relevés de  commissions'!D636=\"AGI externes\",'Relevés de  commissions'!P636,0)*1","v":0},0,""]
[null,null,null,null,null,null,null,null,null,null,null,null,{"$f":"IF('Relevés de  commissions'!D637=\"AGI externes\",'Relevés de  commissions'!M637,0)*1","v":0},{"$f":"IF('Relevés de  commissions'!D637=\"AGI externes\",'Relevés de  commissions'!N637,0)*1","v":0},{"$f":"IF('Relevés de  commissions'!D637=\"AGI externes\",'Relevés de  commissions'!O637,0)*1","v":0},{"$f":"IF('Relevés de  commissions'!D637=\"AGI externes\",'Relevés de  commissions'!P637,0)*1","v":0},0,""]
[null,null,null,null,null,null,null,null,null,null,null,null,{"$f":"IF('Relevés de  commissions'!D638=\"AGI externes\",'Relevés de  commissions'!M638,0)*1","v":0},{"$f":"IF('Relevés de  commissions'!D638=\"AGI externes\",'Relevés de  commissions'!N638,0)*1","v":0},{"$f":"IF('Relevés de  commissions'!D638=\"AGI externes\",'Relevés de  commissions'!O638,0)*1","v":0},{"$f":"IF('Relevés de  commissions'!D638=\"AGI externes\",'Relevés de  commissions'!P638,0)*1","v":0},0,""]
[null,null,null,null,null,null,null,null,null,null,null,null,{"$f":"IF('Relevés de  commissions'!D639=\"AGI externes\",'Relevés de  commissions'!M639,0)*1","v":0},{"$f":"IF('Relevés de  commissions'!D639=\"AGI externes\",'Relevés de  commissions'!N639,0)*1","v":0},{"$f":"IF('Relevés de  commissions'!D639=\"AGI externes\",'Relevés de  commissions'!O639,0)*1","v":0},{"$f":"IF('Relevés de  commissions'!D639=\"AGI externes\",'Relevés de  commissions'!P639,0)*1","v":0},0,""]
[null,null,null,null,null,null,null,null,null,null,null,null,{"$f":"IF('Relevés de  commissions'!D640=\"AGI externes\",'Relevés de  commissions'!M640,0)*1","v":0},{"$f":"IF('Relevés de  commissions'!D640=\"AGI externes\",'Relevés de  commissions'!N640,0)*1","v":0},{"$f":"IF('Relevés de  commissions'!D640=\"AGI externes\",'Relevés de  commissions'!O640,0)*1","v":0},{"$f":"IF('Relevés de  commissions'!D640=\"AGI externes\",'Relevés de  commissions'!P640,0)*1","v":0},0,""]
[null,null,null,null,null,null,null,null,null,null,null,null,{"$f":"IF('Relevés de  commissions'!D641=\"AGI externes\",'Relevés de  commissions'!M641,0)*1","v":0},{"$f":"IF('Relevés de  commissions'!D641=\"AGI externes\",'Relevés de  commissions'!N641,0)*1","v":0},{"$f":"IF('Relevés de  commissions'!D641=\"AGI externes\",'Relevés de  commissions'!O641,0)*1","v":0},{"$f":"IF('Relevés de  commissions'!D641=\"AGI externes\",'Relevés de  commissions'!P641,0)*1","v":0},0,""]
[null,null,null,null,null,null,null,null,null,null,null,null,{"$f":"IF('Relevés de  commissions'!D642=\"AGI externes\",'Relevés de  commissions'!M642,0)*1","v":0},{"$f":"IF('Relevés de  commissions'!D642=\"AGI externes\",'Relevés de  commissions'!N642,0)*1","v":0},{"$f":"IF('Relevés de  commissions'!D642=\"AGI externes\",'Relevés de  commissions'!O642,0)*1","v":0},{"$f":"IF('Relevés de  commissions'!D642=\"AGI externes\",'Relevés de  commissions'!P642,0)*1","v":0},0,""]
[null,null,null,null,null,null,null,null,null,null,null,null,{"$f":"IF('Relevés de  commissions'!D643=\"AGI externes\",'Relevés de  commissions'!M643,0)*1","v":0},{"$f":"IF('Relevés de  commissions'!D643=\"AGI externes\",'Relevés de  commissions'!N643,0)*1","v":0},{"$f":"IF('Relevés de  commissions'!D643=\"AGI externes\",'Relevés de  commissions'!O643,0)*1","v":0},{"$f":"IF('Relevés de  commissions'!D643=\"AGI externes\",'Relevés de  commissions'!P643,0)*1","v":0},{"$f":"IF(N645=0,O645,\"\")","v":0},{"$f":"IF(N645=10,O645,\"\")","v":""}]
[null,null,null,null,null,null,null,null,null,null,null,null,{"$f":"IF('Relevés de  commissions'!D644=\"AGI externes\",'Relevés de  commissions'!M644,0)*1","v":0},{"$f":"IF('Relevés de  commissions'!D644=\"AGI externes\",'Relevés de  commissions'!N644,0)*1","v":0},{"$f":"IF('Relevés de  commissions'!D644=\"AGI externes\",'Relevés de  commissions'!O644,0)*1","v":0},{"$f":"IF('Relevés de  commissions'!D644=\"AGI externes\",'Relevés de  commissions'!P644,0)*1","v":0},0,""]
[null,null,null,null,null,null,null,null,null,null,null,null,{"$f":"IF('Relevés de  commissions'!D645=\"AGI externes\",'Relevés de  commissions'!M645,0)*1","v":0},{"$f":"IF('Relevés de  commissions'!D645=\"AGI externes\",'Relevés de  commissions'!N645,0)*1","v":0},{"$f":"IF('Relevés de  commissions'!D645=\"AGI externes\",'Relevés de  commissions'!O645,0)*1","v":0},{"$f":"IF('Relevés de  commissions'!D645=\"AGI externes\",'Relevés de  commissions'!P645,0)*1","v":0},0,""]
[null,null,null,null,null,null,null,null,null,null,null,null,{"$f":"IF('Relevés de  commissions'!D646=\"AGI externes\",'Relevés de  commissions'!M646,0)*1","v":0},{"$f":"IF('Relevés de  commissions'!D646=\"AGI externes\",'Relevés de  commissions'!N646,0)*1","v":0},{"$f":"IF('Relevés de  commissions'!D646=\"AGI externes\",'Relevés de  commissions'!O646,0)*1","v":0},{"$f":"IF('Relevés de  commissions'!D646=\"AGI externes\",'Relevés de  commissions'!P646,0)*1","v":0},0,""]
[null,null,null,null,null,null,null,null,null,null,null,null,{"$f":"IF('Relevés de  commissions'!D647=\"AGI externes\",'Relevés de  commissions'!M647,0)*1","v":0},{"$f":"IF('Relevés de  commissions'!D647=\"AGI externes\",'Relevés de  commissions'!N647,0)*1","v":0},{"$f":"IF('Relevés de  commissions'!D647=\"AGI externes\",'Relevés de  commissions'!O647,0)*1","v":0},{"$f":"IF('Relevés de  commissions'!D647=\"AGI externes\",'Relevés de  commissions'!P647,0)*1","v":0},0,""]
[null,null,null,null,null,null,null,null,null,null,null,null,{"$f":"IF('Relevés de  commissions'!D648=\"AGI externes\",'Relevés de  commissions'!M648,0)*1","v":0},{"$f":"IF('Relevés de  commissions'!D648=\"AGI externes\",'Relevés de  commissions'!N648,0)*1","v":0},{"$f":"IF('Relevés de  commissions'!D648=\"AGI externes\",'Relevés de  commissions'!O648,0)*1","v":0},{"$f":"IF('Relevés de  commissions'!D648=\"AGI externes\",'Relevés de  commissions'!P648,0)*1","v":0},0,""]
[null,null,null,null,null,null,null,null,null,null,null,null,{"$f":"IF('Relevés de  commissions'!D649=\"AGI externes\",'Relevés de  commissions'!M649,0)*1","v":0},{"$f":"IF('Relevés de  commissions'!D649=\"AGI externes\",'Relevés de  commissions'!N649,0)*1","v":0},{"$f":"IF('Relevés de  commissions'!D649=\"AGI externes\",'Relevés de  commissions'!O649,0)*1","v":0},{"$f":"IF('Relevés de  commissions'!D649=\"AGI externes\",'Relevés de  commissions'!P649,0)*1","v":0},0,""]
[null,null,null,null,null,null,null,null,null,null,null,null,{"$f":"IF('Relevés de  commissions'!D650=\"AGI externes\",'Relevés de  commissions'!M650,0)*1","v":0},{"$f":"IF('Relevés de  commissions'!D650=\"AGI externes\",'Relevés de  commissions'!N650,0)*1","v":0},{"$f":"IF('Relevés de  commissions'!D650=\"AGI externes\",'Relevés de  commissions'!O650,0)*1","v":0},{"$f":"IF('Relevés de  commissions'!D650=\"AGI externes\",'Relevés de  commissions'!P650,0)*1","v":0},0,""]
[null,null,null,null,null,null,null,null,null,null,null,null,{"$f":"IF('Relevés de  commissions'!D651=\"AGI externes\",'Relevés de  commissions'!M651,0)*1","v":0},{"$f":"IF('Relevés de  commissions'!D651=\"AGI externes\",'Relevés de  commissions'!N651,0)*1","v":0},{"$f":"IF('Relevés de  commissions'!D651=\"AGI externes\",'Relevés de  commissions'!O651,0)*1","v":0},{"$f":"IF('Relevés de  commissions'!D651=\"AGI externes\",'Relevés de  commissions'!P651,0)*1","v":0},0,""]
[null,null,null,null,null,null,null,null,null,null,null,null,{"$f":"IF('Relevés de  commissions'!D652=\"AGI externes\",'Relevés de  commissions'!M652,0)*1","v":0},{"$f":"IF('Relevés de  commissions'!D652=\"AGI externes\",'Relevés de  commissions'!N652,0)*1","v":0},{"$f":"IF('Relevés de  commissions'!D652=\"AGI externes\",'Relevés de  commissions'!O652,0)*1","v":0},{"$f":"IF('Relevés de  commissions'!D652=\"AGI externes\",'Relevés de  commissions'!P652,0)*1","v":0},0,""]
[null,null,null,null,null,null,null,null,null,null,null,null,{"$f":"IF('Relevés de  commissions'!D653=\"AGI externes\",'Relevés de  commissions'!M653,0)*1","v":0},{"$f":"IF('Relevés de  commissions'!D653=\"AGI externes\",'Relevés de  commissions'!N653,0)*1","v":0},{"$f":"IF('Relevés de  commissions'!D653=\"AGI externes\",'Relevés de  commissions'!O653,0)*1","v":0},{"$f":"IF('Relevés de  commissions'!D653=\"AGI externes\",'Relevés de  commissions'!P653,0)*1","v":0},0,""]
[null,null,null,null,null,null,null,null,null,null,null,null,{"$f":"IF('Relevés de  commissions'!D654=\"AGI externes\",'Relevés de  commissions'!M654,0)*1","v":0},{"$f":"IF('Relevés de  commissions'!D654=\"AGI externes\",'Relevés de  commissions'!N654,0)*1","v":0},{"$f":"IF('Relevés de  commissions'!D654=\"AGI externes\",'Relevés de  commissions'!O654,0)*1","v":0},{"$f":"IF('Relevés de  commissions'!D654=\"AGI externes\",'Relevés de  commissions'!P654,0)*1","v":0},0,""]
[null,null,null,null,null,null,null,null,null,null,null,null,{"$f":"IF('Relevés de  commissions'!D655=\"AGI externes\",'Relevés de  commissions'!M655,0)*1","v":0},{"$f":"IF('Relevés de  commissions'!D655=\"AGI externes\",'Relevés de  commissions'!N655,0)*1","v":0},{"$f":"IF('Relevés de  commissions'!D655=\"AGI externes\",'Relevés de  commissions'!O655,0)*1","v":0},{"$f":"IF('Relevés de  commissions'!D655=\"AGI externes\",'Relevés de  commissions'!P655,0)*1","v":0},0,""]
[null,null,null,null,null,null,null,null,null,null,null,null,{"$f":"IF('Relevés de  commissions'!D656=\"AGI externes\",'Relevés de  commissions'!M656,0)*1","v":0},{"$f":"IF('Relevés de  commissions'!D656=\"AGI externes\",'Relevés de  commissions'!N656,0)*1","v":0},{"$f":"IF('Relevés de  commissions'!D656=\"AGI externes\",'Relevés de  commissions'!O656,0)*1","v":0},{"$f":"IF('Relevés de  commissions'!D656=\"AGI externes\",'Relevés de  commissions'!P656,0)*1","v":0},0,""]
[null,null,null,null,null,null,null,null,null,null,null,null,{"$f":"IF('Relevés de  commissions'!D657=\"AGI externes\",'Relevés de  commissions'!M657,0)*1","v":0},{"$f":"IF('Relevés de  commissions'!D657=\"AGI externes\",'Relevés de  commissions'!N657,0)*1","v":0},{"$f":"IF('Relevés de  commissions'!D657=\"AGI externes\",'Relevés de  commissions'!O657,0)*1","v":0},{"$f":"IF('Relevés de  commissions'!D657=\"AGI externes\",'Relevés de  commissions'!P657,0)*1","v":0},0,""]
[null,null,null,null,null,null,null,null,null,null,null,null,{"$f":"IF('Relevés de  commissions'!D658=\"AGI externes\",'Relevés de  commissions'!M658,0)*1","v":0},{"$f":"IF('Relevés de  commissions'!D658=\"AGI externes\",'Relevés de  commissions'!N658,0)*1","v":0},{"$f":"IF('Relevés de  commissions'!D658=\"AGI externes\",'Relevés de  commissions'!O658,0)*1","v":0},{"$f":"IF('Relevés de  commissions'!D658=\"AGI externes\",'Relevés de  commissions'!P658,0)*1","v":0},0,""]
[null,null,null,null,null,null,null,null,null,null,null,null,{"$f":"IF('Relevés de  commissions'!D659=\"AGI externes\",'Relevés de  commissions'!M659,0)*1","v":0},{"$f":"IF('Relevés de  commissions'!D659=\"AGI externes\",'Relevés de  commissions'!N659,0)*1","v":0},{"$f":"IF('Relevés de  commissions'!D659=\"AGI externes\",'Relevés de  commissions'!O659,0)*1","v":0},{"$f":"IF('Relevés de  commissions'!D659=\"AGI externes\",'Relevés de  commissions'!P659,0)*1","v":0},0,""]
[null,null,null,null,null,null,null,null,null,null,null,null,{"$f":"IF('Relevés de  commissions'!D660=\"AGI externes\",'Relevés de  commissions'!M660,0)*1","v":0},{"$f":"IF('Relevés de  commissions'!D660=\"AGI externes\",'Relevés de  commissions'!N660,0)*1","v":0},{"$f":"IF('Relevés de  commissions'!D660=\"AGI externes\",'Relevés de  commissions'!O660,0)*1","v":0},{"$f":"IF('Relevés de  commissions'!D660=\"AGI externes\",'Relevés de  commissions'!P660,0)*1","v":0},0,""]
[null,null,null,null,null,null,null,null,null,null,null,null,{"$f":"IF('Relevés de  commissions'!D661=\"AGI externes\",'Relevés de  commissions'!M661,0)*1","v":0},{"$f":"IF('Relevés de  commissions'!D661=\"AGI externes\",'Relevés de  commissions'!N661,0)*1","v":0},{"$f":"IF('Relevés de  commissions'!D661=\"AGI externes\",'Relevés de  commissions'!O661,0)*1","v":0},{"$f":"IF('Relevés de  commissions'!D661=\"AGI externes\",'Relevés de  commissions'!P661,0)*1","v":0},0,""]
[null,null,null,null,null,null,null,null,null,null,null,null,{"$f":"IF('Relevés de  commissions'!D662=\"AGI externes\",'Relevés de  commissions'!M662,0)*1","v":0},{"$f":"IF('Relevés de  commissions'!D662=\"AGI externes\",'Relevés de  commissions'!N662,0)*1","v":0},{"$f":"IF('Relevés de  commissions'!D662=\"AGI externes\",'Relevés de  commissions'!O662,0)*1","v":0},{"$f":"IF('Relevés de  commissions'!D662=\"AGI externes\",'Relevés de  commissions'!P662,0)*1","v":0},0,""]
[null,null,null,null,null,null,null,null,null,null,null,null,{"$f":"IF('Relevés de  commissions'!D663=\"AGI externes\",'Relevés de  commissions'!M663,0)*1","v":0},{"$f":"IF('Relevés de  commissions'!D663=\"AGI externes\",'Relevés de  commissions'!N663,0)*1","v":0},{"$f":"IF('Relevés de  commissions'!D663=\"AGI externes\",'Relevés de  commissions'!O663,0)*1","v":0},{"$f":"IF('Relevés de  commissions'!D663=\"AGI externes\",'Relevés de  commissions'!P663,0)*1","v":0},0,""]
[null,null,null,null,null,null,null,null,null,null,null,null,{"$f":"IF('Relevés de  commissions'!D664=\"AGI externes\",'Relevés de  commissions'!M664,0)*1","v":0},{"$f":"IF('Relevés de  commissions'!D664=\"AGI externes\",'Relevés de  commissions'!N664,0)*1","v":0},{"$f":"IF('Relevés de  commissions'!D664=\"AGI externes\",'Relevés de  commissions'!O664,0)*1","v":0},{"$f":"IF('Relevés de  commissions'!D664=\"AGI externes\",'Relevés de  commissions'!P664,0)*1","v":0},0,""]
[null,null,null,null,null,null,null,null,null,null,null,null,{"$f":"IF('Relevés de  commissions'!D665=\"AGI externes\",'Relevés de  commissions'!M665,0)*1","v":0},{"$f":"IF('Relevés de  commissions'!D665=\"AGI externes\",'Relevés de  commissions'!N665,0)*1","v":0},{"$f":"IF('Relevés de  commissions'!D665=\"AGI externes\",'Relevés de  commissions'!O665,0)*1","v":0},{"$f":"IF('Relevés de  commissions'!D665=\"AGI externes\",'Relevés de  commissions'!P665,0)*1","v":0},0,""]
[null,null,null,null,null,null,null,null,null,null,null,null,{"$f":"IF('Relevés de  commissions'!D666=\"AGI externes\",'Relevés de  commissions'!M666,0)*1","v":0},{"$f":"IF('Relevés de  commissions'!D666=\"AGI externes\",'Relevés de  commissions'!N666,0)*1","v":0},{"$f":"IF('Relevés de  commissions'!D666=\"AGI externes\",'Relevés de  commissions'!O666,0)*1","v":0},{"$f":"IF('Relevés de  commissions'!D666=\"AGI externes\",'Relevés de  commissions'!P666,0)*1","v":0},0,""]
[null,null,null,null,null,null,null,null,null,null,null,null,{"$f":"IF('Relevés de  commissions'!D667=\"AGI externes\",'Relevés de  commissions'!M667,0)*1","v":0},{"$f":"IF('Relevés de  commissions'!D667=\"AGI externes\",'Relevés de  commissions'!N667,0)*1","v":0},{"$f":"IF('Relevés de  commissions'!D667=\"AGI externes\",'Relevés de  commissions'!O667,0)*1","v":0},{"$f":"IF('Relevés de  commissions'!D667=\"AGI externes\",'Relevés de  commissions'!P667,0)*1","v":0},0,""]
[null,null,null,null,null,null,null,null,null,null,null,null,{"$f":"IF('Relevés de  commissions'!D668=\"AGI externes\",'Relevés de  commissions'!M668,0)*1","v":0},{"$f":"IF('Relevés de  commissions'!D668=\"AGI externes\",'Relevés de  commissions'!N668,0)*1","v":0},{"$f":"IF('Relevés de  commissions'!D668=\"AGI externes\",'Relevés de  commissions'!O668,0)*1","v":0},{"$f":"IF('Relevés de  commissions'!D668=\"AGI externes\",'Relevés de  commissions'!P668,0)*1","v":0},0,""]
[null,null,null,null,null,null,null,null,null,null,null,null,{"$f":"IF('Relevés de  commissions'!D669=\"AGI externes\",'Relevés de  commissions'!M669,0)*1","v":0},{"$f":"IF('Relevés de  commissions'!D669=\"AGI externes\",'Relevés de  commissions'!N669,0)*1","v":0},{"$f":"IF('Relevés de  commissions'!D669=\"AGI externes\",'Relevés de  commissions'!O669,0)*1","v":0},{"$f":"IF('Relevés de  commissions'!D669=\"AGI externes\",'Relevés de  commissions'!P669,0)*1","v":0},0,""]
[null,null,null,null,null,null,null,null,null,null,null,null,{"$f":"IF('Relevés de  commissions'!D670=\"AGI externes\",'Relevés de  commissions'!M670,0)*1","v":0},{"$f":"IF('Relevés de  commissions'!D670=\"AGI externes\",'Relevés de  commissions'!N670,0)*1","v":0},{"$f":"IF('Relevés de  commissions'!D670=\"AGI externes\",'Relevés de  commissions'!O670,0)*1","v":0},{"$f":"IF('Relevés de  commissions'!D670=\"AGI externes\",'Relevés de  commissions'!P670,0)*1","v":0},0,""]
[null,null,null,null,null,null,null,null,null,null,null,null,{"$f":"IF('Relevés de  commissions'!D671=\"AGI externes\",'Relevés de  commissions'!M671,0)*1","v":0},{"$f":"IF('Relevés de  commissions'!D671=\"AGI externes\",'Relevés de  commissions'!N671,0)*1","v":0},{"$f":"IF('Relevés de  commissions'!D671=\"AGI externes\",'Relevés de  commissions'!O671,0)*1","v":0},{"$f":"IF('Relevés de  commissions'!D671=\"AGI externes\",'Relevés de  commissions'!P671,0)*1","v":0},0,""]
[null,null,null,null,null,null,null,null,null,null,null,null,{"$f":"IF('Relevés de  commissions'!D672=\"AGI externes\",'Relevés de  commissions'!M672,0)*1","v":0},{"$f":"IF('Relevés de  commissions'!D672=\"AGI externes\",'Relevés de  commissions'!N672,0)*1","v":0},{"$f":"IF('Relevés de  commissions'!D672=\"AGI externes\",'Relevés de  commissions'!O672,0)*1","v":0},{"$f":"IF('Relevés de  commissions'!D672=\"AGI externes\",'Relevés de  commissions'!P672,0)*1","v":0},0,""]
[null,null,null,null,null,null,null,null,null,null,null,null,{"$f":"IF('Relevés de  commissions'!D673=\"AGI externes\",'Relevés de  commissions'!M673,0)*1","v":0},{"$f":"IF('Relevés de  commissions'!D673=\"AGI externes\",'Relevés de  commissions'!N673,0)*1","v":0},{"$f":"IF('Relevés de  commissions'!D673=\"AGI externes\",'Relevés de  commissions'!O673,0)*1","v":0},{"$f":"IF('Relevés de  commissions'!D673=\"AGI externes\",'Relevés de  commissions'!P673,0)*1","v":0},0,""]
[null,null,null,null,null,null,null,null,null,null,null,null,{"$f":"IF('Relevés de  commissions'!D674=\"AGI externes\",'Relevés de  commissions'!M674,0)*1","v":0},{"$f":"IF('Relevés de  commissions'!D674=\"AGI externes\",'Relevés de  commissions'!N674,0)*1","v":0},{"$f":"IF('Relevés de  commissions'!D674=\"AGI externes\",'Relevés de  commissions'!O674,0)*1","v":0},{"$f":"IF('Relevés de  commissions'!D674=\"AGI externes\",'Relevés de  commissions'!P674,0)*1","v":0},0,""]
[null,null,null,null,null,null,null,null,null,null,null,null,{"$f":"IF('Relevés de  commissions'!D675=\"AGI externes\",'Relevés de  commissions'!M675,0)*1","v":0},{"$f":"IF('Relevés de  commissions'!D675=\"AGI externes\",'Relevés de  commissions'!N675,0)*1","v":0},{"$f":"IF('Relevés de  commissions'!D675=\"AGI externes\",'Relevés de  commissions'!O675,0)*1","v":0},{"$f":"IF('Relevés de  commissions'!D675=\"AGI externes\",'Relevés de  commissions'!P675,0)*1","v":0},0,""]
[null,null,null,null,null,null,null,null,null,null,null,null,{"$f":"IF('Relevés de  commissions'!D676=\"AGI externes\",'Relevés de  commissions'!M676,0)*1","v":0},{"$f":"IF('Relevés de  commissions'!D676=\"AGI externes\",'Relevés de  commissions'!N676,0)*1","v":0},{"$f":"IF('Relevés de  commissions'!D676=\"AGI externes\",'Relevés de  commissions'!O676,0)*1","v":0},{"$f":"IF('Relevés de  commissions'!D676=\"AGI externes\",'Relevés de  commissions'!P676,0)*1","v":0},0,""]
[null,null,null,null,null,null,null,null,null,null,null,null,{"$f":"IF('Relevés de  commissions'!D677=\"AGI externes\",'Relevés de  commissions'!M677,0)*1","v":0},{"$f":"IF('Relevés de  commissions'!D677=\"AGI externes\",'Relevés de  commissions'!N677,0)*1","v":0},{"$f":"IF('Relevés de  commissions'!D677=\"AGI externes\",'Relevés de  commissions'!O677,0)*1","v":0},{"$f":"IF('Relevés de  commissions'!D677=\"AGI externes\",'Relevés de  commissions'!P677,0)*1","v":0},0,""]
[null,null,null,null,null,null,null,null,null,null,null,null,{"$f":"IF('Relevés de  commissions'!D678=\"AGI externes\",'Relevés de  commissions'!M678,0)*1","v":0},{"$f":"IF('Relevés de  commissions'!D678=\"AGI externes\",'Relevés de  commissions'!N678,0)*1","v":0},{"$f":"IF('Relevés de  commissions'!D678=\"AGI externes\",'Relevés de  commissions'!O678,0)*1","v":0},{"$f":"IF('Relevés de  commissions'!D678=\"AGI externes\",'Relevés de  commissions'!P678,0)*1","v":0},0,""]
[null,null,null,null,null,null,null,null,null,null,null,null,{"$f":"IF('Relevés de  commissions'!D679=\"AGI externes\",'Relevés de  commissions'!M679,0)*1","v":0},{"$f":"IF('Relevés de  commissions'!D679=\"AGI externes\",'Relevés de  commissions'!N679,0)*1","v":0},{"$f":"IF('Relevés de  commissions'!D679=\"AGI externes\",'Relevés de  commissions'!O679,0)*1","v":0},{"$f":"IF('Relevés de  commissions'!D679=\"AGI externes\",'Relevés de  commissions'!P679,0)*1","v":0},0,""]
[null,null,null,null,null,null,null,null,null,null,null,null,{"$f":"IF('Relevés de  commissions'!D680=\"AGI externes\",'Relevés de  commissions'!M680,0)*1","v":0},{"$f":"IF('Relevés de  commissions'!D680=\"AGI externes\",'Relevés de  commissions'!N680,0)*1","v":0},{"$f":"IF('Relevés de  commissions'!D680=\"AGI externes\",'Relevés de  commissions'!O680,0)*1","v":0},{"$f":"IF('Relevés de  commissions'!D680=\"AGI externes\",'Relevés de  commissions'!P680,0)*1","v":0},0,""]
[null,null,null,null,null,null,null,null,null,null,null,null,{"$f":"IF('Relevés de  commissions'!D681=\"AGI externes\",'Relevés de  commissions'!M681,0)*1","v":0},{"$f":"IF('Relevés de  commissions'!D681=\"AGI externes\",'Relevés de  commissions'!N681,0)*1","v":0},{"$f":"IF('Relevés de  commissions'!D681=\"AGI externes\",'Relevés de  commissions'!O681,0)*1","v":0},{"$f":"IF('Relevés de  commissions'!D681=\"AGI externes\",'Relevés de  commissions'!P681,0)*1","v":0},0,""]
[null,null,null,null,null,null,null,null,null,null,null,null,{"$f":"IF('Relevés de  commissions'!D682=\"AGI externes\",'Relevés de  commissions'!M682,0)*1","v":0},{"$f":"IF('Relevés de  commissions'!D682=\"AGI externes\",'Relevés de  commissions'!N682,0)*1","v":0},{"$f":"IF('Relevés de  commissions'!D682=\"AGI externes\",'Relevés de  commissions'!O682,0)*1","v":0},{"$f":"IF('Relevés de  commissions'!D682=\"AGI externes\",'Relevés de  commissions'!P682,0)*1","v":0},0,""]
[null,null,null,null,null,null,null,null,null,null,null,null,{"$f":"IF('Relevés de  commissions'!D683=\"AGI externes\",'Relevés de  commissions'!M683,0)*1","v":0},{"$f":"IF('Relevés de  commissions'!D683=\"AGI externes\",'Relevés de  commissions'!N683,0)*1","v":0},{"$f":"IF('Relevés de  commissions'!D683=\"AGI externes\",'Relevés de  commissions'!O683,0)*1","v":0},{"$f":"IF('Relevés de  commissions'!D683=\"AGI externes\",'Relevés de  commissions'!P683,0)*1","v":0},0,""]
[null,null,null,null,null,null,null,null,null,null,null,null,{"$f":"IF('Relevés de  commissions'!D684=\"AGI externes\",'Relevés de  commissions'!M684,0)*1","v":0},{"$f":"IF('Relevés de  commissions'!D684=\"AGI externes\",'Relevés de  commissions'!N684,0)*1","v":0},{"$f":"IF('Relevés de  commissions'!D684=\"AGI externes\",'Relevés de  commissions'!O684,0)*1","v":0},{"$f":"IF('Relevés de  commissions'!D684=\"AGI externes\",'Relevés de  commissions'!P684,0)*1","v":0},0,""]
[null,null,null,null,null,null,null,null,null,null,null,null,{"$f":"IF('Relevés de  commissions'!D685=\"AGI externes\",'Relevés de  commissions'!M685,0)*1","v":0},{"$f":"IF('Relevés de  commissions'!D685=\"AGI externes\",'Relevés de  commissions'!N685,0)*1","v":0},{"$f":"IF('Relevés de  commissions'!D685=\"AGI externes\",'Relevés de  commissions'!O685,0)*1","v":0},{"$f":"IF('Relevés de  commissions'!D685=\"AGI externes\",'Relevés de  commissions'!P685,0)*1","v":0},0,""]
[null,null,null,null,null,null,null,null,null,null,null,null,{"$f":"IF('Relevés de  commissions'!D686=\"AGI externes\",'Relevés de  commissions'!M686,0)*1","v":0},{"$f":"IF('Relevés de  commissions'!D686=\"AGI externes\",'Relevés de  commissions'!N686,0)*1","v":0},{"$f":"IF('Relevés de  commissions'!D686=\"AGI externes\",'Relevés de  commissions'!O686,0)*1","v":0},{"$f":"IF('Relevés de  commissions'!D686=\"AGI externes\",'Relevés de  commissions'!P686,0)*1","v":0},0,""]
[null,null,null,null,null,null,null,null,null,null,null,null,{"$f":"IF('Relevés de  commissions'!D687=\"AGI externes\",'Relevés de  commissions'!M687,0)*1","v":0},{"$f":"IF('Relevés de  commissions'!D687=\"AGI externes\",'Relevés de  commissions'!N687,0)*1","v":0},{"$f":"IF('Relevés de  commissions'!D687=\"AGI externes\",'Relevés de  commissions'!O687,0)*1","v":0},{"$f":"IF('Relevés de  commissions'!D687=\"AGI externes\",'Relevés de  commissions'!P687,0)*1","v":0},0,""]
[null,null,null,null,null,null,null,null,null,null,null,null,{"$f":"IF('Relevés de  commissions'!D688=\"AGI externes\",'Relevés de  commissions'!M688,0)*1","v":0},{"$f":"IF('Relevés de  commissions'!D688=\"AGI externes\",'Relevés de  commissions'!N688,0)*1","v":0},{"$f":"IF('Relevés de  commissions'!D688=\"AGI externes\",'Relevés de  commissions'!O688,0)*1","v":0},{"$f":"IF('Relevés de  commissions'!D688=\"AGI externes\",'Relevés de  commissions'!P688,0)*1","v":0},0,""]
[null,null,null,null,null,null,null,null,null,null,null,null,{"$f":"IF('Relevés de  commissions'!D689=\"AGI externes\",'Relevés de  commissions'!M689,0)*1","v":0},{"$f":"IF('Relevés de  commissions'!D689=\"AGI externes\",'Relevés de  commissions'!N689,0)*1","v":0},{"$f":"IF('Relevés de  commissions'!D689=\"AGI externes\",'Relevés de  commissions'!O689,0)*1","v":0},{"$f":"IF('Relevés de  commissions'!D689=\"AGI externes\",'Relevés de  commissions'!P689,0)*1","v":0},0,""]
[null,null,null,null,null,null,null,null,null,null,null,null,{"$f":"IF('Relevés de  commissions'!D690=\"AGI externes\",'Relevés de  commissions'!M690,0)*1","v":0},{"$f":"IF('Relevés de  commissions'!D690=\"AGI externes\",'Relevés de  commissions'!N690,0)*1","v":0},{"$f":"IF('Relevés de  commissions'!D690=\"AGI externes\",'Relevés de  commissions'!O690,0)*1","v":0},{"$f":"IF('Relevés de  commissions'!D690=\"AGI externes\",'Relevés de  commissions'!P690,0)*1","v":0},0,""]
[null,null,null,null,null,null,null,null,null,null,null,null,{"$f":"IF('Relevés de  commissions'!D691=\"AGI externes\",'Relevés de  commissions'!M691,0)*1","v":0},{"$f":"IF('Relevés de  commissions'!D691=\"AGI externes\",'Relevés de  commissions'!N691,0)*1","v":0},{"$f":"IF('Relevés de  commissions'!D691=\"AGI externes\",'Relevés de  commissions'!O691,0)*1","v":0},{"$f":"IF('Relevés de  commissions'!D691=\"AGI externes\",'Relevés de  commissions'!P691,0)*1","v":0},0,""]
[null,null,null,null,null,null,null,null,null,null,null,null,{"$f":"IF('Relevés de  commissions'!D692=\"AGI externes\",'Relevés de  commissions'!M692,0)*1","v":0},{"$f":"IF('Relevés de  commissions'!D692=\"AGI externes\",'Relevés de  commissions'!N692,0)*1","v":0},{"$f":"IF('Relevés de  commissions'!D692=\"AGI externes\",'Relevés de  commissions'!O692,0)*1","v":0},{"$f":"IF('Relevés de  commissions'!D692=\"AGI externes\",'Relevés de  commissions'!P692,0)*1","v":0},0,""]
[null,null,null,null,null,null,null,null,null,null,null,null,{"$f":"IF('Relevés de  commissions'!D693=\"AGI externes\",'Relevés de  commissions'!M693,0)*1","v":0},{"$f":"IF('Relevés de  commissions'!D693=\"AGI externes\",'Relevés de  commissions'!N693,0)*1","v":0},{"$f":"IF('Relevés de  commissions'!D693=\"AGI externes\",'Relevés de  commissions'!O693,0)*1","v":0},{"$f":"IF('Relevés de  commissions'!D693=\"AGI externes\",'Relevés de  commissions'!P693,0)*1","v":0},0,""]
[null,null,null,null,null,null,null,null,null,null,null,null,{"$f":"IF('Relevés de  commissions'!D694=\"AGI externes\",'Relevés de  commissions'!M694,0)*1","v":0},{"$f":"IF('Relevés de  commissions'!D694=\"AGI externes\",'Relevés de  commissions'!N694,0)*1","v":0},{"$f":"IF('Relevés de  commissions'!D694=\"AGI externes\",'Relevés de  commissions'!O694,0)*1","v":0},{"$f":"IF('Relevés de  commissions'!D694=\"AGI externes\",'Relevés de  commissions'!P694,0)*1","v":0},0,""]
[null,null,null,null,null,null,null,null,null,null,null,null,{"$f":"IF('Relevés de  commissions'!D695=\"AGI externes\",'Relevés de  commissions'!M695,0)*1","v":0},{"$f":"IF('Relevés de  commissions'!D695=\"AGI externes\",'Relevés de  commissions'!N695,0)*1","v":0},{"$f":"IF('Relevés de  commissions'!D695=\"AGI externes\",'Relevés de  commissions'!O695,0)*1","v":0},{"$f":"IF('Relevés de  commissions'!D695=\"AGI externes\",'Relevés de  commissions'!P695,0)*1","v":0},0,""]
[null,null,null,null,null,null,null,null,null,null,null,null,{"$f":"IF('Relevés de  commissions'!D696=\"AGI externes\",'Relevés de  commissions'!M696,0)*1","v":0},{"$f":"IF('Relevés de  commissions'!D696=\"AGI externes\",'Relevés de  commissions'!N696,0)*1","v":0},{"$f":"IF('Relevés de  commissions'!D696=\"AGI externes\",'Relevés de  commissions'!O696,0)*1","v":0},{"$f":"IF('Relevés de  commissions'!D696=\"AGI externes\",'Relevés de  commissions'!P696,0)*1","v":0},0,""]
[null,null,null,null,null,null,null,null,null,null,null,null,{"$f":"IF('Relevés de  commissions'!D697=\"AGI externes\",'Relevés de  commissions'!M697,0)*1","v":0},{"$f":"IF('Relevés de  commissions'!D697=\"AGI externes\",'Relevés de  commissions'!N697,0)*1","v":0},{"$f":"IF('Relevés de  commissions'!D697=\"AGI externes\",'Relevés de  commissions'!O697,0)*1","v":0},{"$f":"IF('Relevés de  commissions'!D697=\"AGI externes\",'Relevés de  commissions'!P697,0)*1","v":0},0,""]
[null,null,null,null,null,null,null,null,null,null,null,null,{"$f":"IF('Relevés de  commissions'!D698=\"AGI externes\",'Relevés de  commissions'!M698,0)*1","v":0},{"$f":"IF('Relevés de  commissions'!D698=\"AGI externes\",'Relevés de  commissions'!N698,0)*1","v":0},{"$f":"IF('Relevés de  commissions'!D698=\"AGI externes\",'Relevés de  commissions'!O698,0)*1","v":0},{"$f":"IF('Relevés de  commissions'!D698=\"AGI externes\",'Relevés de  commissions'!P698,0)*1","v":0},0,""]
[null,null,null,null,null,null,null,null,null,null,null,null,{"$f":"IF('Relevés de  commissions'!D699=\"AGI externes\",'Relevés de  commissions'!M699,0)*1","v":0},{"$f":"IF('Relevés de  commissions'!D699=\"AGI externes\",'Relevés de  commissions'!N699,0)*1","v":0},{"$f":"IF('Relevés de  commissions'!D699=\"AGI externes\",'Relevés de  commissions'!O699,0)*1","v":0},{"$f":"IF('Relevés de  commissions'!D699=\"AGI externes\",'Relevés de  commissions'!P699,0)*1","v":0},0,""]
[null,null,null,null,null,null,null,null,null,null,null,null,{"$f":"IF('Relevés de  commissions'!D700=\"AGI externes\",'Relevés de  commissions'!M700,0)*1","v":0},{"$f":"IF('Relevés de  commissions'!D700=\"AGI externes\",'Relevés de  commissions'!N700,0)*1","v":0},{"$f":"IF('Relevés de  commissions'!D700=\"AGI externes\",'Relevés de  commissions'!O700,0)*1","v":0},{"$f":"IF('Relevés de  commissions'!D700=\"AGI externes\",'Relevés de  commissions'!P700,0)*1","v":0},0,""]
[null,null,null,null,null,null,null,null,null,null,null,null,{"$f":"IF('Relevés de  commissions'!D701=\"AGI externes\",'Relevés de  commissions'!M701,0)*1","v":0},{"$f":"IF('Relevés de  commissions'!D701=\"AGI externes\",'Relevés de  commissions'!N701,0)*1","v":0},{"$f":"IF('Relevés de  commissions'!D701=\"AGI externes\",'Relevés de  commissions'!O701,0)*1","v":0},{"$f":"IF('Relevés de  commissions'!D701=\"AGI externes\",'Relevés de  commissions'!P701,0)*1","v":0},0,""]
[null,null,null,null,null,null,null,null,null,null,null,null,{"$f":"IF('Relevés de  commissions'!D702=\"AGI externes\",'Relevés de  commissions'!M702,0)*1","v":0},{"$f":"IF('Relevés de  commissions'!D702=\"AGI externes\",'Relevés de  commissions'!N702,0)*1","v":0},{"$f":"IF('Relevés de  commissions'!D702=\"AGI externes\",'Relevés de  commissions'!O702,0)*1","v":0},{"$f":"IF('Relevés de  commissions'!D702=\"AGI externes\",'Relevés de  commissions'!P702,0)*1","v":0},0,""]
[null,null,null,null,null,null,null,null,null,null,null,null,{"$f":"IF('Relevés de  commissions'!D703=\"AGI externes\",'Relevés de  commissions'!M703,0)*1","v":0},{"$f":"IF('Relevés de  commissions'!D703=\"AGI externes\",'Relevés de  commissions'!N703,0)*1","v":0},{"$f":"IF('Relevés de  commissions'!D703=\"AGI externes\",'Relevés de  commissions'!O703,0)*1","v":0},{"$f":"IF('Relevés de  commissions'!D703=\"AGI externes\",'Relevés de  commissions'!P703,0)*1","v":0},0,""]
[null,null,null,null,null,null,null,null,null,null,null,null,{"$f":"IF('Relevés de  commissions'!D704=\"AGI externes\",'Relevés de  commissions'!M704,0)*1","v":0},{"$f":"IF('Relevés de  commissions'!D704=\"AGI externes\",'Relevés de  commissions'!N704,0)*1","v":0},{"$f":"IF('Relevés de  commissions'!D704=\"AGI externes\",'Relevés de  commissions'!O704,0)*1","v":0},{"$f":"IF('Relevés de  commissions'!D704=\"AGI externes\",'Relevés de  commissions'!P704,0)*1","v":0},0,""]
[null,null,null,null,null,null,null,null,null,null,null,null,{"$f":"IF('Relevés de  commissions'!D705=\"AGI externes\",'Relevés de  commissions'!M705,0)*1","v":0},{"$f":"IF('Relevés de  commissions'!D705=\"AGI externes\",'Relevés de  commissions'!N705,0)*1","v":0},{"$f":"IF('Relevés de  commissions'!D705=\"AGI externes\",'Relevés de  commissions'!O705,0)*1","v":0},{"$f":"IF('Relevés de  commissions'!D705=\"AGI externes\",'Relevés de  commissions'!P705,0)*1","v":0},0,""]
[null,null,null,null,null,null,null,null,null,null,null,null,{"$f":"IF('Relevés de  commissions'!D706=\"AGI externes\",'Relevés de  commissions'!M706,0)*1","v":0},{"$f":"IF('Relevés de  commissions'!D706=\"AGI externes\",'Relevés de  commissions'!N706,0)*1","v":0},{"$f":"IF('Relevés de  commissions'!D706=\"AGI externes\",'Relevés de  commissions'!O706,0)*1","v":0},{"$f":"IF('Relevés de  commissions'!D706=\"AGI externes\",'Relevés de  commissions'!P706,0)*1","v":0},0,""]
[null,null,null,null,null,null,null,null,null,null,null,null,{"$f":"IF('Relevés de  commissions'!D707=\"AGI externes\",'Relevés de  commissions'!M707,0)*1","v":0},{"$f":"IF('Relevés de  commissions'!D707=\"AGI externes\",'Relevés de  commissions'!N707,0)*1","v":0},{"$f":"IF('Relevés de  commissions'!D707=\"AGI externes\",'Relevés de  commissions'!O707,0)*1","v":0},{"$f":"IF('Relevés de  commissions'!D707=\"AGI externes\",'Relevés de  commissions'!P707,0)*1","v":0},{"$f":"IF(N709=0,O709,\"\")","v":0},{"$f":"IF(N709=10,O709,\"\")","v":""}]
[null,null,null,null,null,null,null,null,null,null,null,null,{"$f":"IF('Relevés de  commissions'!D708=\"AGI externes\",'Relevés de  commissions'!M708,0)*1","v":0},{"$f":"IF('Relevés de  commissions'!D708=\"AGI externes\",'Relevés de  commissions'!N708,0)*1","v":0},{"$f":"IF('Relevés de  commissions'!D708=\"AGI externes\",'Relevés de  commissions'!O708,0)*1","v":0},{"$f":"IF('Relevés de  commissions'!D708=\"AGI externes\",'Relevés de  commissions'!P708,0)*1","v":0},0,""]
[null,null,null,null,null,null,null,null,null,null,null,null,{"$f":"IF('Relevés de  commissions'!D709=\"AGI externes\",'Relevés de  commissions'!M709,0)*1","v":0},{"$f":"IF('Relevés de  commissions'!D709=\"AGI externes\",'Relevés de  commissions'!N709,0)*1","v":0},{"$f":"IF('Relevés de  commissions'!D709=\"AGI externes\",'Relevés de  commissions'!O709,0)*1","v":0},{"$f":"IF('Relevés de  commissions'!D709=\"AGI externes\",'Relevés de  commissions'!P709,0)*1","v":0},0,""]
[null,null,null,null,null,null,null,null,null,null,null,null,{"$f":"IF('Relevés de  commissions'!D710=\"AGI externes\",'Relevés de  commissions'!M710,0)*1","v":0},{"$f":"IF('Relevés de  commissions'!D710=\"AGI externes\",'Relevés de  commissions'!N710,0)*1","v":0},{"$f":"IF('Relevés de  commissions'!D710=\"AGI externes\",'Relevés de  commissions'!O710,0)*1","v":0},{"$f":"IF('Relevés de  commissions'!D710=\"AGI externes\",'Relevés de  commissions'!P710,0)*1","v":0},0,""]
[null,null,null,null,null,null,null,null,null,null,null,null,{"$f":"IF('Relevés de  commissions'!D711=\"AGI externes\",'Relevés de  commissions'!M711,0)*1","v":0},{"$f":"IF('Relevés de  commissions'!D711=\"AGI externes\",'Relevés de  commissions'!N711,0)*1","v":0},{"$f":"IF('Relevés de  commissions'!D711=\"AGI externes\",'Relevés de  commissions'!O711,0)*1","v":0},{"$f":"IF('Relevés de  commissions'!D711=\"AGI externes\",'Relevés de  commissions'!P711,0)*1","v":0},0,""]
[null,null,null,null,null,null,null,null,null,null,null,null,{"$f":"IF('Relevés de  commissions'!D712=\"AGI externes\",'Relevés de  commissions'!M712,0)*1","v":0},{"$f":"IF('Relevés de  commissions'!D712=\"AGI externes\",'Relevés de  commissions'!N712,0)*1","v":0},{"$f":"IF('Relevés de  commissions'!D712=\"AGI externes\",'Relevés de  commissions'!O712,0)*1","v":0},{"$f":"IF('Relevés de  commissions'!D712=\"AGI externes\",'Relevés de  commissions'!P712,0)*1","v":0},0,""]
[null,null,null,null,null,null,null,null,null,null,null,null,{"$f":"IF('Relevés de  commissions'!D713=\"AGI externes\",'Relevés de  commissions'!M713,0)*1","v":0},{"$f":"IF('Relevés de  commissions'!D713=\"AGI externes\",'Relevés de  commissions'!N713,0)*1","v":0},{"$f":"IF('Relevés de  commissions'!D713=\"AGI externes\",'Relevés de  commissions'!O713,0)*1","v":0},{"$f":"IF('Relevés de  commissions'!D713=\"AGI externes\",'Relevés de  commissions'!P713,0)*1","v":0},0,""]
[null,null,null,null,null,null,null,null,null,null,null,null,{"$f":"IF('Relevés de  commissions'!D714=\"AGI externes\",'Relevés de  commissions'!M714,0)*1","v":0},{"$f":"IF('Relevés de  commissions'!D714=\"AGI externes\",'Relevés de  commissions'!N714,0)*1","v":0},{"$f":"IF('Relevés de  commissions'!D714=\"AGI externes\",'Relevés de  commissions'!O714,0)*1","v":0},{"$f":"IF('Relevés de  commissions'!D714=\"AGI externes\",'Relevés de  commissions'!P714,0)*1","v":0},0,""]
[null,null,null,null,null,null,null,null,null,null,null,null,{"$f":"IF('Relevés de  commissions'!D715=\"AGI externes\",'Relevés de  commissions'!M715,0)*1","v":0},{"$f":"IF('Relevés de  commissions'!D715=\"AGI externes\",'Relevés de  commissions'!N715,0)*1","v":0},{"$f":"IF('Relevés de  commissions'!D715=\"AGI externes\",'Relevés de  commissions'!O715,0)*1","v":0},{"$f":"IF('Relevés de  commissions'!D715=\"AGI externes\",'Relevés de  commissions'!P715,0)*1","v":0},0,""]
[null,null,null,null,null,null,null,null,null,null,null,null,{"$f":"IF('Relevés de  commissions'!D716=\"AGI externes\",'Relevés de  commissions'!M716,0)*1","v":0},{"$f":"IF('Relevés de  commissions'!D716=\"AGI externes\",'Relevés de  commissions'!N716,0)*1","v":0},{"$f":"IF('Relevés de  commissions'!D716=\"AGI externes\",'Relevés de  commissions'!O716,0)*1","v":0},{"$f":"IF('Relevés de  commissions'!D716=\"AGI externes\",'Relevés de  commissions'!P716,0)*1","v":0},0,""]
[null,null,null,null,null,null,null,null,null,null,null,null,{"$f":"IF('Relevés de  commissions'!D717=\"AGI externes\",'Relevés de  commissions'!M717,0)*1","v":0},{"$f":"IF('Relevés de  commissions'!D717=\"AGI externes\",'Relevés de  commissions'!N717,0)*1","v":0},{"$f":"IF('Relevés de  commissions'!D717=\"AGI externes\",'Relevés de  commissions'!O717,0)*1","v":0},{"$f":"IF('Relevés de  commissions'!D717=\"AGI externes\",'Relevés de  commissions'!P717,0)*1","v":0},0,""]
[null,null,null,null,null,null,null,null,null,null,null,null,{"$f":"IF('Relevés de  commissions'!D718=\"AGI externes\",'Relevés de  commissions'!M718,0)*1","v":0},{"$f":"IF('Relevés de  commissions'!D718=\"AGI externes\",'Relevés de  commissions'!N718,0)*1","v":0},{"$f":"IF('Relevés de  commissions'!D718=\"AGI externes\",'Relevés de  commissions'!O718,0)*1","v":0},{"$f":"IF('Relevés de  commissions'!D718=\"AGI externes\",'Relevés de  commissions'!P718,0)*1","v":0},0,""]
[null,null,null,null,null,null,null,null,null,null,null,null,{"$f":"IF('Relevés de  commissions'!D719=\"AGI externes\",'Relevés de  commissions'!M719,0)*1","v":0},{"$f":"IF('Relevés de  commissions'!D719=\"AGI externes\",'Relevés de  commissions'!N719,0)*1","v":0},{"$f":"IF('Relevés de  commissions'!D719=\"AGI externes\",'Relevés de  commissions'!O719,0)*1","v":0},{"$f":"IF('Relevés de  commissions'!D719=\"AGI externes\",'Relevés de  commissions'!P719,0)*1","v":0},0,""]
[null,null,null,null,null,null,null,null,null,null,null,null,{"$f":"IF('Relevés de  commissions'!D720=\"AGI externes\",'Relevés de  commissions'!M720,0)*1","v":0},{"$f":"IF('Relevés de  commissions'!D720=\"AGI externes\",'Relevés de  commissions'!N720,0)*1","v":0},{"$f":"IF('Relevés de  commissions'!D720=\"AGI externes\",'Relevés de  commissions'!O720,0)*1","v":0},{"$f":"IF('Relevés de  commissions'!D720=\"AGI externes\",'Relevés de  commissions'!P720,0)*1","v":0},0,""]
[null,null,null,null,null,null,null,null,null,null,null,null,{"$f":"IF('Relevés de  commissions'!D721=\"AGI externes\",'Relevés de  commissions'!M721,0)*1","v":0},{"$f":"IF('Relevés de  commissions'!D721=\"AGI externes\",'Relevés de  commissions'!N721,0)*1","v":0},{"$f":"IF('Relevés de  commissions'!D721=\"AGI externes\",'Relevés de  commissions'!O721,0)*1","v":0},{"$f":"IF('Relevés de  commissions'!D721=\"AGI externes\",'Relevés de  commissions'!P721,0)*1","v":0},0,""]
[null,null,null,null,null,null,null,null,null,null,null,null,{"$f":"IF('Relevés de  commissions'!D722=\"AGI externes\",'Relevés de  commissions'!M722,0)*1","v":0},{"$f":"IF('Relevés de  commissions'!D722=\"AGI externes\",'Relevés de  commissions'!N722,0)*1","v":0},{"$f":"IF('Relevés de  commissions'!D722=\"AGI externes\",'Relevés de  commissions'!O722,0)*1","v":0},{"$f":"IF('Relevés de  commissions'!D722=\"AGI externes\",'Relevés de  commissions'!P722,0)*1","v":0},0,""]
[null,null,null,null,null,null,null,null,null,null,null,null,{"$f":"IF('Relevés de  commissions'!D723=\"AGI externes\",'Relevés de  commissions'!M723,0)*1","v":0},{"$f":"IF('Relevés de  commissions'!D723=\"AGI externes\",'Relevés de  commissions'!N723,0)*1","v":0},{"$f":"IF('Relevés de  commissions'!D723=\"AGI externes\",'Relevés de  commissions'!O723,0)*1","v":0},{"$f":"IF('Relevés de  commissions'!D723=\"AGI externes\",'Relevés de  commissions'!P723,0)*1","v":0},0,""]
[null,null,null,null,null,null,null,null,null,null,null,null,{"$f":"IF('Relevés de  commissions'!D724=\"AGI externes\",'Relevés de  commissions'!M724,0)*1","v":0},{"$f":"IF('Relevés de  commissions'!D724=\"AGI externes\",'Relevés de  commissions'!N724,0)*1","v":0},{"$f":"IF('Relevés de  commissions'!D724=\"AGI externes\",'Relevés de  commissions'!O724,0)*1","v":0},{"$f":"IF('Relevés de  commissions'!D724=\"AGI externes\",'Relevés de  commissions'!P724,0)*1","v":0},0,""]
[null,null,null,null,null,null,null,null,null,null,null,null,{"$f":"IF('Relevés de  commissions'!D725=\"AGI externes\",'Relevés de  commissions'!M725,0)*1","v":0},{"$f":"IF('Relevés de  commissions'!D725=\"AGI externes\",'Relevés de  commissions'!N725,0)*1","v":0},{"$f":"IF('Relevés de  commissions'!D725=\"AGI externes\",'Relevés de  commissions'!O725,0)*1","v":0},{"$f":"IF('Relevés de  commissions'!D725=\"AGI externes\",'Relevés de  commissions'!P725,0)*1","v":0},0,""]
[null,null,null,null,null,null,null,null,null,null,null,null,{"$f":"IF('Relevés de  commissions'!D726=\"AGI externes\",'Relevés de  commissions'!M726,0)*1","v":0},{"$f":"IF('Relevés de  commissions'!D726=\"AGI externes\",'Relevés de  commissions'!N726,0)*1","v":0},{"$f":"IF('Relevés de  commissions'!D726=\"AGI externes\",'Relevés de  commissions'!O726,0)*1","v":0},{"$f":"IF('Relevés de  commissions'!D726=\"AGI externes\",'Relevés de  commissions'!P726,0)*1","v":0},0,""]
[null,null,null,null,null,null,null,null,null,null,null,null,{"$f":"IF('Relevés de  commissions'!D727=\"AGI externes\",'Relevés de  commissions'!M727,0)*1","v":0},{"$f":"IF('Relevés de  commissions'!D727=\"AGI externes\",'Relevés de  commissions'!N727,0)*1","v":0},{"$f":"IF('Relevés de  commissions'!D727=\"AGI externes\",'Relevés de  commissions'!O727,0)*1","v":0},{"$f":"IF('Relevés de  commissions'!D727=\"AGI externes\",'Relevés de  commissions'!P727,0)*1","v":0},0,""]
[null,null,null,null,null,null,null,null,null,null,null,null,{"$f":"IF('Relevés de  commissions'!D728=\"AGI externes\",'Relevés de  commissions'!M728,0)*1","v":0},{"$f":"IF('Relevés de  commissions'!D728=\"AGI externes\",'Relevés de  commissions'!N728,0)*1","v":0},{"$f":"IF('Relevés de  commissions'!D728=\"AGI externes\",'Relevés de  commissions'!O728,0)*1","v":0},{"$f":"IF('Relevés de  commissions'!D728=\"AGI externes\",'Relevés de  commissions'!P728,0)*1","v":0},0,""]
[null,null,null,null,null,null,null,null,null,null,null,null,{"$f":"IF('Relevés de  commissions'!D729=\"AGI externes\",'Relevés de  commissions'!M729,0)*1","v":0},{"$f":"IF('Relevés de  commissions'!D729=\"AGI externes\",'Relevés de  commissions'!N729,0)*1","v":0},{"$f":"IF('Relevés de  commissions'!D729=\"AGI externes\",'Relevés de  commissions'!O729,0)*1","v":0},{"$f":"IF('Relevés de  commissions'!D729=\"AGI externes\",'Relevés de  commissions'!P729,0)*1","v":0},0,""]
[null,null,null,null,null,null,null,null,null,null,null,null,{"$f":"IF('Relevés de  commissions'!D730=\"AGI externes\",'Relevés de  commissions'!M730,0)*1","v":0},{"$f":"IF('Relevés de  commissions'!D730=\"AGI externes\",'Relevés de  commissions'!N730,0)*1","v":0},{"$f":"IF('Relevés de  commissions'!D730=\"AGI externes\",'Relevés de  commissions'!O730,0)*1","v":0},{"$f":"IF('Relevés de  commissions'!D730=\"AGI externes\",'Relevés de  commissions'!P730,0)*1","v":0},0,""]
[null,null,null,null,null,null,null,null,null,null,null,null,{"$f":"IF('Relevés de  commissions'!D731=\"AGI externes\",'Relevés de  commissions'!M731,0)*1","v":0},{"$f":"IF('Relevés de  commissions'!D731=\"AGI externes\",'Relevés de  commissions'!N731,0)*1","v":0},{"$f":"IF('Relevés de  commissions'!D731=\"AGI externes\",'Relevés de  commissions'!O731,0)*1","v":0},{"$f":"IF('Relevés de  commissions'!D731=\"AGI externes\",'Relevés de  commissions'!P731,0)*1","v":0},0,""]
[null,null,null,null,null,null,null,null,null,null,null,null,{"$f":"IF('Relevés de  commissions'!D732=\"AGI externes\",'Relevés de  commissions'!M732,0)*1","v":0},{"$f":"IF('Relevés de  commissions'!D732=\"AGI externes\",'Relevés de  commissions'!N732,0)*1","v":0},{"$f":"IF('Relevés de  commissions'!D732=\"AGI externes\",'Relevés de  commissions'!O732,0)*1","v":0},{"$f":"IF('Relevés de  commissions'!D732=\"AGI externes\",'Relevés de  commissions'!P732,0)*1","v":0},0,""]
[null,null,null,null,null,null,null,null,null,null,null,null,{"$f":"IF('Relevés de  commissions'!D733=\"AGI externes\",'Relevés de  commissions'!M733,0)*1","v":0},{"$f":"IF('Relevés de  commissions'!D733=\"AGI externes\",'Relevés de  commissions'!N733,0)*1","v":0},{"$f":"IF('Relevés de  commissions'!D733=\"AGI externes\",'Relevés de  commissions'!O733,0)*1","v":0},{"$f":"IF('Relevés de  commissions'!D733=\"AGI externes\",'Relevés de  commissions'!P733,0)*1","v":0},0,""]
[null,null,null,null,null,null,null,null,null,null,null,null,{"$f":"IF('Relevés de  commissions'!D734=\"AGI externes\",'Relevés de  commissions'!M734,0)*1","v":0},{"$f":"IF('Relevés de  commissions'!D734=\"AGI externes\",'Relevés de  commissions'!N734,0)*1","v":0},{"$f":"IF('Relevés de  commissions'!D734=\"AGI externes\",'Relevés de  commissions'!O734,0)*1","v":0},{"$f":"IF('Relevés de  commissions'!D734=\"AGI externes\",'Relevés de  commissions'!P734,0)*1","v":0},0,""]
[null,null,null,null,null,null,null,null,null,null,null,null,{"$f":"IF('Relevés de  commissions'!D735=\"AGI externes\",'Relevés de  commissions'!M735,0)*1","v":0},{"$f":"IF('Relevés de  commissions'!D735=\"AGI externes\",'Relevés de  commissions'!N735,0)*1","v":0},{"$f":"IF('Relevés de  commissions'!D735=\"AGI externes\",'Relevés de  commissions'!O735,0)*1","v":0},{"$f":"IF('Relevés de  commissions'!D735=\"AGI externes\",'Relevés de  commissions'!P735,0)*1","v":0},0,""]
[null,null,null,null,null,null,null,null,null,null,null,null,{"$f":"IF('Relevés de  commissions'!D736=\"AGI externes\",'Relevés de  commissions'!M736,0)*1","v":0},{"$f":"IF('Relevés de  commissions'!D736=\"AGI externes\",'Relevés de  commissions'!N736,0)*1","v":0},{"$f":"IF('Relevés de  commissions'!D736=\"AGI externes\",'Relevés de  commissions'!O736,0)*1","v":0},{"$f":"IF('Relevés de  commissions'!D736=\"AGI externes\",'Relevés de  commissions'!P736,0)*1","v":0},0,""]
[null,null,null,null,null,null,null,null,null,null,null,null,{"$f":"IF('Relevés de  commissions'!D737=\"AGI externes\",'Relevés de  commissions'!M737,0)*1","v":0},{"$f":"IF('Relevés de  commissions'!D737=\"AGI externes\",'Relevés de  commissions'!N737,0)*1","v":0},{"$f":"IF('Relevés de  commissions'!D737=\"AGI externes\",'Relevés de  commissions'!O737,0)*1","v":0},{"$f":"IF('Relevés de  commissions'!D737=\"AGI externes\",'Relevés de  commissions'!P737,0)*1","v":0},0,""]
[null,null,null,null,null,null,null,null,null,null,null,null,{"$f":"IF('Relevés de  commissions'!D738=\"AGI externes\",'Relevés de  commissions'!M738,0)*1","v":0},{"$f":"IF('Relevés de  commissions'!D738=\"AGI externes\",'Relevés de  commissions'!N738,0)*1","v":0},{"$f":"IF('Relevés de  commissions'!D738=\"AGI externes\",'Relevés de  commissions'!O738,0)*1","v":0},{"$f":"IF('Relevés de  commissions'!D738=\"AGI externes\",'Relevés de  commissions'!P738,0)*1","v":0},0,""]
[null,null,null,null,null,null,null,null,null,null,null,null,{"$f":"IF('Relevés de  commissions'!D739=\"AGI externes\",'Relevés de  commissions'!M739,0)*1","v":0},{"$f":"IF('Relevés de  commissions'!D739=\"AGI externes\",'Relevés de  commissions'!N739,0)*1","v":0},{"$f":"IF('Relevés de  commissions'!D739=\"AGI externes\",'Relevés de  commissions'!O739,0)*1","v":0},{"$f":"IF('Relevés de  commissions'!D739=\"AGI externes\",'Relevés de  commissions'!P739,0)*1","v":0},0,""]
[null,null,null,null,null,null,null,null,null,null,null,null,{"$f":"IF('Relevés de  commissions'!D740=\"AGI externes\",'Relevés de  commissions'!M740,0)*1","v":0},{"$f":"IF('Relevés de  commissions'!D740=\"AGI externes\",'Relevés de  commissions'!N740,0)*1","v":0},{"$f":"IF('Relevés de  commissions'!D740=\"AGI externes\",'Relevés de  commissions'!O740,0)*1","v":0},{"$f":"IF('Relevés de  commissions'!D740=\"AGI externes\",'Relevés de  commissions'!P740,0)*1","v":0},0,""]
[null,null,null,null,null,null,null,null,null,null,null,null,{"$f":"IF('Relevés de  commissions'!D741=\"AGI externes\",'Relevés de  commissions'!M741,0)*1","v":0},{"$f":"IF('Relevés de  commissions'!D741=\"AGI externes\",'Relevés de  commissions'!N741,0)*1","v":0},{"$f":"IF('Relevés de  commissions'!D741=\"AGI externes\",'Relevés de  commissions'!O741,0)*1","v":0},{"$f":"IF('Relevés de  commissions'!D741=\"AGI externes\",'Relevés de  commissions'!P741,0)*1","v":0},0,""]
[null,null,null,null,null,null,null,null,null,null,null,null,{"$f":"IF('Relevés de  commissions'!D742=\"AGI externes\",'Relevés de  commissions'!M742,0)*1","v":0},{"$f":"IF('Relevés de  commissions'!D742=\"AGI externes\",'Relevés de  commissions'!N742,0)*1","v":0},{"$f":"IF('Relevés de  commissions'!D742=\"AGI externes\",'Relevés de  commissions'!O742,0)*1","v":0},{"$f":"IF('Relevés de  commissions'!D742=\"AGI externes\",'Relevés de  commissions'!P742,0)*1","v":0},0,""]
[null,null,null,null,null,null,null,null,null,null,null,null,{"$f":"IF('Relevés de  commissions'!D743=\"AGI externes\",'Relevés de  commissions'!M743,0)*1","v":0},{"$f":"IF('Relevés de  commissions'!D743=\"AGI externes\",'Relevés de  commissions'!N743,0)*1","v":0},{"$f":"IF('Relevés de  commissions'!D743=\"AGI externes\",'Relevés de  commissions'!O743,0)*1","v":0},{"$f":"IF('Relevés de  commissions'!D743=\"AGI externes\",'Relevés de  commissions'!P743,0)*1","v":0},0,""]
[null,null,null,null,null,null,null,null,null,null,null,null,{"$f":"IF('Relevés de  commissions'!D744=\"AGI externes\",'Relevés de  commissions'!M744,0)*1","v":0},{"$f":"IF('Relevés de  commissions'!D744=\"AGI externes\",'Relevés de  commissions'!N744,0)*1","v":0},{"$f":"IF('Relevés de  commissions'!D744=\"AGI externes\",'Relevés de  commissions'!O744,0)*1","v":0},{"$f":"IF('Relevés de  commissions'!D744=\"AGI externes\",'Relevés de  commissions'!P744,0)*1","v":0},0,""]
[null,null,null,null,null,null,null,null,null,null,null,null,{"$f":"IF('Relevés de  commissions'!D745=\"AGI externes\",'Relevés de  commissions'!M745,0)*1","v":0},{"$f":"IF('Relevés de  commissions'!D745=\"AGI externes\",'Relevés de  commissions'!N745,0)*1","v":0},{"$f":"IF('Relevés de  commissions'!D745=\"AGI externes\",'Relevés de  commissions'!O745,0)*1","v":0},{"$f":"IF('Relevés de  commissions'!D745=\"AGI externes\",'Relevés de  commissions'!P745,0)*1","v":0},0,""]
[null,null,null,null,null,null,null,null,null,null,null,null,{"$f":"IF('Relevés de  commissions'!D746=\"AGI externes\",'Relevés de  commissions'!M746,0)*1","v":0},{"$f":"IF('Relevés de  commissions'!D746=\"AGI externes\",'Relevés de  commissions'!N746,0)*1","v":0},{"$f":"IF('Relevés de  commissions'!D746=\"AGI externes\",'Relevés de  commissions'!O746,0)*1","v":0},{"$f":"IF('Relevés de  commissions'!D746=\"AGI externes\",'Relevés de  commissions'!P746,0)*1","v":0},0,""]
[null,null,null,null,null,null,null,null,null,null,null,null,{"$f":"IF('Relevés de  commissions'!D747=\"AGI externes\",'Relevés de  commissions'!M747,0)*1","v":0},{"$f":"IF('Relevés de  commissions'!D747=\"AGI externes\",'Relevés de  commissions'!N747,0)*1","v":0},{"$f":"IF('Relevés de  commissions'!D747=\"AGI externes\",'Relevés de  commissions'!O747,0)*1","v":0},{"$f":"IF('Relevés de  commissions'!D747=\"AGI externes\",'Relevés de  commissions'!P747,0)*1","v":0},0,""]
[null,null,null,null,null,null,null,null,null,null,null,null,{"$f":"IF('Relevés de  commissions'!D748=\"AGI externes\",'Relevés de  commissions'!M748,0)*1","v":0},{"$f":"IF('Relevés de  commissions'!D748=\"AGI externes\",'Relevés de  commissions'!N748,0)*1","v":0},{"$f":"IF('Relevés de  commissions'!D748=\"AGI externes\",'Relevés de  commissions'!O748,0)*1","v":0},{"$f":"IF('Relevés de  commissions'!D748=\"AGI externes\",'Relevés de  commissions'!P748,0)*1","v":0},0,""]
[null,null,null,null,null,null,null,null,null,null,null,null,{"$f":"IF('Relevés de  commissions'!D749=\"AGI externes\",'Relevés de  commissions'!M749,0)*1","v":0},{"$f":"IF('Relevés de  commissions'!D749=\"AGI externes\",'Relevés de  commissions'!N749,0)*1","v":0},{"$f":"IF('Relevés de  commissions'!D749=\"AGI externes\",'Relevés de  commissions'!O749,0)*1","v":0},{"$f":"IF('Relevés de  commissions'!D749=\"AGI externes\",'Relevés de  commissions'!P749,0)*1","v":0},0,""]
[null,null,null,null,null,null,null,null,null,null,null,null,{"$f":"IF('Relevés de  commissions'!D750=\"AGI externes\",'Relevés de  commissions'!M750,0)*1","v":0},{"$f":"IF('Relevés de  commissions'!D750=\"AGI externes\",'Relevés de  commissions'!N750,0)*1","v":0},{"$f":"IF('Relevés de  commissions'!D750=\"AGI externes\",'Relevés de  commissions'!O750,0)*1","v":0},{"$f":"IF('Relevés de  commissions'!D750=\"AGI externes\",'Relevés de  commissions'!P750,0)*1","v":0},0,""]
[null,null,null,null,null,null,null,null,null,null,null,null,{"$f":"IF('Relevés de  commissions'!D751=\"AGI externes\",'Relevés de  commissions'!M751,0)*1","v":0},{"$f":"IF('Relevés de  commissions'!D751=\"AGI externes\",'Relevés de  commissions'!N751,0)*1","v":0},{"$f":"IF('Relevés de  commissions'!D751=\"AGI externes\",'Relevés de  commissions'!O751,0)*1","v":0},{"$f":"IF('Relevés de  commissions'!D751=\"AGI externes\",'Relevés de  commissions'!P751,0)*1","v":0},0,""]
[null,null,null,null,null,null,null,null,null,null,null,null,{"$f":"IF('Relevés de  commissions'!D752=\"AGI externes\",'Relevés de  commissions'!M752,0)*1","v":0},{"$f":"IF('Relevés de  commissions'!D752=\"AGI externes\",'Relevés de  commissions'!N752,0)*1","v":0},{"$f":"IF('Relevés de  commissions'!D752=\"AGI externes\",'Relevés de  commissions'!O752,0)*1","v":0},{"$f":"IF('Relevés de  commissions'!D752=\"AGI externes\",'Relevés de  commissions'!P752,0)*1","v":0},0,""]
[null,null,null,null,null,null,null,null,null,null,null,null,{"$f":"IF('Relevés de  commissions'!D753=\"AGI externes\",'Relevés de  commissions'!M753,0)*1","v":0},{"$f":"IF('Relevés de  commissions'!D753=\"AGI externes\",'Relevés de  commissions'!N753,0)*1","v":0},{"$f":"IF('Relevés de  commissions'!D753=\"AGI externes\",'Relevés de  commissions'!O753,0)*1","v":0},{"$f":"IF('Relevés de  commissions'!D753=\"AGI externes\",'Relevés de  commissions'!P753,0)*1","v":0},0,""]
[null,null,null,null,null,null,null,null,null,null,null,null,{"$f":"IF('Relevés de  commissions'!D754=\"AGI externes\",'Relevés de  commissions'!M754,0)*1","v":0},{"$f":"IF('Relevés de  commissions'!D754=\"AGI externes\",'Relevés de  commissions'!N754,0)*1","v":0},{"$f":"IF('Relevés de  commissions'!D754=\"AGI externes\",'Relevés de  commissions'!O754,0)*1","v":0},{"$f":"IF('Relevés de  commissions'!D754=\"AGI externes\",'Relevés de  commissions'!P754,0)*1","v":0},0,""]
[null,null,null,null,null,null,null,null,null,null,null,null,{"$f":"IF('Relevés de  commissions'!D755=\"AGI externes\",'Relevés de  commissions'!M755,0)*1","v":0},{"$f":"IF('Relevés de  commissions'!D755=\"AGI externes\",'Relevés de  commissions'!N755,0)*1","v":0},{"$f":"IF('Relevés de  commissions'!D755=\"AGI externes\",'Relevés de  commissions'!O755,0)*1","v":0},{"$f":"IF('Relevés de  commissions'!D755=\"AGI externes\",'Relevés de  commissions'!P755,0)*1","v":0},0,""]
[null,null,null,null,null,null,null,null,null,null,null,null,{"$f":"IF('Relevés de  commissions'!D756=\"AGI externes\",'Relevés de  commissions'!M756,0)*1","v":0},{"$f":"IF('Relevés de  commissions'!D756=\"AGI externes\",'Relevés de  commissions'!N756,0)*1","v":0},{"$f":"IF('Relevés de  commissions'!D756=\"AGI externes\",'Relevés de  commissions'!O756,0)*1","v":0},{"$f":"IF('Relevés de  commissions'!D756=\"AGI externes\",'Relevés de  commissions'!P756,0)*1","v":0},0,""]
[null,null,null,null,null,null,null,null,null,null,null,null,{"$f":"IF('Relevés de  commissions'!D757=\"AGI externes\",'Relevés de  commissions'!M757,0)*1","v":0},{"$f":"IF('Relevés de  commissions'!D757=\"AGI externes\",'Relevés de  commissions'!N757,0)*1","v":0},{"$f":"IF('Relevés de  commissions'!D757=\"AGI externes\",'Relevés de  commissions'!O757,0)*1","v":0},{"$f":"IF('Relevés de  commissions'!D757=\"AGI externes\",'Relevés de  commissions'!P757,0)*1","v":0},0,""]
[null,null,null,null,null,null,null,null,null,null,null,null,{"$f":"IF('Relevés de  commissions'!D758=\"AGI externes\",'Relevés de  commissions'!M758,0)*1","v":0},{"$f":"IF('Relevés de  commissions'!D758=\"AGI externes\",'Relevés de  commissions'!N758,0)*1","v":0},{"$f":"IF('Relevés de  commissions'!D758=\"AGI externes\",'Relevés de  commissions'!O758,0)*1","v":0},{"$f":"IF('Relevés de  commissions'!D758=\"AGI externes\",'Relevés de  commissions'!P758,0)*1","v":0},0,""]
[null,null,null,null,null,null,null,null,null,null,null,null,{"$f":"IF('Relevés de  commissions'!D759=\"AGI externes\",'Relevés de  commissions'!M759,0)*1","v":0},{"$f":"IF('Relevés de  commissions'!D759=\"AGI externes\",'Relevés de  commissions'!N759,0)*1","v":0},{"$f":"IF('Relevés de  commissions'!D759=\"AGI externes\",'Relevés de  commissions'!O759,0)*1","v":0},{"$f":"IF('Relevés de  commissions'!D759=\"AGI externes\",'Relevés de  commissions'!P759,0)*1","v":0},0,""]
[null,null,null,null,null,null,null,null,null,null,null,null,{"$f":"IF('Relevés de  commissions'!D760=\"AGI externes\",'Relevés de  commissions'!M760,0)*1","v":0},{"$f":"IF('Relevés de  commissions'!D760=\"AGI externes\",'Relevés de  commissions'!N760,0)*1","v":0},{"$f":"IF('Relevés de  commissions'!D760=\"AGI externes\",'Relevés de  commissions'!O760,0)*1","v":0},{"$f":"IF('Relevés de  commissions'!D760=\"AGI externes\",'Relevés de  commissions'!P760,0)*1","v":0},0,""]
[null,null,null,null,null,null,null,null,null,null,null,null,{"$f":"IF('Relevés de  commissions'!D761=\"AGI externes\",'Relevés de  commissions'!M761,0)*1","v":0},{"$f":"IF('Relevés de  commissions'!D761=\"AGI externes\",'Relevés de  commissions'!N761,0)*1","v":0},{"$f":"IF('Relevés de  commissions'!D761=\"AGI externes\",'Relevés de  commissions'!O761,0)*1","v":0},{"$f":"IF('Relevés de  commissions'!D761=\"AGI externes\",'Relevés de  commissions'!P761,0)*1","v":0},0,""]
[null,null,null,null,null,null,null,null,null,null,null,null,{"$f":"IF('Relevés de  commissions'!D762=\"AGI externes\",'Relevés de  commissions'!M762,0)*1","v":0},{"$f":"IF('Relevés de  commissions'!D762=\"AGI externes\",'Relevés de  commissions'!N762,0)*1","v":0},{"$f":"IF('Relevés de  commissions'!D762=\"AGI externes\",'Relevés de  commissions'!O762,0)*1","v":0},{"$f":"IF('Relevés de  commissions'!D762=\"AGI externes\",'Relevés de  commissions'!P762,0)*1","v":0},0,""]
[null,null,null,null,null,null,null,null,null,null,null,null,{"$f":"IF('Relevés de  commissions'!D763=\"AGI externes\",'Relevés de  commissions'!M763,0)*1","v":0},{"$f":"IF('Relevés de  commissions'!D763=\"AGI externes\",'Relevés de  commissions'!N763,0)*1","v":0},{"$f":"IF('Relevés de  commissions'!D763=\"AGI externes\",'Relevés de  commissions'!O763,0)*1","v":0},{"$f":"IF('Relevés de  commissions'!D763=\"AGI externes\",'Relevés de  commissions'!P763,0)*1","v":0},0,""]
[null,null,null,null,null,null,null,null,null,null,null,null,{"$f":"IF('Relevés de  commissions'!D764=\"AGI externes\",'Relevés de  commissions'!M764,0)*1","v":0},{"$f":"IF('Relevés de  commissions'!D764=\"AGI externes\",'Relevés de  commissions'!N764,0)*1","v":0},{"$f":"IF('Relevés de  commissions'!D764=\"AGI externes\",'Relevés de  commissions'!O764,0)*1","v":0},{"$f":"IF('Relevés de  commissions'!D764=\"AGI externes\",'Relevés de  commissions'!P764,0)*1","v":0},0,""]
[null,null,null,null,null,null,null,null,null,null,null,null,{"$f":"IF('Relevés de  commissions'!D765=\"AGI externes\",'Relevés de  commissions'!M765,0)*1","v":0},{"$f":"IF('Relevés de  commissions'!D765=\"AGI externes\",'Relevés de  commissions'!N765,0)*1","v":0},{"$f":"IF('Relevés de  commissions'!D765=\"AGI externes\",'Relevés de  commissions'!O765,0)*1","v":0},{"$f":"IF('Relevés de  commissions'!D765=\"AGI externes\",'Relevés de  commissions'!P765,0)*1","v":0},0,""]
[null,null,null,null,null,null,null,null,null,null,null,null,{"$f":"IF('Relevés de  commissions'!D766=\"AGI externes\",'Relevés de  commissions'!M766,0)*1","v":0},{"$f":"IF('Relevés de  commissions'!D766=\"AGI externes\",'Relevés de  commissions'!N766,0)*1","v":0},{"$f":"IF('Relevés de  commissions'!D766=\"AGI externes\",'Relevés de  commissions'!O766,0)*1","v":0},{"$f":"IF('Relevés de  commissions'!D766=\"AGI externes\",'Relevés de  commissions'!P766,0)*1","v":0},0,""]
[null,null,null,null,null,null,null,null,null,null,null,null,{"$f":"IF('Relevés de  commissions'!D767=\"AGI externes\",'Relevés de  commissions'!M767,0)*1","v":0},{"$f":"IF('Relevés de  commissions'!D767=\"AGI externes\",'Relevés de  commissions'!N767,0)*1","v":0},{"$f":"IF('Relevés de  commissions'!D767=\"AGI externes\",'Relevés de  commissions'!O767,0)*1","v":0},{"$f":"IF('Relevés de  commissions'!D767=\"AGI externes\",'Relevés de  commissions'!P767,0)*1","v":0},0,""]
[null,null,null,null,null,null,null,null,null,null,null,null,{"$f":"IF('Relevés de  commissions'!D768=\"AGI externes\",'Relevés de  commissions'!M768,0)*1","v":0},{"$f":"IF('Relevés de  commissions'!D768=\"AGI externes\",'Relevés de  commissions'!N768,0)*1","v":0},{"$f":"IF('Relevés de  commissions'!D768=\"AGI externes\",'Relevés de  commissions'!O768,0)*1","v":0},{"$f":"IF('Relevés de  commissions'!D768=\"AGI externes\",'Relevés de  commissions'!P768,0)*1","v":0},0,""]
[null,null,null,null,null,null,null,null,null,null,null,null,{"$f":"IF('Relevés de  commissions'!D769=\"AGI externes\",'Relevés de  commissions'!M769,0)*1","v":0},{"$f":"IF('Relevés de  commissions'!D769=\"AGI externes\",'Relevés de  commissions'!N769,0)*1","v":0},{"$f":"IF('Relevés de  commissions'!D769=\"AGI externes\",'Relevés de  commissions'!O769,0)*1","v":0},{"$f":"IF('Relevés de  commissions'!D769=\"AGI externes\",'Relevés de  commissions'!P769,0)*1","v":0},0,""]
[null,null,null,null,null,null,null,null,null,null,null,null,{"$f":"IF('Relevés de  commissions'!D770=\"AGI externes\",'Relevés de  commissions'!M770,0)*1","v":0},{"$f":"IF('Relevés de  commissions'!D770=\"AGI externes\",'Relevés de  commissions'!N770,0)*1","v":0},{"$f":"IF('Relevés de  commissions'!D770=\"AGI externes\",'Relevés de  commissions'!O770,0)*1","v":0},{"$f":"IF('Relevés de  commissions'!D770=\"AGI externes\",'Relevés de  commissions'!P770,0)*1","v":0},0,""]
[null,null,null,null,null,null,null,null,null,null,null,null,{"$f":"IF('Relevés de  commissions'!D771=\"AGI externes\",'Relevés de  commissions'!M771,0)*1","v":0},{"$f":"IF('Relevés de  commissions'!D771=\"AGI externes\",'Relevés de  commissions'!N771,0)*1","v":0},{"$f":"IF('Relevés de  commissions'!D771=\"AGI externes\",'Relevés de  commissions'!O771,0)*1","v":0},{"$f":"IF('Relevés de  commissions'!D771=\"AGI externes\",'Relevés de  commissions'!P771,0)*1","v":0},{"$f":"IF(N773=0,O773,\"\")","v":0},{"$f":"IF(N773=10,O773,\"\")","v":""}]
[null,null,null,null,null,null,null,null,null,null,null,null,{"$f":"IF('Relevés de  commissions'!D772=\"AGI externes\",'Relevés de  commissions'!M772,0)*1","v":0},{"$f":"IF('Relevés de  commissions'!D772=\"AGI externes\",'Relevés de  commissions'!N772,0)*1","v":0},{"$f":"IF('Relevés de  commissions'!D772=\"AGI externes\",'Relevés de  commissions'!O772,0)*1","v":0},{"$f":"IF('Relevés de  commissions'!D772=\"AGI externes\",'Relevés de  commissions'!P772,0)*1","v":0},0,""]
[null,null,null,null,null,null,null,null,null,null,null,null,{"$f":"IF('Relevés de  commissions'!D773=\"AGI externes\",'Relevés de  commissions'!M773,0)*1","v":0},{"$f":"IF('Relevés de  commissions'!D773=\"AGI externes\",'Relevés de  commissions'!N773,0)*1","v":0},{"$f":"IF('Relevés de  commissions'!D773=\"AGI externes\",'Relevés de  commissions'!O773,0)*1","v":0},{"$f":"IF('Relevés de  commissions'!D773=\"AGI externes\",'Relevés de  commissions'!P773,0)*1","v":0},0,""]
[null,null,null,null,null,null,null,null,null,null,null,null,{"$f":"IF('Relevés de  commissions'!D774=\"AGI externes\",'Relevés de  commissions'!M774,0)*1","v":0},{"$f":"IF('Relevés de  commissions'!D774=\"AGI externes\",'Relevés de  commissions'!N774,0)*1","v":0},{"$f":"IF('Relevés de  commissions'!D774=\"AGI externes\",'Relevés de  commissions'!O774,0)*1","v":0},{"$f":"IF('Relevés de  commissions'!D774=\"AGI externes\",'Relevés de  commissions'!P774,0)*1","v":0},0,""]
[null,null,null,null,null,null,null,null,null,null,null,null,{"$f":"IF('Relevés de  commissions'!D775=\"AGI externes\",'Relevés de  commissions'!M775,0)*1","v":0},{"$f":"IF('Relevés de  commissions'!D775=\"AGI externes\",'Relevés de  commissions'!N775,0)*1","v":0},{"$f":"IF('Relevés de  commissions'!D775=\"AGI externes\",'Relevés de  commissions'!O775,0)*1","v":0},{"$f":"IF('Relevés de  commissions'!D775=\"AGI externes\",'Relevés de  commissions'!P775,0)*1","v":0},0,""]
[null,null,null,null,null,null,null,null,null,null,null,null,{"$f":"IF('Relevés de  commissions'!D776=\"AGI externes\",'Relevés de  commissions'!M776,0)*1","v":0},{"$f":"IF('Relevés de  commissions'!D776=\"AGI externes\",'Relevés de  commissions'!N776,0)*1","v":0},{"$f":"IF('Relevés de  commissions'!D776=\"AGI externes\",'Relevés de  commissions'!O776,0)*1","v":0},{"$f":"IF('Relevés de  commissions'!D776=\"AGI externes\",'Relevés de  commissions'!P776,0)*1","v":0},0,""]
[null,null,null,null,null,null,null,null,null,null,null,null,{"$f":"IF('Relevés de  commissions'!D777=\"AGI externes\",'Relevés de  commissions'!M777,0)*1","v":0},{"$f":"IF('Relevés de  commissions'!D777=\"AGI externes\",'Relevés de  commissions'!N777,0)*1","v":0},{"$f":"IF('Relevés de  commissions'!D777=\"AGI externes\",'Relevés de  commissions'!O777,0)*1","v":0},{"$f":"IF('Relevés de  commissions'!D777=\"AGI externes\",'Relevés de  commissions'!P777,0)*1","v":0},0,""]
[null,null,null,null,null,null,null,null,null,null,null,null,{"$f":"IF('Relevés de  commissions'!D778=\"AGI externes\",'Relevés de  commissions'!M778,0)*1","v":0},{"$f":"IF('Relevés de  commissions'!D778=\"AGI externes\",'Relevés de  commissions'!N778,0)*1","v":0},{"$f":"IF('Relevés de  commissions'!D778=\"AGI externes\",'Relevés de  commissions'!O778,0)*1","v":0},{"$f":"IF('Relevés de  commissions'!D778=\"AGI externes\",'Relevés de  commissions'!P778,0)*1","v":0},0,""]
[null,null,null,null,null,null,null,null,null,null,null,null,{"$f":"IF('Relevés de  commissions'!D779=\"AGI externes\",'Relevés de  commissions'!M779,0)*1","v":0},{"$f":"IF('Relevés de  commissions'!D779=\"AGI externes\",'Relevés de  commissions'!N779,0)*1","v":0},{"$f":"IF('Relevés de  commissions'!D779=\"AGI externes\",'Relevés de  commissions'!O779,0)*1","v":0},{"$f":"IF('Relevés de  commissions'!D779=\"AGI externes\",'Relevés de  commissions'!P779,0)*1","v":0},0,""]
[null,null,null,null,null,null,null,null,null,null,null,null,{"$f":"IF('Relevés de  commissions'!D780=\"AGI externes\",'Relevés de  commissions'!M780,0)*1","v":0},{"$f":"IF('Relevés de  commissions'!D780=\"AGI externes\",'Relevés de  commissions'!N780,0)*1","v":0},{"$f":"IF('Relevés de  commissions'!D780=\"AGI externes\",'Relevés de  commissions'!O780,0)*1","v":0},{"$f":"IF('Relevés de  commissions'!D780=\"AGI externes\",'Relevés de  commissions'!P780,0)*1","v":0},0,""]
[null,null,null,null,null,null,null,null,null,null,null,null,{"$f":"IF('Relevés de  commissions'!D781=\"AGI externes\",'Relevés de  commissions'!M781,0)*1","v":0},{"$f":"IF('Relevés de  commissions'!D781=\"AGI externes\",'Relevés de  commissions'!N781,0)*1","v":0},{"$f":"IF('Relevés de  commissions'!D781=\"AGI externes\",'Relevés de  commissions'!O781,0)*1","v":0},{"$f":"IF('Relevés de  commissions'!D781=\"AGI externes\",'Relevés de  commissions'!P781,0)*1","v":0},0,""]
[null,null,null,null,null,null,null,null,null,null,null,null,{"$f":"IF('Relevés de  commissions'!D782=\"AGI externes\",'Relevés de  commissions'!M782,0)*1","v":0},{"$f":"IF('Relevés de  commissions'!D782=\"AGI externes\",'Relevés de  commissions'!N782,0)*1","v":0},{"$f":"IF('Relevés de  commissions'!D782=\"AGI externes\",'Relevés de  commissions'!O782,0)*1","v":0},{"$f":"IF('Relevés de  commissions'!D782=\"AGI externes\",'Relevés de  commissions'!P782,0)*1","v":0},0,""]
[null,null,null,null,null,null,null,null,null,null,null,null,{"$f":"IF('Relevés de  commissions'!D783=\"AGI externes\",'Relevés de  commissions'!M783,0)*1","v":0},{"$f":"IF('Relevés de  commissions'!D783=\"AGI externes\",'Relevés de  commissions'!N783,0)*1","v":0},{"$f":"IF('Relevés de  commissions'!D783=\"AGI externes\",'Relevés de  commissions'!O783,0)*1","v":0},{"$f":"IF('Relevés de  commissions'!D783=\"AGI externes\",'Relevés de  commissions'!P783,0)*1","v":0},0,""]
[null,null,null,null,null,null,null,null,null,null,null,null,{"$f":"IF('Relevés de  commissions'!D784=\"AGI externes\",'Relevés de  commissions'!M784,0)*1","v":0},{"$f":"IF('Relevés de  commissions'!D784=\"AGI externes\",'Relevés de  commissions'!N784,0)*1","v":0},{"$f":"IF('Relevés de  commissions'!D784=\"AGI externes\",'Relevés de  commissions'!O784,0)*1","v":0},{"$f":"IF('Relevés de  commissions'!D784=\"AGI externes\",'Relevés de  commissions'!P784,0)*1","v":0},0,""]
[null,null,null,null,null,null,null,null,null,null,null,null,{"$f":"IF('Relevés de  commissions'!D785=\"AGI externes\",'Relevés de  commissions'!M785,0)*1","v":0},{"$f":"IF('Relevés de  commissions'!D785=\"AGI externes\",'Relevés de  commissions'!N785,0)*1","v":0},{"$f":"IF('Relevés de  commissions'!D785=\"AGI externes\",'Relevés de  commissions'!O785,0)*1","v":0},{"$f":"IF('Relevés de  commissions'!D785=\"AGI externes\",'Relevés de  commissions'!P785,0)*1","v":0},0,""]
[null,null,null,null,null,null,null,null,null,null,null,null,{"$f":"IF('Relevés de  commissions'!D786=\"AGI externes\",'Relevés de  commissions'!M786,0)*1","v":0},{"$f":"IF('Relevés de  commissions'!D786=\"AGI externes\",'Relevés de  commissions'!N786,0)*1","v":0},{"$f":"IF('Relevés de  commissions'!D786=\"AGI externes\",'Relevés de  commissions'!O786,0)*1","v":0},{"$f":"IF('Relevés de  commissions'!D786=\"AGI externes\",'Relevés de  commissions'!P786,0)*1","v":0},0,""]
[null,null,null,null,null,null,null,null,null,null,null,null,{"$f":"IF('Relevés de  commissions'!D787=\"AGI externes\",'Relevés de  commissions'!M787,0)*1","v":0},{"$f":"IF('Relevés de  commissions'!D787=\"AGI externes\",'Relevés de  commissions'!N787,0)*1","v":0},{"$f":"IF('Relevés de  commissions'!D787=\"AGI externes\",'Relevés de  commissions'!O787,0)*1","v":0},{"$f":"IF('Relevés de  commissions'!D787=\"AGI externes\",'Relevés de  commissions'!P787,0)*1","v":0},0,""]
[null,null,null,null,null,null,null,null,null,null,null,null,{"$f":"IF('Relevés de  commissions'!D788=\"AGI externes\",'Relevés de  commissions'!M788,0)*1","v":0},{"$f":"IF('Relevés de  commissions'!D788=\"AGI externes\",'Relevés de  commissions'!N788,0)*1","v":0},{"$f":"IF('Relevés de  commissions'!D788=\"AGI externes\",'Relevés de  commissions'!O788,0)*1","v":0},{"$f":"IF('Relevés de  commissions'!D788=\"AGI externes\",'Relevés de  commissions'!P788,0)*1","v":0},0,""]
[null,null,null,null,null,null,null,null,null,null,null,null,{"$f":"IF('Relevés de  commissions'!D789=\"AGI externes\",'Relevés de  commissions'!M789,0)*1","v":0},{"$f":"IF('Relevés de  commissions'!D789=\"AGI externes\",'Relevés de  commissions'!N789,0)*1","v":0},{"$f":"IF('Relevés de  commissions'!D789=\"AGI externes\",'Relevés de  commissions'!O789,0)*1","v":0},{"$f":"IF('Relevés de  commissions'!D789=\"AGI externes\",'Relevés de  commissions'!P789,0)*1","v":0},0,""]
[null,null,null,null,null,null,null,null,null,null,null,null,{"$f":"IF('Relevés de  commissions'!D790=\"AGI externes\",'Relevés de  commissions'!M790,0)*1","v":0},{"$f":"IF('Relevés de  commissions'!D790=\"AGI externes\",'Relevés de  commissions'!N790,0)*1","v":0},{"$f":"IF('Relevés de  commissions'!D790=\"AGI externes\",'Relevés de  commissions'!O790,0)*1","v":0},{"$f":"IF('Relevés de  commissions'!D790=\"AGI externes\",'Relevés de  commissions'!P790,0)*1","v":0},0,""]
[null,null,null,null,null,null,null,null,null,null,null,null,{"$f":"IF('Relevés de  commissions'!D791=\"AGI externes\",'Relevés de  commissions'!M791,0)*1","v":0},{"$f":"IF('Relevés de  commissions'!D791=\"AGI externes\",'Relevés de  commissions'!N791,0)*1","v":0},{"$f":"IF('Relevés de  commissions'!D791=\"AGI externes\",'Relevés de  commissions'!O791,0)*1","v":0},{"$f":"IF('Relevés de  commissions'!D791=\"AGI externes\",'Relevés de  commissions'!P791,0)*1","v":0},0,""]
[null,null,null,null,null,null,null,null,null,null,null,null,{"$f":"IF('Relevés de  commissions'!D792=\"AGI externes\",'Relevés de  commissions'!M792,0)*1","v":0},{"$f":"IF('Relevés de  commissions'!D792=\"AGI externes\",'Relevés de  commissions'!N792,0)*1","v":0},{"$f":"IF('Relevés de  commissions'!D792=\"AGI externes\",'Relevés de  commissions'!O792,0)*1","v":0},{"$f":"IF('Relevés de  commissions'!D792=\"AGI externes\",'Relevés de  commissions'!P792,0)*1","v":0},0,""]
[null,null,null,null,null,null,null,null,null,null,null,null,{"$f":"IF('Relevés de  commissions'!D793=\"AGI externes\",'Relevés de  commissions'!M793,0)*1","v":0},{"$f":"IF('Relevés de  commissions'!D793=\"AGI externes\",'Relevés de  commissions'!N793,0)*1","v":0},{"$f":"IF('Relevés de  commissions'!D793=\"AGI externes\",'Relevés de  commissions'!O793,0)*1","v":0},{"$f":"IF('Relevés de  commissions'!D793=\"AGI externes\",'Relevés de  commissions'!P793,0)*1","v":0},0,""]
[null,null,null,null,null,null,null,null,null,null,null,null,{"$f":"IF('Relevés de  commissions'!D794=\"AGI externes\",'Relevés de  commissions'!M794,0)*1","v":0},{"$f":"IF('Relevés de  commissions'!D794=\"AGI externes\",'Relevés de  commissions'!N794,0)*1","v":0},{"$f":"IF('Relevés de  commissions'!D794=\"AGI externes\",'Relevés de  commissions'!O794,0)*1","v":0},{"$f":"IF('Relevés de  commissions'!D794=\"AGI externes\",'Relevés de  commissions'!P794,0)*1","v":0},0,""]
[null,null,null,null,null,null,null,null,null,null,null,null,{"$f":"IF('Relevés de  commissions'!D795=\"AGI externes\",'Relevés de  commissions'!M795,0)*1","v":0},{"$f":"IF('Relevés de  commissions'!D795=\"AGI externes\",'Relevés de  commissions'!N795,0)*1","v":0},{"$f":"IF('Relevés de  commissions'!D795=\"AGI externes\",'Relevés de  commissions'!O795,0)*1","v":0},{"$f":"IF('Relevés de  commissions'!D795=\"AGI externes\",'Relevés de  commissions'!P795,0)*1","v":0},0,""]
[null,null,null,null,null,null,null,null,null,null,null,null,{"$f":"IF('Relevés de  commissions'!D796=\"AGI externes\",'Relevés de  commissions'!M796,0)*1","v":0},{"$f":"IF('Relevés de  commissions'!D796=\"AGI externes\",'Relevés de  commissions'!N796,0)*1","v":0},{"$f":"IF('Relevés de  commissions'!D796=\"AGI externes\",'Relevés de  commissions'!O796,0)*1","v":0},{"$f":"IF('Relevés de  commissions'!D796=\"AGI externes\",'Relevés de  commissions'!P796,0)*1","v":0},0,""]
[null,null,null,null,null,null,null,null,null,null,null,null,{"$f":"IF('Relevés de  commissions'!D797=\"AGI externes\",'Relevés de  commissions'!M797,0)*1","v":0},{"$f":"IF('Relevés de  commissions'!D797=\"AGI externes\",'Relevés de  commissions'!N797,0)*1","v":0},{"$f":"IF('Relevés de  commissions'!D797=\"AGI externes\",'Relevés de  commissions'!O797,0)*1","v":0},{"$f":"IF('Relevés de  commissions'!D797=\"AGI externes\",'Relevés de  commissions'!P797,0)*1","v":0},0,""]
[null,null,null,null,null,null,null,null,null,null,null,null,{"$f":"IF('Relevés de  commissions'!D798=\"AGI externes\",'Relevés de  commissions'!M798,0)*1","v":0},{"$f":"IF('Relevés de  commissions'!D798=\"AGI externes\",'Relevés de  commissions'!N798,0)*1","v":0},{"$f":"IF('Relevés de  commissions'!D798=\"AGI externes\",'Relevés de  commissions'!O798,0)*1","v":0},{"$f":"IF('Relevés de  commissions'!D798=\"AGI externes\",'Relevés de  commissions'!P798,0)*1","v":0},0,""]
[null,null,null,null,null,null,null,null,null,null,null,null,{"$f":"IF('Relevés de  commissions'!D799=\"AGI externes\",'Relevés de  commissions'!M799,0)*1","v":0},{"$f":"IF('Relevés de  commissions'!D799=\"AGI externes\",'Relevés de  commissions'!N799,0)*1","v":0},{"$f":"IF('Relevés de  commissions'!D799=\"AGI externes\",'Relevés de  commissions'!O799,0)*1","v":0},{"$f":"IF('Relevés de  commissions'!D799=\"AGI externes\",'Relevés de  commissions'!P799,0)*1","v":0},0,""]
[null,null,null,null,null,null,null,null,null,null,null,null,{"$f":"IF('Relevés de  commissions'!D800=\"AGI externes\",'Relevés de  commissions'!M800,0)*1","v":0},{"$f":"IF('Relevés de  commissions'!D800=\"AGI externes\",'Relevés de  commissions'!N800,0)*1","v":0},{"$f":"IF('Relevés de  commissions'!D800=\"AGI externes\",'Relevés de  commissions'!O800,0)*1","v":0},{"$f":"IF('Relevés de  commissions'!D800=\"AGI externes\",'Relevés de  commissions'!P800,0)*1","v":0},0,""]
[null,null,null,null,null,null,null,null,null,null,null,null,{"$f":"IF('Relevés de  commissions'!D801=\"AGI externes\",'Relevés de  commissions'!M801,0)*1","v":0},{"$f":"IF('Relevés de  commissions'!D801=\"AGI externes\",'Relevés de  commissions'!N801,0)*1","v":0},{"$f":"IF('Relevés de  commissions'!D801=\"AGI externes\",'Relevés de  commissions'!O801,0)*1","v":0},{"$f":"IF('Relevés de  commissions'!D801=\"AGI externes\",'Relevés de  commissions'!P801,0)*1","v":0},0,""]
[null,null,null,null,null,null,null,null,null,null,null,null,{"$f":"IF('Relevés de  commissions'!D802=\"AGI externes\",'Relevés de  commissions'!M802,0)*1","v":0},{"$f":"IF('Relevés de  commissions'!D802=\"AGI externes\",'Relevés de  commissions'!N802,0)*1","v":0},{"$f":"IF('Relevés de  commissions'!D802=\"AGI externes\",'Relevés de  commissions'!O802,0)*1","v":0},{"$f":"IF('Relevés de  commissions'!D802=\"AGI externes\",'Relevés de  commissions'!P802,0)*1","v":0},0,""]
[null,null,null,null,null,null,null,null,null,null,null,null,{"$f":"IF('Relevés de  commissions'!D803=\"AGI externes\",'Relevés de  commissions'!M803,0)*1","v":0},{"$f":"IF('Relevés de  commissions'!D803=\"AGI externes\",'Relevés de  commissions'!N803,0)*1","v":0},{"$f":"IF('Relevés de  commissions'!D803=\"AGI externes\",'Relevés de  commissions'!O803,0)*1","v":0},{"$f":"IF('Relevés de  commissions'!D803=\"AGI externes\",'Relevés de  commissions'!P803,0)*1","v":0},0,""]
[null,null,null,null,null,null,null,null,null,null,null,null,{"$f":"IF('Relevés de  commissions'!D804=\"AGI externes\",'Relevés de  commissions'!M804,0)*1","v":0},{"$f":"IF('Relevés de  commissions'!D804=\"AGI externes\",'Relevés de  commissions'!N804,0)*1","v":0},{"$f":"IF('Relevés de  commissions'!D804=\"AGI externes\",'Relevés de  commissions'!O804,0)*1","v":0},{"$f":"IF('Relevés de  commissions'!D804=\"AGI externes\",'Relevés de  commissions'!P804,0)*1","v":0},0,""]
[null,null,null,null,null,null,null,null,null,null,null,null,{"$f":"IF('Relevés de  commissions'!D805=\"AGI externes\",'Relevés de  commissions'!M805,0)*1","v":0},{"$f":"IF('Relevés de  commissions'!D805=\"AGI externes\",'Relevés de  commissions'!N805,0)*1","v":0},{"$f":"IF('Relevés de  commissions'!D805=\"AGI externes\",'Relevés de  commissions'!O805,0)*1","v":0},{"$f":"IF('Relevés de  commissions'!D805=\"AGI externes\",'Relevés de  commissions'!P805,0)*1","v":0},0,""]
[null,null,null,null,null,null,null,null,null,null,null,null,{"$f":"IF('Relevés de  commissions'!D806=\"AGI externes\",'Relevés de  commissions'!M806,0)*1","v":0},{"$f":"IF('Relevés de  commissions'!D806=\"AGI externes\",'Relevés de  commissions'!N806,0)*1","v":0},{"$f":"IF('Relevés de  commissions'!D806=\"AGI externes\",'Relevés de  commissions'!O806,0)*1","v":0},{"$f":"IF('Relevés de  commissions'!D806=\"AGI externes\",'Relevés de  commissions'!P806,0)*1","v":0},0,""]
[null,null,null,null,null,null,null,null,null,null,null,null,{"$f":"IF('Relevés de  commissions'!D807=\"AGI externes\",'Relevés de  commissions'!M807,0)*1","v":0},{"$f":"IF('Relevés de  commissions'!D807=\"AGI externes\",'Relevés de  commissions'!N807,0)*1","v":0},{"$f":"IF('Relevés de  commissions'!D807=\"AGI externes\",'Relevés de  commissions'!O807,0)*1","v":0},{"$f":"IF('Relevés de  commissions'!D807=\"AGI externes\",'Relevés de  commissions'!P807,0)*1","v":0},0,""]
[null,null,null,null,null,null,null,null,null,null,null,null,{"$f":"IF('Relevés de  commissions'!D808=\"AGI externes\",'Relevés de  commissions'!M808,0)*1","v":0},{"$f":"IF('Relevés de  commissions'!D808=\"AGI externes\",'Relevés de  commissions'!N808,0)*1","v":0},{"$f":"IF('Relevés de  commissions'!D808=\"AGI externes\",'Relevés de  commissions'!O808,0)*1","v":0},{"$f":"IF('Relevés de  commissions'!D808=\"AGI externes\",'Relevés de  commissions'!P808,0)*1","v":0},0,""]
[null,null,null,null,null,null,null,null,null,null,null,null,{"$f":"IF('Relevés de  commissions'!D809=\"AGI externes\",'Relevés de  commissions'!M809,0)*1","v":0},{"$f":"IF('Relevés de  commissions'!D809=\"AGI externes\",'Relevés de  commissions'!N809,0)*1","v":0},{"$f":"IF('Relevés de  commissions'!D809=\"AGI externes\",'Relevés de  commissions'!O809,0)*1","v":0},{"$f":"IF('Relevés de  commissions'!D809=\"AGI externes\",'Relevés de  commissions'!P809,0)*1","v":0},0,""]
[null,null,null,null,null,null,null,null,null,null,null,null,{"$f":"IF('Relevés de  commissions'!D810=\"AGI externes\",'Relevés de  commissions'!M810,0)*1","v":0},{"$f":"IF('Relevés de  commissions'!D810=\"AGI externes\",'Relevés de  commissions'!N810,0)*1","v":0},{"$f":"IF('Relevés de  commissions'!D810=\"AGI externes\",'Relevés de  commissions'!O810,0)*1","v":0},{"$f":"IF('Relevés de  commissions'!D810=\"AGI externes\",'Relevés de  commissions'!P810,0)*1","v":0},0,""]
[null,null,null,null,null,null,null,null,null,null,null,null,{"$f":"IF('Relevés de  commissions'!D811=\"AGI externes\",'Relevés de  commissions'!M811,0)*1","v":0},{"$f":"IF('Relevés de  commissions'!D811=\"AGI externes\",'Relevés de  commissions'!N811,0)*1","v":0},{"$f":"IF('Relevés de  commissions'!D811=\"AGI externes\",'Relevés de  commissions'!O811,0)*1","v":0},{"$f":"IF('Relevés de  commissions'!D811=\"AGI externes\",'Relevés de  commissions'!P811,0)*1","v":0},0,""]
[null,null,null,null,null,null,null,null,null,null,null,null,{"$f":"IF('Relevés de  commissions'!D812=\"AGI externes\",'Relevés de  commissions'!M812,0)*1","v":0},{"$f":"IF('Relevés de  commissions'!D812=\"AGI externes\",'Relevés de  commissions'!N812,0)*1","v":0},{"$f":"IF('Relevés de  commissions'!D812=\"AGI externes\",'Relevés de  commissions'!O812,0)*1","v":0},{"$f":"IF('Relevés de  commissions'!D812=\"AGI externes\",'Relevés de  commissions'!P812,0)*1","v":0},0,""]
[null,null,null,null,null,null,null,null,null,null,null,null,{"$f":"IF('Relevés de  commissions'!D813=\"AGI externes\",'Relevés de  commissions'!M813,0)*1","v":0},{"$f":"IF('Relevés de  commissions'!D813=\"AGI externes\",'Relevés de  commissions'!N813,0)*1","v":0},{"$f":"IF('Relevés de  commissions'!D813=\"AGI externes\",'Relevés de  commissions'!O813,0)*1","v":0},{"$f":"IF('Relevés de  commissions'!D813=\"AGI externes\",'Relevés de  commissions'!P813,0)*1","v":0},0,""]
[null,null,null,null,null,null,null,null,null,null,null,null,{"$f":"IF('Relevés de  commissions'!D814=\"AGI externes\",'Relevés de  commissions'!M814,0)*1","v":0},{"$f":"IF('Relevés de  commissions'!D814=\"AGI externes\",'Relevés de  commissions'!N814,0)*1","v":0},{"$f":"IF('Relevés de  commissions'!D814=\"AGI externes\",'Relevés de  commissions'!O814,0)*1","v":0},{"$f":"IF('Relevés de  commissions'!D814=\"AGI externes\",'Relevés de  commissions'!P814,0)*1","v":0},0,""]
[null,null,null,null,null,null,null,null,null,null,null,null,{"$f":"IF('Relevés de  commissions'!D815=\"AGI externes\",'Relevés de  commissions'!M815,0)*1","v":0},{"$f":"IF('Relevés de  commissions'!D815=\"AGI externes\",'Relevés de  commissions'!N815,0)*1","v":0},{"$f":"IF('Relevés de  commissions'!D815=\"AGI externes\",'Relevés de  commissions'!O815,0)*1","v":0},{"$f":"IF('Relevés de  commissions'!D815=\"AGI externes\",'Relevés de  commissions'!P815,0)*1","v":0},0,""]
[null,null,null,null,null,null,null,null,null,null,null,null,{"$f":"IF('Relevés de  commissions'!D816=\"AGI externes\",'Relevés de  commissions'!M816,0)*1","v":0},{"$f":"IF('Relevés de  commissions'!D816=\"AGI externes\",'Relevés de  commissions'!N816,0)*1","v":0},{"$f":"IF('Relevés de  commissions'!D816=\"AGI externes\",'Relevés de  commissions'!O816,0)*1","v":0},{"$f":"IF('Relevés de  commissions'!D816=\"AGI externes\",'Relevés de  commissions'!P816,0)*1","v":0},0,""]
[null,null,null,null,null,null,null,null,null,null,null,null,{"$f":"IF('Relevés de  commissions'!D817=\"AGI externes\",'Relevés de  commissions'!M817,0)*1","v":0},{"$f":"IF('Relevés de  commissions'!D817=\"AGI externes\",'Relevés de  commissions'!N817,0)*1","v":0},{"$f":"IF('Relevés de  commissions'!D817=\"AGI externes\",'Relevés de  commissions'!O817,0)*1","v":0},{"$f":"IF('Relevés de  commissions'!D817=\"AGI externes\",'Relevés de  commissions'!P817,0)*1","v":0},0,""]
[null,null,null,null,null,null,null,null,null,null,null,null,{"$f":"IF('Relevés de  commissions'!D818=\"AGI externes\",'Relevés de  commissions'!M818,0)*1","v":0},{"$f":"IF('Relevés de  commissions'!D818=\"AGI externes\",'Relevés de  commissions'!N818,0)*1","v":0},{"$f":"IF('Relevés de  commissions'!D818=\"AGI externes\",'Relevés de  commissions'!O818,0)*1","v":0},{"$f":"IF('Relevés de  commissions'!D818=\"AGI externes\",'Relevés de  commissions'!P818,0)*1","v":0},0,""]
[null,null,null,null,null,null,null,null,null,null,null,null,{"$f":"IF('Relevés de  commissions'!D819=\"AGI externes\",'Relevés de  commissions'!M819,0)*1","v":0},{"$f":"IF('Relevés de  commissions'!D819=\"AGI externes\",'Relevés de  commissions'!N819,0)*1","v":0},{"$f":"IF('Relevés de  commissions'!D819=\"AGI externes\",'Relevés de  commissions'!O819,0)*1","v":0},{"$f":"IF('Relevés de  commissions'!D819=\"AGI externes\",'Relevés de  commissions'!P819,0)*1","v":0},0,""]
[null,null,null,null,null,null,null,null,null,null,null,null,{"$f":"IF('Relevés de  commissions'!D820=\"AGI externes\",'Relevés de  commissions'!M820,0)*1","v":0},{"$f":"IF('Relevés de  commissions'!D820=\"AGI externes\",'Relevés de  commissions'!N820,0)*1","v":0},{"$f":"IF('Relevés de  commissions'!D820=\"AGI externes\",'Relevés de  commissions'!O820,0)*1","v":0},{"$f":"IF('Relevés de  commissions'!D820=\"AGI externes\",'Relevés de  commissions'!P820,0)*1","v":0},0,""]
[null,null,null,null,null,null,null,null,null,null,null,null,{"$f":"IF('Relevés de  commissions'!D821=\"AGI externes\",'Relevés de  commissions'!M821,0)*1","v":0},{"$f":"IF('Relevés de  commissions'!D821=\"AGI externes\",'Relevés de  commissions'!N821,0)*1","v":0},{"$f":"IF('Relevés de  commissions'!D821=\"AGI externes\",'Relevés de  commissions'!O821,0)*1","v":0},{"$f":"IF('Relevés de  commissions'!D821=\"AGI externes\",'Relevés de  commissions'!P821,0)*1","v":0},0,""]
[null,null,null,null,null,null,null,null,null,null,null,null,{"$f":"IF('Relevés de  commissions'!D822=\"AGI externes\",'Relevés de  commissions'!M822,0)*1","v":0},{"$f":"IF('Relevés de  commissions'!D822=\"AGI externes\",'Relevés de  commissions'!N822,0)*1","v":0},{"$f":"IF('Relevés de  commissions'!D822=\"AGI externes\",'Relevés de  commissions'!O822,0)*1","v":0},{"$f":"IF('Relevés de  commissions'!D822=\"AGI externes\",'Relevés de  commissions'!P822,0)*1","v":0},0,""]
[null,null,null,null,null,null,null,null,null,null,null,null,{"$f":"IF('Relevés de  commissions'!D823=\"AGI externes\",'Relevés de  commissions'!M823,0)*1","v":0},{"$f":"IF('Relevés de  commissions'!D823=\"AGI externes\",'Relevés de  commissions'!N823,0)*1","v":0},{"$f":"IF('Relevés de  commissions'!D823=\"AGI externes\",'Relevés de  commissions'!O823,0)*1","v":0},{"$f":"IF('Relevés de  commissions'!D823=\"AGI externes\",'Relevés de  commissions'!P823,0)*1","v":0},0,""]
[null,null,null,null,null,null,null,null,null,null,null,null,{"$f":"IF('Relevés de  commissions'!D824=\"AGI externes\",'Relevés de  commissions'!M824,0)*1","v":0},{"$f":"IF('Relevés de  commissions'!D824=\"AGI externes\",'Relevés de  commissions'!N824,0)*1","v":0},{"$f":"IF('Relevés de  commissions'!D824=\"AGI externes\",'Relevés de  commissions'!O824,0)*1","v":0},{"$f":"IF('Relevés de  commissions'!D824=\"AGI externes\",'Relevés de  commissions'!P824,0)*1","v":0},0,""]
[null,null,null,null,null,null,null,null,null,null,null,null,{"$f":"IF('Relevés de  commissions'!D825=\"AGI externes\",'Relevés de  commissions'!M825,0)*1","v":0},{"$f":"IF('Relevés de  commissions'!D825=\"AGI externes\",'Relevés de  commissions'!N825,0)*1","v":0},{"$f":"IF('Relevés de  commissions'!D825=\"AGI externes\",'Relevés de  commissions'!O825,0)*1","v":0},{"$f":"IF('Relevés de  commissions'!D825=\"AGI externes\",'Relevés de  commissions'!P825,0)*1","v":0},0,""]
[null,null,null,null,null,null,null,null,null,null,null,null,{"$f":"IF('Relevés de  commissions'!D826=\"AGI externes\",'Relevés de  commissions'!M826,0)*1","v":0},{"$f":"IF('Relevés de  commissions'!D826=\"AGI externes\",'Relevés de  commissions'!N826,0)*1","v":0},{"$f":"IF('Relevés de  commissions'!D826=\"AGI externes\",'Relevés de  commissions'!O826,0)*1","v":0},{"$f":"IF('Relevés de  commissions'!D826=\"AGI externes\",'Relevés de  commissions'!P826,0)*1","v":0},0,""]
[null,null,null,null,null,null,null,null,null,null,null,null,{"$f":"IF('Relevés de  commissions'!D827=\"AGI externes\",'Relevés de  commissions'!M827,0)*1","v":0},{"$f":"IF('Relevés de  commissions'!D827=\"AGI externes\",'Relevés de  commissions'!N827,0)*1","v":0},{"$f":"IF('Relevés de  commissions'!D827=\"AGI externes\",'Relevés de  commissions'!O827,0)*1","v":0},{"$f":"IF('Relevés de  commissions'!D827=\"AGI externes\",'Relevés de  commissions'!P827,0)*1","v":0},0,""]
[null,null,null,null,null,null,null,null,null,null,null,null,{"$f":"IF('Relevés de  commissions'!D828=\"AGI externes\",'Relevés de  commissions'!M828,0)*1","v":0},{"$f":"IF('Relevés de  commissions'!D828=\"AGI externes\",'Relevés de  commissions'!N828,0)*1","v":0},{"$f":"IF('Relevés de  commissions'!D828=\"AGI externes\",'Relevés de  commissions'!O828,0)*1","v":0},{"$f":"IF('Relevés de  commissions'!D828=\"AGI externes\",'Relevés de  commissions'!P828,0)*1","v":0},0,""]
[null,null,null,null,null,null,null,null,null,null,null,null,{"$f":"IF('Relevés de  commissions'!D829=\"AGI externes\",'Relevés de  commissions'!M829,0)*1","v":0},{"$f":"IF('Relevés de  commissions'!D829=\"AGI externes\",'Relevés de  commissions'!N829,0)*1","v":0},{"$f":"IF('Relevés de  commissions'!D829=\"AGI externes\",'Relevés de  commissions'!O829,0)*1","v":0},{"$f":"IF('Relevés de  commissions'!D829=\"AGI externes\",'Relevés de  commissions'!P829,0)*1","v":0},0,""]
[null,null,null,null,null,null,null,null,null,null,null,null,{"$f":"IF('Relevés de  commissions'!D830=\"AGI externes\",'Relevés de  commissions'!M830,0)*1","v":0},{"$f":"IF('Relevés de  commissions'!D830=\"AGI externes\",'Relevés de  commissions'!N830,0)*1","v":0},{"$f":"IF('Relevés de  commissions'!D830=\"AGI externes\",'Relevés de  commissions'!O830,0)*1","v":0},{"$f":"IF('Relevés de  commissions'!D830=\"AGI externes\",'Relevés de  commissions'!P830,0)*1","v":0},0,""]
[null,null,null,null,null,null,null,null,null,null,null,null,{"$f":"IF('Relevés de  commissions'!D831=\"AGI externes\",'Relevés de  commissions'!M831,0)*1","v":0},{"$f":"IF('Relevés de  commissions'!D831=\"AGI externes\",'Relevés de  commissions'!N831,0)*1","v":0},{"$f":"IF('Relevés de  commissions'!D831=\"AGI externes\",'Relevés de  commissions'!O831,0)*1","v":0},{"$f":"IF('Relevés de  commissions'!D831=\"AGI externes\",'Relevés de  commissions'!P831,0)*1","v":0},0,""]
[null,null,null,null,null,null,null,null,null,null,null,null,{"$f":"IF('Relevés de  commissions'!D832=\"AGI externes\",'Relevés de  commissions'!M832,0)*1","v":0},{"$f":"IF('Relevés de  commissions'!D832=\"AGI externes\",'Relevés de  commissions'!N832,0)*1","v":0},{"$f":"IF('Relevés de  commissions'!D832=\"AGI externes\",'Relevés de  commissions'!O832,0)*1","v":0},{"$f":"IF('Relevés de  commissions'!D832=\"AGI externes\",'Relevés de  commissions'!P832,0)*1","v":0},0,""]
[null,null,null,null,null,null,null,null,null,null,null,null,{"$f":"IF('Relevés de  commissions'!D833=\"AGI externes\",'Relevés de  commissions'!M833,0)*1","v":0},{"$f":"IF('Relevés de  commissions'!D833=\"AGI externes\",'Relevés de  commissions'!N833,0)*1","v":0},{"$f":"IF('Relevés de  commissions'!D833=\"AGI externes\",'Relevés de  commissions'!O833,0)*1","v":0},{"$f":"IF('Relevés de  commissions'!D833=\"AGI externes\",'Relevés de  commissions'!P833,0)*1","v":0},0,""]
[null,null,null,null,null,null,null,null,null,null,null,null,{"$f":"IF('Relevés de  commissions'!D834=\"AGI externes\",'Relevés de  commissions'!M834,0)*1","v":0},{"$f":"IF('Relevés de  commissions'!D834=\"AGI externes\",'Relevés de  commissions'!N834,0)*1","v":0},{"$f":"IF('Relevés de  commissions'!D834=\"AGI externes\",'Relevés de  commissions'!O834,0)*1","v":0},{"$f":"IF('Relevés de  commissions'!D834=\"AGI externes\",'Relevés de  commissions'!P834,0)*1","v":0},0,""]
[null,null,null,null,null,null,null,null,null,null,null,null,{"$f":"IF('Relevés de  commissions'!D835=\"AGI externes\",'Relevés de  commissions'!M835,0)*1","v":0},{"$f":"IF('Relevés de  commissions'!D835=\"AGI externes\",'Relevés de  commissions'!N835,0)*1","v":0},{"$f":"IF('Relevés de  commissions'!D835=\"AGI externes\",'Relevés de  commissions'!O835,0)*1","v":0},{"$f":"IF('Relevés de  commissions'!D835=\"AGI externes\",'Relevés de  commissions'!P835,0)*1","v":0},{"$f":"IF(N837=0,O837,\"\")","v":0},{"$f":"IF(N837=10,O837,\"\")","v":""}]
[null,null,null,null,null,null,null,null,null,null,null,null,{"$f":"IF('Relevés de  commissions'!D836=\"AGI externes\",'Relevés de  commissions'!M836,0)*1","v":0},{"$f":"IF('Relevés de  commissions'!D836=\"AGI externes\",'Relevés de  commissions'!N836,0)*1","v":0},{"$f":"IF('Relevés de  commissions'!D836=\"AGI externes\",'Relevés de  commissions'!O836,0)*1","v":0},{"$f":"IF('Relevés de  commissions'!D836=\"AGI externes\",'Relevés de  commissions'!P836,0)*1","v":0},0,""]
[null,null,null,null,null,null,null,null,null,null,null,null,{"$f":"IF('Relevés de  commissions'!D837=\"AGI externes\",'Relevés de  commissions'!M837,0)*1","v":0},{"$f":"IF('Relevés de  commissions'!D837=\"AGI externes\",'Relevés de  commissions'!N837,0)*1","v":0},{"$f":"IF('Relevés de  commissions'!D837=\"AGI externes\",'Relevés de  commissions'!O837,0)*1","v":0},{"$f":"IF('Relevés de  commissions'!D837=\"AGI externes\",'Relevés de  commissions'!P837,0)*1","v":0},0,""]
[null,null,null,null,null,null,null,null,null,null,null,null,{"$f":"IF('Relevés de  commissions'!D838=\"AGI externes\",'Relevés de  commissions'!M838,0)*1","v":0},{"$f":"IF('Relevés de  commissions'!D838=\"AGI externes\",'Relevés de  commissions'!N838,0)*1","v":0},{"$f":"IF('Relevés de  commissions'!D838=\"AGI externes\",'Relevés de  commissions'!O838,0)*1","v":0},{"$f":"IF('Relevés de  commissions'!D838=\"AGI externes\",'Relevés de  commissions'!P838,0)*1","v":0},0,""]
[null,null,null,null,null,null,null,null,null,null,null,null,{"$f":"IF('Relevés de  commissions'!D839=\"AGI externes\",'Relevés de  commissions'!M839,0)*1","v":0},{"$f":"IF('Relevés de  commissions'!D839=\"AGI externes\",'Relevés de  commissions'!N839,0)*1","v":0},{"$f":"IF('Relevés de  commissions'!D839=\"AGI externes\",'Relevés de  commissions'!O839,0)*1","v":0},{"$f":"IF('Relevés de  commissions'!D839=\"AGI externes\",'Relevés de  commissions'!P839,0)*1","v":0},0,""]
[null,null,null,null,null,null,null,null,null,null,null,null,{"$f":"IF('Relevés de  commissions'!D840=\"AGI externes\",'Relevés de  commissions'!M840,0)*1","v":0},{"$f":"IF('Relevés de  commissions'!D840=\"AGI externes\",'Relevés de  commissions'!N840,0)*1","v":0},{"$f":"IF('Relevés de  commissions'!D840=\"AGI externes\",'Relevés de  commissions'!O840,0)*1","v":0},{"$f":"IF('Relevés de  commissions'!D840=\"AGI externes\",'Relevés de  commissions'!P840,0)*1","v":0},0,""]
[null,null,null,null,null,null,null,null,null,null,null,null,{"$f":"IF('Relevés de  commissions'!D841=\"AGI externes\",'Relevés de  commissions'!M841,0)*1","v":0},{"$f":"IF('Relevés de  commissions'!D841=\"AGI externes\",'Relevés de  commissions'!N841,0)*1","v":0},{"$f":"IF('Relevés de  commissions'!D841=\"AGI externes\",'Relevés de  commissions'!O841,0)*1","v":0},{"$f":"IF('Relevés de  commissions'!D841=\"AGI externes\",'Relevés de  commissions'!P841,0)*1","v":0},0,""]
[null,null,null,null,null,null,null,null,null,null,null,null,{"$f":"IF('Relevés de  commissions'!D842=\"AGI externes\",'Relevés de  commissions'!M842,0)*1","v":0},{"$f":"IF('Relevés de  commissions'!D842=\"AGI externes\",'Relevés de  commissions'!N842,0)*1","v":0},{"$f":"IF('Relevés de  commissions'!D842=\"AGI externes\",'Relevés de  commissions'!O842,0)*1","v":0},{"$f":"IF('Relevés de  commissions'!D842=\"AGI externes\",'Relevés de  commissions'!P842,0)*1","v":0},0,""]
[null,null,null,null,null,null,null,null,null,null,null,null,{"$f":"IF('Relevés de  commissions'!D843=\"AGI externes\",'Relevés de  commissions'!M843,0)*1","v":0},{"$f":"IF('Relevés de  commissions'!D843=\"AGI externes\",'Relevés de  commissions'!N843,0)*1","v":0},{"$f":"IF('Relevés de  commissions'!D843=\"AGI externes\",'Relevés de  commissions'!O843,0)*1","v":0},{"$f":"IF('Relevés de  commissions'!D843=\"AGI externes\",'Relevés de  commissions'!P843,0)*1","v":0},0,""]
[null,null,null,null,null,null,null,null,null,null,null,null,{"$f":"IF('Relevés de  commissions'!D844=\"AGI externes\",'Relevés de  commissions'!M844,0)*1","v":0},{"$f":"IF('Relevés de  commissions'!D844=\"AGI externes\",'Relevés de  commissions'!N844,0)*1","v":0},{"$f":"IF('Relevés de  commissions'!D844=\"AGI externes\",'Relevés de  commissions'!O844,0)*1","v":0},{"$f":"IF('Relevés de  commissions'!D844=\"AGI externes\",'Relevés de  commissions'!P844,0)*1","v":0},0,""]
[null,null,null,null,null,null,null,null,null,null,null,null,{"$f":"IF('Relevés de  commissions'!D845=\"AGI externes\",'Relevés de  commissions'!M845,0)*1","v":0},{"$f":"IF('Relevés de  commissions'!D845=\"AGI externes\",'Relevés de  commissions'!N845,0)*1","v":0},{"$f":"IF('Relevés de  commissions'!D845=\"AGI externes\",'Relevés de  commissions'!O845,0)*1","v":0},{"$f":"IF('Relevés de  commissions'!D845=\"AGI externes\",'Relevés de  commissions'!P845,0)*1","v":0},0,""]
[null,null,null,null,null,null,null,null,null,null,null,null,{"$f":"IF('Relevés de  commissions'!D846=\"AGI externes\",'Relevés de  commissions'!M846,0)*1","v":0},{"$f":"IF('Relevés de  commissions'!D846=\"AGI externes\",'Relevés de  commissions'!N846,0)*1","v":0},{"$f":"IF('Relevés de  commissions'!D846=\"AGI externes\",'Relevés de  commissions'!O846,0)*1","v":0},{"$f":"IF('Relevés de  commissions'!D846=\"AGI externes\",'Relevés de  commissions'!P846,0)*1","v":0},0,""]
[null,null,null,null,null,null,null,null,null,null,null,null,{"$f":"IF('Relevés de  commissions'!D847=\"AGI externes\",'Relevés de  commissions'!M847,0)*1","v":0},{"$f":"IF('Relevés de  commissions'!D847=\"AGI externes\",'Relevés de  commissions'!N847,0)*1","v":0},{"$f":"IF('Relevés de  commissions'!D847=\"AGI externes\",'Relevés de  commissions'!O847,0)*1","v":0},{"$f":"IF('Relevés de  commissions'!D847=\"AGI externes\",'Relevés de  commissions'!P847,0)*1","v":0},0,""]
[null,null,null,null,null,null,null,null,null,null,null,null,{"$f":"IF('Relevés de  commissions'!D848=\"AGI externes\",'Relevés de  commissions'!M848,0)*1","v":0},{"$f":"IF('Relevés de  commissions'!D848=\"AGI externes\",'Relevés de  commissions'!N848,0)*1","v":0},{"$f":"IF('Relevés de  commissions'!D848=\"AGI externes\",'Relevés de  commissions'!O848,0)*1","v":0},{"$f":"IF('Relevés de  commissions'!D848=\"AGI externes\",'Relevés de  commissions'!P848,0)*1","v":0},0,""]
[null,null,null,null,null,null,null,null,null,null,null,null,{"$f":"IF('Relevés de  commissions'!D849=\"AGI externes\",'Relevés de  commissions'!M849,0)*1","v":0},{"$f":"IF('Relevés de  commissions'!D849=\"AGI externes\",'Relevés de  commissions'!N849,0)*1","v":0},{"$f":"IF('Relevés de  commissions'!D849=\"AGI externes\",'Relevés de  commissions'!O849,0)*1","v":0},{"$f":"IF('Relevés de  commissions'!D849=\"AGI externes\",'Relevés de  commissions'!P849,0)*1","v":0},0,""]
[null,null,null,null,null,null,null,null,null,null,null,null,{"$f":"IF('Relevés de  commissions'!D850=\"AGI externes\",'Relevés de  commissions'!M850,0)*1","v":0},{"$f":"IF('Relevés de  commissions'!D850=\"AGI externes\",'Relevés de  commissions'!N850,0)*1","v":0},{"$f":"IF('Relevés de  commissions'!D850=\"AGI externes\",'Relevés de  commissions'!O850,0)*1","v":0},{"$f":"IF('Relevés de  commissions'!D850=\"AGI externes\",'Relevés de  commissions'!P850,0)*1","v":0},0,""]
[null,null,null,null,null,null,null,null,null,null,null,null,{"$f":"IF('Relevés de  commissions'!D851=\"AGI externes\",'Relevés de  commissions'!M851,0)*1","v":0},{"$f":"IF('Relevés de  commissions'!D851=\"AGI externes\",'Relevés de  commissions'!N851,0)*1","v":0},{"$f":"IF('Relevés de  commissions'!D851=\"AGI externes\",'Relevés de  commissions'!O851,0)*1","v":0},{"$f":"IF('Relevés de  commissions'!D851=\"AGI externes\",'Relevés de  commissions'!P851,0)*1","v":0},0,""]
[null,null,null,null,null,null,null,null,null,null,null,null,{"$f":"IF('Relevés de  commissions'!D852=\"AGI externes\",'Relevés de  commissions'!M852,0)*1","v":0},{"$f":"IF('Relevés de  commissions'!D852=\"AGI externes\",'Relevés de  commissions'!N852,0)*1","v":0},{"$f":"IF('Relevés de  commissions'!D852=\"AGI externes\",'Relevés de  commissions'!O852,0)*1","v":0},{"$f":"IF('Relevés de  commissions'!D852=\"AGI externes\",'Relevés de  commissions'!P852,0)*1","v":0},0,""]
[null,null,null,null,null,null,null,null,null,null,null,null,{"$f":"IF('Relevés de  commissions'!D853=\"AGI externes\",'Relevés de  commissions'!M853,0)*1","v":0},{"$f":"IF('Relevés de  commissions'!D853=\"AGI externes\",'Relevés de  commissions'!N853,0)*1","v":0},{"$f":"IF('Relevés de  commissions'!D853=\"AGI externes\",'Relevés de  commissions'!O853,0)*1","v":0},{"$f":"IF('Relevés de  commissions'!D853=\"AGI externes\",'Relevés de  commissions'!P853,0)*1","v":0},0,""]
[null,null,null,null,null,null,null,null,null,null,null,null,{"$f":"IF('Relevés de  commissions'!D854=\"AGI externes\",'Relevés de  commissions'!M854,0)*1","v":0},{"$f":"IF('Relevés de  commissions'!D854=\"AGI externes\",'Relevés de  commissions'!N854,0)*1","v":0},{"$f":"IF('Relevés de  commissions'!D854=\"AGI externes\",'Relevés de  commissions'!O854,0)*1","v":0},{"$f":"IF('Relevés de  commissions'!D854=\"AGI externes\",'Relevés de  commissions'!P854,0)*1","v":0},0,""]
[null,null,null,null,null,null,null,null,null,null,null,null,{"$f":"IF('Relevés de  commissions'!D855=\"AGI externes\",'Relevés de  commissions'!M855,0)*1","v":0},{"$f":"IF('Relevés de  commissions'!D855=\"AGI externes\",'Relevés de  commissions'!N855,0)*1","v":0},{"$f":"IF('Relevés de  commissions'!D855=\"AGI externes\",'Relevés de  commissions'!O855,0)*1","v":0},{"$f":"IF('Relevés de  commissions'!D855=\"AGI externes\",'Relevés de  commissions'!P855,0)*1","v":0},0,""]
[null,null,null,null,null,null,null,null,null,null,null,null,{"$f":"IF('Relevés de  commissions'!D856=\"AGI externes\",'Relevés de  commissions'!M856,0)*1","v":0},{"$f":"IF('Relevés de  commissions'!D856=\"AGI externes\",'Relevés de  commissions'!N856,0)*1","v":0},{"$f":"IF('Relevés de  commissions'!D856=\"AGI externes\",'Relevés de  commissions'!O856,0)*1","v":0},{"$f":"IF('Relevés de  commissions'!D856=\"AGI externes\",'Relevés de  commissions'!P856,0)*1","v":0},0,""]
[null,null,null,null,null,null,null,null,null,null,null,null,{"$f":"IF('Relevés de  commissions'!D857=\"AGI externes\",'Relevés de  commissions'!M857,0)*1","v":0},{"$f":"IF('Relevés de  commissions'!D857=\"AGI externes\",'Relevés de  commissions'!N857,0)*1","v":0},{"$f":"IF('Relevés de  commissions'!D857=\"AGI externes\",'Relevés de  commissions'!O857,0)*1","v":0},{"$f":"IF('Relevés de  commissions'!D857=\"AGI externes\",'Relevés de  commissions'!P857,0)*1","v":0},0,""]
[null,null,null,null,null,null,null,null,null,null,null,null,{"$f":"IF('Relevés de  commissions'!D858=\"AGI externes\",'Relevés de  commissions'!M858,0)*1","v":0},{"$f":"IF('Relevés de  commissions'!D858=\"AGI externes\",'Relevés de  commissions'!N858,0)*1","v":0},{"$f":"IF('Relevés de  commissions'!D858=\"AGI externes\",'Relevés de  commissions'!O858,0)*1","v":0},{"$f":"IF('Relevés de  commissions'!D858=\"AGI externes\",'Relevés de  commissions'!P858,0)*1","v":0},0,""]
[null,null,null,null,null,null,null,null,null,null,null,null,{"$f":"IF('Relevés de  commissions'!D859=\"AGI externes\",'Relevés de  commissions'!M859,0)*1","v":0},{"$f":"IF('Relevés de  commissions'!D859=\"AGI externes\",'Relevés de  commissions'!N859,0)*1","v":0},{"$f":"IF('Relevés de  commissions'!D859=\"AGI externes\",'Relevés de  commissions'!O859,0)*1","v":0},{"$f":"IF('Relevés de  commissions'!D859=\"AGI externes\",'Relevés de  commissions'!P859,0)*1","v":0},0,""]
[null,null,null,null,null,null,null,null,null,null,null,null,{"$f":"IF('Relevés de  commissions'!D860=\"AGI externes\",'Relevés de  commissions'!M860,0)*1","v":0},{"$f":"IF('Relevés de  commissions'!D860=\"AGI externes\",'Relevés de  commissions'!N860,0)*1","v":0},{"$f":"IF('Relevés de  commissions'!D860=\"AGI externes\",'Relevés de  commissions'!O860,0)*1","v":0},{"$f":"IF('Relevés de  commissions'!D860=\"AGI externes\",'Relevés de  commissions'!P860,0)*1","v":0},0,""]
[null,null,null,null,null,null,null,null,null,null,null,null,{"$f":"IF('Relevés de  commissions'!D861=\"AGI externes\",'Relevés de  commissions'!M861,0)*1","v":0},{"$f":"IF('Relevés de  commissions'!D861=\"AGI externes\",'Relevés de  commissions'!N861,0)*1","v":0},{"$f":"IF('Relevés de  commissions'!D861=\"AGI externes\",'Relevés de  commissions'!O861,0)*1","v":0},{"$f":"IF('Relevés de  commissions'!D861=\"AGI externes\",'Relevés de  commissions'!P861,0)*1","v":0},0,""]
[null,null,null,null,null,null,null,null,null,null,null,null,{"$f":"IF('Relevés de  commissions'!D862=\"AGI externes\",'Relevés de  commissions'!M862,0)*1","v":0},{"$f":"IF('Relevés de  commissions'!D862=\"AGI externes\",'Relevés de  commissions'!N862,0)*1","v":0},{"$f":"IF('Relevés de  commissions'!D862=\"AGI externes\",'Relevés de  commissions'!O862,0)*1","v":0},{"$f":"IF('Relevés de  commissions'!D862=\"AGI externes\",'Relevés de  commissions'!P862,0)*1","v":0},0,""]
[null,null,null,null,null,null,null,null,null,null,null,null,{"$f":"IF('Relevés de  commissions'!D863=\"AGI externes\",'Relevés de  commissions'!M863,0)*1","v":0},{"$f":"IF('Relevés de  commissions'!D863=\"AGI externes\",'Relevés de  commissions'!N863,0)*1","v":0},{"$f":"IF('Relevés de  commissions'!D863=\"AGI externes\",'Relevés de  commissions'!O863,0)*1","v":0},{"$f":"IF('Relevés de  commissions'!D863=\"AGI externes\",'Relevés de  commissions'!P863,0)*1","v":0},0,""]
[null,null,null,null,null,null,null,null,null,null,null,null,{"$f":"IF('Relevés de  commissions'!D864=\"AGI externes\",'Relevés de  commissions'!M864,0)*1","v":0},{"$f":"IF('Relevés de  commissions'!D864=\"AGI externes\",'Relevés de  commissions'!N864,0)*1","v":0},{"$f":"IF('Relevés de  commissions'!D864=\"AGI externes\",'Relevés de  commissions'!O864,0)*1","v":0},{"$f":"IF('Relevés de  commissions'!D864=\"AGI externes\",'Relevés de  commissions'!P864,0)*1","v":0},0,""]
[null,null,null,null,null,null,null,null,null,null,null,null,{"$f":"IF('Relevés de  commissions'!D865=\"AGI externes\",'Relevés de  commissions'!M865,0)*1","v":0},{"$f":"IF('Relevés de  commissions'!D865=\"AGI externes\",'Relevés de  commissions'!N865,0)*1","v":0},{"$f":"IF('Relevés de  commissions'!D865=\"AGI externes\",'Relevés de  commissions'!O865,0)*1","v":0},{"$f":"IF('Relevés de  commissions'!D865=\"AGI externes\",'Relevés de  commissions'!P865,0)*1","v":0},0,""]
[null,null,null,null,null,null,null,null,null,null,null,null,{"$f":"IF('Relevés de  commissions'!D866=\"AGI externes\",'Relevés de  commissions'!M866,0)*1","v":0},{"$f":"IF('Relevés de  commissions'!D866=\"AGI externes\",'Relevés de  commissions'!N866,0)*1","v":0},{"$f":"IF('Relevés de  commissions'!D866=\"AGI externes\",'Relevés de  commissions'!O866,0)*1","v":0},{"$f":"IF('Relevés de  commissions'!D866=\"AGI externes\",'Relevés de  commissions'!P866,0)*1","v":0},0,""]
[null,null,null,null,null,null,null,null,null,null,null,null,{"$f":"IF('Relevés de  commissions'!D867=\"AGI externes\",'Relevés de  commissions'!M867,0)*1","v":0},{"$f":"IF('Relevés de  commissions'!D867=\"AGI externes\",'Relevés de  commissions'!N867,0)*1","v":0},{"$f":"IF('Relevés de  commissions'!D867=\"AGI externes\",'Relevés de  commissions'!O867,0)*1","v":0},{"$f":"IF('Relevés de  commissions'!D867=\"AGI externes\",'Relevés de  commissions'!P867,0)*1","v":0},0,""]
[null,null,null,null,null,null,null,null,null,null,null,null,{"$f":"IF('Relevés de  commissions'!D868=\"AGI externes\",'Relevés de  commissions'!M868,0)*1","v":0},{"$f":"IF('Relevés de  commissions'!D868=\"AGI externes\",'Relevés de  commissions'!N868,0)*1","v":0},{"$f":"IF('Relevés de  commissions'!D868=\"AGI externes\",'Relevés de  commissions'!O868,0)*1","v":0},{"$f":"IF('Relevés de  commissions'!D868=\"AGI externes\",'Relevés de  commissions'!P868,0)*1","v":0},0,""]
[null,null,null,null,null,null,null,null,null,null,null,null,{"$f":"IF('Relevés de  commissions'!D869=\"AGI externes\",'Relevés de  commissions'!M869,0)*1","v":0},{"$f":"IF('Relevés de  commissions'!D869=\"AGI externes\",'Relevés de  commissions'!N869,0)*1","v":0},{"$f":"IF('Relevés de  commissions'!D869=\"AGI externes\",'Relevés de  commissions'!O869,0)*1","v":0},{"$f":"IF('Relevés de  commissions'!D869=\"AGI externes\",'Relevés de  commissions'!P869,0)*1","v":0},0,""]
[null,null,null,null,null,null,null,null,null,null,null,null,{"$f":"IF('Relevés de  commissions'!D870=\"AGI externes\",'Relevés de  commissions'!M870,0)*1","v":0},{"$f":"IF('Relevés de  commissions'!D870=\"AGI externes\",'Relevés de  commissions'!N870,0)*1","v":0},{"$f":"IF('Relevés de  commissions'!D870=\"AGI externes\",'Relevés de  commissions'!O870,0)*1","v":0},{"$f":"IF('Relevés de  commissions'!D870=\"AGI externes\",'Relevés de  commissions'!P870,0)*1","v":0},0,""]
[null,null,null,null,null,null,null,null,null,null,null,null,{"$f":"IF('Relevés de  commissions'!D871=\"AGI externes\",'Relevés de  commissions'!M871,0)*1","v":0},{"$f":"IF('Relevés de  commissions'!D871=\"AGI externes\",'Relevés de  commissions'!N871,0)*1","v":0},{"$f":"IF('Relevés de  commissions'!D871=\"AGI externes\",'Relevés de  commissions'!O871,0)*1","v":0},{"$f":"IF('Relevés de  commissions'!D871=\"AGI externes\",'Relevés de  commissions'!P871,0)*1","v":0},0,""]
[null,null,null,null,null,null,null,null,null,null,null,null,{"$f":"IF('Relevés de  commissions'!D872=\"AGI externes\",'Relevés de  commissions'!M872,0)*1","v":0},{"$f":"IF('Relevés de  commissions'!D872=\"AGI externes\",'Relevés de  commissions'!N872,0)*1","v":0},{"$f":"IF('Relevés de  commissions'!D872=\"AGI externes\",'Relevés de  commissions'!O872,0)*1","v":0},{"$f":"IF('Relevés de  commissions'!D872=\"AGI externes\",'Relevés de  commissions'!P872,0)*1","v":0},0,""]
[null,null,null,null,null,null,null,null,null,null,null,null,{"$f":"IF('Relevés de  commissions'!D873=\"AGI externes\",'Relevés de  commissions'!M873,0)*1","v":0},{"$f":"IF('Relevés de  commissions'!D873=\"AGI externes\",'Relevés de  commissions'!N873,0)*1","v":0},{"$f":"IF('Relevés de  commissions'!D873=\"AGI externes\",'Relevés de  commissions'!O873,0)*1","v":0},{"$f":"IF('Relevés de  commissions'!D873=\"AGI externes\",'Relevés de  commissions'!P873,0)*1","v":0},0,""]
[null,null,null,null,null,null,null,null,null,null,null,null,{"$f":"IF('Relevés de  commissions'!D874=\"AGI externes\",'Relevés de  commissions'!M874,0)*1","v":0},{"$f":"IF('Relevés de  commissions'!D874=\"AGI externes\",'Relevés de  commissions'!N874,0)*1","v":0},{"$f":"IF('Relevés de  commissions'!D874=\"AGI externes\",'Relevés de  commissions'!O874,0)*1","v":0},{"$f":"IF('Relevés de  commissions'!D874=\"AGI externes\",'Relevés de  commissions'!P874,0)*1","v":0},0,""]
[null,null,null,null,null,null,null,null,null,null,null,null,{"$f":"IF('Relevés de  commissions'!D875=\"AGI externes\",'Relevés de  commissions'!M875,0)*1","v":0},{"$f":"IF('Relevés de  commissions'!D875=\"AGI externes\",'Relevés de  commissions'!N875,0)*1","v":0},{"$f":"IF('Relevés de  commissions'!D875=\"AGI externes\",'Relevés de  commissions'!O875,0)*1","v":0},{"$f":"IF('Relevés de  commissions'!D875=\"AGI externes\",'Relevés de  commissions'!P875,0)*1","v":0},0,""]
[null,null,null,null,null,null,null,null,null,null,null,null,{"$f":"IF('Relevés de  commissions'!D876=\"AGI externes\",'Relevés de  commissions'!M876,0)*1","v":0},{"$f":"IF('Relevés de  commissions'!D876=\"AGI externes\",'Relevés de  commissions'!N876,0)*1","v":0},{"$f":"IF('Relevés de  commissions'!D876=\"AGI externes\",'Relevés de  commissions'!O876,0)*1","v":0},{"$f":"IF('Relevés de  commissions'!D876=\"AGI externes\",'Relevés de  commissions'!P876,0)*1","v":0},0,""]
[null,null,null,null,null,null,null,null,null,null,null,null,{"$f":"IF('Relevés de  commissions'!D877=\"AGI externes\",'Relevés de  commissions'!M877,0)*1","v":0},{"$f":"IF('Relevés de  commissions'!D877=\"AGI externes\",'Relevés de  commissions'!N877,0)*1","v":0},{"$f":"IF('Relevés de  commissions'!D877=\"AGI externes\",'Relevés de  commissions'!O877,0)*1","v":0},{"$f":"IF('Relevés de  commissions'!D877=\"AGI externes\",'Relevés de  commissions'!P877,0)*1","v":0},0,""]
[null,null,null,null,null,null,null,null,null,null,null,null,{"$f":"IF('Relevés de  commissions'!D878=\"AGI externes\",'Relevés de  commissions'!M878,0)*1","v":0},{"$f":"IF('Relevés de  commissions'!D878=\"AGI externes\",'Relevés de  commissions'!N878,0)*1","v":0},{"$f":"IF('Relevés de  commissions'!D878=\"AGI externes\",'Relevés de  commissions'!O878,0)*1","v":0},{"$f":"IF('Relevés de  commissions'!D878=\"AGI externes\",'Relevés de  commissions'!P878,0)*1","v":0},0,""]
[null,null,null,null,null,null,null,null,null,null,null,null,{"$f":"IF('Relevés de  commissions'!D879=\"AGI externes\",'Relevés de  commissions'!M879,0)*1","v":0},{"$f":"IF('Relevés de  commissions'!D879=\"AGI externes\",'Relevés de  commissions'!N879,0)*1","v":0},{"$f":"IF('Relevés de  commissions'!D879=\"AGI externes\",'Relevés de  commissions'!O879,0)*1","v":0},{"$f":"IF('Relevés de  commissions'!D879=\"AGI externes\",'Relevés de  commissions'!P879,0)*1","v":0},0,""]
[null,null,null,null,null,null,null,null,null,null,null,null,{"$f":"IF('Relevés de  commissions'!D880=\"AGI externes\",'Relevés de  commissions'!M880,0)*1","v":0},{"$f":"IF('Relevés de  commissions'!D880=\"AGI externes\",'Relevés de  commissions'!N880,0)*1","v":0},{"$f":"IF('Relevés de  commissions'!D880=\"AGI externes\",'Relevés de  commissions'!O880,0)*1","v":0},{"$f":"IF('Relevés de  commissions'!D880=\"AGI externes\",'Relevés de  commissions'!P880,0)*1","v":0},0,""]
[null,null,null,null,null,null,null,null,null,null,null,null,{"$f":"IF('Relevés de  commissions'!D881=\"AGI externes\",'Relevés de  commissions'!M881,0)*1","v":0},{"$f":"IF('Relevés de  commissions'!D881=\"AGI externes\",'Relevés de  commissions'!N881,0)*1","v":0},{"$f":"IF('Relevés de  commissions'!D881=\"AGI externes\",'Relevés de  commissions'!O881,0)*1","v":0},{"$f":"IF('Relevés de  commissions'!D881=\"AGI externes\",'Relevés de  commissions'!P881,0)*1","v":0},0,""]
[null,null,null,null,null,null,null,null,null,null,null,null,{"$f":"IF('Relevés de  commissions'!D882=\"AGI externes\",'Relevés de  commissions'!M882,0)*1","v":0},{"$f":"IF('Relevés de  commissions'!D882=\"AGI externes\",'Relevés de  commissions'!N882,0)*1","v":0},{"$f":"IF('Relevés de  commissions'!D882=\"AGI externes\",'Relevés de  commissions'!O882,0)*1","v":0},{"$f":"IF('Relevés de  commissions'!D882=\"AGI externes\",'Relevés de  commissions'!P882,0)*1","v":0},0,""]
[null,null,null,null,null,null,null,null,null,null,null,null,{"$f":"IF('Relevés de  commissions'!D883=\"AGI externes\",'Relevés de  commissions'!M883,0)*1","v":0},{"$f":"IF('Relevés de  commissions'!D883=\"AGI externes\",'Relevés de  commissions'!N883,0)*1","v":0},{"$f":"IF('Relevés de  commissions'!D883=\"AGI externes\",'Relevés de  commissions'!O883,0)*1","v":0},{"$f":"IF('Relevés de  commissions'!D883=\"AGI externes\",'Relevés de  commissions'!P883,0)*1","v":0},0,""]
[null,null,null,null,null,null,null,null,null,null,null,null,{"$f":"IF('Relevés de  commissions'!D884=\"AGI externes\",'Relevés de  commissions'!M884,0)*1","v":0},{"$f":"IF('Relevés de  commissions'!D884=\"AGI externes\",'Relevés de  commissions'!N884,0)*1","v":0},{"$f":"IF('Relevés de  commissions'!D884=\"AGI externes\",'Relevés de  commissions'!O884,0)*1","v":0},{"$f":"IF('Relevés de  commissions'!D884=\"AGI externes\",'Relevés de  commissions'!P884,0)*1","v":0},0,""]
[null,null,null,null,null,null,null,null,null,null,null,null,{"$f":"IF('Relevés de  commissions'!D885=\"AGI externes\",'Relevés de  commissions'!M885,0)*1","v":0},{"$f":"IF('Relevés de  commissions'!D885=\"AGI externes\",'Relevés de  commissions'!N885,0)*1","v":0},{"$f":"IF('Relevés de  commissions'!D885=\"AGI externes\",'Relevés de  commissions'!O885,0)*1","v":0},{"$f":"IF('Relevés de  commissions'!D885=\"AGI externes\",'Relevés de  commissions'!P885,0)*1","v":0},0,""]
[null,null,null,null,null,null,null,null,null,null,null,null,{"$f":"IF('Relevés de  commissions'!D886=\"AGI externes\",'Relevés de  commissions'!M886,0)*1","v":0},{"$f":"IF('Relevés de  commissions'!D886=\"AGI externes\",'Relevés de  commissions'!N886,0)*1","v":0},{"$f":"IF('Relevés de  commissions'!D886=\"AGI externes\",'Relevés de  commissions'!O886,0)*1","v":0},{"$f":"IF('Relevés de  commissions'!D886=\"AGI externes\",'Relevés de  commissions'!P886,0)*1","v":0},0,""]
[null,null,null,null,null,null,null,null,null,null,null,null,{"$f":"IF('Relevés de  commissions'!D887=\"AGI externes\",'Relevés de  commissions'!M887,0)*1","v":0},{"$f":"IF('Relevés de  commissions'!D887=\"AGI externes\",'Relevés de  commissions'!N887,0)*1","v":0},{"$f":"IF('Relevés de  commissions'!D887=\"AGI externes\",'Relevés de  commissions'!O887,0)*1","v":0},{"$f":"IF('Relevés de  commissions'!D887=\"AGI externes\",'Relevés de  commissions'!P887,0)*1","v":0},0,""]
[null,null,null,null,null,null,null,null,null,null,null,null,{"$f":"IF('Relevés de  commissions'!D888=\"AGI externes\",'Relevés de  commissions'!M888,0)*1","v":0},{"$f":"IF('Relevés de  commissions'!D888=\"AGI externes\",'Relevés de  commissions'!N888,0)*1","v":0},{"$f":"IF('Relevés de  commissions'!D888=\"AGI externes\",'Relevés de  commissions'!O888,0)*1","v":0},{"$f":"IF('Relevés de  commissions'!D888=\"AGI externes\",'Relevés de  commissions'!P888,0)*1","v":0},0,""]
[null,null,null,null,null,null,null,null,null,null,null,null,{"$f":"IF('Relevés de  commissions'!D889=\"AGI externes\",'Relevés de  commissions'!M889,0)*1","v":0},{"$f":"IF('Relevés de  commissions'!D889=\"AGI externes\",'Relevés de  commissions'!N889,0)*1","v":0},{"$f":"IF('Relevés de  commissions'!D889=\"AGI externes\",'Relevés de  commissions'!O889,0)*1","v":0},{"$f":"IF('Relevés de  commissions'!D889=\"AGI externes\",'Relevés de  commissions'!P889,0)*1","v":0},0,""]
[null,null,null,null,null,null,null,null,null,null,null,null,{"$f":"IF('Relevés de  commissions'!D890=\"AGI externes\",'Relevés de  commissions'!M890,0)*1","v":0},{"$f":"IF('Relevés de  commissions'!D890=\"AGI externes\",'Relevés de  commissions'!N890,0)*1","v":0},{"$f":"IF('Relevés de  commissions'!D890=\"AGI externes\",'Relevés de  commissions'!O890,0)*1","v":0},{"$f":"IF('Relevés de  commissions'!D890=\"AGI externes\",'Relevés de  commissions'!P890,0)*1","v":0},0,""]
[null,null,null,null,null,null,null,null,null,null,null,null,{"$f":"IF('Relevés de  commissions'!D891=\"AGI externes\",'Relevés de  commissions'!M891,0)*1","v":0},{"$f":"IF('Relevés de  commissions'!D891=\"AGI externes\",'Relevés de  commissions'!N891,0)*1","v":0},{"$f":"IF('Relevés de  commissions'!D891=\"AGI externes\",'Relevés de  commissions'!O891,0)*1","v":0},{"$f":"IF('Relevés de  commissions'!D891=\"AGI externes\",'Relevés de  commissions'!P891,0)*1","v":0},0,""]
[null,null,null,null,null,null,null,null,null,null,null,null,{"$f":"IF('Relevés de  commissions'!D892=\"AGI externes\",'Relevés de  commissions'!M892,0)*1","v":0},{"$f":"IF('Relevés de  commissions'!D892=\"AGI externes\",'Relevés de  commissions'!N892,0)*1","v":0},{"$f":"IF('Relevés de  commissions'!D892=\"AGI externes\",'Relevés de  commissions'!O892,0)*1","v":0},{"$f":"IF('Relevés de  commissions'!D892=\"AGI externes\",'Relevés de  commissions'!P892,0)*1","v":0},0,""]
[null,null,null,null,null,null,null,null,null,null,null,null,{"$f":"IF('Relevés de  commissions'!D893=\"AGI externes\",'Relevés de  commissions'!M893,0)*1","v":0},{"$f":"IF('Relevés de  commissions'!D893=\"AGI externes\",'Relevés de  commissions'!N893,0)*1","v":0},{"$f":"IF('Relevés de  commissions'!D893=\"AGI externes\",'Relevés de  commissions'!O893,0)*1","v":0},{"$f":"IF('Relevés de  commissions'!D893=\"AGI externes\",'Relevés de  commissions'!P893,0)*1","v":0},0,""]
[null,null,null,null,null,null,null,null,null,null,null,null,{"$f":"IF('Relevés de  commissions'!D894=\"AGI externes\",'Relevés de  commissions'!M894,0)*1","v":0},{"$f":"IF('Relevés de  commissions'!D894=\"AGI externes\",'Relevés de  commissions'!N894,0)*1","v":0},{"$f":"IF('Relevés de  commissions'!D894=\"AGI externes\",'Relevés de  commissions'!O894,0)*1","v":0},{"$f":"IF('Relevés de  commissions'!D894=\"AGI externes\",'Relevés de  commissions'!P894,0)*1","v":0},0,""]
[null,null,null,null,null,null,null,null,null,null,null,null,{"$f":"IF('Relevés de  commissions'!D895=\"AGI externes\",'Relevés de  commissions'!M895,0)*1","v":0},{"$f":"IF('Relevés de  commissions'!D895=\"AGI externes\",'Relevés de  commissions'!N895,0)*1","v":0},{"$f":"IF('Relevés de  commissions'!D895=\"AGI externes\",'Relevés de  commissions'!O895,0)*1","v":0},{"$f":"IF('Relevés de  commissions'!D895=\"AGI externes\",'Relevés de  commissions'!P895,0)*1","v":0},0,""]
[null,null,null,null,null,null,null,null,null,null,null,null,{"$f":"IF('Relevés de  commissions'!D896=\"AGI externes\",'Relevés de  commissions'!M896,0)*1","v":0},{"$f":"IF('Relevés de  commissions'!D896=\"AGI externes\",'Relevés de  commissions'!N896,0)*1","v":0},{"$f":"IF('Relevés de  commissions'!D896=\"AGI externes\",'Relevés de  commissions'!O896,0)*1","v":0},{"$f":"IF('Relevés de  commissions'!D896=\"AGI externes\",'Relevés de  commissions'!P896,0)*1","v":0},0,""]
[null,null,null,null,null,null,null,null,null,null,null,null,{"$f":"IF('Relevés de  commissions'!D897=\"AGI externes\",'Relevés de  commissions'!M897,0)*1","v":0},{"$f":"IF('Relevés de  commissions'!D897=\"AGI externes\",'Relevés de  commissions'!N897,0)*1","v":0},{"$f":"IF('Relevés de  commissions'!D897=\"AGI externes\",'Relevés de  commissions'!O897,0)*1","v":0},{"$f":"IF('Relevés de  commissions'!D897=\"AGI externes\",'Relevés de  commissions'!P897,0)*1","v":0},0,""]
[null,null,null,null,null,null,null,null,null,null,null,null,{"$f":"IF('Relevés de  commissions'!D898=\"AGI externes\",'Relevés de  commissions'!M898,0)*1","v":0},{"$f":"IF('Relevés de  commissions'!D898=\"AGI externes\",'Relevés de  commissions'!N898,0)*1","v":0},{"$f":"IF('Relevés de  commissions'!D898=\"AGI externes\",'Relevés de  commissions'!O898,0)*1","v":0},{"$f":"IF('Relevés de  commissions'!D898=\"AGI externes\",'Relevés de  commissions'!P898,0)*1","v":0},0,""]
[null,null,null,null,null,null,null,null,null,null,null,null,{"$f":"IF('Relevés de  commissions'!D899=\"AGI externes\",'Relevés de  commissions'!M899,0)*1","v":0},{"$f":"IF('Relevés de  commissions'!D899=\"AGI externes\",'Relevés de  commissions'!N899,0)*1","v":0},{"$f":"IF('Relevés de  commissions'!D899=\"AGI externes\",'Relevés de  commissions'!O899,0)*1","v":0},{"$f":"IF('Relevés de  commissions'!D899=\"AGI externes\",'Relevés de  commissions'!P899,0)*1","v":0},{"$f":"IF(N901=0,O901,\"\")","v":0},{"$f":"IF(N901=10,O901,\"\")","v":""}]
[null,null,null,null,null,null,null,null,null,null,null,null,{"$f":"IF('Relevés de  commissions'!D900=\"AGI externes\",'Relevés de  commissions'!M900,0)*1","v":0},{"$f":"IF('Relevés de  commissions'!D900=\"AGI externes\",'Relevés de  commissions'!N900,0)*1","v":0},{"$f":"IF('Relevés de  commissions'!D900=\"AGI externes\",'Relevés de  commissions'!O900,0)*1","v":0},{"$f":"IF('Relevés de  commissions'!D900=\"AGI externes\",'Relevés de  commissions'!P900,0)*1","v":0},0,""]
[null,null,null,null,null,null,null,null,null,null,null,null,{"$f":"IF('Relevés de  commissions'!D901=\"AGI externes\",'Relevés de  commissions'!M901,0)*1","v":0},{"$f":"IF('Relevés de  commissions'!D901=\"AGI externes\",'Relevés de  commissions'!N901,0)*1","v":0},{"$f":"IF('Relevés de  commissions'!D901=\"AGI externes\",'Relevés de  commissions'!O901,0)*1","v":0},{"$f":"IF('Relevés de  commissions'!D901=\"AGI externes\",'Relevés de  commissions'!P901,0)*1","v":0},0,""]
[null,null,null,null,null,null,null,null,null,null,null,null,{"$f":"IF('Relevés de  commissions'!D902=\"AGI externes\",'Relevés de  commissions'!M902,0)*1","v":0},{"$f":"IF('Relevés de  commissions'!D902=\"AGI externes\",'Relevés de  commissions'!N902,0)*1","v":0},{"$f":"IF('Relevés de  commissions'!D902=\"AGI externes\",'Relevés de  commissions'!O902,0)*1","v":0},{"$f":"IF('Relevés de  commissions'!D902=\"AGI externes\",'Relevés de  commissions'!P902,0)*1","v":0},0,""]
[null,null,null,null,null,null,null,null,null,null,null,null,{"$f":"IF('Relevés de  commissions'!D903=\"AGI externes\",'Relevés de  commissions'!M903,0)*1","v":0},{"$f":"IF('Relevés de  commissions'!D903=\"AGI externes\",'Relevés de  commissions'!N903,0)*1","v":0},{"$f":"IF('Relevés de  commissions'!D903=\"AGI externes\",'Relevés de  commissions'!O903,0)*1","v":0},{"$f":"IF('Relevés de  commissions'!D903=\"AGI externes\",'Relevés de  commissions'!P903,0)*1","v":0},0,""]
[null,null,null,null,null,null,null,null,null,null,null,null,{"$f":"IF('Relevés de  commissions'!D904=\"AGI externes\",'Relevés de  commissions'!M904,0)*1","v":0},{"$f":"IF('Relevés de  commissions'!D904=\"AGI externes\",'Relevés de  commissions'!N904,0)*1","v":0},{"$f":"IF('Relevés de  commissions'!D904=\"AGI externes\",'Relevés de  commissions'!O904,0)*1","v":0},{"$f":"IF('Relevés de  commissions'!D904=\"AGI externes\",'Relevés de  commissions'!P904,0)*1","v":0},0,""]
[null,null,null,null,null,null,null,null,null,null,null,null,{"$f":"IF('Relevés de  commissions'!D905=\"AGI externes\",'Relevés de  commissions'!M905,0)*1","v":0},{"$f":"IF('Relevés de  commissions'!D905=\"AGI externes\",'Relevés de  commissions'!N905,0)*1","v":0},{"$f":"IF('Relevés de  commissions'!D905=\"AGI externes\",'Relevés de  commissions'!O905,0)*1","v":0},{"$f":"IF('Relevés de  commissions'!D905=\"AGI externes\",'Relevés de  commissions'!P905,0)*1","v":0},0,""]
[null,null,null,null,null,null,null,null,null,null,null,null,{"$f":"IF('Relevés de  commissions'!D906=\"AGI externes\",'Relevés de  commissions'!M906,0)*1","v":0},{"$f":"IF('Relevés de  commissions'!D906=\"AGI externes\",'Relevés de  commissions'!N906,0)*1","v":0},{"$f":"IF('Relevés de  commissions'!D906=\"AGI externes\",'Relevés de  commissions'!O906,0)*1","v":0},{"$f":"IF('Relevés de  commissions'!D906=\"AGI externes\",'Relevés de  commissions'!P906,0)*1","v":0},0,""]
[null,null,null,null,null,null,null,null,null,null,null,null,{"$f":"IF('Relevés de  commissions'!D907=\"AGI externes\",'Relevés de  commissions'!M907,0)*1","v":0},{"$f":"IF('Relevés de  commissions'!D907=\"AGI externes\",'Relevés de  commissions'!N907,0)*1","v":0},{"$f":"IF('Relevés de  commissions'!D907=\"AGI externes\",'Relevés de  commissions'!O907,0)*1","v":0},{"$f":"IF('Relevés de  commissions'!D907=\"AGI externes\",'Relevés de  commissions'!P907,0)*1","v":0},0,""]
[null,null,null,null,null,null,null,null,null,null,null,null,{"$f":"IF('Relevés de  commissions'!D908=\"AGI externes\",'Relevés de  commissions'!M908,0)*1","v":0},{"$f":"IF('Relevés de  commissions'!D908=\"AGI externes\",'Relevés de  commissions'!N908,0)*1","v":0},{"$f":"IF('Relevés de  commissions'!D908=\"AGI externes\",'Relevés de  commissions'!O908,0)*1","v":0},{"$f":"IF('Relevés de  commissions'!D908=\"AGI externes\",'Relevés de  commissions'!P908,0)*1","v":0},0,""]
[null,null,null,null,null,null,null,null,null,null,null,null,{"$f":"IF('Relevés de  commissions'!D909=\"AGI externes\",'Relevés de  commissions'!M909,0)*1","v":0},{"$f":"IF('Relevés de  commissions'!D909=\"AGI externes\",'Relevés de  commissions'!N909,0)*1","v":0},{"$f":"IF('Relevés de  commissions'!D909=\"AGI externes\",'Relevés de  commissions'!O909,0)*1","v":0},{"$f":"IF('Relevés de  commissions'!D909=\"AGI externes\",'Relevés de  commissions'!P909,0)*1","v":0},0,""]
[null,null,null,null,null,null,null,null,null,null,null,null,{"$f":"IF('Relevés de  commissions'!D910=\"AGI externes\",'Relevés de  commissions'!M910,0)*1","v":0},{"$f":"IF('Relevés de  commissions'!D910=\"AGI externes\",'Relevés de  commissions'!N910,0)*1","v":0},{"$f":"IF('Relevés de  commissions'!D910=\"AGI externes\",'Relevés de  commissions'!O910,0)*1","v":0},{"$f":"IF('Relevés de  commissions'!D910=\"AGI externes\",'Relevés de  commissions'!P910,0)*1","v":0},0,""]
[null,null,null,null,null,null,null,null,null,null,null,null,{"$f":"IF('Relevés de  commissions'!D911=\"AGI externes\",'Relevés de  commissions'!M911,0)*1","v":0},{"$f":"IF('Relevés de  commissions'!D911=\"AGI externes\",'Relevés de  commissions'!N911,0)*1","v":0},{"$f":"IF('Relevés de  commissions'!D911=\"AGI externes\",'Relevés de  commissions'!O911,0)*1","v":0},{"$f":"IF('Relevés de  commissions'!D911=\"AGI externes\",'Relevés de  commissions'!P911,0)*1","v":0},0,""]
[null,null,null,null,null,null,null,null,null,null,null,null,{"$f":"IF('Relevés de  commissions'!D912=\"AGI externes\",'Relevés de  commissions'!M912,0)*1","v":0},{"$f":"IF('Relevés de  commissions'!D912=\"AGI externes\",'Relevés de  commissions'!N912,0)*1","v":0},{"$f":"IF('Relevés de  commissions'!D912=\"AGI externes\",'Relevés de  commissions'!O912,0)*1","v":0},{"$f":"IF('Relevés de  commissions'!D912=\"AGI externes\",'Relevés de  commissions'!P912,0)*1","v":0},0,""]
[null,null,null,null,null,null,null,null,null,null,null,null,{"$f":"IF('Relevés de  commissions'!D913=\"AGI externes\",'Relevés de  commissions'!M913,0)*1","v":0},{"$f":"IF('Relevés de  commissions'!D913=\"AGI externes\",'Relevés de  commissions'!N913,0)*1","v":0},{"$f":"IF('Relevés de  commissions'!D913=\"AGI externes\",'Relevés de  commissions'!O913,0)*1","v":0},{"$f":"IF('Relevés de  commissions'!D913=\"AGI externes\",'Relevés de  commissions'!P913,0)*1","v":0},0,""]
[null,null,null,null,null,null,null,null,null,null,null,null,{"$f":"IF('Relevés de  commissions'!D914=\"AGI externes\",'Relevés de  commissions'!M914,0)*1","v":0},{"$f":"IF('Relevés de  commissions'!D914=\"AGI externes\",'Relevés de  commissions'!N914,0)*1","v":0},{"$f":"IF('Relevés de  commissions'!D914=\"AGI externes\",'Relevés de  commissions'!O914,0)*1","v":0},{"$f":"IF('Relevés de  commissions'!D914=\"AGI externes\",'Relevés de  commissions'!P914,0)*1","v":0},0,""]
[null,null,null,null,null,null,null,null,null,null,null,null,{"$f":"IF('Relevés de  commissions'!D915=\"AGI externes\",'Relevés de  commissions'!M915,0)*1","v":0},{"$f":"IF('Relevés de  commissions'!D915=\"AGI externes\",'Relevés de  commissions'!N915,0)*1","v":0},{"$f":"IF('Relevés de  commissions'!D915=\"AGI externes\",'Relevés de  commissions'!O915,0)*1","v":0},{"$f":"IF('Relevés de  commissions'!D915=\"AGI externes\",'Relevés de  commissions'!P915,0)*1","v":0},0,""]
[null,null,null,null,null,null,null,null,null,null,null,null,{"$f":"IF('Relevés de  commissions'!D916=\"AGI externes\",'Relevés de  commissions'!M916,0)*1","v":0},{"$f":"IF('Relevés de  commissions'!D916=\"AGI externes\",'Relevés de  commissions'!N916,0)*1","v":0},{"$f":"IF('Relevés de  commissions'!D916=\"AGI externes\",'Relevés de  commissions'!O916,0)*1","v":0},{"$f":"IF('Relevés de  commissions'!D916=\"AGI externes\",'Relevés de  commissions'!P916,0)*1","v":0},0,""]
[null,null,null,null,null,null,null,null,null,null,null,null,{"$f":"IF('Relevés de  commissions'!D917=\"AGI externes\",'Relevés de  commissions'!M917,0)*1","v":0},{"$f":"IF('Relevés de  commissions'!D917=\"AGI externes\",'Relevés de  commissions'!N917,0)*1","v":0},{"$f":"IF('Relevés de  commissions'!D917=\"AGI externes\",'Relevés de  commissions'!O917,0)*1","v":0},{"$f":"IF('Relevés de  commissions'!D917=\"AGI externes\",'Relevés de  commissions'!P917,0)*1","v":0},0,""]
[null,null,null,null,null,null,null,null,null,null,null,null,{"$f":"IF('Relevés de  commissions'!D918=\"AGI externes\",'Relevés de  commissions'!M918,0)*1","v":0},{"$f":"IF('Relevés de  commissions'!D918=\"AGI externes\",'Relevés de  commissions'!N918,0)*1","v":0},{"$f":"IF('Relevés de  commissions'!D918=\"AGI externes\",'Relevés de  commissions'!O918,0)*1","v":0},{"$f":"IF('Relevés de  commissions'!D918=\"AGI externes\",'Relevés de  commissions'!P918,0)*1","v":0},0,""]
[null,null,null,null,null,null,null,null,null,null,null,null,{"$f":"IF('Relevés de  commissions'!D919=\"AGI externes\",'Relevés de  commissions'!M919,0)*1","v":0},{"$f":"IF('Relevés de  commissions'!D919=\"AGI externes\",'Relevés de  commissions'!N919,0)*1","v":0},{"$f":"IF('Relevés de  commissions'!D919=\"AGI externes\",'Relevés de  commissions'!O919,0)*1","v":0},{"$f":"IF('Relevés de  commissions'!D919=\"AGI externes\",'Relevés de  commissions'!P919,0)*1","v":0},0,""]
[null,null,null,null,null,null,null,null,null,null,null,null,{"$f":"IF('Relevés de  commissions'!D920=\"AGI externes\",'Relevés de  commissions'!M920,0)*1","v":0},{"$f":"IF('Relevés de  commissions'!D920=\"AGI externes\",'Relevés de  commissions'!N920,0)*1","v":0},{"$f":"IF('Relevés de  commissions'!D920=\"AGI externes\",'Relevés de  commissions'!O920,0)*1","v":0},{"$f":"IF('Relevés de  commissions'!D920=\"AGI externes\",'Relevés de  commissions'!P920,0)*1","v":0},0,""]
[null,null,null,null,null,null,null,null,null,null,null,null,{"$f":"IF('Relevés de  commissions'!D921=\"AGI externes\",'Relevés de  commissions'!M921,0)*1","v":0},{"$f":"IF('Relevés de  commissions'!D921=\"AGI externes\",'Relevés de  commissions'!N921,0)*1","v":0},{"$f":"IF('Relevés de  commissions'!D921=\"AGI externes\",'Relevés de  commissions'!O921,0)*1","v":0},{"$f":"IF('Relevés de  commissions'!D921=\"AGI externes\",'Relevés de  commissions'!P921,0)*1","v":0},0,""]
[null,null,null,null,null,null,null,null,null,null,null,null,{"$f":"IF('Relevés de  commissions'!D922=\"AGI externes\",'Relevés de  commissions'!M922,0)*1","v":0},{"$f":"IF('Relevés de  commissions'!D922=\"AGI externes\",'Relevés de  commissions'!N922,0)*1","v":0},{"$f":"IF('Relevés de  commissions'!D922=\"AGI externes\",'Relevés de  commissions'!O922,0)*1","v":0},{"$f":"IF('Relevés de  commissions'!D922=\"AGI externes\",'Relevés de  commissions'!P922,0)*1","v":0},0,""]
[null,null,null,null,null,null,null,null,null,null,null,null,{"$f":"IF('Relevés de  commissions'!D923=\"AGI externes\",'Relevés de  commissions'!M923,0)*1","v":0},{"$f":"IF('Relevés de  commissions'!D923=\"AGI externes\",'Relevés de  commissions'!N923,0)*1","v":0},{"$f":"IF('Relevés de  commissions'!D923=\"AGI externes\",'Relevés de  commissions'!O923,0)*1","v":0},{"$f":"IF('Relevés de  commissions'!D923=\"AGI externes\",'Relevés de  commissions'!P923,0)*1","v":0},0,""]
[null,null,null,null,null,null,null,null,null,null,null,null,{"$f":"IF('Relevés de  commissions'!D924=\"AGI externes\",'Relevés de  commissions'!M924,0)*1","v":0},{"$f":"IF('Relevés de  commissions'!D924=\"AGI externes\",'Relevés de  commissions'!N924,0)*1","v":0},{"$f":"IF('Relevés de  commissions'!D924=\"AGI externes\",'Relevés de  commissions'!O924,0)*1","v":0},{"$f":"IF('Relevés de  commissions'!D924=\"AGI externes\",'Relevés de  commissions'!P924,0)*1","v":0},0,""]
[null,null,null,null,null,null,null,null,null,null,null,null,{"$f":"IF('Relevés de  commissions'!D925=\"AGI externes\",'Relevés de  commissions'!M925,0)*1","v":0},{"$f":"IF('Relevés de  commissions'!D925=\"AGI externes\",'Relevés de  commissions'!N925,0)*1","v":0},{"$f":"IF('Relevés de  commissions'!D925=\"AGI externes\",'Relevés de  commissions'!O925,0)*1","v":0},{"$f":"IF('Relevés de  commissions'!D925=\"AGI externes\",'Relevés de  commissions'!P925,0)*1","v":0},0,""]
[null,null,null,null,null,null,null,null,null,null,null,null,{"$f":"IF('Relevés de  commissions'!D926=\"AGI externes\",'Relevés de  commissions'!M926,0)*1","v":0},{"$f":"IF('Relevés de  commissions'!D926=\"AGI externes\",'Relevés de  commissions'!N926,0)*1","v":0},{"$f":"IF('Relevés de  commissions'!D926=\"AGI externes\",'Relevés de  commissions'!O926,0)*1","v":0},{"$f":"IF('Relevés de  commissions'!D926=\"AGI externes\",'Relevés de  commissions'!P926,0)*1","v":0},0,""]
[null,null,null,null,null,null,null,null,null,null,null,null,{"$f":"IF('Relevés de  commissions'!D927=\"AGI externes\",'Relevés de  commissions'!M927,0)*1","v":0},{"$f":"IF('Relevés de  commissions'!D927=\"AGI externes\",'Relevés de  commissions'!N927,0)*1","v":0},{"$f":"IF('Relevés de  commissions'!D927=\"AGI externes\",'Relevés de  commissions'!O927,0)*1","v":0},{"$f":"IF('Relevés de  commissions'!D927=\"AGI externes\",'Relevés de  commissions'!P927,0)*1","v":0},0,""]
[null,null,null,null,null,null,null,null,null,null,null,null,{"$f":"IF('Relevés de  commissions'!D928=\"AGI externes\",'Relevés de  commissions'!M928,0)*1","v":0},{"$f":"IF('Relevés de  commissions'!D928=\"AGI externes\",'Relevés de  commissions'!N928,0)*1","v":0},{"$f":"IF('Relevés de  commissions'!D928=\"AGI externes\",'Relevés de  commissions'!O928,0)*1","v":0},{"$f":"IF('Relevés de  commissions'!D928=\"AGI externes\",'Relevés de  commissions'!P928,0)*1","v":0},0,""]
[null,null,null,null,null,null,null,null,null,null,null,null,{"$f":"IF('Relevés de  commissions'!D929=\"AGI externes\",'Relevés de  commissions'!M929,0)*1","v":0},{"$f":"IF('Relevés de  commissions'!D929=\"AGI externes\",'Relevés de  commissions'!N929,0)*1","v":0},{"$f":"IF('Relevés de  commissions'!D929=\"AGI externes\",'Relevés de  commissions'!O929,0)*1","v":0},{"$f":"IF('Relevés de  commissions'!D929=\"AGI externes\",'Relevés de  commissions'!P929,0)*1","v":0},0,""]
[null,null,null,null,null,null,null,null,null,null,null,null,{"$f":"IF('Relevés de  commissions'!D930=\"AGI externes\",'Relevés de  commissions'!M930,0)*1","v":0},{"$f":"IF('Relevés de  commissions'!D930=\"AGI externes\",'Relevés de  commissions'!N930,0)*1","v":0},{"$f":"IF('Relevés de  commissions'!D930=\"AGI externes\",'Relevés de  commissions'!O930,0)*1","v":0},{"$f":"IF('Relevés de  commissions'!D930=\"AGI externes\",'Relevés de  commissions'!P930,0)*1","v":0},0,""]
[null,null,null,null,null,null,null,null,null,null,null,null,{"$f":"IF('Relevés de  commissions'!D931=\"AGI externes\",'Relevés de  commissions'!M931,0)*1","v":0},{"$f":"IF('Relevés de  commissions'!D931=\"AGI externes\",'Relevés de  commissions'!N931,0)*1","v":0},{"$f":"IF('Relevés de  commissions'!D931=\"AGI externes\",'Relevés de  commissions'!O931,0)*1","v":0},{"$f":"IF('Relevés de  commissions'!D931=\"AGI externes\",'Relevés de  commissions'!P931,0)*1","v":0},0,""]
[null,null,null,null,null,null,null,null,null,null,null,null,{"$f":"IF('Relevés de  commissions'!D932=\"AGI externes\",'Relevés de  commissions'!M932,0)*1","v":0},{"$f":"IF('Relevés de  commissions'!D932=\"AGI externes\",'Relevés de  commissions'!N932,0)*1","v":0},{"$f":"IF('Relevés de  commissions'!D932=\"AGI externes\",'Relevés de  commissions'!O932,0)*1","v":0},{"$f":"IF('Relevés de  commissions'!D932=\"AGI externes\",'Relevés de  commissions'!P932,0)*1","v":0},0,""]
[null,null,null,null,null,null,null,null,null,null,null,null,{"$f":"IF('Relevés de  commissions'!D933=\"AGI externes\",'Relevés de  commissions'!M933,0)*1","v":0},{"$f":"IF('Relevés de  commissions'!D933=\"AGI externes\",'Relevés de  commissions'!N933,0)*1","v":0},{"$f":"IF('Relevés de  commissions'!D933=\"AGI externes\",'Relevés de  commissions'!O933,0)*1","v":0},{"$f":"IF('Relevés de  commissions'!D933=\"AGI externes\",'Relevés de  commissions'!P933,0)*1","v":0},0,""]
[null,null,null,null,null,null,null,null,null,null,null,null,{"$f":"IF('Relevés de  commissions'!D934=\"AGI externes\",'Relevés de  commissions'!M934,0)*1","v":0},{"$f":"IF('Relevés de  commissions'!D934=\"AGI externes\",'Relevés de  commissions'!N934,0)*1","v":0},{"$f":"IF('Relevés de  commissions'!D934=\"AGI externes\",'Relevés de  commissions'!O934,0)*1","v":0},{"$f":"IF('Relevés de  commissions'!D934=\"AGI externes\",'Relevés de  commissions'!P934,0)*1","v":0},0,""]
[null,null,null,null,null,null,null,null,null,null,null,null,{"$f":"IF('Relevés de  commissions'!D935=\"AGI externes\",'Relevés de  commissions'!M935,0)*1","v":0},{"$f":"IF('Relevés de  commissions'!D935=\"AGI externes\",'Relevés de  commissions'!N935,0)*1","v":0},{"$f":"IF('Relevés de  commissions'!D935=\"AGI externes\",'Relevés de  commissions'!O935,0)*1","v":0},{"$f":"IF('Relevés de  commissions'!D935=\"AGI externes\",'Relevés de  commissions'!P935,0)*1","v":0},0,""]
[null,null,null,null,null,null,null,null,null,null,null,null,{"$f":"IF('Relevés de  commissions'!D936=\"AGI externes\",'Relevés de  commissions'!M936,0)*1","v":0},{"$f":"IF('Relevés de  commissions'!D936=\"AGI externes\",'Relevés de  commissions'!N936,0)*1","v":0},{"$f":"IF('Relevés de  commissions'!D936=\"AGI externes\",'Relevés de  commissions'!O936,0)*1","v":0},{"$f":"IF('Relevés de  commissions'!D936=\"AGI externes\",'Relevés de  commissions'!P936,0)*1","v":0},0,""]
[null,null,null,null,null,null,null,null,null,null,null,null,{"$f":"IF('Relevés de  commissions'!D937=\"AGI externes\",'Relevés de  commissions'!M937,0)*1","v":0},{"$f":"IF('Relevés de  commissions'!D937=\"AGI externes\",'Relevés de  commissions'!N937,0)*1","v":0},{"$f":"IF('Relevés de  commissions'!D937=\"AGI externes\",'Relevés de  commissions'!O937,0)*1","v":0},{"$f":"IF('Relevés de  commissions'!D937=\"AGI externes\",'Relevés de  commissions'!P937,0)*1","v":0},0,""]
[null,null,null,null,null,null,null,null,null,null,null,null,{"$f":"IF('Relevés de  commissions'!D938=\"AGI externes\",'Relevés de  commissions'!M938,0)*1","v":0},{"$f":"IF('Relevés de  commissions'!D938=\"AGI externes\",'Relevés de  commissions'!N938,0)*1","v":0},{"$f":"IF('Relevés de  commissions'!D938=\"AGI externes\",'Relevés de  commissions'!O938,0)*1","v":0},{"$f":"IF('Relevés de  commissions'!D938=\"AGI externes\",'Relevés de  commissions'!P938,0)*1","v":0},0,""]
[null,null,null,null,null,null,null,null,null,null,null,null,{"$f":"IF('Relevés de  commissions'!D939=\"AGI externes\",'Relevés de  commissions'!M939,0)*1","v":0},{"$f":"IF('Relevés de  commissions'!D939=\"AGI externes\",'Relevés de  commissions'!N939,0)*1","v":0},{"$f":"IF('Relevés de  commissions'!D939=\"AGI externes\",'Relevés de  commissions'!O939,0)*1","v":0},{"$f":"IF('Relevés de  commissions'!D939=\"AGI externes\",'Relevés de  commissions'!P939,0)*1","v":0},0,""]
[null,null,null,null,null,null,null,null,null,null,null,null,{"$f":"IF('Relevés de  commissions'!D940=\"AGI externes\",'Relevés de  commissions'!M940,0)*1","v":0},{"$f":"IF('Relevés de  commissions'!D940=\"AGI externes\",'Relevés de  commissions'!N940,0)*1","v":0},{"$f":"IF('Relevés de  commissions'!D940=\"AGI externes\",'Relevés de  commissions'!O940,0)*1","v":0},{"$f":"IF('Relevés de  commissions'!D940=\"AGI externes\",'Relevés de  commissions'!P940,0)*1","v":0},0,""]
[null,null,null,null,null,null,null,null,null,null,null,null,{"$f":"IF('Relevés de  commissions'!D941=\"AGI externes\",'Relevés de  commissions'!M941,0)*1","v":0},{"$f":"IF('Relevés de  commissions'!D941=\"AGI externes\",'Relevés de  commissions'!N941,0)*1","v":0},{"$f":"IF('Relevés de  commissions'!D941=\"AGI externes\",'Relevés de  commissions'!O941,0)*1","v":0},{"$f":"IF('Relevés de  commissions'!D941=\"AGI externes\",'Relevés de  commissions'!P941,0)*1","v":0},0,""]
[null,null,null,null,null,null,null,null,null,null,null,null,{"$f":"IF('Relevés de  commissions'!D942=\"AGI externes\",'Relevés de  commissions'!M942,0)*1","v":0},{"$f":"IF('Relevés de  commissions'!D942=\"AGI externes\",'Relevés de  commissions'!N942,0)*1","v":0},{"$f":"IF('Relevés de  commissions'!D942=\"AGI externes\",'Relevés de  commissions'!O942,0)*1","v":0},{"$f":"IF('Relevés de  commissions'!D942=\"AGI externes\",'Relevés de  commissions'!P942,0)*1","v":0},0,""]
[null,null,null,null,null,null,null,null,null,null,null,null,{"$f":"IF('Relevés de  commissions'!D943=\"AGI externes\",'Relevés de  commissions'!M943,0)*1","v":0},{"$f":"IF('Relevés de  commissions'!D943=\"AGI externes\",'Relevés de  commissions'!N943,0)*1","v":0},{"$f":"IF('Relevés de  commissions'!D943=\"AGI externes\",'Relevés de  commissions'!O943,0)*1","v":0},{"$f":"IF('Relevés de  commissions'!D943=\"AGI externes\",'Relevés de  commissions'!P943,0)*1","v":0},0,""]
[null,null,null,null,null,null,null,null,null,null,null,null,{"$f":"IF('Relevés de  commissions'!D944=\"AGI externes\",'Relevés de  commissions'!M944,0)*1","v":0},{"$f":"IF('Relevés de  commissions'!D944=\"AGI externes\",'Relevés de  commissions'!N944,0)*1","v":0},{"$f":"IF('Relevés de  commissions'!D944=\"AGI externes\",'Relevés de  commissions'!O944,0)*1","v":0},{"$f":"IF('Relevés de  commissions'!D944=\"AGI externes\",'Relevés de  commissions'!P944,0)*1","v":0},0,""]
[null,null,null,null,null,null,null,null,null,null,null,null,{"$f":"IF('Relevés de  commissions'!D945=\"AGI externes\",'Relevés de  commissions'!M945,0)*1","v":0},{"$f":"IF('Relevés de  commissions'!D945=\"AGI externes\",'Relevés de  commissions'!N945,0)*1","v":0},{"$f":"IF('Relevés de  commissions'!D945=\"AGI externes\",'Relevés de  commissions'!O945,0)*1","v":0},{"$f":"IF('Relevés de  commissions'!D945=\"AGI externes\",'Relevés de  commissions'!P945,0)*1","v":0},0,""]
[null,null,null,null,null,null,null,null,null,null,null,null,{"$f":"IF('Relevés de  commissions'!D946=\"AGI externes\",'Relevés de  commissions'!M946,0)*1","v":0},{"$f":"IF('Relevés de  commissions'!D946=\"AGI externes\",'Relevés de  commissions'!N946,0)*1","v":0},{"$f":"IF('Relevés de  commissions'!D946=\"AGI externes\",'Relevés de  commissions'!O946,0)*1","v":0},{"$f":"IF('Relevés de  commissions'!D946=\"AGI externes\",'Relevés de  commissions'!P946,0)*1","v":0},0,""]
[null,null,null,null,null,null,null,null,null,null,null,null,{"$f":"IF('Relevés de  commissions'!D947=\"AGI externes\",'Relevés de  commissions'!M947,0)*1","v":0},{"$f":"IF('Relevés de  commissions'!D947=\"AGI externes\",'Relevés de  commissions'!N947,0)*1","v":0},{"$f":"IF('Relevés de  commissions'!D947=\"AGI externes\",'Relevés de  commissions'!O947,0)*1","v":0},{"$f":"IF('Relevés de  commissions'!D947=\"AGI externes\",'Relevés de  commissions'!P947,0)*1","v":0},0,""]
[null,null,null,null,null,null,null,null,null,null,null,null,{"$f":"IF('Relevés de  commissions'!D948=\"AGI externes\",'Relevés de  commissions'!M948,0)*1","v":0},{"$f":"IF('Relevés de  commissions'!D948=\"AGI externes\",'Relevés de  commissions'!N948,0)*1","v":0},{"$f":"IF('Relevés de  commissions'!D948=\"AGI externes\",'Relevés de  commissions'!O948,0)*1","v":0},{"$f":"IF('Relevés de  commissions'!D948=\"AGI externes\",'Relevés de  commissions'!P948,0)*1","v":0},0,""]
[null,null,null,null,null,null,null,null,null,null,null,null,{"$f":"IF('Relevés de  commissions'!D949=\"AGI externes\",'Relevés de  commissions'!M949,0)*1","v":0},{"$f":"IF('Relevés de  commissions'!D949=\"AGI externes\",'Relevés de  commissions'!N949,0)*1","v":0},{"$f":"IF('Relevés de  commissions'!D949=\"AGI externes\",'Relevés de  commissions'!O949,0)*1","v":0},{"$f":"IF('Relevés de  commissions'!D949=\"AGI externes\",'Relevés de  commissions'!P949,0)*1","v":0},0,""]
[null,null,null,null,null,null,null,null,null,null,null,null,{"$f":"IF('Relevés de  commissions'!D950=\"AGI externes\",'Relevés de  commissions'!M950,0)*1","v":0},{"$f":"IF('Relevés de  commissions'!D950=\"AGI externes\",'Relevés de  commissions'!N950,0)*1","v":0},{"$f":"IF('Relevés de  commissions'!D950=\"AGI externes\",'Relevés de  commissions'!O950,0)*1","v":0},{"$f":"IF('Relevés de  commissions'!D950=\"AGI externes\",'Relevés de  commissions'!P950,0)*1","v":0},0,""]
[null,null,null,null,null,null,null,null,null,null,null,null,{"$f":"IF('Relevés de  commissions'!D951=\"AGI externes\",'Relevés de  commissions'!M951,0)*1","v":0},{"$f":"IF('Relevés de  commissions'!D951=\"AGI externes\",'Relevés de  commissions'!N951,0)*1","v":0},{"$f":"IF('Relevés de  commissions'!D951=\"AGI externes\",'Relevés de  commissions'!O951,0)*1","v":0},{"$f":"IF('Relevés de  commissions'!D951=\"AGI externes\",'Relevés de  commissions'!P951,0)*1","v":0},0,""]
[null,null,null,null,null,null,null,null,null,null,null,null,{"$f":"IF('Relevés de  commissions'!D952=\"AGI externes\",'Relevés de  commissions'!M952,0)*1","v":0},{"$f":"IF('Relevés de  commissions'!D952=\"AGI externes\",'Relevés de  commissions'!N952,0)*1","v":0},{"$f":"IF('Relevés de  commissions'!D952=\"AGI externes\",'Relevés de  commissions'!O952,0)*1","v":0},{"$f":"IF('Relevés de  commissions'!D952=\"AGI externes\",'Relevés de  commissions'!P952,0)*1","v":0},0,""]
[null,null,null,null,null,null,null,null,null,null,null,null,{"$f":"IF('Relevés de  commissions'!D953=\"AGI externes\",'Relevés de  commissions'!M953,0)*1","v":0},{"$f":"IF('Relevés de  commissions'!D953=\"AGI externes\",'Relevés de  commissions'!N953,0)*1","v":0},{"$f":"IF('Relevés de  commissions'!D953=\"AGI externes\",'Relevés de  commissions'!O953,0)*1","v":0},{"$f":"IF('Relevés de  commissions'!D953=\"AGI externes\",'Relevés de  commissions'!P953,0)*1","v":0},0,""]
[null,null,null,null,null,null,null,null,null,null,null,null,{"$f":"IF('Relevés de  commissions'!D954=\"AGI externes\",'Relevés de  commissions'!M954,0)*1","v":0},{"$f":"IF('Relevés de  commissions'!D954=\"AGI externes\",'Relevés de  commissions'!N954,0)*1","v":0},{"$f":"IF('Relevés de  commissions'!D954=\"AGI externes\",'Relevés de  commissions'!O954,0)*1","v":0},{"$f":"IF('Relevés de  commissions'!D954=\"AGI externes\",'Relevés de  commissions'!P954,0)*1","v":0},0,""]
[null,null,null,null,null,null,null,null,null,null,null,null,{"$f":"IF('Relevés de  commissions'!D955=\"AGI externes\",'Relevés de  commissions'!M955,0)*1","v":0},{"$f":"IF('Relevés de  commissions'!D955=\"AGI externes\",'Relevés de  commissions'!N955,0)*1","v":0},{"$f":"IF('Relevés de  commissions'!D955=\"AGI externes\",'Relevés de  commissions'!O955,0)*1","v":0},{"$f":"IF('Relevés de  commissions'!D955=\"AGI externes\",'Relevés de  commissions'!P955,0)*1","v":0},0,""]
[null,null,null,null,null,null,null,null,null,null,null,null,{"$f":"IF('Relevés de  commissions'!D956=\"AGI externes\",'Relevés de  commissions'!M956,0)*1","v":0},{"$f":"IF('Relevés de  commissions'!D956=\"AGI externes\",'Relevés de  commissions'!N956,0)*1","v":0},{"$f":"IF('Relevés de  commissions'!D956=\"AGI externes\",'Relevés de  commissions'!O956,0)*1","v":0},{"$f":"IF('Relevés de  commissions'!D956=\"AGI externes\",'Relevés de  commissions'!P956,0)*1","v":0},0,""]
[null,null,null,null,null,null,null,null,null,null,null,null,{"$f":"IF('Relevés de  commissions'!D957=\"AGI externes\",'Relevés de  commissions'!M957,0)*1","v":0},{"$f":"IF('Relevés de  commissions'!D957=\"AGI externes\",'Relevés de  commissions'!N957,0)*1","v":0},{"$f":"IF('Relevés de  commissions'!D957=\"AGI externes\",'Relevés de  commissions'!O957,0)*1","v":0},{"$f":"IF('Relevés de  commissions'!D957=\"AGI externes\",'Relevés de  commissions'!P957,0)*1","v":0},0,""]
[null,null,null,null,null,null,null,null,null,null,null,null,{"$f":"IF('Relevés de  commissions'!D958=\"AGI externes\",'Relevés de  commissions'!M958,0)*1","v":0},{"$f":"IF('Relevés de  commissions'!D958=\"AGI externes\",'Relevés de  commissions'!N958,0)*1","v":0},{"$f":"IF('Relevés de  commissions'!D958=\"AGI externes\",'Relevés de  commissions'!O958,0)*1","v":0},{"$f":"IF('Relevés de  commissions'!D958=\"AGI externes\",'Relevés de  commissions'!P958,0)*1","v":0},0,""]
[null,null,null,null,null,null,null,null,null,null,null,null,{"$f":"IF('Relevés de  commissions'!D959=\"AGI externes\",'Relevés de  commissions'!M959,0)*1","v":0},{"$f":"IF('Relevés de  commissions'!D959=\"AGI externes\",'Relevés de  commissions'!N959,0)*1","v":0},{"$f":"IF('Relevés de  commissions'!D959=\"AGI externes\",'Relevés de  commissions'!O959,0)*1","v":0},{"$f":"IF('Relevés de  commissions'!D959=\"AGI externes\",'Relevés de  commissions'!P959,0)*1","v":0},0,""]
[null,null,null,null,null,null,null,null,null,null,null,null,{"$f":"IF('Relevés de  commissions'!D960=\"AGI externes\",'Relevés de  commissions'!M960,0)*1","v":0},{"$f":"IF('Relevés de  commissions'!D960=\"AGI externes\",'Relevés de  commissions'!N960,0)*1","v":0},{"$f":"IF('Relevés de  commissions'!D960=\"AGI externes\",'Relevés de  commissions'!O960,0)*1","v":0},{"$f":"IF('Relevés de  commissions'!D960=\"AGI externes\",'Relevés de  commissions'!P960,0)*1","v":0},0,""]
[null,null,null,null,null,null,null,null,null,null,null,null,{"$f":"IF('Relevés de  commissions'!D961=\"AGI externes\",'Relevés de  commissions'!M961,0)*1","v":0},{"$f":"IF('Relevés de  commissions'!D961=\"AGI externes\",'Relevés de  commissions'!N961,0)*1","v":0},{"$f":"IF('Relevés de  commissions'!D961=\"AGI externes\",'Relevés de  commissions'!O961,0)*1","v":0},{"$f":"IF('Relevés de  commissions'!D961=\"AGI externes\",'Relevés de  commissions'!P961,0)*1","v":0},0,""]
[null,null,null,null,null,null,null,null,null,null,null,null,{"$f":"IF('Relevés de  commissions'!D962=\"AGI externes\",'Relevés de  commissions'!M962,0)*1","v":0},{"$f":"IF('Relevés de  commissions'!D962=\"AGI externes\",'Relevés de  commissions'!N962,0)*1","v":0},{"$f":"IF('Relevés de  commissions'!D962=\"AGI externes\",'Relevés de  commissions'!O962,0)*1","v":0},{"$f":"IF('Relevés de  commissions'!D962=\"AGI externes\",'Relevés de  commissions'!P962,0)*1","v":0},0,""]
[null,null,null,null,null,null,null,null,null,null,null,null,{"$f":"IF('Relevés de  commissions'!D963=\"AGI externes\",'Relevés de  commissions'!M963,0)*1","v":0},{"$f":"IF('Relevés de  commissions'!D963=\"AGI externes\",'Relevés de  commissions'!N963,0)*1","v":0},{"$f":"IF('Relevés de  commissions'!D963=\"AGI externes\",'Relevés de  commissions'!O963,0)*1","v":0},{"$f":"IF('Relevés de  commissions'!D963=\"AGI externes\",'Relevés de  commissions'!P963,0)*1","v":0},{"$f":"IF(N965=0,O965,\"\")","v":0},{"$f":"IF(N965=10,O965,\"\")","v":""}]
[null,null,null,null,null,null,null,null,null,null,null,null,{"$f":"IF('Relevés de  commissions'!D964=\"AGI externes\",'Relevés de  commissions'!M964,0)*1","v":0},{"$f":"IF('Relevés de  commissions'!D964=\"AGI externes\",'Relevés de  commissions'!N964,0)*1","v":0},{"$f":"IF('Relevés de  commissions'!D964=\"AGI externes\",'Relevés de  commissions'!O964,0)*1","v":0},{"$f":"IF('Relevés de  commissions'!D964=\"AGI externes\",'Relevés de  commissions'!P964,0)*1","v":0},0,""]
[null,null,null,null,null,null,null,null,null,null,null,null,{"$f":"IF('Relevés de  commissions'!D965=\"AGI externes\",'Relevés de  commissions'!M965,0)*1","v":0},{"$f":"IF('Relevés de  commissions'!D965=\"AGI externes\",'Relevés de  commissions'!N965,0)*1","v":0},{"$f":"IF('Relevés de  commissions'!D965=\"AGI externes\",'Relevés de  commissions'!O965,0)*1","v":0},{"$f":"IF('Relevés de  commissions'!D965=\"AGI externes\",'Relevés de  commissions'!P965,0)*1","v":0},0,""]
[null,null,null,null,null,null,null,null,null,null,null,null,{"$f":"IF('Relevés de  commissions'!D966=\"AGI externes\",'Relevés de  commissions'!M966,0)*1","v":0},{"$f":"IF('Relevés de  commissions'!D966=\"AGI externes\",'Relevés de  commissions'!N966,0)*1","v":0},{"$f":"IF('Relevés de  commissions'!D966=\"AGI externes\",'Relevés de  commissions'!O966,0)*1","v":0},{"$f":"IF('Relevés de  commissions'!D966=\"AGI externes\",'Relevés de  commissions'!P966,0)*1","v":0},0,""]
[null,null,null,null,null,null,null,null,null,null,null,null,{"$f":"IF('Relevés de  commissions'!D967=\"AGI externes\",'Relevés de  commissions'!M967,0)*1","v":0},{"$f":"IF('Relevés de  commissions'!D967=\"AGI externes\",'Relevés de  commissions'!N967,0)*1","v":0},{"$f":"IF('Relevés de  commissions'!D967=\"AGI externes\",'Relevés de  commissions'!O967,0)*1","v":0},{"$f":"IF('Relevés de  commissions'!D967=\"AGI externes\",'Relevés de  commissions'!P967,0)*1","v":0},0,""]
[null,null,null,null,null,null,null,null,null,null,null,null,{"$f":"IF('Relevés de  commissions'!D968=\"AGI externes\",'Relevés de  commissions'!M968,0)*1","v":0},{"$f":"IF('Relevés de  commissions'!D968=\"AGI externes\",'Relevés de  commissions'!N968,0)*1","v":0},{"$f":"IF('Relevés de  commissions'!D968=\"AGI externes\",'Relevés de  commissions'!O968,0)*1","v":0},{"$f":"IF('Relevés de  commissions'!D968=\"AGI externes\",'Relevés de  commissions'!P968,0)*1","v":0},0,""]
[null,null,null,null,null,null,null,null,null,null,null,null,{"$f":"IF('Relevés de  commissions'!D969=\"AGI externes\",'Relevés de  commissions'!M969,0)*1","v":0},{"$f":"IF('Relevés de  commissions'!D969=\"AGI externes\",'Relevés de  commissions'!N969,0)*1","v":0},{"$f":"IF('Relevés de  commissions'!D969=\"AGI externes\",'Relevés de  commissions'!O969,0)*1","v":0},{"$f":"IF('Relevés de  commissions'!D969=\"AGI externes\",'Relevés de  commissions'!P969,0)*1","v":0},0,""]
[null,null,null,null,null,null,null,null,null,null,null,null,{"$f":"IF('Relevés de  commissions'!D970=\"AGI externes\",'Relevés de  commissions'!M970,0)*1","v":0},{"$f":"IF('Relevés de  commissions'!D970=\"AGI externes\",'Relevés de  commissions'!N970,0)*1","v":0},{"$f":"IF('Relevés de  commissions'!D970=\"AGI externes\",'Relevés de  commissions'!O970,0)*1","v":0},{"$f":"IF('Relevés de  commissions'!D970=\"AGI externes\",'Relevés de  commissions'!P970,0)*1","v":0},0,""]
[null,null,null,null,null,null,null,null,null,null,null,null,{"$f":"IF('Relevés de  commissions'!D971=\"AGI externes\",'Relevés de  commissions'!M971,0)*1","v":0},{"$f":"IF('Relevés de  commissions'!D971=\"AGI externes\",'Relevés de  commissions'!N971,0)*1","v":0},{"$f":"IF('Relevés de  commissions'!D971=\"AGI externes\",'Relevés de  commissions'!O971,0)*1","v":0},{"$f":"IF('Relevés de  commissions'!D971=\"AGI externes\",'Relevés de  commissions'!P971,0)*1","v":0},0,""]
[null,null,null,null,null,null,null,null,null,null,null,null,{"$f":"IF('Relevés de  commissions'!D972=\"AGI externes\",'Relevés de  commissions'!M972,0)*1","v":0},{"$f":"IF('Relevés de  commissions'!D972=\"AGI externes\",'Relevés de  commissions'!N972,0)*1","v":0},{"$f":"IF('Relevés de  commissions'!D972=\"AGI externes\",'Relevés de  commissions'!O972,0)*1","v":0},{"$f":"IF('Relevés de  commissions'!D972=\"AGI externes\",'Relevés de  commissions'!P972,0)*1","v":0},0,""]
[null,null,null,null,null,null,null,null,null,null,null,null,{"$f":"IF('Relevés de  commissions'!D973=\"AGI externes\",'Relevés de  commissions'!M973,0)*1","v":0},{"$f":"IF('Relevés de  commissions'!D973=\"AGI externes\",'Relevés de  commissions'!N973,0)*1","v":0},{"$f":"IF('Relevés de  commissions'!D973=\"AGI externes\",'Relevés de  commissions'!O973,0)*1","v":0},{"$f":"IF('Relevés de  commissions'!D973=\"AGI externes\",'Relevés de  commissions'!P973,0)*1","v":0},0,""]
[null,null,null,null,null,null,null,null,null,null,null,null,{"$f":"IF('Relevés de  commissions'!D974=\"AGI externes\",'Relevés de  commissions'!M974,0)*1","v":0},{"$f":"IF('Relevés de  commissions'!D974=\"AGI externes\",'Relevés de  commissions'!N974,0)*1","v":0},{"$f":"IF('Relevés de  commissions'!D974=\"AGI externes\",'Relevés de  commissions'!O974,0)*1","v":0},{"$f":"IF('Relevés de  commissions'!D974=\"AGI externes\",'Relevés de  commissions'!P974,0)*1","v":0},0,""]
[null,null,null,null,null,null,null,null,null,null,null,null,{"$f":"IF('Relevés de  commissions'!D975=\"AGI externes\",'Relevés de  commissions'!M975,0)*1","v":0},{"$f":"IF('Relevés de  commissions'!D975=\"AGI externes\",'Relevés de  commissions'!N975,0)*1","v":0},{"$f":"IF('Relevés de  commissions'!D975=\"AGI externes\",'Relevés de  commissions'!O975,0)*1","v":0},{"$f":"IF('Relevés de  commissions'!D975=\"AGI externes\",'Relevés de  commissions'!P975,0)*1","v":0},0,""]
[null,null,null,null,null,null,null,null,null,null,null,null,{"$f":"IF('Relevés de  commissions'!D976=\"AGI externes\",'Relevés de  commissions'!M976,0)*1","v":0},{"$f":"IF('Relevés de  commissions'!D976=\"AGI externes\",'Relevés de  commissions'!N976,0)*1","v":0},{"$f":"IF('Relevés de  commissions'!D976=\"AGI externes\",'Relevés de  commissions'!O976,0)*1","v":0},{"$f":"IF('Relevés de  commissions'!D976=\"AGI externes\",'Relevés de  commissions'!P976,0)*1","v":0},0,""]
[null,null,null,null,null,null,null,null,null,null,null,null,{"$f":"IF('Relevés de  commissions'!D977=\"AGI externes\",'Relevés de  commissions'!M977,0)*1","v":0},{"$f":"IF('Relevés de  commissions'!D977=\"AGI externes\",'Relevés de  commissions'!N977,0)*1","v":0},{"$f":"IF('Relevés de  commissions'!D977=\"AGI externes\",'Relevés de  commissions'!O977,0)*1","v":0},{"$f":"IF('Relevés de  commissions'!D977=\"AGI externes\",'Relevés de  commissions'!P977,0)*1","v":0},0,""]
[null,null,null,null,null,null,null,null,null,null,null,null,{"$f":"IF('Relevés de  commissions'!D978=\"AGI externes\",'Relevés de  commissions'!M978,0)*1","v":0},{"$f":"IF('Relevés de  commissions'!D978=\"AGI externes\",'Relevés de  commissions'!N978,0)*1","v":0},{"$f":"IF('Relevés de  commissions'!D978=\"AGI externes\",'Relevés de  commissions'!O978,0)*1","v":0},{"$f":"IF('Relevés de  commissions'!D978=\"AGI externes\",'Relevés de  commissions'!P978,0)*1","v":0},0,""]
[null,null,null,null,null,null,null,null,null,null,null,null,{"$f":"IF('Relevés de  commissions'!D979=\"AGI externes\",'Relevés de  commissions'!M979,0)*1","v":0},{"$f":"IF('Relevés de  commissions'!D979=\"AGI externes\",'Relevés de  commissions'!N979,0)*1","v":0},{"$f":"IF('Relevés de  commissions'!D979=\"AGI externes\",'Relevés de  commissions'!O979,0)*1","v":0},{"$f":"IF('Relevés de  commissions'!D979=\"AGI externes\",'Relevés de  commissions'!P979,0)*1","v":0},0,""]
[null,null,null,null,null,null,null,null,null,null,null,null,{"$f":"IF('Relevés de  commissions'!D980=\"AGI externes\",'Relevés de  commissions'!M980,0)*1","v":0},{"$f":"IF('Relevés de  commissions'!D980=\"AGI externes\",'Relevés de  commissions'!N980,0)*1","v":0},{"$f":"IF('Relevés de  commissions'!D980=\"AGI externes\",'Relevés de  commissions'!O980,0)*1","v":0},{"$f":"IF('Relevés de  commissions'!D980=\"AGI externes\",'Relevés de  commissions'!P980,0)*1","v":0},0,""]
[null,null,null,null,null,null,null,null,null,null,null,null,{"$f":"IF('Relevés de  commissions'!D981=\"AGI externes\",'Relevés de  commissions'!M981,0)*1","v":0},{"$f":"IF('Relevés de  commissions'!D981=\"AGI externes\",'Relevés de  commissions'!N981,0)*1","v":0},{"$f":"IF('Relevés de  commissions'!D981=\"AGI externes\",'Relevés de  commissions'!O981,0)*1","v":0},{"$f":"IF('Relevés de  commissions'!D981=\"AGI externes\",'Relevés de  commissions'!P981,0)*1","v":0},0,""]
[null,null,null,null,null,null,null,null,null,null,null,null,{"$f":"IF('Relevés de  commissions'!D982=\"AGI externes\",'Relevés de  commissions'!M982,0)*1","v":0},{"$f":"IF('Relevés de  commissions'!D982=\"AGI externes\",'Relevés de  commissions'!N982,0)*1","v":0},{"$f":"IF('Relevés de  commissions'!D982=\"AGI externes\",'Relevés de  commissions'!O982,0)*1","v":0},{"$f":"IF('Relevés de  commissions'!D982=\"AGI externes\",'Relevés de  commissions'!P982,0)*1","v":0},0,""]
[null,null,null,null,null,null,null,null,null,null,null,null,{"$f":"IF('Relevés de  commissions'!D983=\"AGI externes\",'Relevés de  commissions'!M983,0)*1","v":0},{"$f":"IF('Relevés de  commissions'!D983=\"AGI externes\",'Relevés de  commissions'!N983,0)*1","v":0},{"$f":"IF('Relevés de  commissions'!D983=\"AGI externes\",'Relevés de  commissions'!O983,0)*1","v":0},{"$f":"IF('Relevés de  commissions'!D983=\"AGI externes\",'Relevés de  commissions'!P983,0)*1","v":0},0,""]
[null,null,null,null,null,null,null,null,null,null,null,null,{"$f":"IF('Relevés de  commissions'!D984=\"AGI externes\",'Relevés de  commissions'!M984,0)*1","v":0},{"$f":"IF('Relevés de  commissions'!D984=\"AGI externes\",'Relevés de  commissions'!N984,0)*1","v":0},{"$f":"IF('Relevés de  commissions'!D984=\"AGI externes\",'Relevés de  commissions'!O984,0)*1","v":0},{"$f":"IF('Relevés de  commissions'!D984=\"AGI externes\",'Relevés de  commissions'!P984,0)*1","v":0},0,""]
[null,null,null,null,null,null,null,null,null,null,null,null,{"$f":"IF('Relevés de  commissions'!D985=\"AGI externes\",'Relevés de  commissions'!M985,0)*1","v":0},{"$f":"IF('Relevés de  commissions'!D985=\"AGI externes\",'Relevés de  commissions'!N985,0)*1","v":0},{"$f":"IF('Relevés de  commissions'!D985=\"AGI externes\",'Relevés de  commissions'!O985,0)*1","v":0},{"$f":"IF('Relevés de  commissions'!D985=\"AGI externes\",'Relevés de  commissions'!P985,0)*1","v":0},0,""]
[null,null,null,null,null,null,null,null,null,null,null,null,{"$f":"IF('Relevés de  commissions'!D986=\"AGI externes\",'Relevés de  commissions'!M986,0)*1","v":0},{"$f":"IF('Relevés de  commissions'!D986=\"AGI externes\",'Relevés de  commissions'!N986,0)*1","v":0},{"$f":"IF('Relevés de  commissions'!D986=\"AGI externes\",'Relevés de  commissions'!O986,0)*1","v":0},{"$f":"IF('Relevés de  commissions'!D986=\"AGI externes\",'Relevés de  commissions'!P986,0)*1","v":0},0,""]
[null,null,null,null,null,null,null,null,null,null,null,null,{"$f":"IF('Relevés de  commissions'!D987=\"AGI externes\",'Relevés de  commissions'!M987,0)*1","v":0},{"$f":"IF('Relevés de  commissions'!D987=\"AGI externes\",'Relevés de  commissions'!N987,0)*1","v":0},{"$f":"IF('Relevés de  commissions'!D987=\"AGI externes\",'Relevés de  commissions'!O987,0)*1","v":0},{"$f":"IF('Relevés de  commissions'!D987=\"AGI externes\",'Relevés de  commissions'!P987,0)*1","v":0},0,""]
[null,null,null,null,null,null,null,null,null,null,null,null,{"$f":"IF('Relevés de  commissions'!D988=\"AGI externes\",'Relevés de  commissions'!M988,0)*1","v":0},{"$f":"IF('Relevés de  commissions'!D988=\"AGI externes\",'Relevés de  commissions'!N988,0)*1","v":0},{"$f":"IF('Relevés de  commissions'!D988=\"AGI externes\",'Relevés de  commissions'!O988,0)*1","v":0},{"$f":"IF('Relevés de  commissions'!D988=\"AGI externes\",'Relevés de  commissions'!P988,0)*1","v":0},0,""]
[null,null,null,null,null,null,null,null,null,null,null,null,{"$f":"IF('Relevés de  commissions'!D989=\"AGI externes\",'Relevés de  commissions'!M989,0)*1","v":0},{"$f":"IF('Relevés de  commissions'!D989=\"AGI externes\",'Relevés de  commissions'!N989,0)*1","v":0},{"$f":"IF('Relevés de  commissions'!D989=\"AGI externes\",'Relevés de  commissions'!O989,0)*1","v":0},{"$f":"IF('Relevés de  commissions'!D989=\"AGI externes\",'Relevés de  commissions'!P989,0)*1","v":0},0,""]
[null,null,null,null,null,null,null,null,null,null,null,null,{"$f":"IF('Relevés de  commissions'!D990=\"AGI externes\",'Relevés de  commissions'!M990,0)*1","v":0},{"$f":"IF('Relevés de  commissions'!D990=\"AGI externes\",'Relevés de  commissions'!N990,0)*1","v":0},{"$f":"IF('Relevés de  commissions'!D990=\"AGI externes\",'Relevés de  commissions'!O990,0)*1","v":0},{"$f":"IF('Relevés de  commissions'!D990=\"AGI externes\",'Relevés de  commissions'!P990,0)*1","v":0},0,""]
[null,null,null,null,null,null,null,null,null,null,null,null,{"$f":"IF('Relevés de  commissions'!D991=\"AGI externes\",'Relevés de  commissions'!M991,0)*1","v":0},{"$f":"IF('Relevés de  commissions'!D991=\"AGI externes\",'Relevés de  commissions'!N991,0)*1","v":0},{"$f":"IF('Relevés de  commissions'!D991=\"AGI externes\",'Relevés de  commissions'!O991,0)*1","v":0},{"$f":"IF('Relevés de  commissions'!D991=\"AGI externes\",'Relevés de  commissions'!P991,0)*1","v":0},0,""]
[null,null,null,null,null,null,null,null,null,null,null,null,{"$f":"IF('Relevés de  commissions'!D992=\"AGI externes\",'Relevés de  commissions'!M992,0)*1","v":0},{"$f":"IF('Relevés de  commissions'!D992=\"AGI externes\",'Relevés de  commissions'!N992,0)*1","v":0},{"$f":"IF('Relevés de  commissions'!D992=\"AGI externes\",'Relevés de  commissions'!O992,0)*1","v":0},{"$f":"IF('Relevés de  commissions'!D992=\"AGI externes\",'Relevés de  commissions'!P992,0)*1","v":0},0,""]
[null,null,null,null,null,null,null,null,null,null,null,null,{"$f":"IF('Relevés de  commissions'!D993=\"AGI externes\",'Relevés de  commissions'!M993,0)*1","v":0},{"$f":"IF('Relevés de  commissions'!D993=\"AGI externes\",'Relevés de  commissions'!N993,0)*1","v":0},{"$f":"IF('Relevés de  commissions'!D993=\"AGI externes\",'Relevés de  commissions'!O993,0)*1","v":0},{"$f":"IF('Relevés de  commissions'!D993=\"AGI externes\",'Relevés de  commissions'!P993,0)*1","v":0},0,""]
[null,null,null,null,null,null,null,null,null,null,null,null,{"$f":"IF('Relevés de  commissions'!D994=\"AGI externes\",'Relevés de  commissions'!M994,0)*1","v":0},{"$f":"IF('Relevés de  commissions'!D994=\"AGI externes\",'Relevés de  commissions'!N994,0)*1","v":0},{"$f":"IF('Relevés de  commissions'!D994=\"AGI externes\",'Relevés de  commissions'!O994,0)*1","v":0},{"$f":"IF('Relevés de  commissions'!D994=\"AGI externes\",'Relevés de  commissions'!P994,0)*1","v":0},0,""]
[null,null,null,null,null,null,null,null,null,null,null,null,{"$f":"IF('Relevés de  commissions'!D995=\"AGI externes\",'Relevés de  commissions'!M995,0)*1","v":0},{"$f":"IF('Relevés de  commissions'!D995=\"AGI externes\",'Relevés de  commissions'!N995,0)*1","v":0},{"$f":"IF('Relevés de  commissions'!D995=\"AGI externes\",'Relevés de  commissions'!O995,0)*1","v":0},{"$f":"IF('Relevés de  commissions'!D995=\"AGI externes\",'Relevés de  commissions'!P995,0)*1","v":0},0,""]
[null,null,null,null,null,null,null,null,null,null,null,null,{"$f":"IF('Relevés de  commissions'!D996=\"AGI externes\",'Relevés de  commissions'!M996,0)*1","v":0},{"$f":"IF('Relevés de  commissions'!D996=\"AGI externes\",'Relevés de  commissions'!N996,0)*1","v":0},{"$f":"IF('Relevés de  commissions'!D996=\"AGI externes\",'Relevés de  commissions'!O996,0)*1","v":0},{"$f":"IF('Relevés de  commissions'!D996=\"AGI externes\",'Relevés de  commissions'!P996,0)*1","v":0},0,""]
[null,null,null,null,null,null,null,null,null,null,null,null,{"$f":"IF('Relevés de  commissions'!D997=\"AGI externes\",'Relevés de  commissions'!M997,0)*1","v":0},{"$f":"IF('Relevés de  commissions'!D997=\"AGI externes\",'Relevés de  commissions'!N997,0)*1","v":0},{"$f":"IF('Relevés de  commissions'!D997=\"AGI externes\",'Relevés de  commissions'!O997,0)*1","v":0},{"$f":"IF('Relevés de  commissions'!D997=\"AGI externes\",'Relevés de  commissions'!P997,0)*1","v":0},0,""]
[null,null,null,null,null,null,null,null,null,null,null,null,{"$f":"IF('Relevés de  commissions'!D998=\"AGI externes\",'Relevés de  commissions'!M998,0)*1","v":0},{"$f":"IF('Relevés de  commissions'!D998=\"AGI externes\",'Relevés de  commissions'!N998,0)*1","v":0},{"$f":"IF('Relevés de  commissions'!D998=\"AGI externes\",'Relevés de  commissions'!O998,0)*1","v":0},{"$f":"IF('Relevés de  commissions'!D998=\"AGI externes\",'Relevés de  commissions'!P998,0)*1","v":0},0,""]
[null,null,null,null,null,null,null,null,null,null,null,null,{"$f":"IF('Relevés de  commissions'!D999=\"AGI externes\",'Relevés de  commissions'!M999,0)*1","v":0},{"$f":"IF('Relevés de  commissions'!D999=\"AGI externes\",'Relevés de  commissions'!N999,0)*1","v":0},{"$f":"IF('Relevés de  commissions'!D999=\"AGI externes\",'Relevés de  commissions'!O999,0)*1","v":0},{"$f":"IF('Relevés de  commissions'!D999=\"AGI externes\",'Relevés de  commissions'!P999,0)*1","v":0},0,""]
[null,null,null,null,null,null,null,null,null,null,null,null,{"$f":"IF('Relevés de  commissions'!D1000=\"AGI externes\",'Relevés de  commissions'!M1000,0)*1","v":0},{"$f":"IF('Relevés de  commissions'!D1000=\"AGI externes\",'Relevés de  commissions'!N1000,0)*1","v":0},{"$f":"IF('Relevés de  commissions'!D1000=\"AGI externes\",'Relevés de  commissions'!O1000,0)*1","v":0},{"$f":"IF('Relevés de  commissions'!D1000=\"AGI externes\",'Relevés de  commissions'!P1000,0)*1","v":0},0,""]
[null,null,null,null,null,null,null,null,null,null,null,null,{"$f":"IF('Relevés de  commissions'!D1001=\"AGI externes\",'Relevés de  commissions'!M1001,0)*1","v":0},{"$f":"IF('Relevés de  commissions'!D1001=\"AGI externes\",'Relevés de  commissions'!N1001,0)*1","v":0},{"$f":"IF('Relevés de  commissions'!D1001=\"AGI externes\",'Relevés de  commissions'!O1001,0)*1","v":0},{"$f":"IF('Relevés de  commissions'!D1001=\"AGI externes\",'Relevés de  commissions'!P1001,0)*1","v":0},0,""]
[null,null,null,null,null,null,null,null,null,null,null,null,{"$f":"IF('Relevés de  commissions'!D1002=\"AGI externes\",'Relevés de  commissions'!M1002,0)*1","v":0},{"$f":"IF('Relevés de  commissions'!D1002=\"AGI externes\",'Relevés de  commissions'!N1002,0)*1","v":0},{"$f":"IF('Relevés de  commissions'!D1002=\"AGI externes\",'Relevés de  commissions'!O1002,0)*1","v":0},{"$f":"IF('Relevés de  commissions'!D1002=\"AGI externes\",'Relevés de  commissions'!P1002,0)*1","v":0},0,""]
[null,null,null,null,null,null,null,null,null,null,null,null,{"$f":"IF('Relevés de  commissions'!D1003=\"AGI externes\",'Relevés de  commissions'!M1003,0)*1","v":0},{"$f":"IF('Relevés de  commissions'!D1003=\"AGI externes\",'Relevés de  commissions'!N1003,0)*1","v":0},{"$f":"IF('Relevés de  commissions'!D1003=\"AGI externes\",'Relevés de  commissions'!O1003,0)*1","v":0},{"$f":"IF('Relevés de  commissions'!D1003=\"AGI externes\",'Relevés de  commissions'!P1003,0)*1","v":0},0,""]
[null,null,null,null,null,null,null,null,null,null,null,null,{"$f":"IF('Relevés de  commissions'!D1004=\"AGI externes\",'Relevés de  commissions'!M1004,0)*1","v":0},{"$f":"IF('Relevés de  commissions'!D1004=\"AGI externes\",'Relevés de  commissions'!N1004,0)*1","v":0},{"$f":"IF('Relevés de  commissions'!D1004=\"AGI externes\",'Relevés de  commissions'!O1004,0)*1","v":0},{"$f":"IF('Relevés de  commissions'!D1004=\"AGI externes\",'Relevés de  commissions'!P1004,0)*1","v":0},0,""]
[null,null,null,null,null,null,null,null,null,null,null,null,{"$f":"IF('Relevés de  commissions'!D1005=\"AGI externes\",'Relevés de  commissions'!M1005,0)*1","v":0},{"$f":"IF('Relevés de  commissions'!D1005=\"AGI externes\",'Relevés de  commissions'!N1005,0)*1","v":0},{"$f":"IF('Relevés de  commissions'!D1005=\"AGI externes\",'Relevés de  commissions'!O1005,0)*1","v":0},{"$f":"IF('Relevés de  commissions'!D1005=\"AGI externes\",'Relevés de  commissions'!P1005,0)*1","v":0},0,""]
[null,null,null,null,null,null,null,null,null,null,null,null,{"$f":"IF('Relevés de  commissions'!D1006=\"AGI externes\",'Relevés de  commissions'!M1006,0)*1","v":0},{"$f":"IF('Relevés de  commissions'!D1006=\"AGI externes\",'Relevés de  commissions'!N1006,0)*1","v":0},{"$f":"IF('Relevés de  commissions'!D1006=\"AGI externes\",'Relevés de  commissions'!O1006,0)*1","v":0},{"$f":"IF('Relevés de  commissions'!D1006=\"AGI externes\",'Relevés de  commissions'!P1006,0)*1","v":0},0,""]
[null,null,null,null,null,null,null,null,null,null,null,null,{"$f":"IF('Relevés de  commissions'!D1007=\"AGI externes\",'Relevés de  commissions'!M1007,0)*1","v":0},{"$f":"IF('Relevés de  commissions'!D1007=\"AGI externes\",'Relevés de  commissions'!N1007,0)*1","v":0},{"$f":"IF('Relevés de  commissions'!D1007=\"AGI externes\",'Relevés de  commissions'!O1007,0)*1","v":0},{"$f":"IF('Relevés de  commissions'!D1007=\"AGI externes\",'Relevés de  commissions'!P1007,0)*1","v":0},0,""]
[null,null,null,null,null,null,null,null,null,null,null,null,{"$f":"IF('Relevés de  commissions'!D1008=\"AGI externes\",'Relevés de  commissions'!M1008,0)*1","v":0},{"$f":"IF('Relevés de  commissions'!D1008=\"AGI externes\",'Relevés de  commissions'!N1008,0)*1","v":0},{"$f":"IF('Relevés de  commissions'!D1008=\"AGI externes\",'Relevés de  commissions'!O1008,0)*1","v":0},{"$f":"IF('Relevés de  commissions'!D1008=\"AGI externes\",'Relevés de  commissions'!P1008,0)*1","v":0},0,""]
[null,null,null,null,null,null,null,null,null,null,null,null,{"$f":"IF('Relevés de  commissions'!D1009=\"AGI externes\",'Relevés de  commissions'!M1009,0)*1","v":0},{"$f":"IF('Relevés de  commissions'!D1009=\"AGI externes\",'Relevés de  commissions'!N1009,0)*1","v":0},{"$f":"IF('Relevés de  commissions'!D1009=\"AGI externes\",'Relevés de  commissions'!O1009,0)*1","v":0},{"$f":"IF('Relevés de  commissions'!D1009=\"AGI externes\",'Relevés de  commissions'!P1009,0)*1","v":0},0,""]
[null,null,null,null,null,null,null,null,null,null,null,null,{"$f":"IF('Relevés de  commissions'!D1010=\"AGI externes\",'Relevés de  commissions'!M1010,0)*1","v":0},{"$f":"IF('Relevés de  commissions'!D1010=\"AGI externes\",'Relevés de  commissions'!N1010,0)*1","v":0},{"$f":"IF('Relevés de  commissions'!D1010=\"AGI externes\",'Relevés de  commissions'!O1010,0)*1","v":0},{"$f":"IF('Relevés de  commissions'!D1010=\"AGI externes\",'Relevés de  commissions'!P1010,0)*1","v":0},0,""]
[null,null,null,null,null,null,null,null,null,null,null,null,{"$f":"IF('Relevés de  commissions'!D1011=\"AGI externes\",'Relevés de  commissions'!M1011,0)*1","v":0},{"$f":"IF('Relevés de  commissions'!D1011=\"AGI externes\",'Relevés de  commissions'!N1011,0)*1","v":0},{"$f":"IF('Relevés de  commissions'!D1011=\"AGI externes\",'Relevés de  commissions'!O1011,0)*1","v":0},{"$f":"IF('Relevés de  commissions'!D1011=\"AGI externes\",'Relevés de  commissions'!P1011,0)*1","v":0},0,""]
[null,null,null,null,null,null,null,null,null,null,null,null,{"$f":"IF('Relevés de  commissions'!D1012=\"AGI externes\",'Relevés de  commissions'!M1012,0)*1","v":0},{"$f":"IF('Relevés de  commissions'!D1012=\"AGI externes\",'Relevés de  commissions'!N1012,0)*1","v":0},{"$f":"IF('Relevés de  commissions'!D1012=\"AGI externes\",'Relevés de  commissions'!O1012,0)*1","v":0},{"$f":"IF('Relevés de  commissions'!D1012=\"AGI externes\",'Relevés de  commissions'!P1012,0)*1","v":0},0,""]
[null,null,null,null,null,null,null,null,null,null,null,null,{"$f":"IF('Relevés de  commissions'!D1013=\"AGI externes\",'Relevés de  commissions'!M1013,0)*1","v":0},{"$f":"IF('Relevés de  commissions'!D1013=\"AGI externes\",'Relevés de  commissions'!N1013,0)*1","v":0},{"$f":"IF('Relevés de  commissions'!D1013=\"AGI externes\",'Relevés de  commissions'!O1013,0)*1","v":0},{"$f":"IF('Relevés de  commissions'!D1013=\"AGI externes\",'Relevés de  commissions'!P1013,0)*1","v":0},0,""]
[null,null,null,null,null,null,null,null,null,null,null,null,{"$f":"IF('Relevés de  commissions'!D1014=\"AGI externes\",'Relevés de  commissions'!M1014,0)*1","v":0},{"$f":"IF('Relevés de  commissions'!D1014=\"AGI externes\",'Relevés de  commissions'!N1014,0)*1","v":0},{"$f":"IF('Relevés de  commissions'!D1014=\"AGI externes\",'Relevés de  commissions'!O1014,0)*1","v":0},{"$f":"IF('Relevés de  commissions'!D1014=\"AGI externes\",'Relevés de  commissions'!P1014,0)*1","v":0},0,""]
[null,null,null,null,null,null,null,null,null,null,null,null,{"$f":"IF('Relevés de  commissions'!D1015=\"AGI externes\",'Relevés de  commissions'!M1015,0)*1","v":0},{"$f":"IF('Relevés de  commissions'!D1015=\"AGI externes\",'Relevés de  commissions'!N1015,0)*1","v":0},{"$f":"IF('Relevés de  commissions'!D1015=\"AGI externes\",'Relevés de  commissions'!O1015,0)*1","v":0},{"$f":"IF('Relevés de  commissions'!D1015=\"AGI externes\",'Relevés de  commissions'!P1015,0)*1","v":0},0,""]
[null,null,null,null,null,null,null,null,null,null,null,null,{"$f":"IF('Relevés de  commissions'!D1016=\"AGI externes\",'Relevés de  commissions'!M1016,0)*1","v":0},{"$f":"IF('Relevés de  commissions'!D1016=\"AGI externes\",'Relevés de  commissions'!N1016,0)*1","v":0},{"$f":"IF('Relevés de  commissions'!D1016=\"AGI externes\",'Relevés de  commissions'!O1016,0)*1","v":0},{"$f":"IF('Relevés de  commissions'!D1016=\"AGI externes\",'Relevés de  commissions'!P1016,0)*1","v":0},0,""]
[null,null,null,null,null,null,null,null,null,null,null,null,{"$f":"IF('Relevés de  commissions'!D1017=\"AGI externes\",'Relevés de  commissions'!M1017,0)*1","v":0},{"$f":"IF('Relevés de  commissions'!D1017=\"AGI externes\",'Relevés de  commissions'!N1017,0)*1","v":0},{"$f":"IF('Relevés de  commissions'!D1017=\"AGI externes\",'Relevés de  commissions'!O1017,0)*1","v":0},{"$f":"IF('Relevés de  commissions'!D1017=\"AGI externes\",'Relevés de  commissions'!P1017,0)*1","v":0},0,""]
[null,null,null,null,null,null,null,null,null,null,null,null,{"$f":"IF('Relevés de  commissions'!D1018=\"AGI externes\",'Relevés de  commissions'!M1018,0)*1","v":0},{"$f":"IF('Relevés de  commissions'!D1018=\"AGI externes\",'Relevés de  commissions'!N1018,0)*1","v":0},{"$f":"IF('Relevés de  commissions'!D1018=\"AGI externes\",'Relevés de  commissions'!O1018,0)*1","v":0},{"$f":"IF('Relevés de  commissions'!D1018=\"AGI externes\",'Relevés de  commissions'!P1018,0)*1","v":0},0,""]
[null,null,null,null,null,null,null,null,null,null,null,null,{"$f":"IF('Relevés de  commissions'!D1019=\"AGI externes\",'Relevés de  commissions'!M1019,0)*1","v":0},{"$f":"IF('Relevés de  commissions'!D1019=\"AGI externes\",'Relevés de  commissions'!N1019,0)*1","v":0},{"$f":"IF('Relevés de  commissions'!D1019=\"AGI externes\",'Relevés de  commissions'!O1019,0)*1","v":0},{"$f":"IF('Relevés de  commissions'!D1019=\"AGI externes\",'Relevés de  commissions'!P1019,0)*1","v":0},0,""]
[null,null,null,null,null,null,null,null,null,null,null,null,{"$f":"IF('Relevés de  commissions'!D1020=\"AGI externes\",'Relevés de  commissions'!M1020,0)*1","v":0},{"$f":"IF('Relevés de  commissions'!D1020=\"AGI externes\",'Relevés de  commissions'!N1020,0)*1","v":0},{"$f":"IF('Relevés de  commissions'!D1020=\"AGI externes\",'Relevés de  commissions'!O1020,0)*1","v":0},{"$f":"IF('Relevés de  commissions'!D1020=\"AGI externes\",'Relevés de  commissions'!P1020,0)*1","v":0},0,""]
[null,null,null,null,null,null,null,null,null,null,null,null,{"$f":"IF('Relevés de  commissions'!D1021=\"AGI externes\",'Relevés de  commissions'!M1021,0)*1","v":0},{"$f":"IF('Relevés de  commissions'!D1021=\"AGI externes\",'Relevés de  commissions'!N1021,0)*1","v":0},{"$f":"IF('Relevés de  commissions'!D1021=\"AGI externes\",'Relevés de  commissions'!O1021,0)*1","v":0},{"$f":"IF('Relevés de  commissions'!D1021=\"AGI externes\",'Relevés de  commissions'!P1021,0)*1","v":0},0,""]
[null,null,null,null,null,null,null,null,null,null,null,null,{"$f":"IF('Relevés de  commissions'!D1022=\"AGI externes\",'Relevés de  commissions'!M1022,0)*1","v":0},{"$f":"IF('Relevés de  commissions'!D1022=\"AGI externes\",'Relevés de  commissions'!N1022,0)*1","v":0},{"$f":"IF('Relevés de  commissions'!D1022=\"AGI externes\",'Relevés de  commissions'!O1022,0)*1","v":0},{"$f":"IF('Relevés de  commissions'!D1022=\"AGI externes\",'Relevés de  commissions'!P1022,0)*1","v":0},0,""]
[null,null,null,null,null,null,null,null,null,null,null,null,{"$f":"IF('Relevés de  commissions'!D1023=\"AGI externes\",'Relevés de  commissions'!M1023,0)*1","v":0},{"$f":"IF('Relevés de  commissions'!D1023=\"AGI externes\",'Relevés de  commissions'!N1023,0)*1","v":0},{"$f":"IF('Relevés de  commissions'!D1023=\"AGI externes\",'Relevés de  commissions'!O1023,0)*1","v":0},{"$f":"IF('Relevés de  commissions'!D1023=\"AGI externes\",'Relevés de  commissions'!P1023,0)*1","v":0},0,""]
[null,null,null,null,null,null,null,null,null,null,null,null,{"$f":"IF('Relevés de  commissions'!D1024=\"AGI externes\",'Relevés de  commissions'!M1024,0)*1","v":0},{"$f":"IF('Relevés de  commissions'!D1024=\"AGI externes\",'Relevés de  commissions'!N1024,0)*1","v":0},{"$f":"IF('Relevés de  commissions'!D1024=\"AGI externes\",'Relevés de  commissions'!O1024,0)*1","v":0},{"$f":"IF('Relevés de  commissions'!D1024=\"AGI externes\",'Relevés de  commissions'!P1024,0)*1","v":0},0,""]
[null,null,null,null,null,null,null,null,null,null,null,null,{"$f":"IF('Relevés de  commissions'!D1025=\"AGI externes\",'Relevés de  commissions'!M1025,0)*1","v":0},{"$f":"IF('Relevés de  commissions'!D1025=\"AGI externes\",'Relevés de  commissions'!N1025,0)*1","v":0},{"$f":"IF('Relevés de  commissions'!D1025=\"AGI externes\",'Relevés de  commissions'!O1025,0)*1","v":0},{"$f":"IF('Relevés de  commissions'!D1025=\"AGI externes\",'Relevés de  commissions'!P1025,0)*1","v":0},0,""]
[null,null,null,null,null,null,null,null,null,null,null,null,{"$f":"IF('Relevés de  commissions'!D1026=\"AGI externes\",'Relevés de  commissions'!M1026,0)*1","v":0},{"$f":"IF('Relevés de  commissions'!D1026=\"AGI externes\",'Relevés de  commissions'!N1026,0)*1","v":0},{"$f":"IF('Relevés de  commissions'!D1026=\"AGI externes\",'Relevés de  commissions'!O1026,0)*1","v":0},{"$f":"IF('Relevés de  commissions'!D1026=\"AGI externes\",'Relevés de  commissions'!P1026,0)*1","v":0},0,""]
[null,null,null,null,null,null,null,null,null,null,null,null,{"$f":"IF('Relevés de  commissions'!D1027=\"AGI externes\",'Relevés de  commissions'!M1027,0)*1","v":0},{"$f":"IF('Relevés de  commissions'!D1027=\"AGI externes\",'Relevés de  commissions'!N1027,0)*1","v":0},{"$f":"IF('Relevés de  commissions'!D1027=\"AGI externes\",'Relevés de  commissions'!O1027,0)*1","v":0},{"$f":"IF('Relevés de  commissions'!D1027=\"AGI externes\",'Relevés de  commissions'!P1027,0)*1","v":0},{"$f":"IF(N1029=0,O1029,\"\")","v":0},{"$f":"IF(N1029=10,O1029,\"\")","v":""}]
[null,null,null,null,null,null,null,null,null,null,null,null,{"$f":"IF('Relevés de  commissions'!D1028=\"AGI externes\",'Relevés de  commissions'!M1028,0)*1","v":0},{"$f":"IF('Relevés de  commissions'!D1028=\"AGI externes\",'Relevés de  commissions'!N1028,0)*1","v":0},{"$f":"IF('Relevés de  commissions'!D1028=\"AGI externes\",'Relevés de  commissions'!O1028,0)*1","v":0},{"$f":"IF('Relevés de  commissions'!D1028=\"AGI externes\",'Relevés de  commissions'!P1028,0)*1","v":0},0,""]
[null,null,null,null,null,null,null,null,null,null,null,null,{"$f":"IF('Relevés de  commissions'!D1029=\"AGI externes\",'Relevés de  commissions'!M1029,0)*1","v":0},{"$f":"IF('Relevés de  commissions'!D1029=\"AGI externes\",'Relevés de  commissions'!N1029,0)*1","v":0},{"$f":"IF('Relevés de  commissions'!D1029=\"AGI externes\",'Relevés de  commissions'!O1029,0)*1","v":0},{"$f":"IF('Relevés de  commissions'!D1029=\"AGI externes\",'Relevés de  commissions'!P1029,0)*1","v":0},0,""]
[null,null,null,null,null,null,null,null,null,null,null,null,{"$f":"IF('Relevés de  commissions'!D1030=\"AGI externes\",'Relevés de  commissions'!M1030,0)*1","v":0},{"$f":"IF('Relevés de  commissions'!D1030=\"AGI externes\",'Relevés de  commissions'!N1030,0)*1","v":0},{"$f":"IF('Relevés de  commissions'!D1030=\"AGI externes\",'Relevés de  commissions'!O1030,0)*1","v":0},{"$f":"IF('Relevés de  commissions'!D1030=\"AGI externes\",'Relevés de  commissions'!P1030,0)*1","v":0},0,""]
[null,null,null,null,null,null,null,null,null,null,null,null,{"$f":"IF('Relevés de  commissions'!D1031=\"AGI externes\",'Relevés de  commissions'!M1031,0)*1","v":0},{"$f":"IF('Relevés de  commissions'!D1031=\"AGI externes\",'Relevés de  commissions'!N1031,0)*1","v":0},{"$f":"IF('Relevés de  commissions'!D1031=\"AGI externes\",'Relevés de  commissions'!O1031,0)*1","v":0},{"$f":"IF('Relevés de  commissions'!D1031=\"AGI externes\",'Relevés de  commissions'!P1031,0)*1","v":0},0,""]
[null,null,null,null,null,null,null,null,null,null,null,null,{"$f":"IF('Relevés de  commissions'!D1032=\"AGI externes\",'Relevés de  commissions'!M1032,0)*1","v":0},{"$f":"IF('Relevés de  commissions'!D1032=\"AGI externes\",'Relevés de  commissions'!N1032,0)*1","v":0},{"$f":"IF('Relevés de  commissions'!D1032=\"AGI externes\",'Relevés de  commissions'!O1032,0)*1","v":0},{"$f":"IF('Relevés de  commissions'!D1032=\"AGI externes\",'Relevés de  commissions'!P1032,0)*1","v":0},0,""]
[null,null,null,null,null,null,null,null,null,null,null,null,{"$f":"IF('Relevés de  commissions'!D1033=\"AGI externes\",'Relevés de  commissions'!M1033,0)*1","v":0},{"$f":"IF('Relevés de  commissions'!D1033=\"AGI externes\",'Relevés de  commissions'!N1033,0)*1","v":0},{"$f":"IF('Relevés de  commissions'!D1033=\"AGI externes\",'Relevés de  commissions'!O1033,0)*1","v":0},{"$f":"IF('Relevés de  commissions'!D1033=\"AGI externes\",'Relevés de  commissions'!P1033,0)*1","v":0},0,""]
[null,null,null,null,null,null,null,null,null,null,null,null,{"$f":"IF('Relevés de  commissions'!D1034=\"AGI externes\",'Relevés de  commissions'!M1034,0)*1","v":0},{"$f":"IF('Relevés de  commissions'!D1034=\"AGI externes\",'Relevés de  commissions'!N1034,0)*1","v":0},{"$f":"IF('Relevés de  commissions'!D1034=\"AGI externes\",'Relevés de  commissions'!O1034,0)*1","v":0},{"$f":"IF('Relevés de  commissions'!D1034=\"AGI externes\",'Relevés de  commissions'!P1034,0)*1","v":0},0,""]
[null,null,null,null,null,null,null,null,null,null,null,null,{"$f":"IF('Relevés de  commissions'!D1035=\"AGI externes\",'Relevés de  commissions'!M1035,0)*1","v":0},{"$f":"IF('Relevés de  commissions'!D1035=\"AGI externes\",'Relevés de  commissions'!N1035,0)*1","v":0},{"$f":"IF('Relevés de  commissions'!D1035=\"AGI externes\",'Relevés de  commissions'!O1035,0)*1","v":0},{"$f":"IF('Relevés de  commissions'!D1035=\"AGI externes\",'Relevés de  commissions'!P1035,0)*1","v":0},0,""]
[null,null,null,null,null,null,null,null,null,null,null,null,{"$f":"IF('Relevés de  commissions'!D1036=\"AGI externes\",'Relevés de  commissions'!M1036,0)*1","v":0},{"$f":"IF('Relevés de  commissions'!D1036=\"AGI externes\",'Relevés de  commissions'!N1036,0)*1","v":0},{"$f":"IF('Relevés de  commissions'!D1036=\"AGI externes\",'Relevés de  commissions'!O1036,0)*1","v":0},{"$f":"IF('Relevés de  commissions'!D1036=\"AGI externes\",'Relevés de  commissions'!P1036,0)*1","v":0},0,""]
[null,null,null,null,null,null,null,null,null,null,null,null,{"$f":"IF('Relevés de  commissions'!D1037=\"AGI externes\",'Relevés de  commissions'!M1037,0)*1","v":0},{"$f":"IF('Relevés de  commissions'!D1037=\"AGI externes\",'Relevés de  commissions'!N1037,0)*1","v":0},{"$f":"IF('Relevés de  commissions'!D1037=\"AGI externes\",'Relevés de  commissions'!O1037,0)*1","v":0},{"$f":"IF('Relevés de  commissions'!D1037=\"AGI externes\",'Relevés de  commissions'!P1037,0)*1","v":0},0,""]
[null,null,null,null,null,null,null,null,null,null,null,null,{"$f":"IF('Relevés de  commissions'!D1038=\"AGI externes\",'Relevés de  commissions'!M1038,0)*1","v":0},{"$f":"IF('Relevés de  commissions'!D1038=\"AGI externes\",'Relevés de  commissions'!N1038,0)*1","v":0},{"$f":"IF('Relevés de  commissions'!D1038=\"AGI externes\",'Relevés de  commissions'!O1038,0)*1","v":0},{"$f":"IF('Relevés de  commissions'!D1038=\"AGI externes\",'Relevés de  commissions'!P1038,0)*1","v":0},0,""]
[null,null,null,null,null,null,null,null,null,null,null,null,{"$f":"IF('Relevés de  commissions'!D1039=\"AGI externes\",'Relevés de  commissions'!M1039,0)*1","v":0},{"$f":"IF('Relevés de  commissions'!D1039=\"AGI externes\",'Relevés de  commissions'!N1039,0)*1","v":0},{"$f":"IF('Relevés de  commissions'!D1039=\"AGI externes\",'Relevés de  commissions'!O1039,0)*1","v":0},{"$f":"IF('Relevés de  commissions'!D1039=\"AGI externes\",'Relevés de  commissions'!P1039,0)*1","v":0},0,""]
[null,null,null,null,null,null,null,null,null,null,null,null,{"$f":"IF('Relevés de  commissions'!D1040=\"AGI externes\",'Relevés de  commissions'!M1040,0)*1","v":0},{"$f":"IF('Relevés de  commissions'!D1040=\"AGI externes\",'Relevés de  commissions'!N1040,0)*1","v":0},{"$f":"IF('Relevés de  commissions'!D1040=\"AGI externes\",'Relevés de  commissions'!O1040,0)*1","v":0},{"$f":"IF('Relevés de  commissions'!D1040=\"AGI externes\",'Relevés de  commissions'!P1040,0)*1","v":0},0,""]
[null,null,null,null,null,null,null,null,null,null,null,null,{"$f":"IF('Relevés de  commissions'!D1041=\"AGI externes\",'Relevés de  commissions'!M1041,0)*1","v":0},{"$f":"IF('Relevés de  commissions'!D1041=\"AGI externes\",'Relevés de  commissions'!N1041,0)*1","v":0},{"$f":"IF('Relevés de  commissions'!D1041=\"AGI externes\",'Relevés de  commissions'!O1041,0)*1","v":0},{"$f":"IF('Relevés de  commissions'!D1041=\"AGI externes\",'Relevés de  commissions'!P1041,0)*1","v":0},0,""]
[null,null,null,null,null,null,null,null,null,null,null,null,{"$f":"IF('Relevés de  commissions'!D1042=\"AGI externes\",'Relevés de  commissions'!M1042,0)*1","v":0},{"$f":"IF('Relevés de  commissions'!D1042=\"AGI externes\",'Relevés de  commissions'!N1042,0)*1","v":0},{"$f":"IF('Relevés de  commissions'!D1042=\"AGI externes\",'Relevés de  commissions'!O1042,0)*1","v":0},{"$f":"IF('Relevés de  commissions'!D1042=\"AGI externes\",'Relevés de  commissions'!P1042,0)*1","v":0},0,""]
[null,null,null,null,null,null,null,null,null,null,null,null,{"$f":"IF('Relevés de  commissions'!D1043=\"AGI externes\",'Relevés de  commissions'!M1043,0)*1","v":0},{"$f":"IF('Relevés de  commissions'!D1043=\"AGI externes\",'Relevés de  commissions'!N1043,0)*1","v":0},{"$f":"IF('Relevés de  commissions'!D1043=\"AGI externes\",'Relevés de  commissions'!O1043,0)*1","v":0},{"$f":"IF('Relevés de  commissions'!D1043=\"AGI externes\",'Relevés de  commissions'!P1043,0)*1","v":0},0,""]
[null,null,null,null,null,null,null,null,null,null,null,null,{"$f":"IF('Relevés de  commissions'!D1044=\"AGI externes\",'Relevés de  commissions'!M1044,0)*1","v":0},{"$f":"IF('Relevés de  commissions'!D1044=\"AGI externes\",'Relevés de  commissions'!N1044,0)*1","v":0},{"$f":"IF('Relevés de  commissions'!D1044=\"AGI externes\",'Relevés de  commissions'!O1044,0)*1","v":0},{"$f":"IF('Relevés de  commissions'!D1044=\"AGI externes\",'Relevés de  commissions'!P1044,0)*1","v":0},0,""]
[null,null,null,null,null,null,null,null,null,null,null,null,{"$f":"IF('Relevés de  commissions'!D1045=\"AGI externes\",'Relevés de  commissions'!M1045,0)*1","v":0},{"$f":"IF('Relevés de  commissions'!D1045=\"AGI externes\",'Relevés de  commissions'!N1045,0)*1","v":0},{"$f":"IF('Relevés de  commissions'!D1045=\"AGI externes\",'Relevés de  commissions'!O1045,0)*1","v":0},{"$f":"IF('Relevés de  commissions'!D1045=\"AGI externes\",'Relevés de  commissions'!P1045,0)*1","v":0},0,""]
[null,null,null,null,null,null,null,null,null,null,null,null,{"$f":"IF('Relevés de  commissions'!D1046=\"AGI externes\",'Relevés de  commissions'!M1046,0)*1","v":0},{"$f":"IF('Relevés de  commissions'!D1046=\"AGI externes\",'Relevés de  commissions'!N1046,0)*1","v":0},{"$f":"IF('Relevés de  commissions'!D1046=\"AGI externes\",'Relevés de  commissions'!O1046,0)*1","v":0},{"$f":"IF('Relevés de  commissions'!D1046=\"AGI externes\",'Relevés de  commissions'!P1046,0)*1","v":0},0,""]
[null,null,null,null,null,null,null,null,null,null,null,null,{"$f":"IF('Relevés de  commissions'!D1047=\"AGI externes\",'Relevés de  commissions'!M1047,0)*1","v":0},{"$f":"IF('Relevés de  commissions'!D1047=\"AGI externes\",'Relevés de  commissions'!N1047,0)*1","v":0},{"$f":"IF('Relevés de  commissions'!D1047=\"AGI externes\",'Relevés de  commissions'!O1047,0)*1","v":0},{"$f":"IF('Relevés de  commissions'!D1047=\"AGI externes\",'Relevés de  commissions'!P1047,0)*1","v":0},0,""]
[null,null,null,null,null,null,null,null,null,null,null,null,{"$f":"IF('Relevés de  commissions'!D1048=\"AGI externes\",'Relevés de  commissions'!M1048,0)*1","v":0},{"$f":"IF('Relevés de  commissions'!D1048=\"AGI externes\",'Relevés de  commissions'!N1048,0)*1","v":0},{"$f":"IF('Relevés de  commissions'!D1048=\"AGI externes\",'Relevés de  commissions'!O1048,0)*1","v":0},{"$f":"IF('Relevés de  commissions'!D1048=\"AGI externes\",'Relevés de  commissions'!P1048,0)*1","v":0},0,""]
[null,null,null,null,null,null,null,null,null,null,null,null,{"$f":"IF('Relevés de  commissions'!D1049=\"AGI externes\",'Relevés de  commissions'!M1049,0)*1","v":0},{"$f":"IF('Relevés de  commissions'!D1049=\"AGI externes\",'Relevés de  commissions'!N1049,0)*1","v":0},{"$f":"IF('Relevés de  commissions'!D1049=\"AGI externes\",'Relevés de  commissions'!O1049,0)*1","v":0},{"$f":"IF('Relevés de  commissions'!D1049=\"AGI externes\",'Relevés de  commissions'!P1049,0)*1","v":0},0,""]
[null,null,null,null,null,null,null,null,null,null,null,null,{"$f":"IF('Relevés de  commissions'!D1050=\"AGI externes\",'Relevés de  commissions'!M1050,0)*1","v":0},{"$f":"IF('Relevés de  commissions'!D1050=\"AGI externes\",'Relevés de  commissions'!N1050,0)*1","v":0},{"$f":"IF('Relevés de  commissions'!D1050=\"AGI externes\",'Relevés de  commissions'!O1050,0)*1","v":0},{"$f":"IF('Relevés de  commissions'!D1050=\"AGI externes\",'Relevés de  commissions'!P1050,0)*1","v":0},0,""]
[null,null,null,null,null,null,null,null,null,null,null,null,{"$f":"IF('Relevés de  commissions'!D1051=\"AGI externes\",'Relevés de  commissions'!M1051,0)*1","v":0},{"$f":"IF('Relevés de  commissions'!D1051=\"AGI externes\",'Relevés de  commissions'!N1051,0)*1","v":0},{"$f":"IF('Relevés de  commissions'!D1051=\"AGI externes\",'Relevés de  commissions'!O1051,0)*1","v":0},{"$f":"IF('Relevés de  commissions'!D1051=\"AGI externes\",'Relevés de  commissions'!P1051,0)*1","v":0},0,""]
[null,null,null,null,null,null,null,null,null,null,null,null,{"$f":"IF('Relevés de  commissions'!D1052=\"AGI externes\",'Relevés de  commissions'!M1052,0)*1","v":0},{"$f":"IF('Relevés de  commissions'!D1052=\"AGI externes\",'Relevés de  commissions'!N1052,0)*1","v":0},{"$f":"IF('Relevés de  commissions'!D1052=\"AGI externes\",'Relevés de  commissions'!O1052,0)*1","v":0},{"$f":"IF('Relevés de  commissions'!D1052=\"AGI externes\",'Relevés de  commissions'!P1052,0)*1","v":0},0,""]
[null,null,null,null,null,null,null,null,null,null,null,null,{"$f":"IF('Relevés de  commissions'!D1053=\"AGI externes\",'Relevés de  commissions'!M1053,0)*1","v":0},{"$f":"IF('Relevés de  commissions'!D1053=\"AGI externes\",'Relevés de  commissions'!N1053,0)*1","v":0},{"$f":"IF('Relevés de  commissions'!D1053=\"AGI externes\",'Relevés de  commissions'!O1053,0)*1","v":0},{"$f":"IF('Relevés de  commissions'!D1053=\"AGI externes\",'Relevés de  commissions'!P1053,0)*1","v":0},0,""]
[null,null,null,null,null,null,null,null,null,null,null,null,{"$f":"IF('Relevés de  commissions'!D1054=\"AGI externes\",'Relevés de  commissions'!M1054,0)*1","v":0},{"$f":"IF('Relevés de  commissions'!D1054=\"AGI externes\",'Relevés de  commissions'!N1054,0)*1","v":0},{"$f":"IF('Relevés de  commissions'!D1054=\"AGI externes\",'Relevés de  commissions'!O1054,0)*1","v":0},{"$f":"IF('Relevés de  commissions'!D1054=\"AGI externes\",'Relevés de  commissions'!P1054,0)*1","v":0},0,""]
[null,null,null,null,null,null,null,null,null,null,null,null,{"$f":"IF('Relevés de  commissions'!D1055=\"AGI externes\",'Relevés de  commissions'!M1055,0)*1","v":0},{"$f":"IF('Relevés de  commissions'!D1055=\"AGI externes\",'Relevés de  commissions'!N1055,0)*1","v":0},{"$f":"IF('Relevés de  commissions'!D1055=\"AGI externes\",'Relevés de  commissions'!O1055,0)*1","v":0},{"$f":"IF('Relevés de  commissions'!D1055=\"AGI externes\",'Relevés de  commissions'!P1055,0)*1","v":0},0,""]
[null,null,null,null,null,null,null,null,null,null,null,null,{"$f":"IF('Relevés de  commissions'!D1056=\"AGI externes\",'Relevés de  commissions'!M1056,0)*1","v":0},{"$f":"IF('Relevés de  commissions'!D1056=\"AGI externes\",'Relevés de  commissions'!N1056,0)*1","v":0},{"$f":"IF('Relevés de  commissions'!D1056=\"AGI externes\",'Relevés de  commissions'!O1056,0)*1","v":0},{"$f":"IF('Relevés de  commissions'!D1056=\"AGI externes\",'Relevés de  commissions'!P1056,0)*1","v":0},0,""]
[null,null,null,null,null,null,null,null,null,null,null,null,{"$f":"IF('Relevés de  commissions'!D1057=\"AGI externes\",'Relevés de  commissions'!M1057,0)*1","v":0},{"$f":"IF('Relevés de  commissions'!D1057=\"AGI externes\",'Relevés de  commissions'!N1057,0)*1","v":0},{"$f":"IF('Relevés de  commissions'!D1057=\"AGI externes\",'Relevés de  commissions'!O1057,0)*1","v":0},{"$f":"IF('Relevés de  commissions'!D1057=\"AGI externes\",'Relevés de  commissions'!P1057,0)*1","v":0},0,""]
[null,null,null,null,null,null,null,null,null,null,null,null,{"$f":"IF('Relevés de  commissions'!D1058=\"AGI externes\",'Relevés de  commissions'!M1058,0)*1","v":0},{"$f":"IF('Relevés de  commissions'!D1058=\"AGI externes\",'Relevés de  commissions'!N1058,0)*1","v":0},{"$f":"IF('Relevés de  commissions'!D1058=\"AGI externes\",'Relevés de  commissions'!O1058,0)*1","v":0},{"$f":"IF('Relevés de  commissions'!D1058=\"AGI externes\",'Relevés de  commissions'!P1058,0)*1","v":0},0,""]
[null,null,null,null,null,null,null,null,null,null,null,null,{"$f":"IF('Relevés de  commissions'!D1059=\"AGI externes\",'Relevés de  commissions'!M1059,0)*1","v":0},{"$f":"IF('Relevés de  commissions'!D1059=\"AGI externes\",'Relevés de  commissions'!N1059,0)*1","v":0},{"$f":"IF('Relevés de  commissions'!D1059=\"AGI externes\",'Relevés de  commissions'!O1059,0)*1","v":0},{"$f":"IF('Relevés de  commissions'!D1059=\"AGI externes\",'Relevés de  commissions'!P1059,0)*1","v":0},0,""]
[null,null,null,null,null,null,null,null,null,null,null,null,{"$f":"IF('Relevés de  commissions'!D1060=\"AGI externes\",'Relevés de  commissions'!M1060,0)*1","v":0},{"$f":"IF('Relevés de  commissions'!D1060=\"AGI externes\",'Relevés de  commissions'!N1060,0)*1","v":0},{"$f":"IF('Relevés de  commissions'!D1060=\"AGI externes\",'Relevés de  commissions'!O1060,0)*1","v":0},{"$f":"IF('Relevés de  commissions'!D1060=\"AGI externes\",'Relevés de  commissions'!P1060,0)*1","v":0},0,""]
[null,null,null,null,null,null,null,null,null,null,null,null,{"$f":"IF('Relevés de  commissions'!D1061=\"AGI externes\",'Relevés de  commissions'!M1061,0)*1","v":0},{"$f":"IF('Relevés de  commissions'!D1061=\"AGI externes\",'Relevés de  commissions'!N1061,0)*1","v":0},{"$f":"IF('Relevés de  commissions'!D1061=\"AGI externes\",'Relevés de  commissions'!O1061,0)*1","v":0},{"$f":"IF('Relevés de  commissions'!D1061=\"AGI externes\",'Relevés de  commissions'!P1061,0)*1","v":0},0,""]
[null,null,null,null,null,null,null,null,null,null,null,null,{"$f":"IF('Relevés de  commissions'!D1062=\"AGI externes\",'Relevés de  commissions'!M1062,0)*1","v":0},{"$f":"IF('Relevés de  commissions'!D1062=\"AGI externes\",'Relevés de  commissions'!N1062,0)*1","v":0},{"$f":"IF('Relevés de  commissions'!D1062=\"AGI externes\",'Relevés de  commissions'!O1062,0)*1","v":0},{"$f":"IF('Relevés de  commissions'!D1062=\"AGI externes\",'Relevés de  commissions'!P1062,0)*1","v":0},0,""]
[null,null,null,null,null,null,null,null,null,null,null,null,{"$f":"IF('Relevés de  commissions'!D1063=\"AGI externes\",'Relevés de  commissions'!M1063,0)*1","v":0},{"$f":"IF('Relevés de  commissions'!D1063=\"AGI externes\",'Relevés de  commissions'!N1063,0)*1","v":0},{"$f":"IF('Relevés de  commissions'!D1063=\"AGI externes\",'Relevés de  commissions'!O1063,0)*1","v":0},{"$f":"IF('Relevés de  commissions'!D1063=\"AGI externes\",'Relevés de  commissions'!P1063,0)*1","v":0},0,""]
[null,null,null,null,null,null,null,null,null,null,null,null,{"$f":"IF('Relevés de  commissions'!D1064=\"AGI externes\",'Relevés de  commissions'!M1064,0)*1","v":0},{"$f":"IF('Relevés de  commissions'!D1064=\"AGI externes\",'Relevés de  commissions'!N1064,0)*1","v":0},{"$f":"IF('Relevés de  commissions'!D1064=\"AGI externes\",'Relevés de  commissions'!O1064,0)*1","v":0},{"$f":"IF('Relevés de  commissions'!D1064=\"AGI externes\",'Relevés de  commissions'!P1064,0)*1","v":0},0,""]
[null,null,null,null,null,null,null,null,null,null,null,null,{"$f":"IF('Relevés de  commissions'!D1065=\"AGI externes\",'Relevés de  commissions'!M1065,0)*1","v":0},{"$f":"IF('Relevés de  commissions'!D1065=\"AGI externes\",'Relevés de  commissions'!N1065,0)*1","v":0},{"$f":"IF('Relevés de  commissions'!D1065=\"AGI externes\",'Relevés de  commissions'!O1065,0)*1","v":0},{"$f":"IF('Relevés de  commissions'!D1065=\"AGI externes\",'Relevés de  commissions'!P1065,0)*1","v":0},0,""]
[null,null,null,null,null,null,null,null,null,null,null,null,{"$f":"IF('Relevés de  commissions'!D1066=\"AGI externes\",'Relevés de  commissions'!M1066,0)*1","v":0},{"$f":"IF('Relevés de  commissions'!D1066=\"AGI externes\",'Relevés de  commissions'!N1066,0)*1","v":0},{"$f":"IF('Relevés de  commissions'!D1066=\"AGI externes\",'Relevés de  commissions'!O1066,0)*1","v":0},{"$f":"IF('Relevés de  commissions'!D1066=\"AGI externes\",'Relevés de  commissions'!P1066,0)*1","v":0},0,""]
[null,null,null,null,null,null,null,null,null,null,null,null,{"$f":"IF('Relevés de  commissions'!D1067=\"AGI externes\",'Relevés de  commissions'!M1067,0)*1","v":0},{"$f":"IF('Relevés de  commissions'!D1067=\"AGI externes\",'Relevés de  commissions'!N1067,0)*1","v":0},{"$f":"IF('Relevés de  commissions'!D1067=\"AGI externes\",'Relevés de  commissions'!O1067,0)*1","v":0},{"$f":"IF('Relevés de  commissions'!D1067=\"AGI externes\",'Relevés de  commissions'!P1067,0)*1","v":0},0,""]
[null,null,null,null,null,null,null,null,null,null,null,null,{"$f":"IF('Relevés de  commissions'!D1068=\"AGI externes\",'Relevés de  commissions'!M1068,0)*1","v":0},{"$f":"IF('Relevés de  commissions'!D1068=\"AGI externes\",'Relevés de  commissions'!N1068,0)*1","v":0},{"$f":"IF('Relevés de  commissions'!D1068=\"AGI externes\",'Relevés de  commissions'!O1068,0)*1","v":0},{"$f":"IF('Relevés de  commissions'!D1068=\"AGI externes\",'Relevés de  commissions'!P1068,0)*1","v":0},0,""]
[null,null,null,null,null,null,null,null,null,null,null,null,{"$f":"IF('Relevés de  commissions'!D1069=\"AGI externes\",'Relevés de  commissions'!M1069,0)*1","v":0},{"$f":"IF('Relevés de  commissions'!D1069=\"AGI externes\",'Relevés de  commissions'!N1069,0)*1","v":0},{"$f":"IF('Relevés de  commissions'!D1069=\"AGI externes\",'Relevés de  commissions'!O1069,0)*1","v":0},{"$f":"IF('Relevés de  commissions'!D1069=\"AGI externes\",'Relevés de  commissions'!P1069,0)*1","v":0},0,""]
[null,null,null,null,null,null,null,null,null,null,null,null,{"$f":"IF('Relevés de  commissions'!D1070=\"AGI externes\",'Relevés de  commissions'!M1070,0)*1","v":0},{"$f":"IF('Relevés de  commissions'!D1070=\"AGI externes\",'Relevés de  commissions'!N1070,0)*1","v":0},{"$f":"IF('Relevés de  commissions'!D1070=\"AGI externes\",'Relevés de  commissions'!O1070,0)*1","v":0},{"$f":"IF('Relevés de  commissions'!D1070=\"AGI externes\",'Relevés de  commissions'!P1070,0)*1","v":0},0,""]
[null,null,null,null,null,null,null,null,null,null,null,null,{"$f":"IF('Relevés de  commissions'!D1071=\"AGI externes\",'Relevés de  commissions'!M1071,0)*1","v":0},{"$f":"IF('Relevés de  commissions'!D1071=\"AGI externes\",'Relevés de  commissions'!N1071,0)*1","v":0},{"$f":"IF('Relevés de  commissions'!D1071=\"AGI externes\",'Relevés de  commissions'!O1071,0)*1","v":0},{"$f":"IF('Relevés de  commissions'!D1071=\"AGI externes\",'Relevés de  commissions'!P1071,0)*1","v":0},0,""]
[null,null,null,null,null,null,null,null,null,null,null,null,{"$f":"IF('Relevés de  commissions'!D1072=\"AGI externes\",'Relevés de  commissions'!M1072,0)*1","v":0},{"$f":"IF('Relevés de  commissions'!D1072=\"AGI externes\",'Relevés de  commissions'!N1072,0)*1","v":0},{"$f":"IF('Relevés de  commissions'!D1072=\"AGI externes\",'Relevés de  commissions'!O1072,0)*1","v":0},{"$f":"IF('Relevés de  commissions'!D1072=\"AGI externes\",'Relevés de  commissions'!P1072,0)*1","v":0},0,""]
[null,null,null,null,null,null,null,null,null,null,null,null,{"$f":"IF('Relevés de  commissions'!D1073=\"AGI externes\",'Relevés de  commissions'!M1073,0)*1","v":0},{"$f":"IF('Relevés de  commissions'!D1073=\"AGI externes\",'Relevés de  commissions'!N1073,0)*1","v":0},{"$f":"IF('Relevés de  commissions'!D1073=\"AGI externes\",'Relevés de  commissions'!O1073,0)*1","v":0},{"$f":"IF('Relevés de  commissions'!D1073=\"AGI externes\",'Relevés de  commissions'!P1073,0)*1","v":0},0,""]
[null,null,null,null,null,null,null,null,null,null,null,null,{"$f":"IF('Relevés de  commissions'!D1074=\"AGI externes\",'Relevés de  commissions'!M1074,0)*1","v":0},{"$f":"IF('Relevés de  commissions'!D1074=\"AGI externes\",'Relevés de  commissions'!N1074,0)*1","v":0},{"$f":"IF('Relevés de  commissions'!D1074=\"AGI externes\",'Relevés de  commissions'!O1074,0)*1","v":0},{"$f":"IF('Relevés de  commissions'!D1074=\"AGI externes\",'Relevés de  commissions'!P1074,0)*1","v":0},0,""]
[null,null,null,null,null,null,null,null,null,null,null,null,{"$f":"IF('Relevés de  commissions'!D1075=\"AGI externes\",'Relevés de  commissions'!M1075,0)*1","v":0},{"$f":"IF('Relevés de  commissions'!D1075=\"AGI externes\",'Relevés de  commissions'!N1075,0)*1","v":0},{"$f":"IF('Relevés de  commissions'!D1075=\"AGI externes\",'Relevés de  commissions'!O1075,0)*1","v":0},{"$f":"IF('Relevés de  commissions'!D1075=\"AGI externes\",'Relevés de  commissions'!P1075,0)*1","v":0},0,""]
[null,null,null,null,null,null,null,null,null,null,null,null,{"$f":"IF('Relevés de  commissions'!D1076=\"AGI externes\",'Relevés de  commissions'!M1076,0)*1","v":0},{"$f":"IF('Relevés de  commissions'!D1076=\"AGI externes\",'Relevés de  commissions'!N1076,0)*1","v":0},{"$f":"IF('Relevés de  commissions'!D1076=\"AGI externes\",'Relevés de  commissions'!O1076,0)*1","v":0},{"$f":"IF('Relevés de  commissions'!D1076=\"AGI externes\",'Relevés de  commissions'!P1076,0)*1","v":0},0,""]
[null,null,null,null,null,null,null,null,null,null,null,null,{"$f":"IF('Relevés de  commissions'!D1077=\"AGI externes\",'Relevés de  commissions'!M1077,0)*1","v":0},{"$f":"IF('Relevés de  commissions'!D1077=\"AGI externes\",'Relevés de  commissions'!N1077,0)*1","v":0},{"$f":"IF('Relevés de  commissions'!D1077=\"AGI externes\",'Relevés de  commissions'!O1077,0)*1","v":0},{"$f":"IF('Relevés de  commissions'!D1077=\"AGI externes\",'Relevés de  commissions'!P1077,0)*1","v":0},0,""]
[null,null,null,null,null,null,null,null,null,null,null,null,{"$f":"IF('Relevés de  commissions'!D1078=\"AGI externes\",'Relevés de  commissions'!M1078,0)*1","v":0},{"$f":"IF('Relevés de  commissions'!D1078=\"AGI externes\",'Relevés de  commissions'!N1078,0)*1","v":0},{"$f":"IF('Relevés de  commissions'!D1078=\"AGI externes\",'Relevés de  commissions'!O1078,0)*1","v":0},{"$f":"IF('Relevés de  commissions'!D1078=\"AGI externes\",'Relevés de  commissions'!P1078,0)*1","v":0},0,""]
[null,null,null,null,null,null,null,null,null,null,null,null,{"$f":"IF('Relevés de  commissions'!D1079=\"AGI externes\",'Relevés de  commissions'!M1079,0)*1","v":0},{"$f":"IF('Relevés de  commissions'!D1079=\"AGI externes\",'Relevés de  commissions'!N1079,0)*1","v":0},{"$f":"IF('Relevés de  commissions'!D1079=\"AGI externes\",'Relevés de  commissions'!O1079,0)*1","v":0},{"$f":"IF('Relevés de  commissions'!D1079=\"AGI externes\",'Relevés de  commissions'!P1079,0)*1","v":0},0,""]
[null,null,null,null,null,null,null,null,null,null,null,null,{"$f":"IF('Relevés de  commissions'!D1080=\"AGI externes\",'Relevés de  commissions'!M1080,0)*1","v":0},{"$f":"IF('Relevés de  commissions'!D1080=\"AGI externes\",'Relevés de  commissions'!N1080,0)*1","v":0},{"$f":"IF('Relevés de  commissions'!D1080=\"AGI externes\",'Relevés de  commissions'!O1080,0)*1","v":0},{"$f":"IF('Relevés de  commissions'!D1080=\"AGI externes\",'Relevés de  commissions'!P1080,0)*1","v":0},0,""]
[null,null,null,null,null,null,null,null,null,null,null,null,{"$f":"IF('Relevés de  commissions'!D1081=\"AGI externes\",'Relevés de  commissions'!M1081,0)*1","v":0},{"$f":"IF('Relevés de  commissions'!D1081=\"AGI externes\",'Relevés de  commissions'!N1081,0)*1","v":0},{"$f":"IF('Relevés de  commissions'!D1081=\"AGI externes\",'Relevés de  commissions'!O1081,0)*1","v":0},{"$f":"IF('Relevés de  commissions'!D1081=\"AGI externes\",'Relevés de  commissions'!P1081,0)*1","v":0},0,""]
[null,null,null,null,null,null,null,null,null,null,null,null,{"$f":"IF('Relevés de  commissions'!D1082=\"AGI externes\",'Relevés de  commissions'!M1082,0)*1","v":0},{"$f":"IF('Relevés de  commissions'!D1082=\"AGI externes\",'Relevés de  commissions'!N1082,0)*1","v":0},{"$f":"IF('Relevés de  commissions'!D1082=\"AGI externes\",'Relevés de  commissions'!O1082,0)*1","v":0},{"$f":"IF('Relevés de  commissions'!D1082=\"AGI externes\",'Relevés de  commissions'!P1082,0)*1","v":0},0,""]
[null,null,null,null,null,null,null,null,null,null,null,null,{"$f":"IF('Relevés de  commissions'!D1083=\"AGI externes\",'Relevés de  commissions'!M1083,0)*1","v":0},{"$f":"IF('Relevés de  commissions'!D1083=\"AGI externes\",'Relevés de  commissions'!N1083,0)*1","v":0},{"$f":"IF('Relevés de  commissions'!D1083=\"AGI externes\",'Relevés de  commissions'!O1083,0)*1","v":0},{"$f":"IF('Relevés de  commissions'!D1083=\"AGI externes\",'Relevés de  commissions'!P1083,0)*1","v":0},0,""]
[null,null,null,null,null,null,null,null,null,null,null,null,{"$f":"IF('Relevés de  commissions'!D1084=\"AGI externes\",'Relevés de  commissions'!M1084,0)*1","v":0},{"$f":"IF('Relevés de  commissions'!D1084=\"AGI externes\",'Relevés de  commissions'!N1084,0)*1","v":0},{"$f":"IF('Relevés de  commissions'!D1084=\"AGI externes\",'Relevés de  commissions'!O1084,0)*1","v":0},{"$f":"IF('Relevés de  commissions'!D1084=\"AGI externes\",'Relevés de  commissions'!P1084,0)*1","v":0},0,""]
[null,null,null,null,null,null,null,null,null,null,null,null,{"$f":"IF('Relevés de  commissions'!D1085=\"AGI externes\",'Relevés de  commissions'!M1085,0)*1","v":0},{"$f":"IF('Relevés de  commissions'!D1085=\"AGI externes\",'Relevés de  commissions'!N1085,0)*1","v":0},{"$f":"IF('Relevés de  commissions'!D1085=\"AGI externes\",'Relevés de  commissions'!O1085,0)*1","v":0},{"$f":"IF('Relevés de  commissions'!D1085=\"AGI externes\",'Relevés de  commissions'!P1085,0)*1","v":0},0,""]
[null,null,null,null,null,null,null,null,null,null,null,null,{"$f":"IF('Relevés de  commissions'!D1086=\"AGI externes\",'Relevés de  commissions'!M1086,0)*1","v":0},{"$f":"IF('Relevés de  commissions'!D1086=\"AGI externes\",'Relevés de  commissions'!N1086,0)*1","v":0},{"$f":"IF('Relevés de  commissions'!D1086=\"AGI externes\",'Relevés de  commissions'!O1086,0)*1","v":0},{"$f":"IF('Relevés de  commissions'!D1086=\"AGI externes\",'Relevés de  commissions'!P1086,0)*1","v":0},0,""]
[null,null,null,null,null,null,null,null,null,null,null,null,{"$f":"IF('Relevés de  commissions'!D1087=\"AGI externes\",'Relevés de  commissions'!M1087,0)*1","v":0},{"$f":"IF('Relevés de  commissions'!D1087=\"AGI externes\",'Relevés de  commissions'!N1087,0)*1","v":0},{"$f":"IF('Relevés de  commissions'!D1087=\"AGI externes\",'Relevés de  commissions'!O1087,0)*1","v":0},{"$f":"IF('Relevés de  commissions'!D1087=\"AGI externes\",'Relevés de  commissions'!P1087,0)*1","v":0},0,""]
[null,null,null,null,null,null,null,null,null,null,null,null,{"$f":"IF('Relevés de  commissions'!D1088=\"AGI externes\",'Relevés de  commissions'!M1088,0)*1","v":0},{"$f":"IF('Relevés de  commissions'!D1088=\"AGI externes\",'Relevés de  commissions'!N1088,0)*1","v":0},{"$f":"IF('Relevés de  commissions'!D1088=\"AGI externes\",'Relevés de  commissions'!O1088,0)*1","v":0},{"$f":"IF('Relevés de  commissions'!D1088=\"AGI externes\",'Relevés de  commissions'!P1088,0)*1","v":0},0,""]
[null,null,null,null,null,null,null,null,null,null,null,null,{"$f":"IF('Relevés de  commissions'!D1089=\"AGI externes\",'Relevés de  commissions'!M1089,0)*1","v":0},{"$f":"IF('Relevés de  commissions'!D1089=\"AGI externes\",'Relevés de  commissions'!N1089,0)*1","v":0},{"$f":"IF('Relevés de  commissions'!D1089=\"AGI externes\",'Relevés de  commissions'!O1089,0)*1","v":0},{"$f":"IF('Relevés de  commissions'!D1089=\"AGI externes\",'Relevés de  commissions'!P1089,0)*1","v":0},0,""]
[null,null,null,null,null,null,null,null,null,null,null,null,{"$f":"IF('Relevés de  commissions'!D1090=\"AGI externes\",'Relevés de  commissions'!M1090,0)*1","v":0},{"$f":"IF('Relevés de  commissions'!D1090=\"AGI externes\",'Relevés de  commissions'!N1090,0)*1","v":0},{"$f":"IF('Relevés de  commissions'!D1090=\"AGI externes\",'Relevés de  commissions'!O1090,0)*1","v":0},{"$f":"IF('Relevés de  commissions'!D1090=\"AGI externes\",'Relevés de  commissions'!P1090,0)*1","v":0},0,""]
[null,null,null,null,null,null,null,null,null,null,null,null,{"$f":"IF('Relevés de  commissions'!D1091=\"AGI externes\",'Relevés de  commissions'!M1091,0)*1","v":0},{"$f":"IF('Relevés de  commissions'!D1091=\"AGI externes\",'Relevés de  commissions'!N1091,0)*1","v":0},{"$f":"IF('Relevés de  commissions'!D1091=\"AGI externes\",'Relevés de  commissions'!O1091,0)*1","v":0},{"$f":"IF('Relevés de  commissions'!D1091=\"AGI externes\",'Relevés de  commissions'!P1091,0)*1","v":0},{"$f":"IF(N1093=0,O1093,\"\")","v":0},{"$f":"IF(N1093=10,O1093,\"\")","v":""}]
[null,null,null,null,null,null,null,null,null,null,null,null,{"$f":"IF('Relevés de  commissions'!D1092=\"AGI externes\",'Relevés de  commissions'!M1092,0)*1","v":0},{"$f":"IF('Relevés de  commissions'!D1092=\"AGI externes\",'Relevés de  commissions'!N1092,0)*1","v":0},{"$f":"IF('Relevés de  commissions'!D1092=\"AGI externes\",'Relevés de  commissions'!O1092,0)*1","v":0},{"$f":"IF('Relevés de  commissions'!D1092=\"AGI externes\",'Relevés de  commissions'!P1092,0)*1","v":0},0,""]
[null,null,null,null,null,null,null,null,null,null,null,null,{"$f":"IF('Relevés de  commissions'!D1093=\"AGI externes\",'Relevés de  commissions'!M1093,0)*1","v":0},{"$f":"IF('Relevés de  commissions'!D1093=\"AGI externes\",'Relevés de  commissions'!N1093,0)*1","v":0},{"$f":"IF('Relevés de  commissions'!D1093=\"AGI externes\",'Relevés de  commissions'!O1093,0)*1","v":0},{"$f":"IF('Relevés de  commissions'!D1093=\"AGI externes\",'Relevés de  commissions'!P1093,0)*1","v":0},0,""]
[null,null,null,null,null,null,null,null,null,null,null,null,{"$f":"IF('Relevés de  commissions'!D1094=\"AGI externes\",'Relevés de  commissions'!M1094,0)*1","v":0},{"$f":"IF('Relevés de  commissions'!D1094=\"AGI externes\",'Relevés de  commissions'!N1094,0)*1","v":0},{"$f":"IF('Relevés de  commissions'!D1094=\"AGI externes\",'Relevés de  commissions'!O1094,0)*1","v":0},{"$f":"IF('Relevés de  commissions'!D1094=\"AGI externes\",'Relevés de  commissions'!P1094,0)*1","v":0},0,""]
[null,null,null,null,null,null,null,null,null,null,null,null,{"$f":"IF('Relevés de  commissions'!D1095=\"AGI externes\",'Relevés de  commissions'!M1095,0)*1","v":0},{"$f":"IF('Relevés de  commissions'!D1095=\"AGI externes\",'Relevés de  commissions'!N1095,0)*1","v":0},{"$f":"IF('Relevés de  commissions'!D1095=\"AGI externes\",'Relevés de  commissions'!O1095,0)*1","v":0},{"$f":"IF('Relevés de  commissions'!D1095=\"AGI externes\",'Relevés de  commissions'!P1095,0)*1","v":0},0,""]
[null,null,null,null,null,null,null,null,null,null,null,null,{"$f":"IF('Relevés de  commissions'!D1096=\"AGI externes\",'Relevés de  commissions'!M1096,0)*1","v":0},{"$f":"IF('Relevés de  commissions'!D1096=\"AGI externes\",'Relevés de  commissions'!N1096,0)*1","v":0},{"$f":"IF('Relevés de  commissions'!D1096=\"AGI externes\",'Relevés de  commissions'!O1096,0)*1","v":0},{"$f":"IF('Relevés de  commissions'!D1096=\"AGI externes\",'Relevés de  commissions'!P1096,0)*1","v":0},0,""]
[null,null,null,null,null,null,null,null,null,null,null,null,{"$f":"IF('Relevés de  commissions'!D1097=\"AGI externes\",'Relevés de  commissions'!M1097,0)*1","v":0},{"$f":"IF('Relevés de  commissions'!D1097=\"AGI externes\",'Relevés de  commissions'!N1097,0)*1","v":0},{"$f":"IF('Relevés de  commissions'!D1097=\"AGI externes\",'Relevés de  commissions'!O1097,0)*1","v":0},{"$f":"IF('Relevés de  commissions'!D1097=\"AGI externes\",'Relevés de  commissions'!P1097,0)*1","v":0},0,""]
[null,null,null,null,null,null,null,null,null,null,null,null,{"$f":"IF('Relevés de  commissions'!D1098=\"AGI externes\",'Relevés de  commissions'!M1098,0)*1","v":0},{"$f":"IF('Relevés de  commissions'!D1098=\"AGI externes\",'Relevés de  commissions'!N1098,0)*1","v":0},{"$f":"IF('Relevés de  commissions'!D1098=\"AGI externes\",'Relevés de  commissions'!O1098,0)*1","v":0},{"$f":"IF('Relevés de  commissions'!D1098=\"AGI externes\",'Relevés de  commissions'!P1098,0)*1","v":0},0,""]
[null,null,null,null,null,null,null,null,null,null,null,null,{"$f":"IF('Relevés de  commissions'!D1099=\"AGI externes\",'Relevés de  commissions'!M1099,0)*1","v":0},{"$f":"IF('Relevés de  commissions'!D1099=\"AGI externes\",'Relevés de  commissions'!N1099,0)*1","v":0},{"$f":"IF('Relevés de  commissions'!D1099=\"AGI externes\",'Relevés de  commissions'!O1099,0)*1","v":0},{"$f":"IF('Relevés de  commissions'!D1099=\"AGI externes\",'Relevés de  commissions'!P1099,0)*1","v":0},0,""]
[null,null,null,null,null,null,null,null,null,null,null,null,{"$f":"IF('Relevés de  commissions'!D1100=\"AGI externes\",'Relevés de  commissions'!M1100,0)*1","v":0},{"$f":"IF('Relevés de  commissions'!D1100=\"AGI externes\",'Relevés de  commissions'!N1100,0)*1","v":0},{"$f":"IF('Relevés de  commissions'!D1100=\"AGI externes\",'Relevés de  commissions'!O1100,0)*1","v":0},{"$f":"IF('Relevés de  commissions'!D1100=\"AGI externes\",'Relevés de  commissions'!P1100,0)*1","v":0},0,""]
[null,null,null,null,null,null,null,null,null,null,null,null,{"$f":"IF('Relevés de  commissions'!D1101=\"AGI externes\",'Relevés de  commissions'!M1101,0)*1","v":0},{"$f":"IF('Relevés de  commissions'!D1101=\"AGI externes\",'Relevés de  commissions'!N1101,0)*1","v":0},{"$f":"IF('Relevés de  commissions'!D1101=\"AGI externes\",'Relevés de  commissions'!O1101,0)*1","v":0},{"$f":"IF('Relevés de  commissions'!D1101=\"AGI externes\",'Relevés de  commissions'!P1101,0)*1","v":0},0,""]
[null,null,null,null,null,null,null,null,null,null,null,null,{"$f":"IF('Relevés de  commissions'!D1102=\"AGI externes\",'Relevés de  commissions'!M1102,0)*1","v":0},{"$f":"IF('Relevés de  commissions'!D1102=\"AGI externes\",'Relevés de  commissions'!N1102,0)*1","v":0},{"$f":"IF('Relevés de  commissions'!D1102=\"AGI externes\",'Relevés de  commissions'!O1102,0)*1","v":0},{"$f":"IF('Relevés de  commissions'!D1102=\"AGI externes\",'Relevés de  commissions'!P1102,0)*1","v":0},0,""]
[null,null,null,null,null,null,null,null,null,null,null,null,{"$f":"IF('Relevés de  commissions'!D1103=\"AGI externes\",'Relevés de  commissions'!M1103,0)*1","v":0},{"$f":"IF('Relevés de  commissions'!D1103=\"AGI externes\",'Relevés de  commissions'!N1103,0)*1","v":0},{"$f":"IF('Relevés de  commissions'!D1103=\"AGI externes\",'Relevés de  commissions'!O1103,0)*1","v":0},{"$f":"IF('Relevés de  commissions'!D1103=\"AGI externes\",'Relevés de  commissions'!P1103,0)*1","v":0},0,""]
[null,null,null,null,null,null,null,null,null,null,null,null,{"$f":"IF('Relevés de  commissions'!D1104=\"AGI externes\",'Relevés de  commissions'!M1104,0)*1","v":0},{"$f":"IF('Relevés de  commissions'!D1104=\"AGI externes\",'Relevés de  commissions'!N1104,0)*1","v":0},{"$f":"IF('Relevés de  commissions'!D1104=\"AGI externes\",'Relevés de  commissions'!O1104,0)*1","v":0},{"$f":"IF('Relevés de  commissions'!D1104=\"AGI externes\",'Relevés de  commissions'!P1104,0)*1","v":0},0,""]
[null,null,null,null,null,null,null,null,null,null,null,null,{"$f":"IF('Relevés de  commissions'!D1105=\"AGI externes\",'Relevés de  commissions'!M1105,0)*1","v":0},{"$f":"IF('Relevés de  commissions'!D1105=\"AGI externes\",'Relevés de  commissions'!N1105,0)*1","v":0},{"$f":"IF('Relevés de  commissions'!D1105=\"AGI externes\",'Relevés de  commissions'!O1105,0)*1","v":0},{"$f":"IF('Relevés de  commissions'!D1105=\"AGI externes\",'Relevés de  commissions'!P1105,0)*1","v":0},0,""]
[null,null,null,null,null,null,null,null,null,null,null,null,{"$f":"IF('Relevés de  commissions'!D1106=\"AGI externes\",'Relevés de  commissions'!M1106,0)*1","v":0},{"$f":"IF('Relevés de  commissions'!D1106=\"AGI externes\",'Relevés de  commissions'!N1106,0)*1","v":0},{"$f":"IF('Relevés de  commissions'!D1106=\"AGI externes\",'Relevés de  commissions'!O1106,0)*1","v":0},{"$f":"IF('Relevés de  commissions'!D1106=\"AGI externes\",'Relevés de  commissions'!P1106,0)*1","v":0},0,""]
[null,null,null,null,null,null,null,null,null,null,null,null,{"$f":"IF('Relevés de  commissions'!D1107=\"AGI externes\",'Relevés de  commissions'!M1107,0)*1","v":0},{"$f":"IF('Relevés de  commissions'!D1107=\"AGI externes\",'Relevés de  commissions'!N1107,0)*1","v":0},{"$f":"IF('Relevés de  commissions'!D1107=\"AGI externes\",'Relevés de  commissions'!O1107,0)*1","v":0},{"$f":"IF('Relevés de  commissions'!D1107=\"AGI externes\",'Relevés de  commissions'!P1107,0)*1","v":0},0,""]
[null,null,null,null,null,null,null,null,null,null,null,null,{"$f":"IF('Relevés de  commissions'!D1108=\"AGI externes\",'Relevés de  commissions'!M1108,0)*1","v":0},{"$f":"IF('Relevés de  commissions'!D1108=\"AGI externes\",'Relevés de  commissions'!N1108,0)*1","v":0},{"$f":"IF('Relevés de  commissions'!D1108=\"AGI externes\",'Relevés de  commissions'!O1108,0)*1","v":0},{"$f":"IF('Relevés de  commissions'!D1108=\"AGI externes\",'Relevés de  commissions'!P1108,0)*1","v":0},0,""]
[null,null,null,null,null,null,null,null,null,null,null,null,{"$f":"IF('Relevés de  commissions'!D1109=\"AGI externes\",'Relevés de  commissions'!M1109,0)*1","v":0},{"$f":"IF('Relevés de  commissions'!D1109=\"AGI externes\",'Relevés de  commissions'!N1109,0)*1","v":0},{"$f":"IF('Relevés de  commissions'!D1109=\"AGI externes\",'Relevés de  commissions'!O1109,0)*1","v":0},{"$f":"IF('Relevés de  commissions'!D1109=\"AGI externes\",'Relevés de  commissions'!P1109,0)*1","v":0},0,""]
[null,null,null,null,null,null,null,null,null,null,null,null,{"$f":"IF('Relevés de  commissions'!D1110=\"AGI externes\",'Relevés de  commissions'!M1110,0)*1","v":0},{"$f":"IF('Relevés de  commissions'!D1110=\"AGI externes\",'Relevés de  commissions'!N1110,0)*1","v":0},{"$f":"IF('Relevés de  commissions'!D1110=\"AGI externes\",'Relevés de  commissions'!O1110,0)*1","v":0},{"$f":"IF('Relevés de  commissions'!D1110=\"AGI externes\",'Relevés de  commissions'!P1110,0)*1","v":0},0,""]
[null,null,null,null,null,null,null,null,null,null,null,null,{"$f":"IF('Relevés de  commissions'!D1111=\"AGI externes\",'Relevés de  commissions'!M1111,0)*1","v":0},{"$f":"IF('Relevés de  commissions'!D1111=\"AGI externes\",'Relevés de  commissions'!N1111,0)*1","v":0},{"$f":"IF('Relevés de  commissions'!D1111=\"AGI externes\",'Relevés de  commissions'!O1111,0)*1","v":0},{"$f":"IF('Relevés de  commissions'!D1111=\"AGI externes\",'Relevés de  commissions'!P1111,0)*1","v":0},0,""]
[null,null,null,null,null,null,null,null,null,null,null,null,{"$f":"IF('Relevés de  commissions'!D1112=\"AGI externes\",'Relevés de  commissions'!M1112,0)*1","v":0},{"$f":"IF('Relevés de  commissions'!D1112=\"AGI externes\",'Relevés de  commissions'!N1112,0)*1","v":0},{"$f":"IF('Relevés de  commissions'!D1112=\"AGI externes\",'Relevés de  commissions'!O1112,0)*1","v":0},{"$f":"IF('Relevés de  commissions'!D1112=\"AGI externes\",'Relevés de  commissions'!P1112,0)*1","v":0},0,""]
[null,null,null,null,null,null,null,null,null,null,null,null,{"$f":"IF('Relevés de  commissions'!D1113=\"AGI externes\",'Relevés de  commissions'!M1113,0)*1","v":0},{"$f":"IF('Relevés de  commissions'!D1113=\"AGI externes\",'Relevés de  commissions'!N1113,0)*1","v":0},{"$f":"IF('Relevés de  commissions'!D1113=\"AGI externes\",'Relevés de  commissions'!O1113,0)*1","v":0},{"$f":"IF('Relevés de  commissions'!D1113=\"AGI externes\",'Relevés de  commissions'!P1113,0)*1","v":0},0,""]
[null,null,null,null,null,null,null,null,null,null,null,null,{"$f":"IF('Relevés de  commissions'!D1114=\"AGI externes\",'Relevés de  commissions'!M1114,0)*1","v":0},{"$f":"IF('Relevés de  commissions'!D1114=\"AGI externes\",'Relevés de  commissions'!N1114,0)*1","v":0},{"$f":"IF('Relevés de  commissions'!D1114=\"AGI externes\",'Relevés de  commissions'!O1114,0)*1","v":0},{"$f":"IF('Relevés de  commissions'!D1114=\"AGI externes\",'Relevés de  commissions'!P1114,0)*1","v":0},0,""]
[null,null,null,null,null,null,null,null,null,null,null,null,{"$f":"IF('Relevés de  commissions'!D1115=\"AGI externes\",'Relevés de  commissions'!M1115,0)*1","v":0},{"$f":"IF('Relevés de  commissions'!D1115=\"AGI externes\",'Relevés de  commissions'!N1115,0)*1","v":0},{"$f":"IF('Relevés de  commissions'!D1115=\"AGI externes\",'Relevés de  commissions'!O1115,0)*1","v":0},{"$f":"IF('Relevés de  commissions'!D1115=\"AGI externes\",'Relevés de  commissions'!P1115,0)*1","v":0},0,""]
[null,null,null,null,null,null,null,null,null,null,null,null,{"$f":"IF('Relevés de  commissions'!D1116=\"AGI externes\",'Relevés de  commissions'!M1116,0)*1","v":0},{"$f":"IF('Relevés de  commissions'!D1116=\"AGI externes\",'Relevés de  commissions'!N1116,0)*1","v":0},{"$f":"IF('Relevés de  commissions'!D1116=\"AGI externes\",'Relevés de  commissions'!O1116,0)*1","v":0},{"$f":"IF('Relevés de  commissions'!D1116=\"AGI externes\",'Relevés de  commissions'!P1116,0)*1","v":0},0,""]
[null,null,null,null,null,null,null,null,null,null,null,null,{"$f":"IF('Relevés de  commissions'!D1117=\"AGI externes\",'Relevés de  commissions'!M1117,0)*1","v":0},{"$f":"IF('Relevés de  commissions'!D1117=\"AGI externes\",'Relevés de  commissions'!N1117,0)*1","v":0},{"$f":"IF('Relevés de  commissions'!D1117=\"AGI externes\",'Relevés de  commissions'!O1117,0)*1","v":0},{"$f":"IF('Relevés de  commissions'!D1117=\"AGI externes\",'Relevés de  commissions'!P1117,0)*1","v":0},0,""]
[null,null,null,null,null,null,null,null,null,null,null,null,{"$f":"IF('Relevés de  commissions'!D1118=\"AGI externes\",'Relevés de  commissions'!M1118,0)*1","v":0},{"$f":"IF('Relevés de  commissions'!D1118=\"AGI externes\",'Relevés de  commissions'!N1118,0)*1","v":0},{"$f":"IF('Relevés de  commissions'!D1118=\"AGI externes\",'Relevés de  commissions'!O1118,0)*1","v":0},{"$f":"IF('Relevés de  commissions'!D1118=\"AGI externes\",'Relevés de  commissions'!P1118,0)*1","v":0},0,""]
[null,null,null,null,null,null,null,null,null,null,null,null,{"$f":"IF('Relevés de  commissions'!D1119=\"AGI externes\",'Relevés de  commissions'!M1119,0)*1","v":0},{"$f":"IF('Relevés de  commissions'!D1119=\"AGI externes\",'Relevés de  commissions'!N1119,0)*1","v":0},{"$f":"IF('Relevés de  commissions'!D1119=\"AGI externes\",'Relevés de  commissions'!O1119,0)*1","v":0},{"$f":"IF('Relevés de  commissions'!D1119=\"AGI externes\",'Relevés de  commissions'!P1119,0)*1","v":0},0,""]
[null,null,null,null,null,null,null,null,null,null,null,null,{"$f":"IF('Relevés de  commissions'!D1120=\"AGI externes\",'Relevés de  commissions'!M1120,0)*1","v":0},{"$f":"IF('Relevés de  commissions'!D1120=\"AGI externes\",'Relevés de  commissions'!N1120,0)*1","v":0},{"$f":"IF('Relevés de  commissions'!D1120=\"AGI externes\",'Relevés de  commissions'!O1120,0)*1","v":0},{"$f":"IF('Relevés de  commissions'!D1120=\"AGI externes\",'Relevés de  commissions'!P1120,0)*1","v":0},0,""]
[null,null,null,null,null,null,null,null,null,null,null,null,{"$f":"IF('Relevés de  commissions'!D1121=\"AGI externes\",'Relevés de  commissions'!M1121,0)*1","v":0},{"$f":"IF('Relevés de  commissions'!D1121=\"AGI externes\",'Relevés de  commissions'!N1121,0)*1","v":0},{"$f":"IF('Relevés de  commissions'!D1121=\"AGI externes\",'Relevés de  commissions'!O1121,0)*1","v":0},{"$f":"IF('Relevés de  commissions'!D1121=\"AGI externes\",'Relevés de  commissions'!P1121,0)*1","v":0},0,""]
[null,null,null,null,null,null,null,null,null,null,null,null,{"$f":"IF('Relevés de  commissions'!D1122=\"AGI externes\",'Relevés de  commissions'!M1122,0)*1","v":0},{"$f":"IF('Relevés de  commissions'!D1122=\"AGI externes\",'Relevés de  commissions'!N1122,0)*1","v":0},{"$f":"IF('Relevés de  commissions'!D1122=\"AGI externes\",'Relevés de  commissions'!O1122,0)*1","v":0},{"$f":"IF('Relevés de  commissions'!D1122=\"AGI externes\",'Relevés de  commissions'!P1122,0)*1","v":0},0,""]
[null,null,null,null,null,null,null,null,null,null,null,null,{"$f":"IF('Relevés de  commissions'!D1123=\"AGI externes\",'Relevés de  commissions'!M1123,0)*1","v":0},{"$f":"IF('Relevés de  commissions'!D1123=\"AGI externes\",'Relevés de  commissions'!N1123,0)*1","v":0},{"$f":"IF('Relevés de  commissions'!D1123=\"AGI externes\",'Relevés de  commissions'!O1123,0)*1","v":0},{"$f":"IF('Relevés de  commissions'!D1123=\"AGI externes\",'Relevés de  commissions'!P1123,0)*1","v":0},0,""]
[null,null,null,null,null,null,null,null,null,null,null,null,{"$f":"IF('Relevés de  commissions'!D1124=\"AGI externes\",'Relevés de  commissions'!M1124,0)*1","v":0},{"$f":"IF('Relevés de  commissions'!D1124=\"AGI externes\",'Relevés de  commissions'!N1124,0)*1","v":0},{"$f":"IF('Relevés de  commissions'!D1124=\"AGI externes\",'Relevés de  commissions'!O1124,0)*1","v":0},{"$f":"IF('Relevés de  commissions'!D1124=\"AGI externes\",'Relevés de  commissions'!P1124,0)*1","v":0},0,""]
[null,null,null,null,null,null,null,null,null,null,null,null,{"$f":"IF('Relevés de  commissions'!D1125=\"AGI externes\",'Relevés de  commissions'!M1125,0)*1","v":0},{"$f":"IF('Relevés de  commissions'!D1125=\"AGI externes\",'Relevés de  commissions'!N1125,0)*1","v":0},{"$f":"IF('Relevés de  commissions'!D1125=\"AGI externes\",'Relevés de  commissions'!O1125,0)*1","v":0},{"$f":"IF('Relevés de  commissions'!D1125=\"AGI externes\",'Relevés de  commissions'!P1125,0)*1","v":0},0,""]
[null,null,null,null,null,null,null,null,null,null,null,null,{"$f":"IF('Relevés de  commissions'!D1126=\"AGI externes\",'Relevés de  commissions'!M1126,0)*1","v":0},{"$f":"IF('Relevés de  commissions'!D1126=\"AGI externes\",'Relevés de  commissions'!N1126,0)*1","v":0},{"$f":"IF('Relevés de  commissions'!D1126=\"AGI externes\",'Relevés de  commissions'!O1126,0)*1","v":0},{"$f":"IF('Relevés de  commissions'!D1126=\"AGI externes\",'Relevés de  commissions'!P1126,0)*1","v":0},0,""]
[null,null,null,null,null,null,null,null,null,null,null,null,{"$f":"IF('Relevés de  commissions'!D1127=\"AGI externes\",'Relevés de  commissions'!M1127,0)*1","v":0},{"$f":"IF('Relevés de  commissions'!D1127=\"AGI externes\",'Relevés de  commissions'!N1127,0)*1","v":0},{"$f":"IF('Relevés de  commissions'!D1127=\"AGI externes\",'Relevés de  commissions'!O1127,0)*1","v":0},{"$f":"IF('Relevés de  commissions'!D1127=\"AGI externes\",'Relevés de  commissions'!P1127,0)*1","v":0},0,""]
[null,null,null,null,null,null,null,null,null,null,null,null,{"$f":"IF('Relevés de  commissions'!D1128=\"AGI externes\",'Relevés de  commissions'!M1128,0)*1","v":0},{"$f":"IF('Relevés de  commissions'!D1128=\"AGI externes\",'Relevés de  commissions'!N1128,0)*1","v":0},{"$f":"IF('Relevés de  commissions'!D1128=\"AGI externes\",'Relevés de  commissions'!O1128,0)*1","v":0},{"$f":"IF('Relevés de  commissions'!D1128=\"AGI externes\",'Relevés de  commissions'!P1128,0)*1","v":0},0,""]
[null,null,null,null,null,null,null,null,null,null,null,null,{"$f":"IF('Relevés de  commissions'!D1129=\"AGI externes\",'Relevés de  commissions'!M1129,0)*1","v":0},{"$f":"IF('Relevés de  commissions'!D1129=\"AGI externes\",'Relevés de  commissions'!N1129,0)*1","v":0},{"$f":"IF('Relevés de  commissions'!D1129=\"AGI externes\",'Relevés de  commissions'!O1129,0)*1","v":0},{"$f":"IF('Relevés de  commissions'!D1129=\"AGI externes\",'Relevés de  commissions'!P1129,0)*1","v":0},0,""]
[null,null,null,null,null,null,null,null,null,null,null,null,{"$f":"IF('Relevés de  commissions'!D1130=\"AGI externes\",'Relevés de  commissions'!M1130,0)*1","v":0},{"$f":"IF('Relevés de  commissions'!D1130=\"AGI externes\",'Relevés de  commissions'!N1130,0)*1","v":0},{"$f":"IF('Relevés de  commissions'!D1130=\"AGI externes\",'Relevés de  commissions'!O1130,0)*1","v":0},{"$f":"IF('Relevés de  commissions'!D1130=\"AGI externes\",'Relevés de  commissions'!P1130,0)*1","v":0},0,""]
[null,null,null,null,null,null,null,null,null,null,null,null,{"$f":"IF('Relevés de  commissions'!D1131=\"AGI externes\",'Relevés de  commissions'!M1131,0)*1","v":0},{"$f":"IF('Relevés de  commissions'!D1131=\"AGI externes\",'Relevés de  commissions'!N1131,0)*1","v":0},{"$f":"IF('Relevés de  commissions'!D1131=\"AGI externes\",'Relevés de  commissions'!O1131,0)*1","v":0},{"$f":"IF('Relevés de  commissions'!D1131=\"AGI externes\",'Relevés de  commissions'!P1131,0)*1","v":0},0,""]
[null,null,null,null,null,null,null,null,null,null,null,null,{"$f":"IF('Relevés de  commissions'!D1132=\"AGI externes\",'Relevés de  commissions'!M1132,0)*1","v":0},{"$f":"IF('Relevés de  commissions'!D1132=\"AGI externes\",'Relevés de  commissions'!N1132,0)*1","v":0},{"$f":"IF('Relevés de  commissions'!D1132=\"AGI externes\",'Relevés de  commissions'!O1132,0)*1","v":0},{"$f":"IF('Relevés de  commissions'!D1132=\"AGI externes\",'Relevés de  commissions'!P1132,0)*1","v":0},0,""]
[null,null,null,null,null,null,null,null,null,null,null,null,{"$f":"IF('Relevés de  commissions'!D1133=\"AGI externes\",'Relevés de  commissions'!M1133,0)*1","v":0},{"$f":"IF('Relevés de  commissions'!D1133=\"AGI externes\",'Relevés de  commissions'!N1133,0)*1","v":0},{"$f":"IF('Relevés de  commissions'!D1133=\"AGI externes\",'Relevés de  commissions'!O1133,0)*1","v":0},{"$f":"IF('Relevés de  commissions'!D1133=\"AGI externes\",'Relevés de  commissions'!P1133,0)*1","v":0},0,""]
[null,null,null,null,null,null,null,null,null,null,null,null,{"$f":"IF('Relevés de  commissions'!D1134=\"AGI externes\",'Relevés de  commissions'!M1134,0)*1","v":0},{"$f":"IF('Relevés de  commissions'!D1134=\"AGI externes\",'Relevés de  commissions'!N1134,0)*1","v":0},{"$f":"IF('Relevés de  commissions'!D1134=\"AGI externes\",'Relevés de  commissions'!O1134,0)*1","v":0},{"$f":"IF('Relevés de  commissions'!D1134=\"AGI externes\",'Relevés de  commissions'!P1134,0)*1","v":0},0,""]
[null,null,null,null,null,null,null,null,null,null,null,null,{"$f":"IF('Relevés de  commissions'!D1135=\"AGI externes\",'Relevés de  commissions'!M1135,0)*1","v":0},{"$f":"IF('Relevés de  commissions'!D1135=\"AGI externes\",'Relevés de  commissions'!N1135,0)*1","v":0},{"$f":"IF('Relevés de  commissions'!D1135=\"AGI externes\",'Relevés de  commissions'!O1135,0)*1","v":0},{"$f":"IF('Relevés de  commissions'!D1135=\"AGI externes\",'Relevés de  commissions'!P1135,0)*1","v":0},0,""]
[null,null,null,null,null,null,null,null,null,null,null,null,{"$f":"IF('Relevés de  commissions'!D1136=\"AGI externes\",'Relevés de  commissions'!M1136,0)*1","v":0},{"$f":"IF('Relevés de  commissions'!D1136=\"AGI externes\",'Relevés de  commissions'!N1136,0)*1","v":0},{"$f":"IF('Relevés de  commissions'!D1136=\"AGI externes\",'Relevés de  commissions'!O1136,0)*1","v":0},{"$f":"IF('Relevés de  commissions'!D1136=\"AGI externes\",'Relevés de  commissions'!P1136,0)*1","v":0},0,""]
[null,null,null,null,null,null,null,null,null,null,null,null,{"$f":"IF('Relevés de  commissions'!D1137=\"AGI externes\",'Relevés de  commissions'!M1137,0)*1","v":0},{"$f":"IF('Relevés de  commissions'!D1137=\"AGI externes\",'Relevés de  commissions'!N1137,0)*1","v":0},{"$f":"IF('Relevés de  commissions'!D1137=\"AGI externes\",'Relevés de  commissions'!O1137,0)*1","v":0},{"$f":"IF('Relevés de  commissions'!D1137=\"AGI externes\",'Relevés de  commissions'!P1137,0)*1","v":0},0,""]
[null,null,null,null,null,null,null,null,null,null,null,null,{"$f":"IF('Relevés de  commissions'!D1138=\"AGI externes\",'Relevés de  commissions'!M1138,0)*1","v":0},{"$f":"IF('Relevés de  commissions'!D1138=\"AGI externes\",'Relevés de  commissions'!N1138,0)*1","v":0},{"$f":"IF('Relevés de  commissions'!D1138=\"AGI externes\",'Relevés de  commissions'!O1138,0)*1","v":0},{"$f":"IF('Relevés de  commissions'!D1138=\"AGI externes\",'Relevés de  commissions'!P1138,0)*1","v":0},0,""]
[null,null,null,null,null,null,null,null,null,null,null,null,{"$f":"IF('Relevés de  commissions'!D1139=\"AGI externes\",'Relevés de  commissions'!M1139,0)*1","v":0},{"$f":"IF('Relevés de  commissions'!D1139=\"AGI externes\",'Relevés de  commissions'!N1139,0)*1","v":0},{"$f":"IF('Relevés de  commissions'!D1139=\"AGI externes\",'Relevés de  commissions'!O1139,0)*1","v":0},{"$f":"IF('Relevés de  commissions'!D1139=\"AGI externes\",'Relevés de  commissions'!P1139,0)*1","v":0},0,""]
[null,null,null,null,null,null,null,null,null,null,null,null,{"$f":"IF('Relevés de  commissions'!D1140=\"AGI externes\",'Relevés de  commissions'!M1140,0)*1","v":0},{"$f":"IF('Relevés de  commissions'!D1140=\"AGI externes\",'Relevés de  commissions'!N1140,0)*1","v":0},{"$f":"IF('Relevés de  commissions'!D1140=\"AGI externes\",'Relevés de  commissions'!O1140,0)*1","v":0},{"$f":"IF('Relevés de  commissions'!D1140=\"AGI externes\",'Relevés de  commissions'!P1140,0)*1","v":0},0,""]
[null,null,null,null,null,null,null,null,null,null,null,null,{"$f":"IF('Relevés de  commissions'!D1141=\"AGI externes\",'Relevés de  commissions'!M1141,0)*1","v":0},{"$f":"IF('Relevés de  commissions'!D1141=\"AGI externes\",'Relevés de  commissions'!N1141,0)*1","v":0},{"$f":"IF('Relevés de  commissions'!D1141=\"AGI externes\",'Relevés de  commissions'!O1141,0)*1","v":0},{"$f":"IF('Relevés de  commissions'!D1141=\"AGI externes\",'Relevés de  commissions'!P1141,0)*1","v":0},0,""]
[null,null,null,null,null,null,null,null,null,null,null,null,{"$f":"IF('Relevés de  commissions'!D1142=\"AGI externes\",'Relevés de  commissions'!M1142,0)*1","v":0},{"$f":"IF('Relevés de  commissions'!D1142=\"AGI externes\",'Relevés de  commissions'!N1142,0)*1","v":0},{"$f":"IF('Relevés de  commissions'!D1142=\"AGI externes\",'Relevés de  commissions'!O1142,0)*1","v":0},{"$f":"IF('Relevés de  commissions'!D1142=\"AGI externes\",'Relevés de  commissions'!P1142,0)*1","v":0},0,""]
[null,null,null,null,null,null,null,null,null,null,null,null,{"$f":"IF('Relevés de  commissions'!D1143=\"AGI externes\",'Relevés de  commissions'!M1143,0)*1","v":0},{"$f":"IF('Relevés de  commissions'!D1143=\"AGI externes\",'Relevés de  commissions'!N1143,0)*1","v":0},{"$f":"IF('Relevés de  commissions'!D1143=\"AGI externes\",'Relevés de  commissions'!O1143,0)*1","v":0},{"$f":"IF('Relevés de  commissions'!D1143=\"AGI externes\",'Relevés de  commissions'!P1143,0)*1","v":0},0,""]
[null,null,null,null,null,null,null,null,null,null,null,null,{"$f":"IF('Relevés de  commissions'!D1144=\"AGI externes\",'Relevés de  commissions'!M1144,0)*1","v":0},{"$f":"IF('Relevés de  commissions'!D1144=\"AGI externes\",'Relevés de  commissions'!N1144,0)*1","v":0},{"$f":"IF('Relevés de  commissions'!D1144=\"AGI externes\",'Relevés de  commissions'!O1144,0)*1","v":0},{"$f":"IF('Relevés de  commissions'!D1144=\"AGI externes\",'Relevés de  commissions'!P1144,0)*1","v":0},0,""]
[null,null,null,null,null,null,null,null,null,null,null,null,{"$f":"IF('Relevés de  commissions'!D1145=\"AGI externes\",'Relevés de  commissions'!M1145,0)*1","v":0},{"$f":"IF('Relevés de  commissions'!D1145=\"AGI externes\",'Relevés de  commissions'!N1145,0)*1","v":0},{"$f":"IF('Relevés de  commissions'!D1145=\"AGI externes\",'Relevés de  commissions'!O1145,0)*1","v":0},{"$f":"IF('Relevés de  commissions'!D1145=\"AGI externes\",'Relevés de  commissions'!P1145,0)*1","v":0},0,""]
[null,null,null,null,null,null,null,null,null,null,null,null,{"$f":"IF('Relevés de  commissions'!D1146=\"AGI externes\",'Relevés de  commissions'!M1146,0)*1","v":0},{"$f":"IF('Relevés de  commissions'!D1146=\"AGI externes\",'Relevés de  commissions'!N1146,0)*1","v":0},{"$f":"IF('Relevés de  commissions'!D1146=\"AGI externes\",'Relevés de  commissions'!O1146,0)*1","v":0},{"$f":"IF('Relevés de  commissions'!D1146=\"AGI externes\",'Relevés de  commissions'!P1146,0)*1","v":0},0,""]
[null,null,null,null,null,null,null,null,null,null,null,null,{"$f":"IF('Relevés de  commissions'!D1147=\"AGI externes\",'Relevés de  commissions'!M1147,0)*1","v":0},{"$f":"IF('Relevés de  commissions'!D1147=\"AGI externes\",'Relevés de  commissions'!N1147,0)*1","v":0},{"$f":"IF('Relevés de  commissions'!D1147=\"AGI externes\",'Relevés de  commissions'!O1147,0)*1","v":0},{"$f":"IF('Relevés de  commissions'!D1147=\"AGI externes\",'Relevés de  commissions'!P1147,0)*1","v":0},0,""]
[null,null,null,null,null,null,null,null,null,null,null,null,{"$f":"IF('Relevés de  commissions'!D1148=\"AGI externes\",'Relevés de  commissions'!M1148,0)*1","v":0},{"$f":"IF('Relevés de  commissions'!D1148=\"AGI externes\",'Relevés de  commissions'!N1148,0)*1","v":0},{"$f":"IF('Relevés de  commissions'!D1148=\"AGI externes\",'Relevés de  commissions'!O1148,0)*1","v":0},{"$f":"IF('Relevés de  commissions'!D1148=\"AGI externes\",'Relevés de  commissions'!P1148,0)*1","v":0},0,""]
[null,null,null,null,null,null,null,null,null,null,null,null,{"$f":"IF('Relevés de  commissions'!D1149=\"AGI externes\",'Relevés de  commissions'!M1149,0)*1","v":0},{"$f":"IF('Relevés de  commissions'!D1149=\"AGI externes\",'Relevés de  commissions'!N1149,0)*1","v":0},{"$f":"IF('Relevés de  commissions'!D1149=\"AGI externes\",'Relevés de  commissions'!O1149,0)*1","v":0},{"$f":"IF('Relevés de  commissions'!D1149=\"AGI externes\",'Relevés de  commissions'!P1149,0)*1","v":0},0,""]
[null,null,null,null,null,null,null,null,null,null,null,null,{"$f":"IF('Relevés de  commissions'!D1150=\"AGI externes\",'Relevés de  commissions'!M1150,0)*1","v":0},{"$f":"IF('Relevés de  commissions'!D1150=\"AGI externes\",'Relevés de  commissions'!N1150,0)*1","v":0},{"$f":"IF('Relevés de  commissions'!D1150=\"AGI externes\",'Relevés de  commissions'!O1150,0)*1","v":0},{"$f":"IF('Relevés de  commissions'!D1150=\"AGI externes\",'Relevés de  commissions'!P1150,0)*1","v":0},0,""]
[null,null,null,null,null,null,null,null,null,null,null,null,{"$f":"IF('Relevés de  commissions'!D1151=\"AGI externes\",'Relevés de  commissions'!M1151,0)*1","v":0},{"$f":"IF('Relevés de  commissions'!D1151=\"AGI externes\",'Relevés de  commissions'!N1151,0)*1","v":0},{"$f":"IF('Relevés de  commissions'!D1151=\"AGI externes\",'Relevés de  commissions'!O1151,0)*1","v":0},{"$f":"IF('Relevés de  commissions'!D1151=\"AGI externes\",'Relevés de  commissions'!P1151,0)*1","v":0},0,""]
[null,null,null,null,null,null,null,null,null,null,null,null,{"$f":"IF('Relevés de  commissions'!D1152=\"AGI externes\",'Relevés de  commissions'!M1152,0)*1","v":0},{"$f":"IF('Relevés de  commissions'!D1152=\"AGI externes\",'Relevés de  commissions'!N1152,0)*1","v":0},{"$f":"IF('Relevés de  commissions'!D1152=\"AGI externes\",'Relevés de  commissions'!O1152,0)*1","v":0},{"$f":"IF('Relevés de  commissions'!D1152=\"AGI externes\",'Relevés de  commissions'!P1152,0)*1","v":0},0,""]
[null,null,null,null,null,null,null,null,null,null,null,null,{"$f":"IF('Relevés de  commissions'!D1153=\"AGI externes\",'Relevés de  commissions'!M1153,0)*1","v":0},{"$f":"IF('Relevés de  commissions'!D1153=\"AGI externes\",'Relevés de  commissions'!N1153,0)*1","v":0},{"$f":"IF('Relevés de  commissions'!D1153=\"AGI externes\",'Relevés de  commissions'!O1153,0)*1","v":0},{"$f":"IF('Relevés de  commissions'!D1153=\"AGI externes\",'Relevés de  commissions'!P1153,0)*1","v":0},0,""]
[null,null,null,null,null,null,null,null,null,null,null,null,{"$f":"IF('Relevés de  commissions'!D1154=\"AGI externes\",'Relevés de  commissions'!M1154,0)*1","v":0},{"$f":"IF('Relevés de  commissions'!D1154=\"AGI externes\",'Relevés de  commissions'!N1154,0)*1","v":0},{"$f":"IF('Relevés de  commissions'!D1154=\"AGI externes\",'Relevés de  commissions'!O1154,0)*1","v":0},{"$f":"IF('Relevés de  commissions'!D1154=\"AGI externes\",'Relevés de  commissions'!P1154,0)*1","v":0},0,""]
[null,null,null,null,null,null,null,null,null,null,null,null,{"$f":"IF('Relevés de  commissions'!D1155=\"AGI externes\",'Relevés de  commissions'!M1155,0)*1","v":0},{"$f":"IF('Relevés de  commissions'!D1155=\"AGI externes\",'Relevés de  commissions'!N1155,0)*1","v":0},{"$f":"IF('Relevés de  commissions'!D1155=\"AGI externes\",'Relevés de  commissions'!O1155,0)*1","v":0},{"$f":"IF('Relevés de  commissions'!D1155=\"AGI externes\",'Relevés de  commissions'!P1155,0)*1","v":0},{"$f":"IF(N1157=0,O1157,\"\")","v":0},{"$f":"IF(N1157=10,O1157,\"\")","v":""}]
[null,null,null,null,null,null,null,null,null,null,null,null,{"$f":"IF('Relevés de  commissions'!D1156=\"AGI externes\",'Relevés de  commissions'!M1156,0)*1","v":0},{"$f":"IF('Relevés de  commissions'!D1156=\"AGI externes\",'Relevés de  commissions'!N1156,0)*1","v":0},{"$f":"IF('Relevés de  commissions'!D1156=\"AGI externes\",'Relevés de  commissions'!O1156,0)*1","v":0},{"$f":"IF('Relevés de  commissions'!D1156=\"AGI externes\",'Relevés de  commissions'!P1156,0)*1","v":0},0,""]
[null,null,null,null,null,null,null,null,null,null,null,null,{"$f":"IF('Relevés de  commissions'!D1157=\"AGI externes\",'Relevés de  commissions'!M1157,0)*1","v":0},{"$f":"IF('Relevés de  commissions'!D1157=\"AGI externes\",'Relevés de  commissions'!N1157,0)*1","v":0},{"$f":"IF('Relevés de  commissions'!D1157=\"AGI externes\",'Relevés de  commissions'!O1157,0)*1","v":0},{"$f":"IF('Relevés de  commissions'!D1157=\"AGI externes\",'Relevés de  commissions'!P1157,0)*1","v":0},0,""]
[null,null,null,null,null,null,null,null,null,null,null,null,{"$f":"IF('Relevés de  commissions'!D1158=\"AGI externes\",'Relevés de  commissions'!M1158,0)*1","v":0},{"$f":"IF('Relevés de  commissions'!D1158=\"AGI externes\",'Relevés de  commissions'!N1158,0)*1","v":0},{"$f":"IF('Relevés de  commissions'!D1158=\"AGI externes\",'Relevés de  commissions'!O1158,0)*1","v":0},{"$f":"IF('Relevés de  commissions'!D1158=\"AGI externes\",'Relevés de  commissions'!P1158,0)*1","v":0},0,""]
[null,null,null,null,null,null,null,null,null,null,null,null,{"$f":"IF('Relevés de  commissions'!D1159=\"AGI externes\",'Relevés de  commissions'!M1159,0)*1","v":0},{"$f":"IF('Relevés de  commissions'!D1159=\"AGI externes\",'Relevés de  commissions'!N1159,0)*1","v":0},{"$f":"IF('Relevés de  commissions'!D1159=\"AGI externes\",'Relevés de  commissions'!O1159,0)*1","v":0},{"$f":"IF('Relevés de  commissions'!D1159=\"AGI externes\",'Relevés de  commissions'!P1159,0)*1","v":0},0,""]
[null,null,null,null,null,null,null,null,null,null,null,null,{"$f":"IF('Relevés de  commissions'!D1160=\"AGI externes\",'Relevés de  commissions'!M1160,0)*1","v":0},{"$f":"IF('Relevés de  commissions'!D1160=\"AGI externes\",'Relevés de  commissions'!N1160,0)*1","v":0},{"$f":"IF('Relevés de  commissions'!D1160=\"AGI externes\",'Relevés de  commissions'!O1160,0)*1","v":0},{"$f":"IF('Relevés de  commissions'!D1160=\"AGI externes\",'Relevés de  commissions'!P1160,0)*1","v":0},0,""]
[null,null,null,null,null,null,null,null,null,null,null,null,{"$f":"IF('Relevés de  commissions'!D1161=\"AGI externes\",'Relevés de  commissions'!M1161,0)*1","v":0},{"$f":"IF('Relevés de  commissions'!D1161=\"AGI externes\",'Relevés de  commissions'!N1161,0)*1","v":0},{"$f":"IF('Relevés de  commissions'!D1161=\"AGI externes\",'Relevés de  commissions'!O1161,0)*1","v":0},{"$f":"IF('Relevés de  commissions'!D1161=\"AGI externes\",'Relevés de  commissions'!P1161,0)*1","v":0},0,""]
[null,null,null,null,null,null,null,null,null,null,null,null,{"$f":"IF('Relevés de  commissions'!D1162=\"AGI externes\",'Relevés de  commissions'!M1162,0)*1","v":0},{"$f":"IF('Relevés de  commissions'!D1162=\"AGI externes\",'Relevés de  commissions'!N1162,0)*1","v":0},{"$f":"IF('Relevés de  commissions'!D1162=\"AGI externes\",'Relevés de  commissions'!O1162,0)*1","v":0},{"$f":"IF('Relevés de  commissions'!D1162=\"AGI externes\",'Relevés de  commissions'!P1162,0)*1","v":0},0,""]
[null,null,null,null,null,null,null,null,null,null,null,null,{"$f":"IF('Relevés de  commissions'!D1163=\"AGI externes\",'Relevés de  commissions'!M1163,0)*1","v":0},{"$f":"IF('Relevés de  commissions'!D1163=\"AGI externes\",'Relevés de  commissions'!N1163,0)*1","v":0},{"$f":"IF('Relevés de  commissions'!D1163=\"AGI externes\",'Relevés de  commissions'!O1163,0)*1","v":0},{"$f":"IF('Relevés de  commissions'!D1163=\"AGI externes\",'Relevés de  commissions'!P1163,0)*1","v":0},0,""]
[null,null,null,null,null,null,null,null,null,null,null,null,{"$f":"IF('Relevés de  commissions'!D1164=\"AGI externes\",'Relevés de  commissions'!M1164,0)*1","v":0},{"$f":"IF('Relevés de  commissions'!D1164=\"AGI externes\",'Relevés de  commissions'!N1164,0)*1","v":0},{"$f":"IF('Relevés de  commissions'!D1164=\"AGI externes\",'Relevés de  commissions'!O1164,0)*1","v":0},{"$f":"IF('Relevés de  commissions'!D1164=\"AGI externes\",'Relevés de  commissions'!P1164,0)*1","v":0},0,""]
[null,null,null,null,null,null,null,null,null,null,null,null,{"$f":"IF('Relevés de  commissions'!D1165=\"AGI externes\",'Relevés de  commissions'!M1165,0)*1","v":0},{"$f":"IF('Relevés de  commissions'!D1165=\"AGI externes\",'Relevés de  commissions'!N1165,0)*1","v":0},{"$f":"IF('Relevés de  commissions'!D1165=\"AGI externes\",'Relevés de  commissions'!O1165,0)*1","v":0},{"$f":"IF('Relevés de  commissions'!D1165=\"AGI externes\",'Relevés de  commissions'!P1165,0)*1","v":0},0,""]
[null,null,null,null,null,null,null,null,null,null,null,null,{"$f":"IF('Relevés de  commissions'!D1166=\"AGI externes\",'Relevés de  commissions'!M1166,0)*1","v":0},{"$f":"IF('Relevés de  commissions'!D1166=\"AGI externes\",'Relevés de  commissions'!N1166,0)*1","v":0},{"$f":"IF('Relevés de  commissions'!D1166=\"AGI externes\",'Relevés de  commissions'!O1166,0)*1","v":0},{"$f":"IF('Relevés de  commissions'!D1166=\"AGI externes\",'Relevés de  commissions'!P1166,0)*1","v":0},0,""]
[null,null,null,null,null,null,null,null,null,null,null,null,{"$f":"IF('Relevés de  commissions'!D1167=\"AGI externes\",'Relevés de  commissions'!M1167,0)*1","v":0},{"$f":"IF('Relevés de  commissions'!D1167=\"AGI externes\",'Relevés de  commissions'!N1167,0)*1","v":0},{"$f":"IF('Relevés de  commissions'!D1167=\"AGI externes\",'Relevés de  commissions'!O1167,0)*1","v":0},{"$f":"IF('Relevés de  commissions'!D1167=\"AGI externes\",'Relevés de  commissions'!P1167,0)*1","v":0},0,""]
[null,null,null,null,null,null,null,null,null,null,null,null,{"$f":"IF('Relevés de  commissions'!D1168=\"AGI externes\",'Relevés de  commissions'!M1168,0)*1","v":0},{"$f":"IF('Relevés de  commissions'!D1168=\"AGI externes\",'Relevés de  commissions'!N1168,0)*1","v":0},{"$f":"IF('Relevés de  commissions'!D1168=\"AGI externes\",'Relevés de  commissions'!O1168,0)*1","v":0},{"$f":"IF('Relevés de  commissions'!D1168=\"AGI externes\",'Relevés de  commissions'!P1168,0)*1","v":0},0,""]
[null,null,null,null,null,null,null,null,null,null,null,null,{"$f":"IF('Relevés de  commissions'!D1169=\"AGI externes\",'Relevés de  commissions'!M1169,0)*1","v":0},{"$f":"IF('Relevés de  commissions'!D1169=\"AGI externes\",'Relevés de  commissions'!N1169,0)*1","v":0},{"$f":"IF('Relevés de  commissions'!D1169=\"AGI externes\",'Relevés de  commissions'!O1169,0)*1","v":0},{"$f":"IF('Relevés de  commissions'!D1169=\"AGI externes\",'Relevés de  commissions'!P1169,0)*1","v":0},0,""]
[null,null,null,null,null,null,null,null,null,null,null,null,{"$f":"IF('Relevés de  commissions'!D1170=\"AGI externes\",'Relevés de  commissions'!M1170,0)*1","v":0},{"$f":"IF('Relevés de  commissions'!D1170=\"AGI externes\",'Relevés de  commissions'!N1170,0)*1","v":0},{"$f":"IF('Relevés de  commissions'!D1170=\"AGI externes\",'Relevés de  commissions'!O1170,0)*1","v":0},{"$f":"IF('Relevés de  commissions'!D1170=\"AGI externes\",'Relevés de  commissions'!P1170,0)*1","v":0},0,""]
[null,null,null,null,null,null,null,null,null,null,null,null,{"$f":"IF('Relevés de  commissions'!D1171=\"AGI externes\",'Relevés de  commissions'!M1171,0)*1","v":0},{"$f":"IF('Relevés de  commissions'!D1171=\"AGI externes\",'Relevés de  commissions'!N1171,0)*1","v":0},{"$f":"IF('Relevés de  commissions'!D1171=\"AGI externes\",'Relevés de  commissions'!O1171,0)*1","v":0},{"$f":"IF('Relevés de  commissions'!D1171=\"AGI externes\",'Relevés de  commissions'!P1171,0)*1","v":0},0,""]
[null,null,null,null,null,null,null,null,null,null,null,null,{"$f":"IF('Relevés de  commissions'!D1172=\"AGI externes\",'Relevés de  commissions'!M1172,0)*1","v":0},{"$f":"IF('Relevés de  commissions'!D1172=\"AGI externes\",'Relevés de  commissions'!N1172,0)*1","v":0},{"$f":"IF('Relevés de  commissions'!D1172=\"AGI externes\",'Relevés de  commissions'!O1172,0)*1","v":0},{"$f":"IF('Relevés de  commissions'!D1172=\"AGI externes\",'Relevés de  commissions'!P1172,0)*1","v":0},0,""]
[null,null,null,null,null,null,null,null,null,null,null,null,{"$f":"IF('Relevés de  commissions'!D1173=\"AGI externes\",'Relevés de  commissions'!M1173,0)*1","v":0},{"$f":"IF('Relevés de  commissions'!D1173=\"AGI externes\",'Relevés de  commissions'!N1173,0)*1","v":0},{"$f":"IF('Relevés de  commissions'!D1173=\"AGI externes\",'Relevés de  commissions'!O1173,0)*1","v":0},{"$f":"IF('Relevés de  commissions'!D1173=\"AGI externes\",'Relevés de  commissions'!P1173,0)*1","v":0},0,""]
[null,null,null,null,null,null,null,null,null,null,null,null,{"$f":"IF('Relevés de  commissions'!D1174=\"AGI externes\",'Relevés de  commissions'!M1174,0)*1","v":0},{"$f":"IF('Relevés de  commissions'!D1174=\"AGI externes\",'Relevés de  commissions'!N1174,0)*1","v":0},{"$f":"IF('Relevés de  commissions'!D1174=\"AGI externes\",'Relevés de  commissions'!O1174,0)*1","v":0},{"$f":"IF('Relevés de  commissions'!D1174=\"AGI externes\",'Relevés de  commissions'!P1174,0)*1","v":0},0,""]
[null,null,null,null,null,null,null,null,null,null,null,null,{"$f":"IF('Relevés de  commissions'!D1175=\"AGI externes\",'Relevés de  commissions'!M1175,0)*1","v":0},{"$f":"IF('Relevés de  commissions'!D1175=\"AGI externes\",'Relevés de  commissions'!N1175,0)*1","v":0},{"$f":"IF('Relevés de  commissions'!D1175=\"AGI externes\",'Relevés de  commissions'!O1175,0)*1","v":0},{"$f":"IF('Relevés de  commissions'!D1175=\"AGI externes\",'Relevés de  commissions'!P1175,0)*1","v":0},0,""]
[null,null,null,null,null,null,null,null,null,null,null,null,{"$f":"IF('Relevés de  commissions'!D1176=\"AGI externes\",'Relevés de  commissions'!M1176,0)*1","v":0},{"$f":"IF('Relevés de  commissions'!D1176=\"AGI externes\",'Relevés de  commissions'!N1176,0)*1","v":0},{"$f":"IF('Relevés de  commissions'!D1176=\"AGI externes\",'Relevés de  commissions'!O1176,0)*1","v":0},{"$f":"IF('Relevés de  commissions'!D1176=\"AGI externes\",'Relevés de  commissions'!P1176,0)*1","v":0},0,""]
[null,null,null,null,null,null,null,null,null,null,null,null,{"$f":"IF('Relevés de  commissions'!D1177=\"AGI externes\",'Relevés de  commissions'!M1177,0)*1","v":0},{"$f":"IF('Relevés de  commissions'!D1177=\"AGI externes\",'Relevés de  commissions'!N1177,0)*1","v":0},{"$f":"IF('Relevés de  commissions'!D1177=\"AGI externes\",'Relevés de  commissions'!O1177,0)*1","v":0},{"$f":"IF('Relevés de  commissions'!D1177=\"AGI externes\",'Relevés de  commissions'!P1177,0)*1","v":0},0,""]
[null,null,null,null,null,null,null,null,null,null,null,null,{"$f":"IF('Relevés de  commissions'!D1178=\"AGI externes\",'Relevés de  commissions'!M1178,0)*1","v":0},{"$f":"IF('Relevés de  commissions'!D1178=\"AGI externes\",'Relevés de  commissions'!N1178,0)*1","v":0},{"$f":"IF('Relevés de  commissions'!D1178=\"AGI externes\",'Relevés de  commissions'!O1178,0)*1","v":0},{"$f":"IF('Relevés de  commissions'!D1178=\"AGI externes\",'Relevés de  commissions'!P1178,0)*1","v":0},0,""]
[null,null,null,null,null,null,null,null,null,null,null,null,{"$f":"IF('Relevés de  commissions'!D1179=\"AGI externes\",'Relevés de  commissions'!M1179,0)*1","v":0},{"$f":"IF('Relevés de  commissions'!D1179=\"AGI externes\",'Relevés de  commissions'!N1179,0)*1","v":0},{"$f":"IF('Relevés de  commissions'!D1179=\"AGI externes\",'Relevés de  commissions'!O1179,0)*1","v":0},{"$f":"IF('Relevés de  commissions'!D1179=\"AGI externes\",'Relevés de  commissions'!P1179,0)*1","v":0},0,""]
[null,null,null,null,null,null,null,null,null,null,null,null,{"$f":"IF('Relevés de  commissions'!D1180=\"AGI externes\",'Relevés de  commissions'!M1180,0)*1","v":0},{"$f":"IF('Relevés de  commissions'!D1180=\"AGI externes\",'Relevés de  commissions'!N1180,0)*1","v":0},{"$f":"IF('Relevés de  commissions'!D1180=\"AGI externes\",'Relevés de  commissions'!O1180,0)*1","v":0},{"$f":"IF('Relevés de  commissions'!D1180=\"AGI externes\",'Relevés de  commissions'!P1180,0)*1","v":0},0,""]
[null,null,null,null,null,null,null,null,null,null,null,null,{"$f":"IF('Relevés de  commissions'!D1181=\"AGI externes\",'Relevés de  commissions'!M1181,0)*1","v":0},{"$f":"IF('Relevés de  commissions'!D1181=\"AGI externes\",'Relevés de  commissions'!N1181,0)*1","v":0},{"$f":"IF('Relevés de  commissions'!D1181=\"AGI externes\",'Relevés de  commissions'!O1181,0)*1","v":0},{"$f":"IF('Relevés de  commissions'!D1181=\"AGI externes\",'Relevés de  commissions'!P1181,0)*1","v":0},0,""]
[null,null,null,null,null,null,null,null,null,null,null,null,{"$f":"IF('Relevés de  commissions'!D1182=\"AGI externes\",'Relevés de  commissions'!M1182,0)*1","v":0},{"$f":"IF('Relevés de  commissions'!D1182=\"AGI externes\",'Relevés de  commissions'!N1182,0)*1","v":0},{"$f":"IF('Relevés de  commissions'!D1182=\"AGI externes\",'Relevés de  commissions'!O1182,0)*1","v":0},{"$f":"IF('Relevés de  commissions'!D1182=\"AGI externes\",'Relevés de  commissions'!P1182,0)*1","v":0},0,""]
[null,null,null,null,null,null,null,null,null,null,null,null,{"$f":"IF('Relevés de  commissions'!D1183=\"AGI externes\",'Relevés de  commissions'!M1183,0)*1","v":0},{"$f":"IF('Relevés de  commissions'!D1183=\"AGI externes\",'Relevés de  commissions'!N1183,0)*1","v":0},{"$f":"IF('Relevés de  commissions'!D1183=\"AGI externes\",'Relevés de  commissions'!O1183,0)*1","v":0},{"$f":"IF('Relevés de  commissions'!D1183=\"AGI externes\",'Relevés de  commissions'!P1183,0)*1","v":0},0,""]
[null,null,null,null,null,null,null,null,null,null,null,null,{"$f":"IF('Relevés de  commissions'!D1184=\"AGI externes\",'Relevés de  commissions'!M1184,0)*1","v":0},{"$f":"IF('Relevés de  commissions'!D1184=\"AGI externes\",'Relevés de  commissions'!N1184,0)*1","v":0},{"$f":"IF('Relevés de  commissions'!D1184=\"AGI externes\",'Relevés de  commissions'!O1184,0)*1","v":0},{"$f":"IF('Relevés de  commissions'!D1184=\"AGI externes\",'Relevés de  commissions'!P1184,0)*1","v":0},0,""]
[null,null,null,null,null,null,null,null,null,null,null,null,{"$f":"IF('Relevés de  commissions'!D1185=\"AGI externes\",'Relevés de  commissions'!M1185,0)*1","v":0},{"$f":"IF('Relevés de  commissions'!D1185=\"AGI externes\",'Relevés de  commissions'!N1185,0)*1","v":0},{"$f":"IF('Relevés de  commissions'!D1185=\"AGI externes\",'Relevés de  commissions'!O1185,0)*1","v":0},{"$f":"IF('Relevés de  commissions'!D1185=\"AGI externes\",'Relevés de  commissions'!P1185,0)*1","v":0},0,""]
[null,null,null,null,null,null,null,null,null,null,null,null,{"$f":"IF('Relevés de  commissions'!D1186=\"AGI externes\",'Relevés de  commissions'!M1186,0)*1","v":0},{"$f":"IF('Relevés de  commissions'!D1186=\"AGI externes\",'Relevés de  commissions'!N1186,0)*1","v":0},{"$f":"IF('Relevés de  commissions'!D1186=\"AGI externes\",'Relevés de  commissions'!O1186,0)*1","v":0},{"$f":"IF('Relevés de  commissions'!D1186=\"AGI externes\",'Relevés de  commissions'!P1186,0)*1","v":0},0,""]
[null,null,null,null,null,null,null,null,null,null,null,null,{"$f":"IF('Relevés de  commissions'!D1187=\"AGI externes\",'Relevés de  commissions'!M1187,0)*1","v":0},{"$f":"IF('Relevés de  commissions'!D1187=\"AGI externes\",'Relevés de  commissions'!N1187,0)*1","v":0},{"$f":"IF('Relevés de  commissions'!D1187=\"AGI externes\",'Relevés de  commissions'!O1187,0)*1","v":0},{"$f":"IF('Relevés de  commissions'!D1187=\"AGI externes\",'Relevés de  commissions'!P1187,0)*1","v":0},0,""]
[null,null,null,null,null,null,null,null,null,null,null,null,{"$f":"IF('Relevés de  commissions'!D1188=\"AGI externes\",'Relevés de  commissions'!M1188,0)*1","v":0},{"$f":"IF('Relevés de  commissions'!D1188=\"AGI externes\",'Relevés de  commissions'!N1188,0)*1","v":0},{"$f":"IF('Relevés de  commissions'!D1188=\"AGI externes\",'Relevés de  commissions'!O1188,0)*1","v":0},{"$f":"IF('Relevés de  commissions'!D1188=\"AGI externes\",'Relevés de  commissions'!P1188,0)*1","v":0},0,""]
[null,null,null,null,null,null,null,null,null,null,null,null,{"$f":"IF('Relevés de  commissions'!D1189=\"AGI externes\",'Relevés de  commissions'!M1189,0)*1","v":0},{"$f":"IF('Relevés de  commissions'!D1189=\"AGI externes\",'Relevés de  commissions'!N1189,0)*1","v":0},{"$f":"IF('Relevés de  commissions'!D1189=\"AGI externes\",'Relevés de  commissions'!O1189,0)*1","v":0},{"$f":"IF('Relevés de  commissions'!D1189=\"AGI externes\",'Relevés de  commissions'!P1189,0)*1","v":0},0,""]
[null,null,null,null,null,null,null,null,null,null,null,null,{"$f":"IF('Relevés de  commissions'!D1190=\"AGI externes\",'Relevés de  commissions'!M1190,0)*1","v":0},{"$f":"IF('Relevés de  commissions'!D1190=\"AGI externes\",'Relevés de  commissions'!N1190,0)*1","v":0},{"$f":"IF('Relevés de  commissions'!D1190=\"AGI externes\",'Relevés de  commissions'!O1190,0)*1","v":0},{"$f":"IF('Relevés de  commissions'!D1190=\"AGI externes\",'Relevés de  commissions'!P1190,0)*1","v":0},0,""]
[null,null,null,null,null,null,null,null,null,null,null,null,{"$f":"IF('Relevés de  commissions'!D1191=\"AGI externes\",'Relevés de  commissions'!M1191,0)*1","v":0},{"$f":"IF('Relevés de  commissions'!D1191=\"AGI externes\",'Relevés de  commissions'!N1191,0)*1","v":0},{"$f":"IF('Relevés de  commissions'!D1191=\"AGI externes\",'Relevés de  commissions'!O1191,0)*1","v":0},{"$f":"IF('Relevés de  commissions'!D1191=\"AGI externes\",'Relevés de  commissions'!P1191,0)*1","v":0},0,""]
[null,null,null,null,null,null,null,null,null,null,null,null,{"$f":"IF('Relevés de  commissions'!D1192=\"AGI externes\",'Relevés de  commissions'!M1192,0)*1","v":0},{"$f":"IF('Relevés de  commissions'!D1192=\"AGI externes\",'Relevés de  commissions'!N1192,0)*1","v":0},{"$f":"IF('Relevés de  commissions'!D1192=\"AGI externes\",'Relevés de  commissions'!O1192,0)*1","v":0},{"$f":"IF('Relevés de  commissions'!D1192=\"AGI externes\",'Relevés de  commissions'!P1192,0)*1","v":0},0,""]
[null,null,null,null,null,null,null,null,null,null,null,null,{"$f":"IF('Relevés de  commissions'!D1193=\"AGI externes\",'Relevés de  commissions'!M1193,0)*1","v":0},{"$f":"IF('Relevés de  commissions'!D1193=\"AGI externes\",'Relevés de  commissions'!N1193,0)*1","v":0},{"$f":"IF('Relevés de  commissions'!D1193=\"AGI externes\",'Relevés de  commissions'!O1193,0)*1","v":0},{"$f":"IF('Relevés de  commissions'!D1193=\"AGI externes\",'Relevés de  commissions'!P1193,0)*1","v":0},0,""]
[null,null,null,null,null,null,null,null,null,null,null,null,{"$f":"IF('Relevés de  commissions'!D1194=\"AGI externes\",'Relevés de  commissions'!M1194,0)*1","v":0},{"$f":"IF('Relevés de  commissions'!D1194=\"AGI externes\",'Relevés de  commissions'!N1194,0)*1","v":0},{"$f":"IF('Relevés de  commissions'!D1194=\"AGI externes\",'Relevés de  commissions'!O1194,0)*1","v":0},{"$f":"IF('Relevés de  commissions'!D1194=\"AGI externes\",'Relevés de  commissions'!P1194,0)*1","v":0},0,""]
[null,null,null,null,null,null,null,null,null,null,null,null,{"$f":"IF('Relevés de  commissions'!D1195=\"AGI externes\",'Relevés de  commissions'!M1195,0)*1","v":0},{"$f":"IF('Relevés de  commissions'!D1195=\"AGI externes\",'Relevés de  commissions'!N1195,0)*1","v":0},{"$f":"IF('Relevés de  commissions'!D1195=\"AGI externes\",'Relevés de  commissions'!O1195,0)*1","v":0},{"$f":"IF('Relevés de  commissions'!D1195=\"AGI externes\",'Relevés de  commissions'!P1195,0)*1","v":0},0,""]
[null,null,null,null,null,null,null,null,null,null,null,null,{"$f":"IF('Relevés de  commissions'!D1196=\"AGI externes\",'Relevés de  commissions'!M1196,0)*1","v":0},{"$f":"IF('Relevés de  commissions'!D1196=\"AGI externes\",'Relevés de  commissions'!N1196,0)*1","v":0},{"$f":"IF('Relevés de  commissions'!D1196=\"AGI externes\",'Relevés de  commissions'!O1196,0)*1","v":0},{"$f":"IF('Relevés de  commissions'!D1196=\"AGI externes\",'Relevés de  commissions'!P1196,0)*1","v":0},0,""]
[null,null,null,null,null,null,null,null,null,null,null,null,{"$f":"IF('Relevés de  commissions'!D1197=\"AGI externes\",'Relevés de  commissions'!M1197,0)*1","v":0},{"$f":"IF('Relevés de  commissions'!D1197=\"AGI externes\",'Relevés de  commissions'!N1197,0)*1","v":0},{"$f":"IF('Relevés de  commissions'!D1197=\"AGI externes\",'Relevés de  commissions'!O1197,0)*1","v":0},{"$f":"IF('Relevés de  commissions'!D1197=\"AGI externes\",'Relevés de  commissions'!P1197,0)*1","v":0},0,""]
[null,null,null,null,null,null,null,null,null,null,null,null,{"$f":"IF('Relevés de  commissions'!D1198=\"AGI externes\",'Relevés de  commissions'!M1198,0)*1","v":0},{"$f":"IF('Relevés de  commissions'!D1198=\"AGI externes\",'Relevés de  commissions'!N1198,0)*1","v":0},{"$f":"IF('Relevés de  commissions'!D1198=\"AGI externes\",'Relevés de  commissions'!O1198,0)*1","v":0},{"$f":"IF('Relevés de  commissions'!D1198=\"AGI externes\",'Relevés de  commissions'!P1198,0)*1","v":0},0,""]
[null,null,null,null,null,null,null,null,null,null,null,null,{"$f":"IF('Relevés de  commissions'!D1199=\"AGI externes\",'Relevés de  commissions'!M1199,0)*1","v":0},{"$f":"IF('Relevés de  commissions'!D1199=\"AGI externes\",'Relevés de  commissions'!N1199,0)*1","v":0},{"$f":"IF('Relevés de  commissions'!D1199=\"AGI externes\",'Relevés de  commissions'!O1199,0)*1","v":0},{"$f":"IF('Relevés de  commissions'!D1199=\"AGI externes\",'Relevés de  commissions'!P1199,0)*1","v":0},0,""]
[null,null,null,null,null,null,null,null,null,null,null,null,{"$f":"IF('Relevés de  commissions'!D1200=\"AGI externes\",'Relevés de  commissions'!M1200,0)*1","v":0},{"$f":"IF('Relevés de  commissions'!D1200=\"AGI externes\",'Relevés de  commissions'!N1200,0)*1","v":0},{"$f":"IF('Relevés de  commissions'!D1200=\"AGI externes\",'Relevés de  commissions'!O1200,0)*1","v":0},{"$f":"IF('Relevés de  commissions'!D1200=\"AGI externes\",'Relevés de  commissions'!P1200,0)*1","v":0},0,""]
[null,null,null,null,null,null,null,null,null,null,null,null,{"$f":"IF('Relevés de  commissions'!D1201=\"AGI externes\",'Relevés de  commissions'!M1201,0)*1","v":0},{"$f":"IF('Relevés de  commissions'!D1201=\"AGI externes\",'Relevés de  commissions'!N1201,0)*1","v":0},{"$f":"IF('Relevés de  commissions'!D1201=\"AGI externes\",'Relevés de  commissions'!O1201,0)*1","v":0},{"$f":"IF('Relevés de  commissions'!D1201=\"AGI externes\",'Relevés de  commissions'!P1201,0)*1","v":0},0,""]
[null,null,null,null,null,null,null,null,null,null,null,null,{"$f":"IF('Relevés de  commissions'!D1202=\"AGI externes\",'Relevés de  commissions'!M1202,0)*1","v":0},{"$f":"IF('Relevés de  commissions'!D1202=\"AGI externes\",'Relevés de  commissions'!N1202,0)*1","v":0},{"$f":"IF('Relevés de  commissions'!D1202=\"AGI externes\",'Relevés de  commissions'!O1202,0)*1","v":0},{"$f":"IF('Relevés de  commissions'!D1202=\"AGI externes\",'Relevés de  commissions'!P1202,0)*1","v":0},0,""]
[null,null,null,null,null,null,null,null,null,null,null,null,{"$f":"IF('Relevés de  commissions'!D1203=\"AGI externes\",'Relevés de  commissions'!M1203,0)*1","v":0},{"$f":"IF('Relevés de  commissions'!D1203=\"AGI externes\",'Relevés de  commissions'!N1203,0)*1","v":0},{"$f":"IF('Relevés de  commissions'!D1203=\"AGI externes\",'Relevés de  commissions'!O1203,0)*1","v":0},{"$f":"IF('Relevés de  commissions'!D1203=\"AGI externes\",'Relevés de  commissions'!P1203,0)*1","v":0},0,""]
[null,null,null,null,null,null,null,null,null,null,null,null,{"$f":"IF('Relevés de  commissions'!D1204=\"AGI externes\",'Relevés de  commissions'!M1204,0)*1","v":0},{"$f":"IF('Relevés de  commissions'!D1204=\"AGI externes\",'Relevés de  commissions'!N1204,0)*1","v":0},{"$f":"IF('Relevés de  commissions'!D1204=\"AGI externes\",'Relevés de  commissions'!O1204,0)*1","v":0},{"$f":"IF('Relevés de  commissions'!D1204=\"AGI externes\",'Relevés de  commissions'!P1204,0)*1","v":0},0,""]
[null,null,null,null,null,null,null,null,null,null,null,null,{"$f":"IF('Relevés de  commissions'!D1205=\"AGI externes\",'Relevés de  commissions'!M1205,0)*1","v":0},{"$f":"IF('Relevés de  commissions'!D1205=\"AGI externes\",'Relevés de  commissions'!N1205,0)*1","v":0},{"$f":"IF('Relevés de  commissions'!D1205=\"AGI externes\",'Relevés de  commissions'!O1205,0)*1","v":0},{"$f":"IF('Relevés de  commissions'!D1205=\"AGI externes\",'Relevés de  commissions'!P1205,0)*1","v":0},0,""]
[null,null,null,null,null,null,null,null,null,null,null,null,{"$f":"IF('Relevés de  commissions'!D1206=\"AGI externes\",'Relevés de  commissions'!M1206,0)*1","v":0},{"$f":"IF('Relevés de  commissions'!D1206=\"AGI externes\",'Relevés de  commissions'!N1206,0)*1","v":0},{"$f":"IF('Relevés de  commissions'!D1206=\"AGI externes\",'Relevés de  commissions'!O1206,0)*1","v":0},{"$f":"IF('Relevés de  commissions'!D1206=\"AGI externes\",'Relevés de  commissions'!P1206,0)*1","v":0},0,""]
[null,null,null,null,null,null,null,null,null,null,null,null,{"$f":"IF('Relevés de  commissions'!D1207=\"AGI externes\",'Relevés de  commissions'!M1207,0)*1","v":0},{"$f":"IF('Relevés de  commissions'!D1207=\"AGI externes\",'Relevés de  commissions'!N1207,0)*1","v":0},{"$f":"IF('Relevés de  commissions'!D1207=\"AGI externes\",'Relevés de  commissions'!O1207,0)*1","v":0},{"$f":"IF('Relevés de  commissions'!D1207=\"AGI externes\",'Relevés de  commissions'!P1207,0)*1","v":0},0,""]
[null,null,null,null,null,null,null,null,null,null,null,null,{"$f":"IF('Relevés de  commissions'!D1208=\"AGI externes\",'Relevés de  commissions'!M1208,0)*1","v":0},{"$f":"IF('Relevés de  commissions'!D1208=\"AGI externes\",'Relevés de  commissions'!N1208,0)*1","v":0},{"$f":"IF('Relevés de  commissions'!D1208=\"AGI externes\",'Relevés de  commissions'!O1208,0)*1","v":0},{"$f":"IF('Relevés de  commissions'!D1208=\"AGI externes\",'Relevés de  commissions'!P1208,0)*1","v":0},0,""]
[null,null,null,null,null,null,null,null,null,null,null,null,{"$f":"IF('Relevés de  commissions'!D1209=\"AGI externes\",'Relevés de  commissions'!M1209,0)*1","v":0},{"$f":"IF('Relevés de  commissions'!D1209=\"AGI externes\",'Relevés de  commissions'!N1209,0)*1","v":0},{"$f":"IF('Relevés de  commissions'!D1209=\"AGI externes\",'Relevés de  commissions'!O1209,0)*1","v":0},{"$f":"IF('Relevés de  commissions'!D1209=\"AGI externes\",'Relevés de  commissions'!P1209,0)*1","v":0},0,""]
[null,null,null,null,null,null,null,null,null,null,null,null,{"$f":"IF('Relevés de  commissions'!D1210=\"AGI externes\",'Relevés de  commissions'!M1210,0)*1","v":0},{"$f":"IF('Relevés de  commissions'!D1210=\"AGI externes\",'Relevés de  commissions'!N1210,0)*1","v":0},{"$f":"IF('Relevés de  commissions'!D1210=\"AGI externes\",'Relevés de  commissions'!O1210,0)*1","v":0},{"$f":"IF('Relevés de  commissions'!D1210=\"AGI externes\",'Relevés de  commissions'!P1210,0)*1","v":0},0,""]
[null,null,null,null,null,null,null,null,null,null,null,null,{"$f":"IF('Relevés de  commissions'!D1211=\"AGI externes\",'Relevés de  commissions'!M1211,0)*1","v":0},{"$f":"IF('Relevés de  commissions'!D1211=\"AGI externes\",'Relevés de  commissions'!N1211,0)*1","v":0},{"$f":"IF('Relevés de  commissions'!D1211=\"AGI externes\",'Relevés de  commissions'!O1211,0)*1","v":0},{"$f":"IF('Relevés de  commissions'!D1211=\"AGI externes\",'Relevés de  commissions'!P1211,0)*1","v":0},0,""]
[null,null,null,null,null,null,null,null,null,null,null,null,{"$f":"IF('Relevés de  commissions'!D1212=\"AGI externes\",'Relevés de  commissions'!M1212,0)*1","v":0},{"$f":"IF('Relevés de  commissions'!D1212=\"AGI externes\",'Relevés de  commissions'!N1212,0)*1","v":0},{"$f":"IF('Relevés de  commissions'!D1212=\"AGI externes\",'Relevés de  commissions'!O1212,0)*1","v":0},{"$f":"IF('Relevés de  commissions'!D1212=\"AGI externes\",'Relevés de  commissions'!P1212,0)*1","v":0},0,""]
[null,null,null,null,null,null,null,null,null,null,null,null,{"$f":"IF('Relevés de  commissions'!D1213=\"AGI externes\",'Relevés de  commissions'!M1213,0)*1","v":0},{"$f":"IF('Relevés de  commissions'!D1213=\"AGI externes\",'Relevés de  commissions'!N1213,0)*1","v":0},{"$f":"IF('Relevés de  commissions'!D1213=\"AGI externes\",'Relevés de  commissions'!O1213,0)*1","v":0},{"$f":"IF('Relevés de  commissions'!D1213=\"AGI externes\",'Relevés de  commissions'!P1213,0)*1","v":0},0,""]
[null,null,null,null,null,null,null,null,null,null,null,null,{"$f":"IF('Relevés de  commissions'!D1214=\"AGI externes\",'Relevés de  commissions'!M1214,0)*1","v":0},{"$f":"IF('Relevés de  commissions'!D1214=\"AGI externes\",'Relevés de  commissions'!N1214,0)*1","v":0},{"$f":"IF('Relevés de  commissions'!D1214=\"AGI externes\",'Relevés de  commissions'!O1214,0)*1","v":0},{"$f":"IF('Relevés de  commissions'!D1214=\"AGI externes\",'Relevés de  commissions'!P1214,0)*1","v":0},0,""]
[null,null,null,null,null,null,null,null,null,null,null,null,{"$f":"IF('Relevés de  commissions'!D1215=\"AGI externes\",'Relevés de  commissions'!M1215,0)*1","v":0},{"$f":"IF('Relevés de  commissions'!D1215=\"AGI externes\",'Relevés de  commissions'!N1215,0)*1","v":0},{"$f":"IF('Relevés de  commissions'!D1215=\"AGI externes\",'Relevés de  commissions'!O1215,0)*1","v":0},{"$f":"IF('Relevés de  commissions'!D1215=\"AGI externes\",'Relevés de  commissions'!P1215,0)*1","v":0},0,""]
[null,null,null,null,null,null,null,null,null,null,null,null,{"$f":"IF('Relevés de  commissions'!D1216=\"AGI externes\",'Relevés de  commissions'!M1216,0)*1","v":0},{"$f":"IF('Relevés de  commissions'!D1216=\"AGI externes\",'Relevés de  commissions'!N1216,0)*1","v":0},{"$f":"IF('Relevés de  commissions'!D1216=\"AGI externes\",'Relevés de  commissions'!O1216,0)*1","v":0},{"$f":"IF('Relevés de  commissions'!D1216=\"AGI externes\",'Relevés de  commissions'!P1216,0)*1","v":0},0,""]
[null,null,null,null,null,null,null,null,null,null,null,null,{"$f":"IF('Relevés de  commissions'!D1217=\"AGI externes\",'Relevés de  commissions'!M1217,0)*1","v":0},{"$f":"IF('Relevés de  commissions'!D1217=\"AGI externes\",'Relevés de  commissions'!N1217,0)*1","v":0},{"$f":"IF('Relevés de  commissions'!D1217=\"AGI externes\",'Relevés de  commissions'!O1217,0)*1","v":0},{"$f":"IF('Relevés de  commissions'!D1217=\"AGI externes\",'Relevés de  commissions'!P1217,0)*1","v":0},0,""]
[null,null,null,null,null,null,null,null,null,null,null,null,{"$f":"IF('Relevés de  commissions'!D1218=\"AGI externes\",'Relevés de  commissions'!M1218,0)*1","v":0},{"$f":"IF('Relevés de  commissions'!D1218=\"AGI externes\",'Relevés de  commissions'!N1218,0)*1","v":0},{"$f":"IF('Relevés de  commissions'!D1218=\"AGI externes\",'Relevés de  commissions'!O1218,0)*1","v":0},{"$f":"IF('Relevés de  commissions'!D1218=\"AGI externes\",'Relevés de  commissions'!P1218,0)*1","v":0},0,""]
[null,null,null,null,null,null,null,null,null,null,null,null,{"$f":"IF('Relevés de  commissions'!D1219=\"AGI externes\",'Relevés de  commissions'!M1219,0)*1","v":0},{"$f":"IF('Relevés de  commissions'!D1219=\"AGI externes\",'Relevés de  commissions'!N1219,0)*1","v":0},{"$f":"IF('Relevés de  commissions'!D1219=\"AGI externes\",'Relevés de  commissions'!O1219,0)*1","v":0},{"$f":"IF('Relevés de  commissions'!D1219=\"AGI externes\",'Relevés de  commissions'!P1219,0)*1","v":0},{"$f":"IF(N1221=0,O1221,\"\")","v":0},{"$f":"IF(N1221=10,O1221,\"\")","v":""}]
[null,null,null,null,null,null,null,null,null,null,null,null,{"$f":"IF('Relevés de  commissions'!D1220=\"AGI externes\",'Relevés de  commissions'!M1220,0)*1","v":0},{"$f":"IF('Relevés de  commissions'!D1220=\"AGI externes\",'Relevés de  commissions'!N1220,0)*1","v":0},{"$f":"IF('Relevés de  commissions'!D1220=\"AGI externes\",'Relevés de  commissions'!O1220,0)*1","v":0},{"$f":"IF('Relevés de  commissions'!D1220=\"AGI externes\",'Relevés de  commissions'!P1220,0)*1","v":0},0,""]
[null,null,null,null,null,null,null,null,null,null,null,null,{"$f":"IF('Relevés de  commissions'!D1221=\"AGI externes\",'Relevés de  commissions'!M1221,0)*1","v":0},{"$f":"IF('Relevés de  commissions'!D1221=\"AGI externes\",'Relevés de  commissions'!N1221,0)*1","v":0},{"$f":"IF('Relevés de  commissions'!D1221=\"AGI externes\",'Relevés de  commissions'!O1221,0)*1","v":0},{"$f":"IF('Relevés de  commissions'!D1221=\"AGI externes\",'Relevés de  commissions'!P1221,0)*1","v":0},0,""]
[null,null,null,null,null,null,null,null,null,null,null,null,{"$f":"IF('Relevés de  commissions'!D1222=\"AGI externes\",'Relevés de  commissions'!M1222,0)*1","v":0},{"$f":"IF('Relevés de  commissions'!D1222=\"AGI externes\",'Relevés de  commissions'!N1222,0)*1","v":0},{"$f":"IF('Relevés de  commissions'!D1222=\"AGI externes\",'Relevés de  commissions'!O1222,0)*1","v":0},{"$f":"IF('Relevés de  commissions'!D1222=\"AGI externes\",'Relevés de  commissions'!P1222,0)*1","v":0},0,""]
[null,null,null,null,null,null,null,null,null,null,null,null,{"$f":"IF('Relevés de  commissions'!D1223=\"AGI externes\",'Relevés de  commissions'!M1223,0)*1","v":0},{"$f":"IF('Relevés de  commissions'!D1223=\"AGI externes\",'Relevés de  commissions'!N1223,0)*1","v":0},{"$f":"IF('Relevés de  commissions'!D1223=\"AGI externes\",'Relevés de  commissions'!O1223,0)*1","v":0},{"$f":"IF('Relevés de  commissions'!D1223=\"AGI externes\",'Relevés de  commissions'!P1223,0)*1","v":0},0,""]
[null,null,null,null,null,null,null,null,null,null,null,null,{"$f":"IF('Relevés de  commissions'!D1224=\"AGI externes\",'Relevés de  commissions'!M1224,0)*1","v":0},{"$f":"IF('Relevés de  commissions'!D1224=\"AGI externes\",'Relevés de  commissions'!N1224,0)*1","v":0},{"$f":"IF('Relevés de  commissions'!D1224=\"AGI externes\",'Relevés de  commissions'!O1224,0)*1","v":0},{"$f":"IF('Relevés de  commissions'!D1224=\"AGI externes\",'Relevés de  commissions'!P1224,0)*1","v":0},0,""]
[null,null,null,null,null,null,null,null,null,null,null,null,{"$f":"IF('Relevés de  commissions'!D1225=\"AGI externes\",'Relevés de  commissions'!M1225,0)*1","v":0},{"$f":"IF('Relevés de  commissions'!D1225=\"AGI externes\",'Relevés de  commissions'!N1225,0)*1","v":0},{"$f":"IF('Relevés de  commissions'!D1225=\"AGI externes\",'Relevés de  commissions'!O1225,0)*1","v":0},{"$f":"IF('Relevés de  commissions'!D1225=\"AGI externes\",'Relevés de  commissions'!P1225,0)*1","v":0},0,""]
[null,null,null,null,null,null,null,null,null,null,null,null,{"$f":"IF('Relevés de  commissions'!D1226=\"AGI externes\",'Relevés de  commissions'!M1226,0)*1","v":0},{"$f":"IF('Relevés de  commissions'!D1226=\"AGI externes\",'Relevés de  commissions'!N1226,0)*1","v":0},{"$f":"IF('Relevés de  commissions'!D1226=\"AGI externes\",'Relevés de  commissions'!O1226,0)*1","v":0},{"$f":"IF('Relevés de  commissions'!D1226=\"AGI externes\",'Relevés de  commissions'!P1226,0)*1","v":0},0,""]
[null,null,null,null,null,null,null,null,null,null,null,null,{"$f":"IF('Relevés de  commissions'!D1227=\"AGI externes\",'Relevés de  commissions'!M1227,0)*1","v":0},{"$f":"IF('Relevés de  commissions'!D1227=\"AGI externes\",'Relevés de  commissions'!N1227,0)*1","v":0},{"$f":"IF('Relevés de  commissions'!D1227=\"AGI externes\",'Relevés de  commissions'!O1227,0)*1","v":0},{"$f":"IF('Relevés de  commissions'!D1227=\"AGI externes\",'Relevés de  commissions'!P1227,0)*1","v":0},0,""]
[null,null,null,null,null,null,null,null,null,null,null,null,{"$f":"IF('Relevés de  commissions'!D1228=\"AGI externes\",'Relevés de  commissions'!M1228,0)*1","v":0},{"$f":"IF('Relevés de  commissions'!D1228=\"AGI externes\",'Relevés de  commissions'!N1228,0)*1","v":0},{"$f":"IF('Relevés de  commissions'!D1228=\"AGI externes\",'Relevés de  commissions'!O1228,0)*1","v":0},{"$f":"IF('Relevés de  commissions'!D1228=\"AGI externes\",'Relevés de  commissions'!P1228,0)*1","v":0},0,""]
[null,null,null,null,null,null,null,null,null,null,null,null,{"$f":"IF('Relevés de  commissions'!D1229=\"AGI externes\",'Relevés de  commissions'!M1229,0)*1","v":0},{"$f":"IF('Relevés de  commissions'!D1229=\"AGI externes\",'Relevés de  commissions'!N1229,0)*1","v":0},{"$f":"IF('Relevés de  commissions'!D1229=\"AGI externes\",'Relevés de  commissions'!O1229,0)*1","v":0},{"$f":"IF('Relevés de  commissions'!D1229=\"AGI externes\",'Relevés de  commissions'!P1229,0)*1","v":0},0,""]
[null,null,null,null,null,null,null,null,null,null,null,null,{"$f":"IF('Relevés de  commissions'!D1230=\"AGI externes\",'Relevés de  commissions'!M1230,0)*1","v":0},{"$f":"IF('Relevés de  commissions'!D1230=\"AGI externes\",'Relevés de  commissions'!N1230,0)*1","v":0},{"$f":"IF('Relevés de  commissions'!D1230=\"AGI externes\",'Relevés de  commissions'!O1230,0)*1","v":0},{"$f":"IF('Relevés de  commissions'!D1230=\"AGI externes\",'Relevés de  commissions'!P1230,0)*1","v":0},0,""]
[null,null,null,null,null,null,null,null,null,null,null,null,{"$f":"IF('Relevés de  commissions'!D1231=\"AGI externes\",'Relevés de  commissions'!M1231,0)*1","v":0},{"$f":"IF('Relevés de  commissions'!D1231=\"AGI externes\",'Relevés de  commissions'!N1231,0)*1","v":0},{"$f":"IF('Relevés de  commissions'!D1231=\"AGI externes\",'Relevés de  commissions'!O1231,0)*1","v":0},{"$f":"IF('Relevés de  commissions'!D1231=\"AGI externes\",'Relevés de  commissions'!P1231,0)*1","v":0},0,""]
[null,null,null,null,null,null,null,null,null,null,null,null,{"$f":"IF('Relevés de  commissions'!D1232=\"AGI externes\",'Relevés de  commissions'!M1232,0)*1","v":0},{"$f":"IF('Relevés de  commissions'!D1232=\"AGI externes\",'Relevés de  commissions'!N1232,0)*1","v":0},{"$f":"IF('Relevés de  commissions'!D1232=\"AGI externes\",'Relevés de  commissions'!O1232,0)*1","v":0},{"$f":"IF('Relevés de  commissions'!D1232=\"AGI externes\",'Relevés de  commissions'!P1232,0)*1","v":0},0,""]
[null,null,null,null,null,null,null,null,null,null,null,null,{"$f":"IF('Relevés de  commissions'!D1233=\"AGI externes\",'Relevés de  commissions'!M1233,0)*1","v":0},{"$f":"IF('Relevés de  commissions'!D1233=\"AGI externes\",'Relevés de  commissions'!N1233,0)*1","v":0},{"$f":"IF('Relevés de  commissions'!D1233=\"AGI externes\",'Relevés de  commissions'!O1233,0)*1","v":0},{"$f":"IF('Relevés de  commissions'!D1233=\"AGI externes\",'Relevés de  commissions'!P1233,0)*1","v":0},0,""]
[null,null,null,null,null,null,null,null,null,null,null,null,{"$f":"IF('Relevés de  commissions'!D1234=\"AGI externes\",'Relevés de  commissions'!M1234,0)*1","v":0},{"$f":"IF('Relevés de  commissions'!D1234=\"AGI externes\",'Relevés de  commissions'!N1234,0)*1","v":0},{"$f":"IF('Relevés de  commissions'!D1234=\"AGI externes\",'Relevés de  commissions'!O1234,0)*1","v":0},{"$f":"IF('Relevés de  commissions'!D1234=\"AGI externes\",'Relevés de  commissions'!P1234,0)*1","v":0},0,""]
[null,null,null,null,null,null,null,null,null,null,null,null,{"$f":"IF('Relevés de  commissions'!D1235=\"AGI externes\",'Relevés de  commissions'!M1235,0)*1","v":0},{"$f":"IF('Relevés de  commissions'!D1235=\"AGI externes\",'Relevés de  commissions'!N1235,0)*1","v":0},{"$f":"IF('Relevés de  commissions'!D1235=\"AGI externes\",'Relevés de  commissions'!O1235,0)*1","v":0},{"$f":"IF('Relevés de  commissions'!D1235=\"AGI externes\",'Relevés de  commissions'!P1235,0)*1","v":0},0,""]
[null,null,null,null,null,null,null,null,null,null,null,null,{"$f":"IF('Relevés de  commissions'!D1236=\"AGI externes\",'Relevés de  commissions'!M1236,0)*1","v":0},{"$f":"IF('Relevés de  commissions'!D1236=\"AGI externes\",'Relevés de  commissions'!N1236,0)*1","v":0},{"$f":"IF('Relevés de  commissions'!D1236=\"AGI externes\",'Relevés de  commissions'!O1236,0)*1","v":0},{"$f":"IF('Relevés de  commissions'!D1236=\"AGI externes\",'Relevés de  commissions'!P1236,0)*1","v":0},0,""]
[null,null,null,null,null,null,null,null,null,null,null,null,{"$f":"IF('Relevés de  commissions'!D1237=\"AGI externes\",'Relevés de  commissions'!M1237,0)*1","v":0},{"$f":"IF('Relevés de  commissions'!D1237=\"AGI externes\",'Relevés de  commissions'!N1237,0)*1","v":0},{"$f":"IF('Relevés de  commissions'!D1237=\"AGI externes\",'Relevés de  commissions'!O1237,0)*1","v":0},{"$f":"IF('Relevés de  commissions'!D1237=\"AGI externes\",'Relevés de  commissions'!P1237,0)*1","v":0},0,""]
[null,null,null,null,null,null,null,null,null,null,null,null,{"$f":"IF('Relevés de  commissions'!D1238=\"AGI externes\",'Relevés de  commissions'!M1238,0)*1","v":0},{"$f":"IF('Relevés de  commissions'!D1238=\"AGI externes\",'Relevés de  commissions'!N1238,0)*1","v":0},{"$f":"IF('Relevés de  commissions'!D1238=\"AGI externes\",'Relevés de  commissions'!O1238,0)*1","v":0},{"$f":"IF('Relevés de  commissions'!D1238=\"AGI externes\",'Relevés de  commissions'!P1238,0)*1","v":0},0,""]
[null,null,null,null,null,null,null,null,null,null,null,null,{"$f":"IF('Relevés de  commissions'!D1239=\"AGI externes\",'Relevés de  commissions'!M1239,0)*1","v":0},{"$f":"IF('Relevés de  commissions'!D1239=\"AGI externes\",'Relevés de  commissions'!N1239,0)*1","v":0},{"$f":"IF('Relevés de  commissions'!D1239=\"AGI externes\",'Relevés de  commissions'!O1239,0)*1","v":0},{"$f":"IF('Relevés de  commissions'!D1239=\"AGI externes\",'Relevés de  commissions'!P1239,0)*1","v":0},0,""]
[null,null,null,null,null,null,null,null,null,null,null,null,{"$f":"IF('Relevés de  commissions'!D1240=\"AGI externes\",'Relevés de  commissions'!M1240,0)*1","v":0},{"$f":"IF('Relevés de  commissions'!D1240=\"AGI externes\",'Relevés de  commissions'!N1240,0)*1","v":0},{"$f":"IF('Relevés de  commissions'!D1240=\"AGI externes\",'Relevés de  commissions'!O1240,0)*1","v":0},{"$f":"IF('Relevés de  commissions'!D1240=\"AGI externes\",'Relevés de  commissions'!P1240,0)*1","v":0},0,""]
[null,null,null,null,null,null,null,null,null,null,null,null,{"$f":"IF('Relevés de  commissions'!D1241=\"AGI externes\",'Relevés de  commissions'!M1241,0)*1","v":0},{"$f":"IF('Relevés de  commissions'!D1241=\"AGI externes\",'Relevés de  commissions'!N1241,0)*1","v":0},{"$f":"IF('Relevés de  commissions'!D1241=\"AGI externes\",'Relevés de  commissions'!O1241,0)*1","v":0},{"$f":"IF('Relevés de  commissions'!D1241=\"AGI externes\",'Relevés de  commissions'!P1241,0)*1","v":0},0,""]
[null,null,null,null,null,null,null,null,null,null,null,null,{"$f":"IF('Relevés de  commissions'!D1242=\"AGI externes\",'Relevés de  commissions'!M1242,0)*1","v":0},{"$f":"IF('Relevés de  commissions'!D1242=\"AGI externes\",'Relevés de  commissions'!N1242,0)*1","v":0},{"$f":"IF('Relevés de  commissions'!D1242=\"AGI externes\",'Relevés de  commissions'!O1242,0)*1","v":0},{"$f":"IF('Relevés de  commissions'!D1242=\"AGI externes\",'Relevés de  commissions'!P1242,0)*1","v":0},0,""]
[null,null,null,null,null,null,null,null,null,null,null,null,{"$f":"IF('Relevés de  commissions'!D1243=\"AGI externes\",'Relevés de  commissions'!M1243,0)*1","v":0},{"$f":"IF('Relevés de  commissions'!D1243=\"AGI externes\",'Relevés de  commissions'!N1243,0)*1","v":0},{"$f":"IF('Relevés de  commissions'!D1243=\"AGI externes\",'Relevés de  commissions'!O1243,0)*1","v":0},{"$f":"IF('Relevés de  commissions'!D1243=\"AGI externes\",'Relevés de  commissions'!P1243,0)*1","v":0},0,""]
[null,null,null,null,null,null,null,null,null,null,null,null,{"$f":"IF('Relevés de  commissions'!D1244=\"AGI externes\",'Relevés de  commissions'!M1244,0)*1","v":0},{"$f":"IF('Relevés de  commissions'!D1244=\"AGI externes\",'Relevés de  commissions'!N1244,0)*1","v":0},{"$f":"IF('Relevés de  commissions'!D1244=\"AGI externes\",'Relevés de  commissions'!O1244,0)*1","v":0},{"$f":"IF('Relevés de  commissions'!D1244=\"AGI externes\",'Relevés de  commissions'!P1244,0)*1","v":0},0,""]
[null,null,null,null,null,null,null,null,null,null,null,null,{"$f":"IF('Relevés de  commissions'!D1245=\"AGI externes\",'Relevés de  commissions'!M1245,0)*1","v":0},{"$f":"IF('Relevés de  commissions'!D1245=\"AGI externes\",'Relevés de  commissions'!N1245,0)*1","v":0},{"$f":"IF('Relevés de  commissions'!D1245=\"AGI externes\",'Relevés de  commissions'!O1245,0)*1","v":0},{"$f":"IF('Relevés de  commissions'!D1245=\"AGI externes\",'Relevés de  commissions'!P1245,0)*1","v":0},0,""]
[null,null,null,null,null,null,null,null,null,null,null,null,{"$f":"IF('Relevés de  commissions'!D1246=\"AGI externes\",'Relevés de  commissions'!M1246,0)*1","v":0},{"$f":"IF('Relevés de  commissions'!D1246=\"AGI externes\",'Relevés de  commissions'!N1246,0)*1","v":0},{"$f":"IF('Relevés de  commissions'!D1246=\"AGI externes\",'Relevés de  commissions'!O1246,0)*1","v":0},{"$f":"IF('Relevés de  commissions'!D1246=\"AGI externes\",'Relevés de  commissions'!P1246,0)*1","v":0},0,""]
[null,null,null,null,null,null,null,null,null,null,null,null,{"$f":"IF('Relevés de  commissions'!D1247=\"AGI externes\",'Relevés de  commissions'!M1247,0)*1","v":0},{"$f":"IF('Relevés de  commissions'!D1247=\"AGI externes\",'Relevés de  commissions'!N1247,0)*1","v":0},{"$f":"IF('Relevés de  commissions'!D1247=\"AGI externes\",'Relevés de  commissions'!O1247,0)*1","v":0},{"$f":"IF('Relevés de  commissions'!D1247=\"AGI externes\",'Relevés de  commissions'!P1247,0)*1","v":0},0,""]
[null,null,null,null,null,null,null,null,null,null,null,null,{"$f":"IF('Relevés de  commissions'!D1248=\"AGI externes\",'Relevés de  commissions'!M1248,0)*1","v":0},{"$f":"IF('Relevés de  commissions'!D1248=\"AGI externes\",'Relevés de  commissions'!N1248,0)*1","v":0},{"$f":"IF('Relevés de  commissions'!D1248=\"AGI externes\",'Relevés de  commissions'!O1248,0)*1","v":0},{"$f":"IF('Relevés de  commissions'!D1248=\"AGI externes\",'Relevés de  commissions'!P1248,0)*1","v":0},0,""]
[null,null,null,null,null,null,null,null,null,null,null,null,{"$f":"IF('Relevés de  commissions'!D1249=\"AGI externes\",'Relevés de  commissions'!M1249,0)*1","v":0},{"$f":"IF('Relevés de  commissions'!D1249=\"AGI externes\",'Relevés de  commissions'!N1249,0)*1","v":0},{"$f":"IF('Relevés de  commissions'!D1249=\"AGI externes\",'Relevés de  commissions'!O1249,0)*1","v":0},{"$f":"IF('Relevés de  commissions'!D1249=\"AGI externes\",'Relevés de  commissions'!P1249,0)*1","v":0},0,""]
[null,null,null,null,null,null,null,null,null,null,null,null,{"$f":"IF('Relevés de  commissions'!D1250=\"AGI externes\",'Relevés de  commissions'!M1250,0)*1","v":0},{"$f":"IF('Relevés de  commissions'!D1250=\"AGI externes\",'Relevés de  commissions'!N1250,0)*1","v":0},{"$f":"IF('Relevés de  commissions'!D1250=\"AGI externes\",'Relevés de  commissions'!O1250,0)*1","v":0},{"$f":"IF('Relevés de  commissions'!D1250=\"AGI externes\",'Relevés de  commissions'!P1250,0)*1","v":0},0,""]
[null,null,null,null,null,null,null,null,null,null,null,null,{"$f":"IF('Relevés de  commissions'!D1251=\"AGI externes\",'Relevés de  commissions'!M1251,0)*1","v":0},{"$f":"IF('Relevés de  commissions'!D1251=\"AGI externes\",'Relevés de  commissions'!N1251,0)*1","v":0},{"$f":"IF('Relevés de  commissions'!D1251=\"AGI externes\",'Relevés de  commissions'!O1251,0)*1","v":0},{"$f":"IF('Relevés de  commissions'!D1251=\"AGI externes\",'Relevés de  commissions'!P1251,0)*1","v":0},0,""]
[null,null,null,null,null,null,null,null,null,null,null,null,{"$f":"IF('Relevés de  commissions'!D1252=\"AGI externes\",'Relevés de  commissions'!M1252,0)*1","v":0},{"$f":"IF('Relevés de  commissions'!D1252=\"AGI externes\",'Relevés de  commissions'!N1252,0)*1","v":0},{"$f":"IF('Relevés de  commissions'!D1252=\"AGI externes\",'Relevés de  commissions'!O1252,0)*1","v":0},{"$f":"IF('Relevés de  commissions'!D1252=\"AGI externes\",'Relevés de  commissions'!P1252,0)*1","v":0},0,""]
[null,null,null,null,null,null,null,null,null,null,null,null,{"$f":"IF('Relevés de  commissions'!D1253=\"AGI externes\",'Relevés de  commissions'!M1253,0)*1","v":0},{"$f":"IF('Relevés de  commissions'!D1253=\"AGI externes\",'Relevés de  commissions'!N1253,0)*1","v":0},{"$f":"IF('Relevés de  commissions'!D1253=\"AGI externes\",'Relevés de  commissions'!O1253,0)*1","v":0},{"$f":"IF('Relevés de  commissions'!D1253=\"AGI externes\",'Relevés de  commissions'!P1253,0)*1","v":0},0,""]
[null,null,null,null,null,null,null,null,null,null,null,null,{"$f":"IF('Relevés de  commissions'!D1254=\"AGI externes\",'Relevés de  commissions'!M1254,0)*1","v":0},{"$f":"IF('Relevés de  commissions'!D1254=\"AGI externes\",'Relevés de  commissions'!N1254,0)*1","v":0},{"$f":"IF('Relevés de  commissions'!D1254=\"AGI externes\",'Relevés de  commissions'!O1254,0)*1","v":0},{"$f":"IF('Relevés de  commissions'!D1254=\"AGI externes\",'Relevés de  commissions'!P1254,0)*1","v":0},0,""]
[null,null,null,null,null,null,null,null,null,null,null,null,{"$f":"IF('Relevés de  commissions'!D1255=\"AGI externes\",'Relevés de  commissions'!M1255,0)*1","v":0},{"$f":"IF('Relevés de  commissions'!D1255=\"AGI externes\",'Relevés de  commissions'!N1255,0)*1","v":0},{"$f":"IF('Relevés de  commissions'!D1255=\"AGI externes\",'Relevés de  commissions'!O1255,0)*1","v":0},{"$f":"IF('Relevés de  commissions'!D1255=\"AGI externes\",'Relevés de  commissions'!P1255,0)*1","v":0},0,""]
[null,null,null,null,null,null,null,null,null,null,null,null,{"$f":"IF('Relevés de  commissions'!D1256=\"AGI externes\",'Relevés de  commissions'!M1256,0)*1","v":0},{"$f":"IF('Relevés de  commissions'!D1256=\"AGI externes\",'Relevés de  commissions'!N1256,0)*1","v":0},{"$f":"IF('Relevés de  commissions'!D1256=\"AGI externes\",'Relevés de  commissions'!O1256,0)*1","v":0},{"$f":"IF('Relevés de  commissions'!D1256=\"AGI externes\",'Relevés de  commissions'!P1256,0)*1","v":0},0,""]
[null,null,null,null,null,null,null,null,null,null,null,null,{"$f":"IF('Relevés de  commissions'!D1257=\"AGI externes\",'Relevés de  commissions'!M1257,0)*1","v":0},{"$f":"IF('Relevés de  commissions'!D1257=\"AGI externes\",'Relevés de  commissions'!N1257,0)*1","v":0},{"$f":"IF('Relevés de  commissions'!D1257=\"AGI externes\",'Relevés de  commissions'!O1257,0)*1","v":0},{"$f":"IF('Relevés de  commissions'!D1257=\"AGI externes\",'Relevés de  commissions'!P1257,0)*1","v":0},0,""]
[null,null,null,null,null,null,null,null,null,null,null,null,{"$f":"IF('Relevés de  commissions'!D1258=\"AGI externes\",'Relevés de  commissions'!M1258,0)*1","v":0},{"$f":"IF('Relevés de  commissions'!D1258=\"AGI externes\",'Relevés de  commissions'!N1258,0)*1","v":0},{"$f":"IF('Relevés de  commissions'!D1258=\"AGI externes\",'Relevés de  commissions'!O1258,0)*1","v":0},{"$f":"IF('Relevés de  commissions'!D1258=\"AGI externes\",'Relevés de  commissions'!P1258,0)*1","v":0},0,""]
[null,null,null,null,null,null,null,null,null,null,null,null,{"$f":"IF('Relevés de  commissions'!D1259=\"AGI externes\",'Relevés de  commissions'!M1259,0)*1","v":0},{"$f":"IF('Relevés de  commissions'!D1259=\"AGI externes\",'Relevés de  commissions'!N1259,0)*1","v":0},{"$f":"IF('Relevés de  commissions'!D1259=\"AGI externes\",'Relevés de  commissions'!O1259,0)*1","v":0},{"$f":"IF('Relevés de  commissions'!D1259=\"AGI externes\",'Relevés de  commissions'!P1259,0)*1","v":0},0,""]
[null,null,null,null,null,null,null,null,null,null,null,null,{"$f":"IF('Relevés de  commissions'!D1260=\"AGI externes\",'Relevés de  commissions'!M1260,0)*1","v":0},{"$f":"IF('Relevés de  commissions'!D1260=\"AGI externes\",'Relevés de  commissions'!N1260,0)*1","v":0},{"$f":"IF('Relevés de  commissions'!D1260=\"AGI externes\",'Relevés de  commissions'!O1260,0)*1","v":0},{"$f":"IF('Relevés de  commissions'!D1260=\"AGI externes\",'Relevés de  commissions'!P1260,0)*1","v":0},0,""]
[null,null,null,null,null,null,null,null,null,null,null,null,{"$f":"IF('Relevés de  commissions'!D1261=\"AGI externes\",'Relevés de  commissions'!M1261,0)*1","v":0},{"$f":"IF('Relevés de  commissions'!D1261=\"AGI externes\",'Relevés de  commissions'!N1261,0)*1","v":0},{"$f":"IF('Relevés de  commissions'!D1261=\"AGI externes\",'Relevés de  commissions'!O1261,0)*1","v":0},{"$f":"IF('Relevés de  commissions'!D1261=\"AGI externes\",'Relevés de  commissions'!P1261,0)*1","v":0},0,""]
[null,null,null,null,null,null,null,null,null,null,null,null,{"$f":"IF('Relevés de  commissions'!D1262=\"AGI externes\",'Relevés de  commissions'!M1262,0)*1","v":0},{"$f":"IF('Relevés de  commissions'!D1262=\"AGI externes\",'Relevés de  commissions'!N1262,0)*1","v":0},{"$f":"IF('Relevés de  commissions'!D1262=\"AGI externes\",'Relevés de  commissions'!O1262,0)*1","v":0},{"$f":"IF('Relevés de  commissions'!D1262=\"AGI externes\",'Relevés de  commissions'!P1262,0)*1","v":0},0,""]
[null,null,null,null,null,null,null,null,null,null,null,null,{"$f":"IF('Relevés de  commissions'!D1263=\"AGI externes\",'Relevés de  commissions'!M1263,0)*1","v":0},{"$f":"IF('Relevés de  commissions'!D1263=\"AGI externes\",'Relevés de  commissions'!N1263,0)*1","v":0},{"$f":"IF('Relevés de  commissions'!D1263=\"AGI externes\",'Relevés de  commissions'!O1263,0)*1","v":0},{"$f":"IF('Relevés de  commissions'!D1263=\"AGI externes\",'Relevés de  commissions'!P1263,0)*1","v":0},0,""]
[null,null,null,null,null,null,null,null,null,null,null,null,{"$f":"IF('Relevés de  commissions'!D1264=\"AGI externes\",'Relevés de  commissions'!M1264,0)*1","v":0},{"$f":"IF('Relevés de  commissions'!D1264=\"AGI externes\",'Relevés de  commissions'!N1264,0)*1","v":0},{"$f":"IF('Relevés de  commissions'!D1264=\"AGI externes\",'Relevés de  commissions'!O1264,0)*1","v":0},{"$f":"IF('Relevés de  commissions'!D1264=\"AGI externes\",'Relevés de  commissions'!P1264,0)*1","v":0},0,""]
[null,null,null,null,null,null,null,null,null,null,null,null,{"$f":"IF('Relevés de  commissions'!D1265=\"AGI externes\",'Relevés de  commissions'!M1265,0)*1","v":0},{"$f":"IF('Relevés de  commissions'!D1265=\"AGI externes\",'Relevés de  commissions'!N1265,0)*1","v":0},{"$f":"IF('Relevés de  commissions'!D1265=\"AGI externes\",'Relevés de  commissions'!O1265,0)*1","v":0},{"$f":"IF('Relevés de  commissions'!D1265=\"AGI externes\",'Relevés de  commissions'!P1265,0)*1","v":0},0,""]
[null,null,null,null,null,null,null,null,null,null,null,null,{"$f":"IF('Relevés de  commissions'!D1266=\"AGI externes\",'Relevés de  commissions'!M1266,0)*1","v":0},{"$f":"IF('Relevés de  commissions'!D1266=\"AGI externes\",'Relevés de  commissions'!N1266,0)*1","v":0},{"$f":"IF('Relevés de  commissions'!D1266=\"AGI externes\",'Relevés de  commissions'!O1266,0)*1","v":0},{"$f":"IF('Relevés de  commissions'!D1266=\"AGI externes\",'Relevés de  commissions'!P1266,0)*1","v":0},0,""]
[null,null,null,null,null,null,null,null,null,null,null,null,{"$f":"IF('Relevés de  commissions'!D1267=\"AGI externes\",'Relevés de  commissions'!M1267,0)*1","v":0},{"$f":"IF('Relevés de  commissions'!D1267=\"AGI externes\",'Relevés de  commissions'!N1267,0)*1","v":0},{"$f":"IF('Relevés de  commissions'!D1267=\"AGI externes\",'Relevés de  commissions'!O1267,0)*1","v":0},{"$f":"IF('Relevés de  commissions'!D1267=\"AGI externes\",'Relevés de  commissions'!P1267,0)*1","v":0},0,""]
[null,null,null,null,null,null,null,null,null,null,null,null,{"$f":"IF('Relevés de  commissions'!D1268=\"AGI externes\",'Relevés de  commissions'!M1268,0)*1","v":0},{"$f":"IF('Relevés de  commissions'!D1268=\"AGI externes\",'Relevés de  commissions'!N1268,0)*1","v":0},{"$f":"IF('Relevés de  commissions'!D1268=\"AGI externes\",'Relevés de  commissions'!O1268,0)*1","v":0},{"$f":"IF('Relevés de  commissions'!D1268=\"AGI externes\",'Relevés de  commissions'!P1268,0)*1","v":0},0,""]
[null,null,null,null,null,null,null,null,null,null,null,null,{"$f":"IF('Relevés de  commissions'!D1269=\"AGI externes\",'Relevés de  commissions'!M1269,0)*1","v":0},{"$f":"IF('Relevés de  commissions'!D1269=\"AGI externes\",'Relevés de  commissions'!N1269,0)*1","v":0},{"$f":"IF('Relevés de  commissions'!D1269=\"AGI externes\",'Relevés de  commissions'!O1269,0)*1","v":0},{"$f":"IF('Relevés de  commissions'!D1269=\"AGI externes\",'Relevés de  commissions'!P1269,0)*1","v":0},0,""]
[null,null,null,null,null,null,null,null,null,null,null,null,{"$f":"IF('Relevés de  commissions'!D1270=\"AGI externes\",'Relevés de  commissions'!M1270,0)*1","v":0},{"$f":"IF('Relevés de  commissions'!D1270=\"AGI externes\",'Relevés de  commissions'!N1270,0)*1","v":0},{"$f":"IF('Relevés de  commissions'!D1270=\"AGI externes\",'Relevés de  commissions'!O1270,0)*1","v":0},{"$f":"IF('Relevés de  commissions'!D1270=\"AGI externes\",'Relevés de  commissions'!P1270,0)*1","v":0},0,""]
[null,null,null,null,null,null,null,null,null,null,null,null,{"$f":"IF('Relevés de  commissions'!D1271=\"AGI externes\",'Relevés de  commissions'!M1271,0)*1","v":0},{"$f":"IF('Relevés de  commissions'!D1271=\"AGI externes\",'Relevés de  commissions'!N1271,0)*1","v":0},{"$f":"IF('Relevés de  commissions'!D1271=\"AGI externes\",'Relevés de  commissions'!O1271,0)*1","v":0},{"$f":"IF('Relevés de  commissions'!D1271=\"AGI externes\",'Relevés de  commissions'!P1271,0)*1","v":0},0,""]
[null,null,null,null,null,null,null,null,null,null,null,null,{"$f":"IF('Relevés de  commissions'!D1272=\"AGI externes\",'Relevés de  commissions'!M1272,0)*1","v":0},{"$f":"IF('Relevés de  commissions'!D1272=\"AGI externes\",'Relevés de  commissions'!N1272,0)*1","v":0},{"$f":"IF('Relevés de  commissions'!D1272=\"AGI externes\",'Relevés de  commissions'!O1272,0)*1","v":0},{"$f":"IF('Relevés de  commissions'!D1272=\"AGI externes\",'Relevés de  commissions'!P1272,0)*1","v":0},0,""]
[null,null,null,null,null,null,null,null,null,null,null,null,{"$f":"IF('Relevés de  commissions'!D1273=\"AGI externes\",'Relevés de  commissions'!M1273,0)*1","v":0},{"$f":"IF('Relevés de  commissions'!D1273=\"AGI externes\",'Relevés de  commissions'!N1273,0)*1","v":0},{"$f":"IF('Relevés de  commissions'!D1273=\"AGI externes\",'Relevés de  commissions'!O1273,0)*1","v":0},{"$f":"IF('Relevés de  commissions'!D1273=\"AGI externes\",'Relevés de  commissions'!P1273,0)*1","v":0},0,""]
[null,null,null,null,null,null,null,null,null,null,null,null,{"$f":"IF('Relevés de  commissions'!D1274=\"AGI externes\",'Relevés de  commissions'!M1274,0)*1","v":0},{"$f":"IF('Relevés de  commissions'!D1274=\"AGI externes\",'Relevés de  commissions'!N1274,0)*1","v":0},{"$f":"IF('Relevés de  commissions'!D1274=\"AGI externes\",'Relevés de  commissions'!O1274,0)*1","v":0},{"$f":"IF('Relevés de  commissions'!D1274=\"AGI externes\",'Relevés de  commissions'!P1274,0)*1","v":0},0,""]
[null,null,null,null,null,null,null,null,null,null,null,null,{"$f":"IF('Relevés de  commissions'!D1275=\"AGI externes\",'Relevés de  commissions'!M1275,0)*1","v":0},{"$f":"IF('Relevés de  commissions'!D1275=\"AGI externes\",'Relevés de  commissions'!N1275,0)*1","v":0},{"$f":"IF('Relevés de  commissions'!D1275=\"AGI externes\",'Relevés de  commissions'!O1275,0)*1","v":0},{"$f":"IF('Relevés de  commissions'!D1275=\"AGI externes\",'Relevés de  commissions'!P1275,0)*1","v":0},0,""]
[null,null,null,null,null,null,null,null,null,null,null,null,{"$f":"IF('Relevés de  commissions'!D1276=\"AGI externes\",'Relevés de  commissions'!M1276,0)*1","v":0},{"$f":"IF('Relevés de  commissions'!D1276=\"AGI externes\",'Relevés de  commissions'!N1276,0)*1","v":0},{"$f":"IF('Relevés de  commissions'!D1276=\"AGI externes\",'Relevés de  commissions'!O1276,0)*1","v":0},{"$f":"IF('Relevés de  commissions'!D1276=\"AGI externes\",'Relevés de  commissions'!P1276,0)*1","v":0},0,""]
[null,null,null,null,null,null,null,null,null,null,null,null,{"$f":"IF('Relevés de  commissions'!D1277=\"AGI externes\",'Relevés de  commissions'!M1277,0)*1","v":0},{"$f":"IF('Relevés de  commissions'!D1277=\"AGI externes\",'Relevés de  commissions'!N1277,0)*1","v":0},{"$f":"IF('Relevés de  commissions'!D1277=\"AGI externes\",'Relevés de  commissions'!O1277,0)*1","v":0},{"$f":"IF('Relevés de  commissions'!D1277=\"AGI externes\",'Relevés de  commissions'!P1277,0)*1","v":0},0,""]
[null,null,null,null,null,null,null,null,null,null,null,null,{"$f":"IF('Relevés de  commissions'!D1278=\"AGI externes\",'Relevés de  commissions'!M1278,0)*1","v":0},{"$f":"IF('Relevés de  commissions'!D1278=\"AGI externes\",'Relevés de  commissions'!N1278,0)*1","v":0},{"$f":"IF('Relevés de  commissions'!D1278=\"AGI externes\",'Relevés de  commissions'!O1278,0)*1","v":0},{"$f":"IF('Relevés de  commissions'!D1278=\"AGI externes\",'Relevés de  commissions'!P1278,0)*1","v":0},0,""]
[null,null,null,null,null,null,null,null,null,null,null,null,{"$f":"IF('Relevés de  commissions'!D1279=\"AGI externes\",'Relevés de  commissions'!M1279,0)*1","v":0},{"$f":"IF('Relevés de  commissions'!D1279=\"AGI externes\",'Relevés de  commissions'!N1279,0)*1","v":0},{"$f":"IF('Relevés de  commissions'!D1279=\"AGI externes\",'Relevés de  commissions'!O1279,0)*1","v":0},{"$f":"IF('Relevés de  commissions'!D1279=\"AGI externes\",'Relevés de  commissions'!P1279,0)*1","v":0},0,""]
[null,null,null,null,null,null,null,null,null,null,null,null,{"$f":"IF('Relevés de  commissions'!D1280=\"AGI externes\",'Relevés de  commissions'!M1280,0)*1","v":0},{"$f":"IF('Relevés de  commissions'!D1280=\"AGI externes\",'Relevés de  commissions'!N1280,0)*1","v":0},{"$f":"IF('Relevés de  commissions'!D1280=\"AGI externes\",'Relevés de  commissions'!O1280,0)*1","v":0},{"$f":"IF('Relevés de  commissions'!D1280=\"AGI externes\",'Relevés de  commissions'!P1280,0)*1","v":0},0,""]
[null,null,null,null,null,null,null,null,null,null,null,null,{"$f":"IF('Relevés de  commissions'!D1281=\"AGI externes\",'Relevés de  commissions'!M1281,0)*1","v":0},{"$f":"IF('Relevés de  commissions'!D1281=\"AGI externes\",'Relevés de  commissions'!N1281,0)*1","v":0},{"$f":"IF('Relevés de  commissions'!D1281=\"AGI externes\",'Relevés de  commissions'!O1281,0)*1","v":0},{"$f":"IF('Relevés de  commissions'!D1281=\"AGI externes\",'Relevés de  commissions'!P1281,0)*1","v":0},0,""]
[null,null,null,null,null,null,null,null,null,null,null,null,{"$f":"IF('Relevés de  commissions'!D1282=\"AGI externes\",'Relevés de  commissions'!M1282,0)*1","v":0},{"$f":"IF('Relevés de  commissions'!D1282=\"AGI externes\",'Relevés de  commissions'!N1282,0)*1","v":0},{"$f":"IF('Relevés de  commissions'!D1282=\"AGI externes\",'Relevés de  commissions'!O1282,0)*1","v":0},{"$f":"IF('Relevés de  commissions'!D1282=\"AGI externes\",'Relevés de  commissions'!P1282,0)*1","v":0},0,""]
[null,null,null,null,null,null,null,null,null,null,null,null,{"$f":"IF('Relevés de  commissions'!D1283=\"AGI externes\",'Relevés de  commissions'!M1283,0)*1","v":0},{"$f":"IF('Relevés de  commissions'!D1283=\"AGI externes\",'Relevés de  commissions'!N1283,0)*1","v":0},{"$f":"IF('Relevés de  commissions'!D1283=\"AGI externes\",'Relevés de  commissions'!O1283,0)*1","v":0},{"$f":"IF('Relevés de  commissions'!D1283=\"AGI externes\",'Relevés de  commissions'!P1283,0)*1","v":0},{"$f":"IF(N1285=0,O1285,\"\")","v":0},{"$f":"IF(N1285=10,O1285,\"\")","v":""}]
[null,null,null,null,null,null,null,null,null,null,null,null,{"$f":"IF('Relevés de  commissions'!D1284=\"AGI externes\",'Relevés de  commissions'!M1284,0)*1","v":0},{"$f":"IF('Relevés de  commissions'!D1284=\"AGI externes\",'Relevés de  commissions'!N1284,0)*1","v":0},{"$f":"IF('Relevés de  commissions'!D1284=\"AGI externes\",'Relevés de  commissions'!O1284,0)*1","v":0},{"$f":"IF('Relevés de  commissions'!D1284=\"AGI externes\",'Relevés de  commissions'!P1284,0)*1","v":0},0,""]
[null,null,null,null,null,null,null,null,null,null,null,null,{"$f":"IF('Relevés de  commissions'!D1285=\"AGI externes\",'Relevés de  commissions'!M1285,0)*1","v":0},{"$f":"IF('Relevés de  commissions'!D1285=\"AGI externes\",'Relevés de  commissions'!N1285,0)*1","v":0},{"$f":"IF('Relevés de  commissions'!D1285=\"AGI externes\",'Relevés de  commissions'!O1285,0)*1","v":0},{"$f":"IF('Relevés de  commissions'!D1285=\"AGI externes\",'Relevés de  commissions'!P1285,0)*1","v":0},0,""]
[null,null,null,null,null,null,null,null,null,null,null,null,{"$f":"IF('Relevés de  commissions'!D1286=\"AGI externes\",'Relevés de  commissions'!M1286,0)*1","v":0},{"$f":"IF('Relevés de  commissions'!D1286=\"AGI externes\",'Relevés de  commissions'!N1286,0)*1","v":0},{"$f":"IF('Relevés de  commissions'!D1286=\"AGI externes\",'Relevés de  commissions'!O1286,0)*1","v":0},{"$f":"IF('Relevés de  commissions'!D1286=\"AGI externes\",'Relevés de  commissions'!P1286,0)*1","v":0},0,""]
[null,null,null,null,null,null,null,null,null,null,null,null,{"$f":"IF('Relevés de  commissions'!D1287=\"AGI externes\",'Relevés de  commissions'!M1287,0)*1","v":0},{"$f":"IF('Relevés de  commissions'!D1287=\"AGI externes\",'Relevés de  commissions'!N1287,0)*1","v":0},{"$f":"IF('Relevés de  commissions'!D1287=\"AGI externes\",'Relevés de  commissions'!O1287,0)*1","v":0},{"$f":"IF('Relevés de  commissions'!D1287=\"AGI externes\",'Relevés de  commissions'!P1287,0)*1","v":0},0,""]
[null,null,null,null,null,null,null,null,null,null,null,null,{"$f":"IF('Relevés de  commissions'!D1288=\"AGI externes\",'Relevés de  commissions'!M1288,0)*1","v":0},{"$f":"IF('Relevés de  commissions'!D1288=\"AGI externes\",'Relevés de  commissions'!N1288,0)*1","v":0},{"$f":"IF('Relevés de  commissions'!D1288=\"AGI externes\",'Relevés de  commissions'!O1288,0)*1","v":0},{"$f":"IF('Relevés de  commissions'!D1288=\"AGI externes\",'Relevés de  commissions'!P1288,0)*1","v":0},0,""]
[null,null,null,null,null,null,null,null,null,null,null,null,{"$f":"IF('Relevés de  commissions'!D1289=\"AGI externes\",'Relevés de  commissions'!M1289,0)*1","v":0},{"$f":"IF('Relevés de  commissions'!D1289=\"AGI externes\",'Relevés de  commissions'!N1289,0)*1","v":0},{"$f":"IF('Relevés de  commissions'!D1289=\"AGI externes\",'Relevés de  commissions'!O1289,0)*1","v":0},{"$f":"IF('Relevés de  commissions'!D1289=\"AGI externes\",'Relevés de  commissions'!P1289,0)*1","v":0},0,""]
[null,null,null,null,null,null,null,null,null,null,null,null,{"$f":"IF('Relevés de  commissions'!D1290=\"AGI externes\",'Relevés de  commissions'!M1290,0)*1","v":0},{"$f":"IF('Relevés de  commissions'!D1290=\"AGI externes\",'Relevés de  commissions'!N1290,0)*1","v":0},{"$f":"IF('Relevés de  commissions'!D1290=\"AGI externes\",'Relevés de  commissions'!O1290,0)*1","v":0},{"$f":"IF('Relevés de  commissions'!D1290=\"AGI externes\",'Relevés de  commissions'!P1290,0)*1","v":0},0,""]
[null,null,null,null,null,null,null,null,null,null,null,null,{"$f":"IF('Relevés de  commissions'!D1291=\"AGI externes\",'Relevés de  commissions'!M1291,0)*1","v":0},{"$f":"IF('Relevés de  commissions'!D1291=\"AGI externes\",'Relevés de  commissions'!N1291,0)*1","v":0},{"$f":"IF('Relevés de  commissions'!D1291=\"AGI externes\",'Relevés de  commissions'!O1291,0)*1","v":0},{"$f":"IF('Relevés de  commissions'!D1291=\"AGI externes\",'Relevés de  commissions'!P1291,0)*1","v":0},0,""]
[null,null,null,null,null,null,null,null,null,null,null,null,{"$f":"IF('Relevés de  commissions'!D1292=\"AGI externes\",'Relevés de  commissions'!M1292,0)*1","v":0},{"$f":"IF('Relevés de  commissions'!D1292=\"AGI externes\",'Relevés de  commissions'!N1292,0)*1","v":0},{"$f":"IF('Relevés de  commissions'!D1292=\"AGI externes\",'Relevés de  commissions'!O1292,0)*1","v":0},{"$f":"IF('Relevés de  commissions'!D1292=\"AGI externes\",'Relevés de  commissions'!P1292,0)*1","v":0},0,""]
[null,null,null,null,null,null,null,null,null,null,null,null,{"$f":"IF('Relevés de  commissions'!D1293=\"AGI externes\",'Relevés de  commissions'!M1293,0)*1","v":0},{"$f":"IF('Relevés de  commissions'!D1293=\"AGI externes\",'Relevés de  commissions'!N1293,0)*1","v":0},{"$f":"IF('Relevés de  commissions'!D1293=\"AGI externes\",'Relevés de  commissions'!O1293,0)*1","v":0},{"$f":"IF('Relevés de  commissions'!D1293=\"AGI externes\",'Relevés de  commissions'!P1293,0)*1","v":0},0,""]
[null,null,null,null,null,null,null,null,null,null,null,null,{"$f":"IF('Relevés de  commissions'!D1294=\"AGI externes\",'Relevés de  commissions'!M1294,0)*1","v":0},{"$f":"IF('Relevés de  commissions'!D1294=\"AGI externes\",'Relevés de  commissions'!N1294,0)*1","v":0},{"$f":"IF('Relevés de  commissions'!D1294=\"AGI externes\",'Relevés de  commissions'!O1294,0)*1","v":0},{"$f":"IF('Relevés de  commissions'!D1294=\"AGI externes\",'Relevés de  commissions'!P1294,0)*1","v":0},0,""]
[null,null,null,null,null,null,null,null,null,null,null,null,{"$f":"IF('Relevés de  commissions'!D1295=\"AGI externes\",'Relevés de  commissions'!M1295,0)*1","v":0},{"$f":"IF('Relevés de  commissions'!D1295=\"AGI externes\",'Relevés de  commissions'!N1295,0)*1","v":0},{"$f":"IF('Relevés de  commissions'!D1295=\"AGI externes\",'Relevés de  commissions'!O1295,0)*1","v":0},{"$f":"IF('Relevés de  commissions'!D1295=\"AGI externes\",'Relevés de  commissions'!P1295,0)*1","v":0},0,""]
[null,null,null,null,null,null,null,null,null,null,null,null,{"$f":"IF('Relevés de  commissions'!D1296=\"AGI externes\",'Relevés de  commissions'!M1296,0)*1","v":0},{"$f":"IF('Relevés de  commissions'!D1296=\"AGI externes\",'Relevés de  commissions'!N1296,0)*1","v":0},{"$f":"IF('Relevés de  commissions'!D1296=\"AGI externes\",'Relevés de  commissions'!O1296,0)*1","v":0},{"$f":"IF('Relevés de  commissions'!D1296=\"AGI externes\",'Relevés de  commissions'!P1296,0)*1","v":0},0,""]
[null,null,null,null,null,null,null,null,null,null,null,null,{"$f":"IF('Relevés de  commissions'!D1297=\"AGI externes\",'Relevés de  commissions'!M1297,0)*1","v":0},{"$f":"IF('Relevés de  commissions'!D1297=\"AGI externes\",'Relevés de  commissions'!N1297,0)*1","v":0},{"$f":"IF('Relevés de  commissions'!D1297=\"AGI externes\",'Relevés de  commissions'!O1297,0)*1","v":0},{"$f":"IF('Relevés de  commissions'!D1297=\"AGI externes\",'Relevés de  commissions'!P1297,0)*1","v":0},0,""]
[null,null,null,null,null,null,null,null,null,null,null,null,{"$f":"IF('Relevés de  commissions'!D1298=\"AGI externes\",'Relevés de  commissions'!M1298,0)*1","v":0},{"$f":"IF('Relevés de  commissions'!D1298=\"AGI externes\",'Relevés de  commissions'!N1298,0)*1","v":0},{"$f":"IF('Relevés de  commissions'!D1298=\"AGI externes\",'Relevés de  commissions'!O1298,0)*1","v":0},{"$f":"IF('Relevés de  commissions'!D1298=\"AGI externes\",'Relevés de  commissions'!P1298,0)*1","v":0},0,""]
[null,null,null,null,null,null,null,null,null,null,null,null,{"$f":"IF('Relevés de  commissions'!D1299=\"AGI externes\",'Relevés de  commissions'!M1299,0)*1","v":0},{"$f":"IF('Relevés de  commissions'!D1299=\"AGI externes\",'Relevés de  commissions'!N1299,0)*1","v":0},{"$f":"IF('Relevés de  commissions'!D1299=\"AGI externes\",'Relevés de  commissions'!O1299,0)*1","v":0},{"$f":"IF('Relevés de  commissions'!D1299=\"AGI externes\",'Relevés de  commissions'!P1299,0)*1","v":0},0,""]
[null,null,null,null,null,null,null,null,null,null,null,null,{"$f":"IF('Relevés de  commissions'!D1300=\"AGI externes\",'Relevés de  commissions'!M1300,0)*1","v":0},{"$f":"IF('Relevés de  commissions'!D1300=\"AGI externes\",'Relevés de  commissions'!N1300,0)*1","v":0},{"$f":"IF('Relevés de  commissions'!D1300=\"AGI externes\",'Relevés de  commissions'!O1300,0)*1","v":0},{"$f":"IF('Relevés de  commissions'!D1300=\"AGI externes\",'Relevés de  commissions'!P1300,0)*1","v":0},0,""]
[null,null,null,null,null,null,null,null,null,null,null,null,{"$f":"IF('Relevés de  commissions'!D1301=\"AGI externes\",'Relevés de  commissions'!M1301,0)*1","v":0},{"$f":"IF('Relevés de  commissions'!D1301=\"AGI externes\",'Relevés de  commissions'!N1301,0)*1","v":0},{"$f":"IF('Relevés de  commissions'!D1301=\"AGI externes\",'Relevés de  commissions'!O1301,0)*1","v":0},{"$f":"IF('Relevés de  commissions'!D1301=\"AGI externes\",'Relevés de  commissions'!P1301,0)*1","v":0},0,""]
[null,null,null,null,null,null,null,null,null,null,null,null,{"$f":"IF('Relevés de  commissions'!D1302=\"AGI externes\",'Relevés de  commissions'!M1302,0)*1","v":0},{"$f":"IF('Relevés de  commissions'!D1302=\"AGI externes\",'Relevés de  commissions'!N1302,0)*1","v":0},{"$f":"IF('Relevés de  commissions'!D1302=\"AGI externes\",'Relevés de  commissions'!O1302,0)*1","v":0},{"$f":"IF('Relevés de  commissions'!D1302=\"AGI externes\",'Relevés de  commissions'!P1302,0)*1","v":0},0,""]
[null,null,null,null,null,null,null,null,null,null,null,null,{"$f":"IF('Relevés de  commissions'!D1303=\"AGI externes\",'Relevés de  commissions'!M1303,0)*1","v":0},{"$f":"IF('Relevés de  commissions'!D1303=\"AGI externes\",'Relevés de  commissions'!N1303,0)*1","v":0},{"$f":"IF('Relevés de  commissions'!D1303=\"AGI externes\",'Relevés de  commissions'!O1303,0)*1","v":0},{"$f":"IF('Relevés de  commissions'!D1303=\"AGI externes\",'Relevés de  commissions'!P1303,0)*1","v":0},0,""]
[null,null,null,null,null,null,null,null,null,null,null,null,{"$f":"IF('Relevés de  commissions'!D1304=\"AGI externes\",'Relevés de  commissions'!M1304,0)*1","v":0},{"$f":"IF('Relevés de  commissions'!D1304=\"AGI externes\",'Relevés de  commissions'!N1304,0)*1","v":0},{"$f":"IF('Relevés de  commissions'!D1304=\"AGI externes\",'Relevés de  commissions'!O1304,0)*1","v":0},{"$f":"IF('Relevés de  commissions'!D1304=\"AGI externes\",'Relevés de  commissions'!P1304,0)*1","v":0},0,""]
[null,null,null,null,null,null,null,null,null,null,null,null,{"$f":"IF('Relevés de  commissions'!D1305=\"AGI externes\",'Relevés de  commissions'!M1305,0)*1","v":0},{"$f":"IF('Relevés de  commissions'!D1305=\"AGI externes\",'Relevés de  commissions'!N1305,0)*1","v":0},{"$f":"IF('Relevés de  commissions'!D1305=\"AGI externes\",'Relevés de  commissions'!O1305,0)*1","v":0},{"$f":"IF('Relevés de  commissions'!D1305=\"AGI externes\",'Relevés de  commissions'!P1305,0)*1","v":0},0,""]
[null,null,null,null,null,null,null,null,null,null,null,null,{"$f":"IF('Relevés de  commissions'!D1306=\"AGI externes\",'Relevés de  commissions'!M1306,0)*1","v":0},{"$f":"IF('Relevés de  commissions'!D1306=\"AGI externes\",'Relevés de  commissions'!N1306,0)*1","v":0},{"$f":"IF('Relevés de  commissions'!D1306=\"AGI externes\",'Relevés de  commissions'!O1306,0)*1","v":0},{"$f":"IF('Relevés de  commissions'!D1306=\"AGI externes\",'Relevés de  commissions'!P1306,0)*1","v":0},0,""]
[null,null,null,null,null,null,null,null,null,null,null,null,{"$f":"IF('Relevés de  commissions'!D1307=\"AGI externes\",'Relevés de  commissions'!M1307,0)*1","v":0},{"$f":"IF('Relevés de  commissions'!D1307=\"AGI externes\",'Relevés de  commissions'!N1307,0)*1","v":0},{"$f":"IF('Relevés de  commissions'!D1307=\"AGI externes\",'Relevés de  commissions'!O1307,0)*1","v":0},{"$f":"IF('Relevés de  commissions'!D1307=\"AGI externes\",'Relevés de  commissions'!P1307,0)*1","v":0},0,""]
[null,null,null,null,null,null,null,null,null,null,null,null,{"$f":"IF('Relevés de  commissions'!D1308=\"AGI externes\",'Relevés de  commissions'!M1308,0)*1","v":0},{"$f":"IF('Relevés de  commissions'!D1308=\"AGI externes\",'Relevés de  commissions'!N1308,0)*1","v":0},{"$f":"IF('Relevés de  commissions'!D1308=\"AGI externes\",'Relevés de  commissions'!O1308,0)*1","v":0},{"$f":"IF('Relevés de  commissions'!D1308=\"AGI externes\",'Relevés de  commissions'!P1308,0)*1","v":0},0,""]
[null,null,null,null,null,null,null,null,null,null,null,null,{"$f":"IF('Relevés de  commissions'!D1309=\"AGI externes\",'Relevés de  commissions'!M1309,0)*1","v":0},{"$f":"IF('Relevés de  commissions'!D1309=\"AGI externes\",'Relevés de  commissions'!N1309,0)*1","v":0},{"$f":"IF('Relevés de  commissions'!D1309=\"AGI externes\",'Relevés de  commissions'!O1309,0)*1","v":0},{"$f":"IF('Relevés de  commissions'!D1309=\"AGI externes\",'Relevés de  commissions'!P1309,0)*1","v":0},0,""]
[null,null,null,null,null,null,null,null,null,null,null,null,{"$f":"IF('Relevés de  commissions'!D1310=\"AGI externes\",'Relevés de  commissions'!M1310,0)*1","v":0},{"$f":"IF('Relevés de  commissions'!D1310=\"AGI externes\",'Relevés de  commissions'!N1310,0)*1","v":0},{"$f":"IF('Relevés de  commissions'!D1310=\"AGI externes\",'Relevés de  commissions'!O1310,0)*1","v":0},{"$f":"IF('Relevés de  commissions'!D1310=\"AGI externes\",'Relevés de  commissions'!P1310,0)*1","v":0},0,""]
[null,null,null,null,null,null,null,null,null,null,null,null,{"$f":"IF('Relevés de  commissions'!D1311=\"AGI externes\",'Relevés de  commissions'!M1311,0)*1","v":0},{"$f":"IF('Relevés de  commissions'!D1311=\"AGI externes\",'Relevés de  commissions'!N1311,0)*1","v":0},{"$f":"IF('Relevés de  commissions'!D1311=\"AGI externes\",'Relevés de  commissions'!O1311,0)*1","v":0},{"$f":"IF('Relevés de  commissions'!D1311=\"AGI externes\",'Relevés de  commissions'!P1311,0)*1","v":0},0,""]
[null,null,null,null,null,null,null,null,null,null,null,null,{"$f":"IF('Relevés de  commissions'!D1312=\"AGI externes\",'Relevés de  commissions'!M1312,0)*1","v":0},{"$f":"IF('Relevés de  commissions'!D1312=\"AGI externes\",'Relevés de  commissions'!N1312,0)*1","v":0},{"$f":"IF('Relevés de  commissions'!D1312=\"AGI externes\",'Relevés de  commissions'!O1312,0)*1","v":0},{"$f":"IF('Relevés de  commissions'!D1312=\"AGI externes\",'Relevés de  commissions'!P1312,0)*1","v":0},0,""]
[null,null,null,null,null,null,null,null,null,null,null,null,{"$f":"IF('Relevés de  commissions'!D1313=\"AGI externes\",'Relevés de  commissions'!M1313,0)*1","v":0},{"$f":"IF('Relevés de  commissions'!D1313=\"AGI externes\",'Relevés de  commissions'!N1313,0)*1","v":0},{"$f":"IF('Relevés de  commissions'!D1313=\"AGI externes\",'Relevés de  commissions'!O1313,0)*1","v":0},{"$f":"IF('Relevés de  commissions'!D1313=\"AGI externes\",'Relevés de  commissions'!P1313,0)*1","v":0},0,""]
[null,null,null,null,null,null,null,null,null,null,null,null,{"$f":"IF('Relevés de  commissions'!D1314=\"AGI externes\",'Relevés de  commissions'!M1314,0)*1","v":0},{"$f":"IF('Relevés de  commissions'!D1314=\"AGI externes\",'Relevés de  commissions'!N1314,0)*1","v":0},{"$f":"IF('Relevés de  commissions'!D1314=\"AGI externes\",'Relevés de  commissions'!O1314,0)*1","v":0},{"$f":"IF('Relevés de  commissions'!D1314=\"AGI externes\",'Relevés de  commissions'!P1314,0)*1","v":0},0,""]
[null,null,null,null,null,null,null,null,null,null,null,null,{"$f":"IF('Relevés de  commissions'!D1315=\"AGI externes\",'Relevés de  commissions'!M1315,0)*1","v":0},{"$f":"IF('Relevés de  commissions'!D1315=\"AGI externes\",'Relevés de  commissions'!N1315,0)*1","v":0},{"$f":"IF('Relevés de  commissions'!D1315=\"AGI externes\",'Relevés de  commissions'!O1315,0)*1","v":0},{"$f":"IF('Relevés de  commissions'!D1315=\"AGI externes\",'Relevés de  commissions'!P1315,0)*1","v":0},0,""]
[null,null,null,null,null,null,null,null,null,null,null,null,{"$f":"IF('Relevés de  commissions'!D1316=\"AGI externes\",'Relevés de  commissions'!M1316,0)*1","v":0},{"$f":"IF('Relevés de  commissions'!D1316=\"AGI externes\",'Relevés de  commissions'!N1316,0)*1","v":0},{"$f":"IF('Relevés de  commissions'!D1316=\"AGI externes\",'Relevés de  commissions'!O1316,0)*1","v":0},{"$f":"IF('Relevés de  commissions'!D1316=\"AGI externes\",'Relevés de  commissions'!P1316,0)*1","v":0},0,""]
[null,null,null,null,null,null,null,null,null,null,null,null,{"$f":"IF('Relevés de  commissions'!D1317=\"AGI externes\",'Relevés de  commissions'!M1317,0)*1","v":0},{"$f":"IF('Relevés de  commissions'!D1317=\"AGI externes\",'Relevés de  commissions'!N1317,0)*1","v":0},{"$f":"IF('Relevés de  commissions'!D1317=\"AGI externes\",'Relevés de  commissions'!O1317,0)*1","v":0},{"$f":"IF('Relevés de  commissions'!D1317=\"AGI externes\",'Relevés de  commissions'!P1317,0)*1","v":0},0,""]
[null,null,null,null,null,null,null,null,null,null,null,null,{"$f":"IF('Relevés de  commissions'!D1318=\"AGI externes\",'Relevés de  commissions'!M1318,0)*1","v":0},{"$f":"IF('Relevés de  commissions'!D1318=\"AGI externes\",'Relevés de  commissions'!N1318,0)*1","v":0},{"$f":"IF('Relevés de  commissions'!D1318=\"AGI externes\",'Relevés de  commissions'!O1318,0)*1","v":0},{"$f":"IF('Relevés de  commissions'!D1318=\"AGI externes\",'Relevés de  commissions'!P1318,0)*1","v":0},0,""]
[null,null,null,null,null,null,null,null,null,null,null,null,{"$f":"IF('Relevés de  commissions'!D1319=\"AGI externes\",'Relevés de  commissions'!M1319,0)*1","v":0},{"$f":"IF('Relevés de  commissions'!D1319=\"AGI externes\",'Relevés de  commissions'!N1319,0)*1","v":0},{"$f":"IF('Relevés de  commissions'!D1319=\"AGI externes\",'Relevés de  commissions'!O1319,0)*1","v":0},{"$f":"IF('Relevés de  commissions'!D1319=\"AGI externes\",'Relevés de  commissions'!P1319,0)*1","v":0},0,""]
[null,null,null,null,null,null,null,null,null,null,null,null,{"$f":"IF('Relevés de  commissions'!D1320=\"AGI externes\",'Relevés de  commissions'!M1320,0)*1","v":0},{"$f":"IF('Relevés de  commissions'!D1320=\"AGI externes\",'Relevés de  commissions'!N1320,0)*1","v":0},{"$f":"IF('Relevés de  commissions'!D1320=\"AGI externes\",'Relevés de  commissions'!O1320,0)*1","v":0},{"$f":"IF('Relevés de  commissions'!D1320=\"AGI externes\",'Relevés de  commissions'!P1320,0)*1","v":0},0,""]
[null,null,null,null,null,null,null,null,null,null,null,null,{"$f":"IF('Relevés de  commissions'!D1321=\"AGI externes\",'Relevés de  commissions'!M1321,0)*1","v":0},{"$f":"IF('Relevés de  commissions'!D1321=\"AGI externes\",'Relevés de  commissions'!N1321,0)*1","v":0},{"$f":"IF('Relevés de  commissions'!D1321=\"AGI externes\",'Relevés de  commissions'!O1321,0)*1","v":0},{"$f":"IF('Relevés de  commissions'!D1321=\"AGI externes\",'Relevés de  commissions'!P1321,0)*1","v":0},0,""]
[null,null,null,null,null,null,null,null,null,null,null,null,{"$f":"IF('Relevés de  commissions'!D1322=\"AGI externes\",'Relevés de  commissions'!M1322,0)*1","v":0},{"$f":"IF('Relevés de  commissions'!D1322=\"AGI externes\",'Relevés de  commissions'!N1322,0)*1","v":0},{"$f":"IF('Relevés de  commissions'!D1322=\"AGI externes\",'Relevés de  commissions'!O1322,0)*1","v":0},{"$f":"IF('Relevés de  commissions'!D1322=\"AGI externes\",'Relevés de  commissions'!P1322,0)*1","v":0},0,""]
[null,null,null,null,null,null,null,null,null,null,null,null,{"$f":"IF('Relevés de  commissions'!D1323=\"AGI externes\",'Relevés de  commissions'!M1323,0)*1","v":0},{"$f":"IF('Relevés de  commissions'!D1323=\"AGI externes\",'Relevés de  commissions'!N1323,0)*1","v":0},{"$f":"IF('Relevés de  commissions'!D1323=\"AGI externes\",'Relevés de  commissions'!O1323,0)*1","v":0},{"$f":"IF('Relevés de  commissions'!D1323=\"AGI externes\",'Relevés de  commissions'!P1323,0)*1","v":0},0,""]
[null,null,null,null,null,null,null,null,null,null,null,null,{"$f":"IF('Relevés de  commissions'!D1324=\"AGI externes\",'Relevés de  commissions'!M1324,0)*1","v":0},{"$f":"IF('Relevés de  commissions'!D1324=\"AGI externes\",'Relevés de  commissions'!N1324,0)*1","v":0},{"$f":"IF('Relevés de  commissions'!D1324=\"AGI externes\",'Relevés de  commissions'!O1324,0)*1","v":0},{"$f":"IF('Relevés de  commissions'!D1324=\"AGI externes\",'Relevés de  commissions'!P1324,0)*1","v":0},0,""]
[null,null,null,null,null,null,null,null,null,null,null,null,{"$f":"IF('Relevés de  commissions'!D1325=\"AGI externes\",'Relevés de  commissions'!M1325,0)*1","v":0},{"$f":"IF('Relevés de  commissions'!D1325=\"AGI externes\",'Relevés de  commissions'!N1325,0)*1","v":0},{"$f":"IF('Relevés de  commissions'!D1325=\"AGI externes\",'Relevés de  commissions'!O1325,0)*1","v":0},{"$f":"IF('Relevés de  commissions'!D1325=\"AGI externes\",'Relevés de  commissions'!P1325,0)*1","v":0},0,""]
[null,null,null,null,null,null,null,null,null,null,null,null,{"$f":"IF('Relevés de  commissions'!D1326=\"AGI externes\",'Relevés de  commissions'!M1326,0)*1","v":0},{"$f":"IF('Relevés de  commissions'!D1326=\"AGI externes\",'Relevés de  commissions'!N1326,0)*1","v":0},{"$f":"IF('Relevés de  commissions'!D1326=\"AGI externes\",'Relevés de  commissions'!O1326,0)*1","v":0},{"$f":"IF('Relevés de  commissions'!D1326=\"AGI externes\",'Relevés de  commissions'!P1326,0)*1","v":0},0,""]
[null,null,null,null,null,null,null,null,null,null,null,null,{"$f":"IF('Relevés de  commissions'!D1327=\"AGI externes\",'Relevés de  commissions'!M1327,0)*1","v":0},{"$f":"IF('Relevés de  commissions'!D1327=\"AGI externes\",'Relevés de  commissions'!N1327,0)*1","v":0},{"$f":"IF('Relevés de  commissions'!D1327=\"AGI externes\",'Relevés de  commissions'!O1327,0)*1","v":0},{"$f":"IF('Relevés de  commissions'!D1327=\"AGI externes\",'Relevés de  commissions'!P1327,0)*1","v":0},0,""]
[null,null,null,null,null,null,null,null,null,null,null,null,{"$f":"IF('Relevés de  commissions'!D1328=\"AGI externes\",'Relevés de  commissions'!M1328,0)*1","v":0},{"$f":"IF('Relevés de  commissions'!D1328=\"AGI externes\",'Relevés de  commissions'!N1328,0)*1","v":0},{"$f":"IF('Relevés de  commissions'!D1328=\"AGI externes\",'Relevés de  commissions'!O1328,0)*1","v":0},{"$f":"IF('Relevés de  commissions'!D1328=\"AGI externes\",'Relevés de  commissions'!P1328,0)*1","v":0},0,""]
[null,null,null,null,null,null,null,null,null,null,null,null,{"$f":"IF('Relevés de  commissions'!D1329=\"AGI externes\",'Relevés de  commissions'!M1329,0)*1","v":0},{"$f":"IF('Relevés de  commissions'!D1329=\"AGI externes\",'Relevés de  commissions'!N1329,0)*1","v":0},{"$f":"IF('Relevés de  commissions'!D1329=\"AGI externes\",'Relevés de  commissions'!O1329,0)*1","v":0},{"$f":"IF('Relevés de  commissions'!D1329=\"AGI externes\",'Relevés de  commissions'!P1329,0)*1","v":0},0,""]
[null,null,null,null,null,null,null,null,null,null,null,null,{"$f":"IF('Relevés de  commissions'!D1330=\"AGI externes\",'Relevés de  commissions'!M1330,0)*1","v":0},{"$f":"IF('Relevés de  commissions'!D1330=\"AGI externes\",'Relevés de  commissions'!N1330,0)*1","v":0},{"$f":"IF('Relevés de  commissions'!D1330=\"AGI externes\",'Relevés de  commissions'!O1330,0)*1","v":0},{"$f":"IF('Relevés de  commissions'!D1330=\"AGI externes\",'Relevés de  commissions'!P1330,0)*1","v":0},0,""]
[null,null,null,null,null,null,null,null,null,null,null,null,{"$f":"IF('Relevés de  commissions'!D1331=\"AGI externes\",'Relevés de  commissions'!M1331,0)*1","v":0},{"$f":"IF('Relevés de  commissions'!D1331=\"AGI externes\",'Relevés de  commissions'!N1331,0)*1","v":0},{"$f":"IF('Relevés de  commissions'!D1331=\"AGI externes\",'Relevés de  commissions'!O1331,0)*1","v":0},{"$f":"IF('Relevés de  commissions'!D1331=\"AGI externes\",'Relevés de  commissions'!P1331,0)*1","v":0},0,""]
[null,null,null,null,null,null,null,null,null,null,null,null,{"$f":"IF('Relevés de  commissions'!D1332=\"AGI externes\",'Relevés de  commissions'!M1332,0)*1","v":0},{"$f":"IF('Relevés de  commissions'!D1332=\"AGI externes\",'Relevés de  commissions'!N1332,0)*1","v":0},{"$f":"IF('Relevés de  commissions'!D1332=\"AGI externes\",'Relevés de  commissions'!O1332,0)*1","v":0},{"$f":"IF('Relevés de  commissions'!D1332=\"AGI externes\",'Relevés de  commissions'!P1332,0)*1","v":0},0,""]
[null,null,null,null,null,null,null,null,null,null,null,null,{"$f":"IF('Relevés de  commissions'!D1333=\"AGI externes\",'Relevés de  commissions'!M1333,0)*1","v":0},{"$f":"IF('Relevés de  commissions'!D1333=\"AGI externes\",'Relevés de  commissions'!N1333,0)*1","v":0},{"$f":"IF('Relevés de  commissions'!D1333=\"AGI externes\",'Relevés de  commissions'!O1333,0)*1","v":0},{"$f":"IF('Relevés de  commissions'!D1333=\"AGI externes\",'Relevés de  commissions'!P1333,0)*1","v":0},0,""]
[null,null,null,null,null,null,null,null,null,null,null,null,{"$f":"IF('Relevés de  commissions'!D1334=\"AGI externes\",'Relevés de  commissions'!M1334,0)*1","v":0},{"$f":"IF('Relevés de  commissions'!D1334=\"AGI externes\",'Relevés de  commissions'!N1334,0)*1","v":0},{"$f":"IF('Relevés de  commissions'!D1334=\"AGI externes\",'Relevés de  commissions'!O1334,0)*1","v":0},{"$f":"IF('Relevés de  commissions'!D1334=\"AGI externes\",'Relevés de  commissions'!P1334,0)*1","v":0},0,""]
[null,null,null,null,null,null,null,null,null,null,null,null,{"$f":"IF('Relevés de  commissions'!D1335=\"AGI externes\",'Relevés de  commissions'!M1335,0)*1","v":0},{"$f":"IF('Relevés de  commissions'!D1335=\"AGI externes\",'Relevés de  commissions'!N1335,0)*1","v":0},{"$f":"IF('Relevés de  commissions'!D1335=\"AGI externes\",'Relevés de  commissions'!O1335,0)*1","v":0},{"$f":"IF('Relevés de  commissions'!D1335=\"AGI externes\",'Relevés de  commissions'!P1335,0)*1","v":0},0,""]
[null,null,null,null,null,null,null,null,null,null,null,null,{"$f":"IF('Relevés de  commissions'!D1336=\"AGI externes\",'Relevés de  commissions'!M1336,0)*1","v":0},{"$f":"IF('Relevés de  commissions'!D1336=\"AGI externes\",'Relevés de  commissions'!N1336,0)*1","v":0},{"$f":"IF('Relevés de  commissions'!D1336=\"AGI externes\",'Relevés de  commissions'!O1336,0)*1","v":0},{"$f":"IF('Relevés de  commissions'!D1336=\"AGI externes\",'Relevés de  commissions'!P1336,0)*1","v":0},0,""]
[null,null,null,null,null,null,null,null,null,null,null,null,{"$f":"IF('Relevés de  commissions'!D1337=\"AGI externes\",'Relevés de  commissions'!M1337,0)*1","v":0},{"$f":"IF('Relevés de  commissions'!D1337=\"AGI externes\",'Relevés de  commissions'!N1337,0)*1","v":0},{"$f":"IF('Relevés de  commissions'!D1337=\"AGI externes\",'Relevés de  commissions'!O1337,0)*1","v":0},{"$f":"IF('Relevés de  commissions'!D1337=\"AGI externes\",'Relevés de  commissions'!P1337,0)*1","v":0},0,""]
[null,null,null,null,null,null,null,null,null,null,null,null,{"$f":"IF('Relevés de  commissions'!D1338=\"AGI externes\",'Relevés de  commissions'!M1338,0)*1","v":0},{"$f":"IF('Relevés de  commissions'!D1338=\"AGI externes\",'Relevés de  commissions'!N1338,0)*1","v":0},{"$f":"IF('Relevés de  commissions'!D1338=\"AGI externes\",'Relevés de  commissions'!O1338,0)*1","v":0},{"$f":"IF('Relevés de  commissions'!D1338=\"AGI externes\",'Relevés de  commissions'!P1338,0)*1","v":0},0,""]
[null,null,null,null,null,null,null,null,null,null,null,null,{"$f":"IF('Relevés de  commissions'!D1339=\"AGI externes\",'Relevés de  commissions'!M1339,0)*1","v":0},{"$f":"IF('Relevés de  commissions'!D1339=\"AGI externes\",'Relevés de  commissions'!N1339,0)*1","v":0},{"$f":"IF('Relevés de  commissions'!D1339=\"AGI externes\",'Relevés de  commissions'!O1339,0)*1","v":0},{"$f":"IF('Relevés de  commissions'!D1339=\"AGI externes\",'Relevés de  commissions'!P1339,0)*1","v":0},0,""]
[null,null,null,null,null,null,null,null,null,null,null,null,{"$f":"IF('Relevés de  commissions'!D1340=\"AGI externes\",'Relevés de  commissions'!M1340,0)*1","v":0},{"$f":"IF('Relevés de  commissions'!D1340=\"AGI externes\",'Relevés de  commissions'!N1340,0)*1","v":0},{"$f":"IF('Relevés de  commissions'!D1340=\"AGI externes\",'Relevés de  commissions'!O1340,0)*1","v":0},{"$f":"IF('Relevés de  commissions'!D1340=\"AGI externes\",'Relevés de  commissions'!P1340,0)*1","v":0},0,""]
[null,null,null,null,null,null,null,null,null,null,null,null,{"$f":"IF('Relevés de  commissions'!D1341=\"AGI externes\",'Relevés de  commissions'!M1341,0)*1","v":0},{"$f":"IF('Relevés de  commissions'!D1341=\"AGI externes\",'Relevés de  commissions'!N1341,0)*1","v":0},{"$f":"IF('Relevés de  commissions'!D1341=\"AGI externes\",'Relevés de  commissions'!O1341,0)*1","v":0},{"$f":"IF('Relevés de  commissions'!D1341=\"AGI externes\",'Relevés de  commissions'!P1341,0)*1","v":0},0,""]
[null,null,null,null,null,null,null,null,null,null,null,null,{"$f":"IF('Relevés de  commissions'!D1342=\"AGI externes\",'Relevés de  commissions'!M1342,0)*1","v":0},{"$f":"IF('Relevés de  commissions'!D1342=\"AGI externes\",'Relevés de  commissions'!N1342,0)*1","v":0},{"$f":"IF('Relevés de  commissions'!D1342=\"AGI externes\",'Relevés de  commissions'!O1342,0)*1","v":0},{"$f":"IF('Relevés de  commissions'!D1342=\"AGI externes\",'Relevés de  commissions'!P1342,0)*1","v":0},0,""]
[null,null,null,null,null,null,null,null,null,null,null,null,{"$f":"IF('Relevés de  commissions'!D1343=\"AGI externes\",'Relevés de  commissions'!M1343,0)*1","v":0},{"$f":"IF('Relevés de  commissions'!D1343=\"AGI externes\",'Relevés de  commissions'!N1343,0)*1","v":0},{"$f":"IF('Relevés de  commissions'!D1343=\"AGI externes\",'Relevés de  commissions'!O1343,0)*1","v":0},{"$f":"IF('Relevés de  commissions'!D1343=\"AGI externes\",'Relevés de  commissions'!P1343,0)*1","v":0},0,""]
[null,null,null,null,null,null,null,null,null,null,null,null,{"$f":"IF('Relevés de  commissions'!D1344=\"AGI externes\",'Relevés de  commissions'!M1344,0)*1","v":0},{"$f":"IF('Relevés de  commissions'!D1344=\"AGI externes\",'Relevés de  commissions'!N1344,0)*1","v":0},{"$f":"IF('Relevés de  commissions'!D1344=\"AGI externes\",'Relevés de  commissions'!O1344,0)*1","v":0},{"$f":"IF('Relevés de  commissions'!D1344=\"AGI externes\",'Relevés de  commissions'!P1344,0)*1","v":0},0,""]
[null,null,null,null,null,null,null,null,null,null,null,null,{"$f":"IF('Relevés de  commissions'!D1345=\"AGI externes\",'Relevés de  commissions'!M1345,0)*1","v":0},{"$f":"IF('Relevés de  commissions'!D1345=\"AGI externes\",'Relevés de  commissions'!N1345,0)*1","v":0},{"$f":"IF('Relevés de  commissions'!D1345=\"AGI externes\",'Relevés de  commissions'!O1345,0)*1","v":0},{"$f":"IF('Relevés de  commissions'!D1345=\"AGI externes\",'Relevés de  commissions'!P1345,0)*1","v":0},0,""]
[null,null,null,null,null,null,null,null,null,null,null,null,{"$f":"IF('Relevés de  commissions'!D1346=\"AGI externes\",'Relevés de  commissions'!M1346,0)*1","v":0},{"$f":"IF('Relevés de  commissions'!D1346=\"AGI externes\",'Relevés de  commissions'!N1346,0)*1","v":0},{"$f":"IF('Relevés de  commissions'!D1346=\"AGI externes\",'Relevés de  commissions'!O1346,0)*1","v":0},{"$f":"IF('Relevés de  commissions'!D1346=\"AGI externes\",'Relevés de  commissions'!P1346,0)*1","v":0},0,""]
[null,null,null,null,null,null,null,null,null,null,null,null,{"$f":"IF('Relevés de  commissions'!D1347=\"AGI externes\",'Relevés de  commissions'!M1347,0)*1","v":0},{"$f":"IF('Relevés de  commissions'!D1347=\"AGI externes\",'Relevés de  commissions'!N1347,0)*1","v":0},{"$f":"IF('Relevés de  commissions'!D1347=\"AGI externes\",'Relevés de  commissions'!O1347,0)*1","v":0},{"$f":"IF('Relevés de  commissions'!D1347=\"AGI externes\",'Relevés de  commissions'!P1347,0)*1","v":0},{"$f":"IF(N1349=0,O1349,\"\")","v":0},{"$f":"IF(N1349=10,O1349,\"\")","v":""}]
[null,null,null,null,null,null,null,null,null,null,null,null,{"$f":"IF('Relevés de  commissions'!D1348=\"AGI externes\",'Relevés de  commissions'!M1348,0)*1","v":0},{"$f":"IF('Relevés de  commissions'!D1348=\"AGI externes\",'Relevés de  commissions'!N1348,0)*1","v":0},{"$f":"IF('Relevés de  commissions'!D1348=\"AGI externes\",'Relevés de  commissions'!O1348,0)*1","v":0},{"$f":"IF('Relevés de  commissions'!D1348=\"AGI externes\",'Relevés de  commissions'!P1348,0)*1","v":0},0,""]
[null,null,null,null,null,null,null,null,null,null,null,null,{"$f":"IF('Relevés de  commissions'!D1349=\"AGI externes\",'Relevés de  commissions'!M1349,0)*1","v":0},{"$f":"IF('Relevés de  commissions'!D1349=\"AGI externes\",'Relevés de  commissions'!N1349,0)*1","v":0},{"$f":"IF('Relevés de  commissions'!D1349=\"AGI externes\",'Relevés de  commissions'!O1349,0)*1","v":0},{"$f":"IF('Relevés de  commissions'!D1349=\"AGI externes\",'Relevés de  commissions'!P1349,0)*1","v":0},0,""]
[null,null,null,null,null,null,null,null,null,null,null,null,{"$f":"IF('Relevés de  commissions'!D1350=\"AGI externes\",'Relevés de  commissions'!M1350,0)*1","v":0},{"$f":"IF('Relevés de  commissions'!D1350=\"AGI externes\",'Relevés de  commissions'!N1350,0)*1","v":0},{"$f":"IF('Relevés de  commissions'!D1350=\"AGI externes\",'Relevés de  commissions'!O1350,0)*1","v":0},{"$f":"IF('Relevés de  commissions'!D1350=\"AGI externes\",'Relevés de  commissions'!P1350,0)*1","v":0},0,""]
[null,null,null,null,null,null,null,null,null,null,null,null,{"$f":"IF('Relevés de  commissions'!D1351=\"AGI externes\",'Relevés de  commissions'!M1351,0)*1","v":0},{"$f":"IF('Relevés de  commissions'!D1351=\"AGI externes\",'Relevés de  commissions'!N1351,0)*1","v":0},{"$f":"IF('Relevés de  commissions'!D1351=\"AGI externes\",'Relevés de  commissions'!O1351,0)*1","v":0},{"$f":"IF('Relevés de  commissions'!D1351=\"AGI externes\",'Relevés de  commissions'!P1351,0)*1","v":0},0,""]
[null,null,null,null,null,null,null,null,null,null,null,null,{"$f":"IF('Relevés de  commissions'!D1352=\"AGI externes\",'Relevés de  commissions'!M1352,0)*1","v":0},{"$f":"IF('Relevés de  commissions'!D1352=\"AGI externes\",'Relevés de  commissions'!N1352,0)*1","v":0},{"$f":"IF('Relevés de  commissions'!D1352=\"AGI externes\",'Relevés de  commissions'!O1352,0)*1","v":0},{"$f":"IF('Relevés de  commissions'!D1352=\"AGI externes\",'Relevés de  commissions'!P1352,0)*1","v":0},0,""]
[null,null,null,null,null,null,null,null,null,null,null,null,{"$f":"IF('Relevés de  commissions'!D1353=\"AGI externes\",'Relevés de  commissions'!M1353,0)*1","v":0},{"$f":"IF('Relevés de  commissions'!D1353=\"AGI externes\",'Relevés de  commissions'!N1353,0)*1","v":0},{"$f":"IF('Relevés de  commissions'!D1353=\"AGI externes\",'Relevés de  commissions'!O1353,0)*1","v":0},{"$f":"IF('Relevés de  commissions'!D1353=\"AGI externes\",'Relevés de  commissions'!P1353,0)*1","v":0},0,""]
[null,null,null,null,null,null,null,null,null,null,null,null,{"$f":"IF('Relevés de  commissions'!D1354=\"AGI externes\",'Relevés de  commissions'!M1354,0)*1","v":0},{"$f":"IF('Relevés de  commissions'!D1354=\"AGI externes\",'Relevés de  commissions'!N1354,0)*1","v":0},{"$f":"IF('Relevés de  commissions'!D1354=\"AGI externes\",'Relevés de  commissions'!O1354,0)*1","v":0},{"$f":"IF('Relevés de  commissions'!D1354=\"AGI externes\",'Relevés de  commissions'!P1354,0)*1","v":0},0,""]
[null,null,null,null,null,null,null,null,null,null,null,null,{"$f":"IF('Relevés de  commissions'!D1355=\"AGI externes\",'Relevés de  commissions'!M1355,0)*1","v":0},{"$f":"IF('Relevés de  commissions'!D1355=\"AGI externes\",'Relevés de  commissions'!N1355,0)*1","v":0},{"$f":"IF('Relevés de  commissions'!D1355=\"AGI externes\",'Relevés de  commissions'!O1355,0)*1","v":0},{"$f":"IF('Relevés de  commissions'!D1355=\"AGI externes\",'Relevés de  commissions'!P1355,0)*1","v":0},0,""]
[null,null,null,null,null,null,null,null,null,null,null,null,{"$f":"IF('Relevés de  commissions'!D1356=\"AGI externes\",'Relevés de  commissions'!M1356,0)*1","v":0},{"$f":"IF('Relevés de  commissions'!D1356=\"AGI externes\",'Relevés de  commissions'!N1356,0)*1","v":0},{"$f":"IF('Relevés de  commissions'!D1356=\"AGI externes\",'Relevés de  commissions'!O1356,0)*1","v":0},{"$f":"IF('Relevés de  commissions'!D1356=\"AGI externes\",'Relevés de  commissions'!P1356,0)*1","v":0},0,""]
[null,null,null,null,null,null,null,null,null,null,null,null,{"$f":"IF('Relevés de  commissions'!D1357=\"AGI externes\",'Relevés de  commissions'!M1357,0)*1","v":0},{"$f":"IF('Relevés de  commissions'!D1357=\"AGI externes\",'Relevés de  commissions'!N1357,0)*1","v":0},{"$f":"IF('Relevés de  commissions'!D1357=\"AGI externes\",'Relevés de  commissions'!O1357,0)*1","v":0},{"$f":"IF('Relevés de  commissions'!D1357=\"AGI externes\",'Relevés de  commissions'!P1357,0)*1","v":0},0,""]
[null,null,null,null,null,null,null,null,null,null,null,null,{"$f":"IF('Relevés de  commissions'!D1358=\"AGI externes\",'Relevés de  commissions'!M1358,0)*1","v":0},{"$f":"IF('Relevés de  commissions'!D1358=\"AGI externes\",'Relevés de  commissions'!N1358,0)*1","v":0},{"$f":"IF('Relevés de  commissions'!D1358=\"AGI externes\",'Relevés de  commissions'!O1358,0)*1","v":0},{"$f":"IF('Relevés de  commissions'!D1358=\"AGI externes\",'Relevés de  commissions'!P1358,0)*1","v":0},0,""]
[null,null,null,null,null,null,null,null,null,null,null,null,{"$f":"IF('Relevés de  commissions'!D1359=\"AGI externes\",'Relevés de  commissions'!M1359,0)*1","v":0},{"$f":"IF('Relevés de  commissions'!D1359=\"AGI externes\",'Relevés de  commissions'!N1359,0)*1","v":0},{"$f":"IF('Relevés de  commissions'!D1359=\"AGI externes\",'Relevés de  commissions'!O1359,0)*1","v":0},{"$f":"IF('Relevés de  commissions'!D1359=\"AGI externes\",'Relevés de  commissions'!P1359,0)*1","v":0},0,""]
[null,null,null,null,null,null,null,null,null,null,null,null,{"$f":"IF('Relevés de  commissions'!D1360=\"AGI externes\",'Relevés de  commissions'!M1360,0)*1","v":0},{"$f":"IF('Relevés de  commissions'!D1360=\"AGI externes\",'Relevés de  commissions'!N1360,0)*1","v":0},{"$f":"IF('Relevés de  commissions'!D1360=\"AGI externes\",'Relevés de  commissions'!O1360,0)*1","v":0},{"$f":"IF('Relevés de  commissions'!D1360=\"AGI externes\",'Relevés de  commissions'!P1360,0)*1","v":0},0,""]
[null,null,null,null,null,null,null,null,null,null,null,null,{"$f":"IF('Relevés de  commissions'!D1361=\"AGI externes\",'Relevés de  commissions'!M1361,0)*1","v":0},{"$f":"IF('Relevés de  commissions'!D1361=\"AGI externes\",'Relevés de  commissions'!N1361,0)*1","v":0},{"$f":"IF('Relevés de  commissions'!D1361=\"AGI externes\",'Relevés de  commissions'!O1361,0)*1","v":0},{"$f":"IF('Relevés de  commissions'!D1361=\"AGI externes\",'Relevés de  commissions'!P1361,0)*1","v":0},0,""]
[null,null,null,null,null,null,null,null,null,null,null,null,{"$f":"IF('Relevés de  commissions'!D1362=\"AGI externes\",'Relevés de  commissions'!M1362,0)*1","v":0},{"$f":"IF('Relevés de  commissions'!D1362=\"AGI externes\",'Relevés de  commissions'!N1362,0)*1","v":0},{"$f":"IF('Relevés de  commissions'!D1362=\"AGI externes\",'Relevés de  commissions'!O1362,0)*1","v":0},{"$f":"IF('Relevés de  commissions'!D1362=\"AGI externes\",'Relevés de  commissions'!P1362,0)*1","v":0},0,""]
[null,null,null,null,null,null,null,null,null,null,null,null,{"$f":"IF('Relevés de  commissions'!D1363=\"AGI externes\",'Relevés de  commissions'!M1363,0)*1","v":0},{"$f":"IF('Relevés de  commissions'!D1363=\"AGI externes\",'Relevés de  commissions'!N1363,0)*1","v":0},{"$f":"IF('Relevés de  commissions'!D1363=\"AGI externes\",'Relevés de  commissions'!O1363,0)*1","v":0},{"$f":"IF('Relevés de  commissions'!D1363=\"AGI externes\",'Relevés de  commissions'!P1363,0)*1","v":0},0,""]
[null,null,null,null,null,null,null,null,null,null,null,null,{"$f":"IF('Relevés de  commissions'!D1364=\"AGI externes\",'Relevés de  commissions'!M1364,0)*1","v":0},{"$f":"IF('Relevés de  commissions'!D1364=\"AGI externes\",'Relevés de  commissions'!N1364,0)*1","v":0},{"$f":"IF('Relevés de  commissions'!D1364=\"AGI externes\",'Relevés de  commissions'!O1364,0)*1","v":0},{"$f":"IF('Relevés de  commissions'!D1364=\"AGI externes\",'Relevés de  commissions'!P1364,0)*1","v":0},0,""]
[null,null,null,null,null,null,null,null,null,null,null,null,{"$f":"IF('Relevés de  commissions'!D1365=\"AGI externes\",'Relevés de  commissions'!M1365,0)*1","v":0},{"$f":"IF('Relevés de  commissions'!D1365=\"AGI externes\",'Relevés de  commissions'!N1365,0)*1","v":0},{"$f":"IF('Relevés de  commissions'!D1365=\"AGI externes\",'Relevés de  commissions'!O1365,0)*1","v":0},{"$f":"IF('Relevés de  commissions'!D1365=\"AGI externes\",'Relevés de  commissions'!P1365,0)*1","v":0},0,""]
[null,null,null,null,null,null,null,null,null,null,null,null,{"$f":"IF('Relevés de  commissions'!D1366=\"AGI externes\",'Relevés de  commissions'!M1366,0)*1","v":0},{"$f":"IF('Relevés de  commissions'!D1366=\"AGI externes\",'Relevés de  commissions'!N1366,0)*1","v":0},{"$f":"IF('Relevés de  commissions'!D1366=\"AGI externes\",'Relevés de  commissions'!O1366,0)*1","v":0},{"$f":"IF('Relevés de  commissions'!D1366=\"AGI externes\",'Relevés de  commissions'!P1366,0)*1","v":0},0,""]
[null,null,null,null,null,null,null,null,null,null,null,null,{"$f":"IF('Relevés de  commissions'!D1367=\"AGI externes\",'Relevés de  commissions'!M1367,0)*1","v":0},{"$f":"IF('Relevés de  commissions'!D1367=\"AGI externes\",'Relevés de  commissions'!N1367,0)*1","v":0},{"$f":"IF('Relevés de  commissions'!D1367=\"AGI externes\",'Relevés de  commissions'!O1367,0)*1","v":0},{"$f":"IF('Relevés de  commissions'!D1367=\"AGI externes\",'Relevés de  commissions'!P1367,0)*1","v":0},0,""]
[null,null,null,null,null,null,null,null,null,null,null,null,{"$f":"IF('Relevés de  commissions'!D1368=\"AGI externes\",'Relevés de  commissions'!M1368,0)*1","v":0},{"$f":"IF('Relevés de  commissions'!D1368=\"AGI externes\",'Relevés de  commissions'!N1368,0)*1","v":0},{"$f":"IF('Relevés de  commissions'!D1368=\"AGI externes\",'Relevés de  commissions'!O1368,0)*1","v":0},{"$f":"IF('Relevés de  commissions'!D1368=\"AGI externes\",'Relevés de  commissions'!P1368,0)*1","v":0},0,""]
[null,null,null,null,null,null,null,null,null,null,null,null,{"$f":"IF('Relevés de  commissions'!D1369=\"AGI externes\",'Relevés de  commissions'!M1369,0)*1","v":0},{"$f":"IF('Relevés de  commissions'!D1369=\"AGI externes\",'Relevés de  commissions'!N1369,0)*1","v":0},{"$f":"IF('Relevés de  commissions'!D1369=\"AGI externes\",'Relevés de  commissions'!O1369,0)*1","v":0},{"$f":"IF('Relevés de  commissions'!D1369=\"AGI externes\",'Relevés de  commissions'!P1369,0)*1","v":0},0,""]
[null,null,null,null,null,null,null,null,null,null,null,null,{"$f":"IF('Relevés de  commissions'!D1370=\"AGI externes\",'Relevés de  commissions'!M1370,0)*1","v":0},{"$f":"IF('Relevés de  commissions'!D1370=\"AGI externes\",'Relevés de  commissions'!N1370,0)*1","v":0},{"$f":"IF('Relevés de  commissions'!D1370=\"AGI externes\",'Relevés de  commissions'!O1370,0)*1","v":0},{"$f":"IF('Relevés de  commissions'!D1370=\"AGI externes\",'Relevés de  commissions'!P1370,0)*1","v":0},0,""]
[null,null,null,null,null,null,null,null,null,null,null,null,{"$f":"IF('Relevés de  commissions'!D1371=\"AGI externes\",'Relevés de  commissions'!M1371,0)*1","v":0},{"$f":"IF('Relevés de  commissions'!D1371=\"AGI externes\",'Relevés de  commissions'!N1371,0)*1","v":0},{"$f":"IF('Relevés de  commissions'!D1371=\"AGI externes\",'Relevés de  commissions'!O1371,0)*1","v":0},{"$f":"IF('Relevés de  commissions'!D1371=\"AGI externes\",'Relevés de  commissions'!P1371,0)*1","v":0},0,""]
[null,null,null,null,null,null,null,null,null,null,null,null,{"$f":"IF('Relevés de  commissions'!D1372=\"AGI externes\",'Relevés de  commissions'!M1372,0)*1","v":0},{"$f":"IF('Relevés de  commissions'!D1372=\"AGI externes\",'Relevés de  commissions'!N1372,0)*1","v":0},{"$f":"IF('Relevés de  commissions'!D1372=\"AGI externes\",'Relevés de  commissions'!O1372,0)*1","v":0},{"$f":"IF('Relevés de  commissions'!D1372=\"AGI externes\",'Relevés de  commissions'!P1372,0)*1","v":0},0,""]
[null,null,null,null,null,null,null,null,null,null,null,null,{"$f":"IF('Relevés de  commissions'!D1373=\"AGI externes\",'Relevés de  commissions'!M1373,0)*1","v":0},{"$f":"IF('Relevés de  commissions'!D1373=\"AGI externes\",'Relevés de  commissions'!N1373,0)*1","v":0},{"$f":"IF('Relevés de  commissions'!D1373=\"AGI externes\",'Relevés de  commissions'!O1373,0)*1","v":0},{"$f":"IF('Relevés de  commissions'!D1373=\"AGI externes\",'Relevés de  commissions'!P1373,0)*1","v":0},0,""]
[null,null,null,null,null,null,null,null,null,null,null,null,{"$f":"IF('Relevés de  commissions'!D1374=\"AGI externes\",'Relevés de  commissions'!M1374,0)*1","v":0},{"$f":"IF('Relevés de  commissions'!D1374=\"AGI externes\",'Relevés de  commissions'!N1374,0)*1","v":0},{"$f":"IF('Relevés de  commissions'!D1374=\"AGI externes\",'Relevés de  commissions'!O1374,0)*1","v":0},{"$f":"IF('Relevés de  commissions'!D1374=\"AGI externes\",'Relevés de  commissions'!P1374,0)*1","v":0},0,""]
[null,null,null,null,null,null,null,null,null,null,null,null,{"$f":"IF('Relevés de  commissions'!D1375=\"AGI externes\",'Relevés de  commissions'!M1375,0)*1","v":0},{"$f":"IF('Relevés de  commissions'!D1375=\"AGI externes\",'Relevés de  commissions'!N1375,0)*1","v":0},{"$f":"IF('Relevés de  commissions'!D1375=\"AGI externes\",'Relevés de  commissions'!O1375,0)*1","v":0},{"$f":"IF('Relevés de  commissions'!D1375=\"AGI externes\",'Relevés de  commissions'!P1375,0)*1","v":0},0,""]
[null,null,null,null,null,null,null,null,null,null,null,null,{"$f":"IF('Relevés de  commissions'!D1376=\"AGI externes\",'Relevés de  commissions'!M1376,0)*1","v":0},{"$f":"IF('Relevés de  commissions'!D1376=\"AGI externes\",'Relevés de  commissions'!N1376,0)*1","v":0},{"$f":"IF('Relevés de  commissions'!D1376=\"AGI externes\",'Relevés de  commissions'!O1376,0)*1","v":0},{"$f":"IF('Relevés de  commissions'!D1376=\"AGI externes\",'Relevés de  commissions'!P1376,0)*1","v":0},0,""]
[null,null,null,null,null,null,null,null,null,null,null,null,{"$f":"IF('Relevés de  commissions'!D1377=\"AGI externes\",'Relevés de  commissions'!M1377,0)*1","v":0},{"$f":"IF('Relevés de  commissions'!D1377=\"AGI externes\",'Relevés de  commissions'!N1377,0)*1","v":0},{"$f":"IF('Relevés de  commissions'!D1377=\"AGI externes\",'Relevés de  commissions'!O1377,0)*1","v":0},{"$f":"IF('Relevés de  commissions'!D1377=\"AGI externes\",'Relevés de  commissions'!P1377,0)*1","v":0},0,""]
[null,null,null,null,null,null,null,null,null,null,null,null,{"$f":"IF('Relevés de  commissions'!D1378=\"AGI externes\",'Relevés de  commissions'!M1378,0)*1","v":0},{"$f":"IF('Relevés de  commissions'!D1378=\"AGI externes\",'Relevés de  commissions'!N1378,0)*1","v":0},{"$f":"IF('Relevés de  commissions'!D1378=\"AGI externes\",'Relevés de  commissions'!O1378,0)*1","v":0},{"$f":"IF('Relevés de  commissions'!D1378=\"AGI externes\",'Relevés de  commissions'!P1378,0)*1","v":0},0,""]
[null,null,null,null,null,null,null,null,null,null,null,null,{"$f":"IF('Relevés de  commissions'!D1379=\"AGI externes\",'Relevés de  commissions'!M1379,0)*1","v":0},{"$f":"IF('Relevés de  commissions'!D1379=\"AGI externes\",'Relevés de  commissions'!N1379,0)*1","v":0},{"$f":"IF('Relevés de  commissions'!D1379=\"AGI externes\",'Relevés de  commissions'!O1379,0)*1","v":0},{"$f":"IF('Relevés de  commissions'!D1379=\"AGI externes\",'Relevés de  commissions'!P1379,0)*1","v":0},0,""]
[null,null,null,null,null,null,null,null,null,null,null,null,{"$f":"IF('Relevés de  commissions'!D1380=\"AGI externes\",'Relevés de  commissions'!M1380,0)*1","v":0},{"$f":"IF('Relevés de  commissions'!D1380=\"AGI externes\",'Relevés de  commissions'!N1380,0)*1","v":0},{"$f":"IF('Relevés de  commissions'!D1380=\"AGI externes\",'Relevés de  commissions'!O1380,0)*1","v":0},{"$f":"IF('Relevés de  commissions'!D1380=\"AGI externes\",'Relevés de  commissions'!P1380,0)*1","v":0},0,""]
[null,null,null,null,null,null,null,null,null,null,null,null,{"$f":"IF('Relevés de  commissions'!D1381=\"AGI externes\",'Relevés de  commissions'!M1381,0)*1","v":0},{"$f":"IF('Relevés de  commissions'!D1381=\"AGI externes\",'Relevés de  commissions'!N1381,0)*1","v":0},{"$f":"IF('Relevés de  commissions'!D1381=\"AGI externes\",'Relevés de  commissions'!O1381,0)*1","v":0},{"$f":"IF('Relevés de  commissions'!D1381=\"AGI externes\",'Relevés de  commissions'!P1381,0)*1","v":0},0,""]
[null,null,null,null,null,null,null,null,null,null,null,null,{"$f":"IF('Relevés de  commissions'!D1382=\"AGI externes\",'Relevés de  commissions'!M1382,0)*1","v":0},{"$f":"IF('Relevés de  commissions'!D1382=\"AGI externes\",'Relevés de  commissions'!N1382,0)*1","v":0},{"$f":"IF('Relevés de  commissions'!D1382=\"AGI externes\",'Relevés de  commissions'!O1382,0)*1","v":0},{"$f":"IF('Relevés de  commissions'!D1382=\"AGI externes\",'Relevés de  commissions'!P1382,0)*1","v":0},0,""]
[null,null,null,null,null,null,null,null,null,null,null,null,{"$f":"IF('Relevés de  commissions'!D1383=\"AGI externes\",'Relevés de  commissions'!M1383,0)*1","v":0},{"$f":"IF('Relevés de  commissions'!D1383=\"AGI externes\",'Relevés de  commissions'!N1383,0)*1","v":0},{"$f":"IF('Relevés de  commissions'!D1383=\"AGI externes\",'Relevés de  commissions'!O1383,0)*1","v":0},{"$f":"IF('Relevés de  commissions'!D1383=\"AGI externes\",'Relevés de  commissions'!P1383,0)*1","v":0},0,""]
[null,null,null,null,null,null,null,null,null,null,null,null,{"$f":"IF('Relevés de  commissions'!D1384=\"AGI externes\",'Relevés de  commissions'!M1384,0)*1","v":0},{"$f":"IF('Relevés de  commissions'!D1384=\"AGI externes\",'Relevés de  commissions'!N1384,0)*1","v":0},{"$f":"IF('Relevés de  commissions'!D1384=\"AGI externes\",'Relevés de  commissions'!O1384,0)*1","v":0},{"$f":"IF('Relevés de  commissions'!D1384=\"AGI externes\",'Relevés de  commissions'!P1384,0)*1","v":0},0,""]
[null,null,null,null,null,null,null,null,null,null,null,null,{"$f":"IF('Relevés de  commissions'!D1385=\"AGI externes\",'Relevés de  commissions'!M1385,0)*1","v":0},{"$f":"IF('Relevés de  commissions'!D1385=\"AGI externes\",'Relevés de  commissions'!N1385,0)*1","v":0},{"$f":"IF('Relevés de  commissions'!D1385=\"AGI externes\",'Relevés de  commissions'!O1385,0)*1","v":0},{"$f":"IF('Relevés de  commissions'!D1385=\"AGI externes\",'Relevés de  commissions'!P1385,0)*1","v":0},0,""]
[null,null,null,null,null,null,null,null,null,null,null,null,{"$f":"IF('Relevés de  commissions'!D1386=\"AGI externes\",'Relevés de  commissions'!M1386,0)*1","v":0},{"$f":"IF('Relevés de  commissions'!D1386=\"AGI externes\",'Relevés de  commissions'!N1386,0)*1","v":0},{"$f":"IF('Relevés de  commissions'!D1386=\"AGI externes\",'Relevés de  commissions'!O1386,0)*1","v":0},{"$f":"IF('Relevés de  commissions'!D1386=\"AGI externes\",'Relevés de  commissions'!P1386,0)*1","v":0},0,""]
[null,null,null,null,null,null,null,null,null,null,null,null,{"$f":"IF('Relevés de  commissions'!D1387=\"AGI externes\",'Relevés de  commissions'!M1387,0)*1","v":0},{"$f":"IF('Relevés de  commissions'!D1387=\"AGI externes\",'Relevés de  commissions'!N1387,0)*1","v":0},{"$f":"IF('Relevés de  commissions'!D1387=\"AGI externes\",'Relevés de  commissions'!O1387,0)*1","v":0},{"$f":"IF('Relevés de  commissions'!D1387=\"AGI externes\",'Relevés de  commissions'!P1387,0)*1","v":0},0,""]
[null,null,null,null,null,null,null,null,null,null,null,null,{"$f":"IF('Relevés de  commissions'!D1388=\"AGI externes\",'Relevés de  commissions'!M1388,0)*1","v":0},{"$f":"IF('Relevés de  commissions'!D1388=\"AGI externes\",'Relevés de  commissions'!N1388,0)*1","v":0},{"$f":"IF('Relevés de  commissions'!D1388=\"AGI externes\",'Relevés de  commissions'!O1388,0)*1","v":0},{"$f":"IF('Relevés de  commissions'!D1388=\"AGI externes\",'Relevés de  commissions'!P1388,0)*1","v":0},0,""]
[null,null,null,null,null,null,null,null,null,null,null,null,{"$f":"IF('Relevés de  commissions'!D1389=\"AGI externes\",'Relevés de  commissions'!M1389,0)*1","v":0},{"$f":"IF('Relevés de  commissions'!D1389=\"AGI externes\",'Relevés de  commissions'!N1389,0)*1","v":0},{"$f":"IF('Relevés de  commissions'!D1389=\"AGI externes\",'Relevés de  commissions'!O1389,0)*1","v":0},{"$f":"IF('Relevés de  commissions'!D1389=\"AGI externes\",'Relevés de  commissions'!P1389,0)*1","v":0},0,""]
[null,null,null,null,null,null,null,null,null,null,null,null,{"$f":"IF('Relevés de  commissions'!D1390=\"AGI externes\",'Relevés de  commissions'!M1390,0)*1","v":0},{"$f":"IF('Relevés de  commissions'!D1390=\"AGI externes\",'Relevés de  commissions'!N1390,0)*1","v":0},{"$f":"IF('Relevés de  commissions'!D1390=\"AGI externes\",'Relevés de  commissions'!O1390,0)*1","v":0},{"$f":"IF('Relevés de  commissions'!D1390=\"AGI externes\",'Relevés de  commissions'!P1390,0)*1","v":0},0,""]
[null,null,null,null,null,null,null,null,null,null,null,null,{"$f":"IF('Relevés de  commissions'!D1391=\"AGI externes\",'Relevés de  commissions'!M1391,0)*1","v":0},{"$f":"IF('Relevés de  commissions'!D1391=\"AGI externes\",'Relevés de  commissions'!N1391,0)*1","v":0},{"$f":"IF('Relevés de  commissions'!D1391=\"AGI externes\",'Relevés de  commissions'!O1391,0)*1","v":0},{"$f":"IF('Relevés de  commissions'!D1391=\"AGI externes\",'Relevés de  commissions'!P1391,0)*1","v":0},0,""]
[null,null,null,null,null,null,null,null,null,null,null,null,{"$f":"IF('Relevés de  commissions'!D1392=\"AGI externes\",'Relevés de  commissions'!M1392,0)*1","v":0},{"$f":"IF('Relevés de  commissions'!D1392=\"AGI externes\",'Relevés de  commissions'!N1392,0)*1","v":0},{"$f":"IF('Relevés de  commissions'!D1392=\"AGI externes\",'Relevés de  commissions'!O1392,0)*1","v":0},{"$f":"IF('Relevés de  commissions'!D1392=\"AGI externes\",'Relevés de  commissions'!P1392,0)*1","v":0},0,""]
[null,null,null,null,null,null,null,null,null,null,null,null,{"$f":"IF('Relevés de  commissions'!D1393=\"AGI externes\",'Relevés de  commissions'!M1393,0)*1","v":0},{"$f":"IF('Relevés de  commissions'!D1393=\"AGI externes\",'Relevés de  commissions'!N1393,0)*1","v":0},{"$f":"IF('Relevés de  commissions'!D1393=\"AGI externes\",'Relevés de  commissions'!O1393,0)*1","v":0},{"$f":"IF('Relevés de  commissions'!D1393=\"AGI externes\",'Relevés de  commissions'!P1393,0)*1","v":0},0,""]
[null,null,null,null,null,null,null,null,null,null,null,null,{"$f":"IF('Relevés de  commissions'!D1394=\"AGI externes\",'Relevés de  commissions'!M1394,0)*1","v":0},{"$f":"IF('Relevés de  commissions'!D1394=\"AGI externes\",'Relevés de  commissions'!N1394,0)*1","v":0},{"$f":"IF('Relevés de  commissions'!D1394=\"AGI externes\",'Relevés de  commissions'!O1394,0)*1","v":0},{"$f":"IF('Relevés de  commissions'!D1394=\"AGI externes\",'Relevés de  commissions'!P1394,0)*1","v":0},0,""]
[null,null,null,null,null,null,null,null,null,null,null,null,{"$f":"IF('Relevés de  commissions'!D1395=\"AGI externes\",'Relevés de  commissions'!M1395,0)*1","v":0},{"$f":"IF('Relevés de  commissions'!D1395=\"AGI externes\",'Relevés de  commissions'!N1395,0)*1","v":0},{"$f":"IF('Relevés de  commissions'!D1395=\"AGI externes\",'Relevés de  commissions'!O1395,0)*1","v":0},{"$f":"IF('Relevés de  commissions'!D1395=\"AGI externes\",'Relevés de  commissions'!P1395,0)*1","v":0},0,""]
[null,null,null,null,null,null,null,null,null,null,null,null,{"$f":"IF('Relevés de  commissions'!D1396=\"AGI externes\",'Relevés de  commissions'!M1396,0)*1","v":0},{"$f":"IF('Relevés de  commissions'!D1396=\"AGI externes\",'Relevés de  commissions'!N1396,0)*1","v":0},{"$f":"IF('Relevés de  commissions'!D1396=\"AGI externes\",'Relevés de  commissions'!O1396,0)*1","v":0},{"$f":"IF('Relevés de  commissions'!D1396=\"AGI externes\",'Relevés de  commissions'!P1396,0)*1","v":0},0,""]
[null,null,null,null,null,null,null,null,null,null,null,null,{"$f":"IF('Relevés de  commissions'!D1397=\"AGI externes\",'Relevés de  commissions'!M1397,0)*1","v":0},{"$f":"IF('Relevés de  commissions'!D1397=\"AGI externes\",'Relevés de  commissions'!N1397,0)*1","v":0},{"$f":"IF('Relevés de  commissions'!D1397=\"AGI externes\",'Relevés de  commissions'!O1397,0)*1","v":0},{"$f":"IF('Relevés de  commissions'!D1397=\"AGI externes\",'Relevés de  commissions'!P1397,0)*1","v":0},0,""]
[null,null,null,null,null,null,null,null,null,null,null,null,{"$f":"IF('Relevés de  commissions'!D1398=\"AGI externes\",'Relevés de  commissions'!M1398,0)*1","v":0},{"$f":"IF('Relevés de  commissions'!D1398=\"AGI externes\",'Relevés de  commissions'!N1398,0)*1","v":0},{"$f":"IF('Relevés de  commissions'!D1398=\"AGI externes\",'Relevés de  commissions'!O1398,0)*1","v":0},{"$f":"IF('Relevés de  commissions'!D1398=\"AGI externes\",'Relevés de  commissions'!P1398,0)*1","v":0},0,""]
[null,null,null,null,null,null,null,null,null,null,null,null,{"$f":"IF('Relevés de  commissions'!D1399=\"AGI externes\",'Relevés de  commissions'!M1399,0)*1","v":0},{"$f":"IF('Relevés de  commissions'!D1399=\"AGI externes\",'Relevés de  commissions'!N1399,0)*1","v":0},{"$f":"IF('Relevés de  commissions'!D1399=\"AGI externes\",'Relevés de  commissions'!O1399,0)*1","v":0},{"$f":"IF('Relevés de  commissions'!D1399=\"AGI externes\",'Relevés de  commissions'!P1399,0)*1","v":0},0,""]
[null,null,null,null,null,null,null,null,null,null,null,null,{"$f":"IF('Relevés de  commissions'!D1400=\"AGI externes\",'Relevés de  commissions'!M1400,0)*1","v":0},{"$f":"IF('Relevés de  commissions'!D1400=\"AGI externes\",'Relevés de  commissions'!N1400,0)*1","v":0},{"$f":"IF('Relevés de  commissions'!D1400=\"AGI externes\",'Relevés de  commissions'!O1400,0)*1","v":0},{"$f":"IF('Relevés de  commissions'!D1400=\"AGI externes\",'Relevés de  commissions'!P1400,0)*1","v":0},0,""]
[null,null,null,null,null,null,null,null,null,null,null,null,{"$f":"IF('Relevés de  commissions'!D1401=\"AGI externes\",'Relevés de  commissions'!M1401,0)*1","v":0},{"$f":"IF('Relevés de  commissions'!D1401=\"AGI externes\",'Relevés de  commissions'!N1401,0)*1","v":0},{"$f":"IF('Relevés de  commissions'!D1401=\"AGI externes\",'Relevés de  commissions'!O1401,0)*1","v":0},{"$f":"IF('Relevés de  commissions'!D1401=\"AGI externes\",'Relevés de  commissions'!P1401,0)*1","v":0},0,""]
[null,null,null,null,null,null,null,null,null,null,null,null,{"$f":"IF('Relevés de  commissions'!D1402=\"AGI externes\",'Relevés de  commissions'!M1402,0)*1","v":0},{"$f":"IF('Relevés de  commissions'!D1402=\"AGI externes\",'Relevés de  commissions'!N1402,0)*1","v":0},{"$f":"IF('Relevés de  commissions'!D1402=\"AGI externes\",'Relevés de  commissions'!O1402,0)*1","v":0},{"$f":"IF('Relevés de  commissions'!D1402=\"AGI externes\",'Relevés de  commissions'!P1402,0)*1","v":0},0,""]
[null,null,null,null,null,null,null,null,null,null,null,null,{"$f":"IF('Relevés de  commissions'!D1403=\"AGI externes\",'Relevés de  commissions'!M1403,0)*1","v":0},{"$f":"IF('Relevés de  commissions'!D1403=\"AGI externes\",'Relevés de  commissions'!N1403,0)*1","v":0},{"$f":"IF('Relevés de  commissions'!D1403=\"AGI externes\",'Relevés de  commissions'!O1403,0)*1","v":0},{"$f":"IF('Relevés de  commissions'!D1403=\"AGI externes\",'Relevés de  commissions'!P1403,0)*1","v":0},0,""]
[null,null,null,null,null,null,null,null,null,null,null,null,{"$f":"IF('Relevés de  commissions'!D1404=\"AGI externes\",'Relevés de  commissions'!M1404,0)*1","v":0},{"$f":"IF('Relevés de  commissions'!D1404=\"AGI externes\",'Relevés de  commissions'!N1404,0)*1","v":0},{"$f":"IF('Relevés de  commissions'!D1404=\"AGI externes\",'Relevés de  commissions'!O1404,0)*1","v":0},{"$f":"IF('Relevés de  commissions'!D1404=\"AGI externes\",'Relevés de  commissions'!P1404,0)*1","v":0},0,""]
[null,null,null,null,null,null,null,null,null,null,null,null,{"$f":"IF('Relevés de  commissions'!D1405=\"AGI externes\",'Relevés de  commissions'!M1405,0)*1","v":0},{"$f":"IF('Relevés de  commissions'!D1405=\"AGI externes\",'Relevés de  commissions'!N1405,0)*1","v":0},{"$f":"IF('Relevés de  commissions'!D1405=\"AGI externes\",'Relevés de  commissions'!O1405,0)*1","v":0},{"$f":"IF('Relevés de  commissions'!D1405=\"AGI externes\",'Relevés de  commissions'!P1405,0)*1","v":0},0,""]
[null,null,null,null,null,null,null,null,null,null,null,null,{"$f":"IF('Relevés de  commissions'!D1406=\"AGI externes\",'Relevés de  commissions'!M1406,0)*1","v":0},{"$f":"IF('Relevés de  commissions'!D1406=\"AGI externes\",'Relevés de  commissions'!N1406,0)*1","v":0},{"$f":"IF('Relevés de  commissions'!D1406=\"AGI externes\",'Relevés de  commissions'!O1406,0)*1","v":0},{"$f":"IF('Relevés de  commissions'!D1406=\"AGI externes\",'Relevés de  commissions'!P1406,0)*1","v":0},0,""]
[null,null,null,null,null,null,null,null,null,null,null,null,{"$f":"IF('Relevés de  commissions'!D1407=\"AGI externes\",'Relevés de  commissions'!M1407,0)*1","v":0},{"$f":"IF('Relevés de  commissions'!D1407=\"AGI externes\",'Relevés de  commissions'!N1407,0)*1","v":0},{"$f":"IF('Relevés de  commissions'!D1407=\"AGI externes\",'Relevés de  commissions'!O1407,0)*1","v":0},{"$f":"IF('Relevés de  commissions'!D1407=\"AGI externes\",'Relevés de  commissions'!P1407,0)*1","v":0},0,""]
[null,null,null,null,null,null,null,null,null,null,null,null,{"$f":"IF('Relevés de  commissions'!D1408=\"AGI externes\",'Relevés de  commissions'!M1408,0)*1","v":0},{"$f":"IF('Relevés de  commissions'!D1408=\"AGI externes\",'Relevés de  commissions'!N1408,0)*1","v":0},{"$f":"IF('Relevés de  commissions'!D1408=\"AGI externes\",'Relevés de  commissions'!O1408,0)*1","v":0},{"$f":"IF('Relevés de  commissions'!D1408=\"AGI externes\",'Relevés de  commissions'!P1408,0)*1","v":0},0,""]
[null,null,null,null,null,null,null,null,null,null,null,null,{"$f":"IF('Relevés de  commissions'!D1409=\"AGI externes\",'Relevés de  commissions'!M1409,0)*1","v":0},{"$f":"IF('Relevés de  commissions'!D1409=\"AGI externes\",'Relevés de  commissions'!N1409,0)*1","v":0},{"$f":"IF('Relevés de  commissions'!D1409=\"AGI externes\",'Relevés de  commissions'!O1409,0)*1","v":0},{"$f":"IF('Relevés de  commissions'!D1409=\"AGI externes\",'Relevés de  commissions'!P1409,0)*1","v":0},0,""]
[null,null,null,null,null,null,null,null,null,null,null,null,{"$f":"IF('Relevés de  commissions'!D1410=\"AGI externes\",'Relevés de  commissions'!M1410,0)*1","v":0},{"$f":"IF('Relevés de  commissions'!D1410=\"AGI externes\",'Relevés de  commissions'!N1410,0)*1","v":0},{"$f":"IF('Relevés de  commissions'!D1410=\"AGI externes\",'Relevés de  commissions'!O1410,0)*1","v":0},{"$f":"IF('Relevés de  commissions'!D1410=\"AGI externes\",'Relevés de  commissions'!P1410,0)*1","v":0},0,""]
[null,null,null,null,null,null,null,null,null,null,null,null,{"$f":"IF('Relevés de  commissions'!D1411=\"AGI externes\",'Relevés de  commissions'!M1411,0)*1","v":0},{"$f":"IF('Relevés de  commissions'!D1411=\"AGI externes\",'Relevés de  commissions'!N1411,0)*1","v":0},{"$f":"IF('Relevés de  commissions'!D1411=\"AGI externes\",'Relevés de  commissions'!O1411,0)*1","v":0},{"$f":"IF('Relevés de  commissions'!D1411=\"AGI externes\",'Relevés de  commissions'!P1411,0)*1","v":0},{"$f":"IF(N1413=0,O1413,\"\")","v":0},{"$f":"IF(N1413=10,O1413,\"\")","v":""}]
[null,null,null,null,null,null,null,null,null,null,null,null,{"$f":"IF('Relevés de  commissions'!D1412=\"AGI externes\",'Relevés de  commissions'!M1412,0)*1","v":0},{"$f":"IF('Relevés de  commissions'!D1412=\"AGI externes\",'Relevés de  commissions'!N1412,0)*1","v":0},{"$f":"IF('Relevés de  commissions'!D1412=\"AGI externes\",'Relevés de  commissions'!O1412,0)*1","v":0},{"$f":"IF('Relevés de  commissions'!D1412=\"AGI externes\",'Relevés de  commissions'!P1412,0)*1","v":0},0,""]
[null,null,null,null,null,null,null,null,null,null,null,null,{"$f":"IF('Relevés de  commissions'!D1413=\"AGI externes\",'Relevés de  commissions'!M1413,0)*1","v":0},{"$f":"IF('Relevés de  commissions'!D1413=\"AGI externes\",'Relevés de  commissions'!N1413,0)*1","v":0},{"$f":"IF('Relevés de  commissions'!D1413=\"AGI externes\",'Relevés de  commissions'!O1413,0)*1","v":0},{"$f":"IF('Relevés de  commissions'!D1413=\"AGI externes\",'Relevés de  commissions'!P1413,0)*1","v":0},0,""]
[null,null,null,null,null,null,null,null,null,null,null,null,{"$f":"IF('Relevés de  commissions'!D1414=\"AGI externes\",'Relevés de  commissions'!M1414,0)*1","v":0},{"$f":"IF('Relevés de  commissions'!D1414=\"AGI externes\",'Relevés de  commissions'!N1414,0)*1","v":0},{"$f":"IF('Relevés de  commissions'!D1414=\"AGI externes\",'Relevés de  commissions'!O1414,0)*1","v":0},{"$f":"IF('Relevés de  commissions'!D1414=\"AGI externes\",'Relevés de  commissions'!P1414,0)*1","v":0},0,""]
[null,null,null,null,null,null,null,null,null,null,null,null,{"$f":"IF('Relevés de  commissions'!D1415=\"AGI externes\",'Relevés de  commissions'!M1415,0)*1","v":0},{"$f":"IF('Relevés de  commissions'!D1415=\"AGI externes\",'Relevés de  commissions'!N1415,0)*1","v":0},{"$f":"IF('Relevés de  commissions'!D1415=\"AGI externes\",'Relevés de  commissions'!O1415,0)*1","v":0},{"$f":"IF('Relevés de  commissions'!D1415=\"AGI externes\",'Relevés de  commissions'!P1415,0)*1","v":0},0,""]
[null,null,null,null,null,null,null,null,null,null,null,null,{"$f":"IF('Relevés de  commissions'!D1416=\"AGI externes\",'Relevés de  commissions'!M1416,0)*1","v":0},{"$f":"IF('Relevés de  commissions'!D1416=\"AGI externes\",'Relevés de  commissions'!N1416,0)*1","v":0},{"$f":"IF('Relevés de  commissions'!D1416=\"AGI externes\",'Relevés de  commissions'!O1416,0)*1","v":0},{"$f":"IF('Relevés de  commissions'!D1416=\"AGI externes\",'Relevés de  commissions'!P1416,0)*1","v":0},0,""]
[null,null,null,null,null,null,null,null,null,null,null,null,{"$f":"IF('Relevés de  commissions'!D1417=\"AGI externes\",'Relevés de  commissions'!M1417,0)*1","v":0},{"$f":"IF('Relevés de  commissions'!D1417=\"AGI externes\",'Relevés de  commissions'!N1417,0)*1","v":0},{"$f":"IF('Relevés de  commissions'!D1417=\"AGI externes\",'Relevés de  commissions'!O1417,0)*1","v":0},{"$f":"IF('Relevés de  commissions'!D1417=\"AGI externes\",'Relevés de  commissions'!P1417,0)*1","v":0},0,""]
[null,null,null,null,null,null,null,null,null,null,null,null,{"$f":"IF('Relevés de  commissions'!D1418=\"AGI externes\",'Relevés de  commissions'!M1418,0)*1","v":0},{"$f":"IF('Relevés de  commissions'!D1418=\"AGI externes\",'Relevés de  commissions'!N1418,0)*1","v":0},{"$f":"IF('Relevés de  commissions'!D1418=\"AGI externes\",'Relevés de  commissions'!O1418,0)*1","v":0},{"$f":"IF('Relevés de  commissions'!D1418=\"AGI externes\",'Relevés de  commissions'!P1418,0)*1","v":0},0,""]
[null,null,null,null,null,null,null,null,null,null,null,null,{"$f":"IF('Relevés de  commissions'!D1419=\"AGI externes\",'Relevés de  commissions'!M1419,0)*1","v":0},{"$f":"IF('Relevés de  commissions'!D1419=\"AGI externes\",'Relevés de  commissions'!N1419,0)*1","v":0},{"$f":"IF('Relevés de  commissions'!D1419=\"AGI externes\",'Relevés de  commissions'!O1419,0)*1","v":0},{"$f":"IF('Relevés de  commissions'!D1419=\"AGI externes\",'Relevés de  commissions'!P1419,0)*1","v":0},0,""]
[null,null,null,null,null,null,null,null,null,null,null,null,{"$f":"IF('Relevés de  commissions'!D1420=\"AGI externes\",'Relevés de  commissions'!M1420,0)*1","v":0},{"$f":"IF('Relevés de  commissions'!D1420=\"AGI externes\",'Relevés de  commissions'!N1420,0)*1","v":0},{"$f":"IF('Relevés de  commissions'!D1420=\"AGI externes\",'Relevés de  commissions'!O1420,0)*1","v":0},{"$f":"IF('Relevés de  commissions'!D1420=\"AGI externes\",'Relevés de  commissions'!P1420,0)*1","v":0},0,""]
[null,null,null,null,null,null,null,null,null,null,null,null,{"$f":"IF('Relevés de  commissions'!D1421=\"AGI externes\",'Relevés de  commissions'!M1421,0)*1","v":0},{"$f":"IF('Relevés de  commissions'!D1421=\"AGI externes\",'Relevés de  commissions'!N1421,0)*1","v":0},{"$f":"IF('Relevés de  commissions'!D1421=\"AGI externes\",'Relevés de  commissions'!O1421,0)*1","v":0},{"$f":"IF('Relevés de  commissions'!D1421=\"AGI externes\",'Relevés de  commissions'!P1421,0)*1","v":0},0,""]
[null,null,null,null,null,null,null,null,null,null,null,null,{"$f":"IF('Relevés de  commissions'!D1422=\"AGI externes\",'Relevés de  commissions'!M1422,0)*1","v":0},{"$f":"IF('Relevés de  commissions'!D1422=\"AGI externes\",'Relevés de  commissions'!N1422,0)*1","v":0},{"$f":"IF('Relevés de  commissions'!D1422=\"AGI externes\",'Relevés de  commissions'!O1422,0)*1","v":0},{"$f":"IF('Relevés de  commissions'!D1422=\"AGI externes\",'Relevés de  commissions'!P1422,0)*1","v":0},0,""]
[null,null,null,null,null,null,null,null,null,null,null,null,{"$f":"IF('Relevés de  commissions'!D1423=\"AGI externes\",'Relevés de  commissions'!M1423,0)*1","v":0},{"$f":"IF('Relevés de  commissions'!D1423=\"AGI externes\",'Relevés de  commissions'!N1423,0)*1","v":0},{"$f":"IF('Relevés de  commissions'!D1423=\"AGI externes\",'Relevés de  commissions'!O1423,0)*1","v":0},{"$f":"IF('Relevés de  commissions'!D1423=\"AGI externes\",'Relevés de  commissions'!P1423,0)*1","v":0},0,""]
[null,null,null,null,null,null,null,null,null,null,null,null,{"$f":"IF('Relevés de  commissions'!D1424=\"AGI externes\",'Relevés de  commissions'!M1424,0)*1","v":0},{"$f":"IF('Relevés de  commissions'!D1424=\"AGI externes\",'Relevés de  commissions'!N1424,0)*1","v":0},{"$f":"IF('Relevés de  commissions'!D1424=\"AGI externes\",'Relevés de  commissions'!O1424,0)*1","v":0},{"$f":"IF('Relevés de  commissions'!D1424=\"AGI externes\",'Relevés de  commissions'!P1424,0)*1","v":0},0,""]
[null,null,null,null,null,null,null,null,null,null,null,null,{"$f":"IF('Relevés de  commissions'!D1425=\"AGI externes\",'Relevés de  commissions'!M1425,0)*1","v":0},{"$f":"IF('Relevés de  commissions'!D1425=\"AGI externes\",'Relevés de  commissions'!N1425,0)*1","v":0},{"$f":"IF('Relevés de  commissions'!D1425=\"AGI externes\",'Relevés de  commissions'!O1425,0)*1","v":0},{"$f":"IF('Relevés de  commissions'!D1425=\"AGI externes\",'Relevés de  commissions'!P1425,0)*1","v":0},0,""]
[null,null,null,null,null,null,null,null,null,null,null,null,{"$f":"IF('Relevés de  commissions'!D1426=\"AGI externes\",'Relevés de  commissions'!M1426,0)*1","v":0},{"$f":"IF('Relevés de  commissions'!D1426=\"AGI externes\",'Relevés de  commissions'!N1426,0)*1","v":0},{"$f":"IF('Relevés de  commissions'!D1426=\"AGI externes\",'Relevés de  commissions'!O1426,0)*1","v":0},{"$f":"IF('Relevés de  commissions'!D1426=\"AGI externes\",'Relevés de  commissions'!P1426,0)*1","v":0},0,""]
[null,null,null,null,null,null,null,null,null,null,null,null,{"$f":"IF('Relevés de  commissions'!D1427=\"AGI externes\",'Relevés de  commissions'!M1427,0)*1","v":0},{"$f":"IF('Relevés de  commissions'!D1427=\"AGI externes\",'Relevés de  commissions'!N1427,0)*1","v":0},{"$f":"IF('Relevés de  commissions'!D1427=\"AGI externes\",'Relevés de  commissions'!O1427,0)*1","v":0},{"$f":"IF('Relevés de  commissions'!D1427=\"AGI externes\",'Relevés de  commissions'!P1427,0)*1","v":0},0,""]
[null,null,null,null,null,null,null,null,null,null,null,null,{"$f":"IF('Relevés de  commissions'!D1428=\"AGI externes\",'Relevés de  commissions'!M1428,0)*1","v":0},{"$f":"IF('Relevés de  commissions'!D1428=\"AGI externes\",'Relevés de  commissions'!N1428,0)*1","v":0},{"$f":"IF('Relevés de  commissions'!D1428=\"AGI externes\",'Relevés de  commissions'!O1428,0)*1","v":0},{"$f":"IF('Relevés de  commissions'!D1428=\"AGI externes\",'Relevés de  commissions'!P1428,0)*1","v":0},0,""]
[null,null,null,null,null,null,null,null,null,null,null,null,{"$f":"IF('Relevés de  commissions'!D1429=\"AGI externes\",'Relevés de  commissions'!M1429,0)*1","v":0},{"$f":"IF('Relevés de  commissions'!D1429=\"AGI externes\",'Relevés de  commissions'!N1429,0)*1","v":0},{"$f":"IF('Relevés de  commissions'!D1429=\"AGI externes\",'Relevés de  commissions'!O1429,0)*1","v":0},{"$f":"IF('Relevés de  commissions'!D1429=\"AGI externes\",'Relevés de  commissions'!P1429,0)*1","v":0},0,""]
[null,null,null,null,null,null,null,null,null,null,null,null,{"$f":"IF('Relevés de  commissions'!D1430=\"AGI externes\",'Relevés de  commissions'!M1430,0)*1","v":0},{"$f":"IF('Relevés de  commissions'!D1430=\"AGI externes\",'Relevés de  commissions'!N1430,0)*1","v":0},{"$f":"IF('Relevés de  commissions'!D1430=\"AGI externes\",'Relevés de  commissions'!O1430,0)*1","v":0},{"$f":"IF('Relevés de  commissions'!D1430=\"AGI externes\",'Relevés de  commissions'!P1430,0)*1","v":0},0,""]
[null,null,null,null,null,null,null,null,null,null,null,null,{"$f":"IF('Relevés de  commissions'!D1431=\"AGI externes\",'Relevés de  commissions'!M1431,0)*1","v":0},{"$f":"IF('Relevés de  commissions'!D1431=\"AGI externes\",'Relevés de  commissions'!N1431,0)*1","v":0},{"$f":"IF('Relevés de  commissions'!D1431=\"AGI externes\",'Relevés de  commissions'!O1431,0)*1","v":0},{"$f":"IF('Relevés de  commissions'!D1431=\"AGI externes\",'Relevés de  commissions'!P1431,0)*1","v":0},0,""]
[null,null,null,null,null,null,null,null,null,null,null,null,{"$f":"IF('Relevés de  commissions'!D1432=\"AGI externes\",'Relevés de  commissions'!M1432,0)*1","v":0},{"$f":"IF('Relevés de  commissions'!D1432=\"AGI externes\",'Relevés de  commissions'!N1432,0)*1","v":0},{"$f":"IF('Relevés de  commissions'!D1432=\"AGI externes\",'Relevés de  commissions'!O1432,0)*1","v":0},{"$f":"IF('Relevés de  commissions'!D1432=\"AGI externes\",'Relevés de  commissions'!P1432,0)*1","v":0},0,""]
[null,null,null,null,null,null,null,null,null,null,null,null,{"$f":"IF('Relevés de  commissions'!D1433=\"AGI externes\",'Relevés de  commissions'!M1433,0)*1","v":0},{"$f":"IF('Relevés de  commissions'!D1433=\"AGI externes\",'Relevés de  commissions'!N1433,0)*1","v":0},{"$f":"IF('Relevés de  commissions'!D1433=\"AGI externes\",'Relevés de  commissions'!O1433,0)*1","v":0},{"$f":"IF('Relevés de  commissions'!D1433=\"AGI externes\",'Relevés de  commissions'!P1433,0)*1","v":0},0,""]
[null,null,null,null,null,null,null,null,null,null,null,null,{"$f":"IF('Relevés de  commissions'!D1434=\"AGI externes\",'Relevés de  commissions'!M1434,0)*1","v":0},{"$f":"IF('Relevés de  commissions'!D1434=\"AGI externes\",'Relevés de  commissions'!N1434,0)*1","v":0},{"$f":"IF('Relevés de  commissions'!D1434=\"AGI externes\",'Relevés de  commissions'!O1434,0)*1","v":0},{"$f":"IF('Relevés de  commissions'!D1434=\"AGI externes\",'Relevés de  commissions'!P1434,0)*1","v":0},0,""]
[null,null,null,null,null,null,null,null,null,null,null,null,{"$f":"IF('Relevés de  commissions'!D1435=\"AGI externes\",'Relevés de  commissions'!M1435,0)*1","v":0},{"$f":"IF('Relevés de  commissions'!D1435=\"AGI externes\",'Relevés de  commissions'!N1435,0)*1","v":0},{"$f":"IF('Relevés de  commissions'!D1435=\"AGI externes\",'Relevés de  commissions'!O1435,0)*1","v":0},{"$f":"IF('Relevés de  commissions'!D1435=\"AGI externes\",'Relevés de  commissions'!P1435,0)*1","v":0},0,""]
[null,null,null,null,null,null,null,null,null,null,null,null,{"$f":"IF('Relevés de  commissions'!D1436=\"AGI externes\",'Relevés de  commissions'!M1436,0)*1","v":0},{"$f":"IF('Relevés de  commissions'!D1436=\"AGI externes\",'Relevés de  commissions'!N1436,0)*1","v":0},{"$f":"IF('Relevés de  commissions'!D1436=\"AGI externes\",'Relevés de  commissions'!O1436,0)*1","v":0},{"$f":"IF('Relevés de  commissions'!D1436=\"AGI externes\",'Relevés de  commissions'!P1436,0)*1","v":0},0,""]
[null,null,null,null,null,null,null,null,null,null,null,null,{"$f":"IF('Relevés de  commissions'!D1437=\"AGI externes\",'Relevés de  commissions'!M1437,0)*1","v":0},{"$f":"IF('Relevés de  commissions'!D1437=\"AGI externes\",'Relevés de  commissions'!N1437,0)*1","v":0},{"$f":"IF('Relevés de  commissions'!D1437=\"AGI externes\",'Relevés de  commissions'!O1437,0)*1","v":0},{"$f":"IF('Relevés de  commissions'!D1437=\"AGI externes\",'Relevés de  commissions'!P1437,0)*1","v":0},0,""]
[null,null,null,null,null,null,null,null,null,null,null,null,{"$f":"IF('Relevés de  commissions'!D1438=\"AGI externes\",'Relevés de  commissions'!M1438,0)*1","v":0},{"$f":"IF('Relevés de  commissions'!D1438=\"AGI externes\",'Relevés de  commissions'!N1438,0)*1","v":0},{"$f":"IF('Relevés de  commissions'!D1438=\"AGI externes\",'Relevés de  commissions'!O1438,0)*1","v":0},{"$f":"IF('Relevés de  commissions'!D1438=\"AGI externes\",'Relevés de  commissions'!P1438,0)*1","v":0},0,""]
[null,null,null,null,null,null,null,null,null,null,null,null,{"$f":"IF('Relevés de  commissions'!D1439=\"AGI externes\",'Relevés de  commissions'!M1439,0)*1","v":0},{"$f":"IF('Relevés de  commissions'!D1439=\"AGI externes\",'Relevés de  commissions'!N1439,0)*1","v":0},{"$f":"IF('Relevés de  commissions'!D1439=\"AGI externes\",'Relevés de  commissions'!O1439,0)*1","v":0},{"$f":"IF('Relevés de  commissions'!D1439=\"AGI externes\",'Relevés de  commissions'!P1439,0)*1","v":0},0,""]
[null,null,null,null,null,null,null,null,null,null,null,null,{"$f":"IF('Relevés de  commissions'!D1440=\"AGI externes\",'Relevés de  commissions'!M1440,0)*1","v":0},{"$f":"IF('Relevés de  commissions'!D1440=\"AGI externes\",'Relevés de  commissions'!N1440,0)*1","v":0},{"$f":"IF('Relevés de  commissions'!D1440=\"AGI externes\",'Relevés de  commissions'!O1440,0)*1","v":0},{"$f":"IF('Relevés de  commissions'!D1440=\"AGI externes\",'Relevés de  commissions'!P1440,0)*1","v":0},0,""]
[null,null,null,null,null,null,null,null,null,null,null,null,{"$f":"IF('Relevés de  commissions'!D1441=\"AGI externes\",'Relevés de  commissions'!M1441,0)*1","v":0},{"$f":"IF('Relevés de  commissions'!D1441=\"AGI externes\",'Relevés de  commissions'!N1441,0)*1","v":0},{"$f":"IF('Relevés de  commissions'!D1441=\"AGI externes\",'Relevés de  commissions'!O1441,0)*1","v":0},{"$f":"IF('Relevés de  commissions'!D1441=\"AGI externes\",'Relevés de  commissions'!P1441,0)*1","v":0},0,""]
[null,null,null,null,null,null,null,null,null,null,null,null,{"$f":"IF('Relevés de  commissions'!D1442=\"AGI externes\",'Relevés de  commissions'!M1442,0)*1","v":0},{"$f":"IF('Relevés de  commissions'!D1442=\"AGI externes\",'Relevés de  commissions'!N1442,0)*1","v":0},{"$f":"IF('Relevés de  commissions'!D1442=\"AGI externes\",'Relevés de  commissions'!O1442,0)*1","v":0},{"$f":"IF('Relevés de  commissions'!D1442=\"AGI externes\",'Relevés de  commissions'!P1442,0)*1","v":0},0,""]
[null,null,null,null,null,null,null,null,null,null,null,null,{"$f":"IF('Relevés de  commissions'!D1443=\"AGI externes\",'Relevés de  commissions'!M1443,0)*1","v":0},{"$f":"IF('Relevés de  commissions'!D1443=\"AGI externes\",'Relevés de  commissions'!N1443,0)*1","v":0},{"$f":"IF('Relevés de  commissions'!D1443=\"AGI externes\",'Relevés de  commissions'!O1443,0)*1","v":0},{"$f":"IF('Relevés de  commissions'!D1443=\"AGI externes\",'Relevés de  commissions'!P1443,0)*1","v":0},0,""]
[null,null,null,null,null,null,null,null,null,null,null,null,{"$f":"IF('Relevés de  commissions'!D1444=\"AGI externes\",'Relevés de  commissions'!M1444,0)*1","v":0},{"$f":"IF('Relevés de  commissions'!D1444=\"AGI externes\",'Relevés de  commissions'!N1444,0)*1","v":0},{"$f":"IF('Relevés de  commissions'!D1444=\"AGI externes\",'Relevés de  commissions'!O1444,0)*1","v":0},{"$f":"IF('Relevés de  commissions'!D1444=\"AGI externes\",'Relevés de  commissions'!P1444,0)*1","v":0},0,""]
[null,null,null,null,null,null,null,null,null,null,null,null,{"$f":"IF('Relevés de  commissions'!D1445=\"AGI externes\",'Relevés de  commissions'!M1445,0)*1","v":0},{"$f":"IF('Relevés de  commissions'!D1445=\"AGI externes\",'Relevés de  commissions'!N1445,0)*1","v":0},{"$f":"IF('Relevés de  commissions'!D1445=\"AGI externes\",'Relevés de  commissions'!O1445,0)*1","v":0},{"$f":"IF('Relevés de  commissions'!D1445=\"AGI externes\",'Relevés de  commissions'!P1445,0)*1","v":0},0,""]
[null,null,null,null,null,null,null,null,null,null,null,null,{"$f":"IF('Relevés de  commissions'!D1446=\"AGI externes\",'Relevés de  commissions'!M1446,0)*1","v":0},{"$f":"IF('Relevés de  commissions'!D1446=\"AGI externes\",'Relevés de  commissions'!N1446,0)*1","v":0},{"$f":"IF('Relevés de  commissions'!D1446=\"AGI externes\",'Relevés de  commissions'!O1446,0)*1","v":0},{"$f":"IF('Relevés de  commissions'!D1446=\"AGI externes\",'Relevés de  commissions'!P1446,0)*1","v":0},0,""]
[null,null,null,null,null,null,null,null,null,null,null,null,{"$f":"IF('Relevés de  commissions'!D1447=\"AGI externes\",'Relevés de  commissions'!M1447,0)*1","v":0},{"$f":"IF('Relevés de  commissions'!D1447=\"AGI externes\",'Relevés de  commissions'!N1447,0)*1","v":0},{"$f":"IF('Relevés de  commissions'!D1447=\"AGI externes\",'Relevés de  commissions'!O1447,0)*1","v":0},{"$f":"IF('Relevés de  commissions'!D1447=\"AGI externes\",'Relevés de  commissions'!P1447,0)*1","v":0},0,""]
[null,null,null,null,null,null,null,null,null,null,null,null,{"$f":"IF('Relevés de  commissions'!D1448=\"AGI externes\",'Relevés de  commissions'!M1448,0)*1","v":0},{"$f":"IF('Relevés de  commissions'!D1448=\"AGI externes\",'Relevés de  commissions'!N1448,0)*1","v":0},{"$f":"IF('Relevés de  commissions'!D1448=\"AGI externes\",'Relevés de  commissions'!O1448,0)*1","v":0},{"$f":"IF('Relevés de  commissions'!D1448=\"AGI externes\",'Relevés de  commissions'!P1448,0)*1","v":0},0,""]
[null,null,null,null,null,null,null,null,null,null,null,null,{"$f":"IF('Relevés de  commissions'!D1449=\"AGI externes\",'Relevés de  commissions'!M1449,0)*1","v":0},{"$f":"IF('Relevés de  commissions'!D1449=\"AGI externes\",'Relevés de  commissions'!N1449,0)*1","v":0},{"$f":"IF('Relevés de  commissions'!D1449=\"AGI externes\",'Relevés de  commissions'!O1449,0)*1","v":0},{"$f":"IF('Relevés de  commissions'!D1449=\"AGI externes\",'Relevés de  commissions'!P1449,0)*1","v":0},0,""]
[null,null,null,null,null,null,null,null,null,null,null,null,{"$f":"IF('Relevés de  commissions'!D1450=\"AGI externes\",'Relevés de  commissions'!M1450,0)*1","v":0},{"$f":"IF('Relevés de  commissions'!D1450=\"AGI externes\",'Relevés de  commissions'!N1450,0)*1","v":0},{"$f":"IF('Relevés de  commissions'!D1450=\"AGI externes\",'Relevés de  commissions'!O1450,0)*1","v":0},{"$f":"IF('Relevés de  commissions'!D1450=\"AGI externes\",'Relevés de  commissions'!P1450,0)*1","v":0},0,""]
[null,null,null,null,null,null,null,null,null,null,null,null,{"$f":"IF('Relevés de  commissions'!D1451=\"AGI externes\",'Relevés de  commissions'!M1451,0)*1","v":0},{"$f":"IF('Relevés de  commissions'!D1451=\"AGI externes\",'Relevés de  commissions'!N1451,0)*1","v":0},{"$f":"IF('Relevés de  commissions'!D1451=\"AGI externes\",'Relevés de  commissions'!O1451,0)*1","v":0},{"$f":"IF('Relevés de  commissions'!D1451=\"AGI externes\",'Relevés de  commissions'!P1451,0)*1","v":0},0,""]
[null,null,null,null,null,null,null,null,null,null,null,null,{"$f":"IF('Relevés de  commissions'!D1452=\"AGI externes\",'Relevés de  commissions'!M1452,0)*1","v":0},{"$f":"IF('Relevés de  commissions'!D1452=\"AGI externes\",'Relevés de  commissions'!N1452,0)*1","v":0},{"$f":"IF('Relevés de  commissions'!D1452=\"AGI externes\",'Relevés de  commissions'!O1452,0)*1","v":0},{"$f":"IF('Relevés de  commissions'!D1452=\"AGI externes\",'Relevés de  commissions'!P1452,0)*1","v":0},0,""]
[null,null,null,null,null,null,null,null,null,null,null,null,{"$f":"IF('Relevés de  commissions'!D1453=\"AGI externes\",'Relevés de  commissions'!M1453,0)*1","v":0},{"$f":"IF('Relevés de  commissions'!D1453=\"AGI externes\",'Relevés de  commissions'!N1453,0)*1","v":0},{"$f":"IF('Relevés de  commissions'!D1453=\"AGI externes\",'Relevés de  commissions'!O1453,0)*1","v":0},{"$f":"IF('Relevés de  commissions'!D1453=\"AGI externes\",'Relevés de  commissions'!P1453,0)*1","v":0},0,""]
[null,null,null,null,null,null,null,null,null,null,null,null,{"$f":"IF('Relevés de  commissions'!D1454=\"AGI externes\",'Relevés de  commissions'!M1454,0)*1","v":0},{"$f":"IF('Relevés de  commissions'!D1454=\"AGI externes\",'Relevés de  commissions'!N1454,0)*1","v":0},{"$f":"IF('Relevés de  commissions'!D1454=\"AGI externes\",'Relevés de  commissions'!O1454,0)*1","v":0},{"$f":"IF('Relevés de  commissions'!D1454=\"AGI externes\",'Relevés de  commissions'!P1454,0)*1","v":0},0,""]
[null,null,null,null,null,null,null,null,null,null,null,null,{"$f":"IF('Relevés de  commissions'!D1455=\"AGI externes\",'Relevés de  commissions'!M1455,0)*1","v":0},{"$f":"IF('Relevés de  commissions'!D1455=\"AGI externes\",'Relevés de  commissions'!N1455,0)*1","v":0},{"$f":"IF('Relevés de  commissions'!D1455=\"AGI externes\",'Relevés de  commissions'!O1455,0)*1","v":0},{"$f":"IF('Relevés de  commissions'!D1455=\"AGI externes\",'Relevés de  commissions'!P1455,0)*1","v":0},0,""]
[null,null,null,null,null,null,null,null,null,null,null,null,{"$f":"IF('Relevés de  commissions'!D1456=\"AGI externes\",'Relevés de  commissions'!M1456,0)*1","v":0},{"$f":"IF('Relevés de  commissions'!D1456=\"AGI externes\",'Relevés de  commissions'!N1456,0)*1","v":0},{"$f":"IF('Relevés de  commissions'!D1456=\"AGI externes\",'Relevés de  commissions'!O1456,0)*1","v":0},{"$f":"IF('Relevés de  commissions'!D1456=\"AGI externes\",'Relevés de  commissions'!P1456,0)*1","v":0},0,""]
[null,null,null,null,null,null,null,null,null,null,null,null,{"$f":"IF('Relevés de  commissions'!D1457=\"AGI externes\",'Relevés de  commissions'!M1457,0)*1","v":0},{"$f":"IF('Relevés de  commissions'!D1457=\"AGI externes\",'Relevés de  commissions'!N1457,0)*1","v":0},{"$f":"IF('Relevés de  commissions'!D1457=\"AGI externes\",'Relevés de  commissions'!O1457,0)*1","v":0},{"$f":"IF('Relevés de  commissions'!D1457=\"AGI externes\",'Relevés de  commissions'!P1457,0)*1","v":0},0,""]
[null,null,null,null,null,null,null,null,null,null,null,null,{"$f":"IF('Relevés de  commissions'!D1458=\"AGI externes\",'Relevés de  commissions'!M1458,0)*1","v":0},{"$f":"IF('Relevés de  commissions'!D1458=\"AGI externes\",'Relevés de  commissions'!N1458,0)*1","v":0},{"$f":"IF('Relevés de  commissions'!D1458=\"AGI externes\",'Relevés de  commissions'!O1458,0)*1","v":0},{"$f":"IF('Relevés de  commissions'!D1458=\"AGI externes\",'Relevés de  commissions'!P1458,0)*1","v":0},0,""]
[null,null,null,null,null,null,null,null,null,null,null,null,{"$f":"IF('Relevés de  commissions'!D1459=\"AGI externes\",'Relevés de  commissions'!M1459,0)*1","v":0},{"$f":"IF('Relevés de  commissions'!D1459=\"AGI externes\",'Relevés de  commissions'!N1459,0)*1","v":0},{"$f":"IF('Relevés de  commissions'!D1459=\"AGI externes\",'Relevés de  commissions'!O1459,0)*1","v":0},{"$f":"IF('Relevés de  commissions'!D1459=\"AGI externes\",'Relevés de  commissions'!P1459,0)*1","v":0},0,""]
[null,null,null,null,null,null,null,null,null,null,null,null,{"$f":"IF('Relevés de  commissions'!D1460=\"AGI externes\",'Relevés de  commissions'!M1460,0)*1","v":0},{"$f":"IF('Relevés de  commissions'!D1460=\"AGI externes\",'Relevés de  commissions'!N1460,0)*1","v":0},{"$f":"IF('Relevés de  commissions'!D1460=\"AGI externes\",'Relevés de  commissions'!O1460,0)*1","v":0},{"$f":"IF('Relevés de  commissions'!D1460=\"AGI externes\",'Relevés de  commissions'!P1460,0)*1","v":0},0,""]
[null,null,null,null,null,null,null,null,null,null,null,null,{"$f":"IF('Relevés de  commissions'!D1461=\"AGI externes\",'Relevés de  commissions'!M1461,0)*1","v":0},{"$f":"IF('Relevés de  commissions'!D1461=\"AGI externes\",'Relevés de  commissions'!N1461,0)*1","v":0},{"$f":"IF('Relevés de  commissions'!D1461=\"AGI externes\",'Relevés de  commissions'!O1461,0)*1","v":0},{"$f":"IF('Relevés de  commissions'!D1461=\"AGI externes\",'Relevés de  commissions'!P1461,0)*1","v":0},0,""]
[null,null,null,null,null,null,null,null,null,null,null,null,{"$f":"IF('Relevés de  commissions'!D1462=\"AGI externes\",'Relevés de  commissions'!M1462,0)*1","v":0},{"$f":"IF('Relevés de  commissions'!D1462=\"AGI externes\",'Relevés de  commissions'!N1462,0)*1","v":0},{"$f":"IF('Relevés de  commissions'!D1462=\"AGI externes\",'Relevés de  commissions'!O1462,0)*1","v":0},{"$f":"IF('Relevés de  commissions'!D1462=\"AGI externes\",'Relevés de  commissions'!P1462,0)*1","v":0},0,""]
[null,null,null,null,null,null,null,null,null,null,null,null,{"$f":"IF('Relevés de  commissions'!D1463=\"AGI externes\",'Relevés de  commissions'!M1463,0)*1","v":0},{"$f":"IF('Relevés de  commissions'!D1463=\"AGI externes\",'Relevés de  commissions'!N1463,0)*1","v":0},{"$f":"IF('Relevés de  commissions'!D1463=\"AGI externes\",'Relevés de  commissions'!O1463,0)*1","v":0},{"$f":"IF('Relevés de  commissions'!D1463=\"AGI externes\",'Relevés de  commissions'!P1463,0)*1","v":0},0,""]
[null,null,null,null,null,null,null,null,null,null,null,null,{"$f":"IF('Relevés de  commissions'!D1464=\"AGI externes\",'Relevés de  commissions'!M1464,0)*1","v":0},{"$f":"IF('Relevés de  commissions'!D1464=\"AGI externes\",'Relevés de  commissions'!N1464,0)*1","v":0},{"$f":"IF('Relevés de  commissions'!D1464=\"AGI externes\",'Relevés de  commissions'!O1464,0)*1","v":0},{"$f":"IF('Relevés de  commissions'!D1464=\"AGI externes\",'Relevés de  commissions'!P1464,0)*1","v":0},0,""]
[null,null,null,null,null,null,null,null,null,null,null,null,{"$f":"IF('Relevés de  commissions'!D1465=\"AGI externes\",'Relevés de  commissions'!M1465,0)*1","v":0},{"$f":"IF('Relevés de  commissions'!D1465=\"AGI externes\",'Relevés de  commissions'!N1465,0)*1","v":0},{"$f":"IF('Relevés de  commissions'!D1465=\"AGI externes\",'Relevés de  commissions'!O1465,0)*1","v":0},{"$f":"IF('Relevés de  commissions'!D1465=\"AGI externes\",'Relevés de  commissions'!P1465,0)*1","v":0},0,""]
[null,null,null,null,null,null,null,null,null,null,null,null,{"$f":"IF('Relevés de  commissions'!D1466=\"AGI externes\",'Relevés de  commissions'!M1466,0)*1","v":0},{"$f":"IF('Relevés de  commissions'!D1466=\"AGI externes\",'Relevés de  commissions'!N1466,0)*1","v":0},{"$f":"IF('Relevés de  commissions'!D1466=\"AGI externes\",'Relevés de  commissions'!O1466,0)*1","v":0},{"$f":"IF('Relevés de  commissions'!D1466=\"AGI externes\",'Relevés de  commissions'!P1466,0)*1","v":0},0,""]
[null,null,null,null,null,null,null,null,null,null,null,null,{"$f":"IF('Relevés de  commissions'!D1467=\"AGI externes\",'Relevés de  commissions'!M1467,0)*1","v":0},{"$f":"IF('Relevés de  commissions'!D1467=\"AGI externes\",'Relevés de  commissions'!N1467,0)*1","v":0},{"$f":"IF('Relevés de  commissions'!D1467=\"AGI externes\",'Relevés de  commissions'!O1467,0)*1","v":0},{"$f":"IF('Relevés de  commissions'!D1467=\"AGI externes\",'Relevés de  commissions'!P1467,0)*1","v":0},0,""]
[null,null,null,null,null,null,null,null,null,null,null,null,{"$f":"IF('Relevés de  commissions'!D1468=\"AGI externes\",'Relevés de  commissions'!M1468,0)*1","v":0},{"$f":"IF('Relevés de  commissions'!D1468=\"AGI externes\",'Relevés de  commissions'!N1468,0)*1","v":0},{"$f":"IF('Relevés de  commissions'!D1468=\"AGI externes\",'Relevés de  commissions'!O1468,0)*1","v":0},{"$f":"IF('Relevés de  commissions'!D1468=\"AGI externes\",'Relevés de  commissions'!P1468,0)*1","v":0},0,""]
[null,null,null,null,null,null,null,null,null,null,null,null,{"$f":"IF('Relevés de  commissions'!D1469=\"AGI externes\",'Relevés de  commissions'!M1469,0)*1","v":0},{"$f":"IF('Relevés de  commissions'!D1469=\"AGI externes\",'Relevés de  commissions'!N1469,0)*1","v":0},{"$f":"IF('Relevés de  commissions'!D1469=\"AGI externes\",'Relevés de  commissions'!O1469,0)*1","v":0},{"$f":"IF('Relevés de  commissions'!D1469=\"AGI externes\",'Relevés de  commissions'!P1469,0)*1","v":0},0,""]
[null,null,null,null,null,null,null,null,null,null,null,null,{"$f":"IF('Relevés de  commissions'!D1470=\"AGI externes\",'Relevés de  commissions'!M1470,0)*1","v":0},{"$f":"IF('Relevés de  commissions'!D1470=\"AGI externes\",'Relevés de  commissions'!N1470,0)*1","v":0},{"$f":"IF('Relevés de  commissions'!D1470=\"AGI externes\",'Relevés de  commissions'!O1470,0)*1","v":0},{"$f":"IF('Relevés de  commissions'!D1470=\"AGI externes\",'Relevés de  commissions'!P1470,0)*1","v":0},0,""]
[null,null,null,null,null,null,null,null,null,null,null,null,{"$f":"IF('Relevés de  commissions'!D1471=\"AGI externes\",'Relevés de  commissions'!M1471,0)*1","v":0},{"$f":"IF('Relevés de  commissions'!D1471=\"AGI externes\",'Relevés de  commissions'!N1471,0)*1","v":0},{"$f":"IF('Relevés de  commissions'!D1471=\"AGI externes\",'Relevés de  commissions'!O1471,0)*1","v":0},{"$f":"IF('Relevés de  commissions'!D1471=\"AGI externes\",'Relevés de  commissions'!P1471,0)*1","v":0},0,""]
[null,null,null,null,null,null,null,null,null,null,null,null,{"$f":"IF('Relevés de  commissions'!D1472=\"AGI externes\",'Relevés de  commissions'!M1472,0)*1","v":0},{"$f":"IF('Relevés de  commissions'!D1472=\"AGI externes\",'Relevés de  commissions'!N1472,0)*1","v":0},{"$f":"IF('Relevés de  commissions'!D1472=\"AGI externes\",'Relevés de  commissions'!O1472,0)*1","v":0},{"$f":"IF('Relevés de  commissions'!D1472=\"AGI externes\",'Relevés de  commissions'!P1472,0)*1","v":0},0,""]
[null,null,null,null,null,null,null,null,null,null,null,null,{"$f":"IF('Relevés de  commissions'!D1473=\"AGI externes\",'Relevés de  commissions'!M1473,0)*1","v":0},{"$f":"IF('Relevés de  commissions'!D1473=\"AGI externes\",'Relevés de  commissions'!N1473,0)*1","v":0},{"$f":"IF('Relevés de  commissions'!D1473=\"AGI externes\",'Relevés de  commissions'!O1473,0)*1","v":0},{"$f":"IF('Relevés de  commissions'!D1473=\"AGI externes\",'Relevés de  commissions'!P1473,0)*1","v":0},0,""]
[null,null,null,null,null,null,null,null,null,null,null,null,{"$f":"IF('Relevés de  commissions'!D1474=\"AGI externes\",'Relevés de  commissions'!M1474,0)*1","v":0},{"$f":"IF('Relevés de  commissions'!D1474=\"AGI externes\",'Relevés de  commissions'!N1474,0)*1","v":0},{"$f":"IF('Relevés de  commissions'!D1474=\"AGI externes\",'Relevés de  commissions'!O1474,0)*1","v":0},{"$f":"IF('Relevés de  commissions'!D1474=\"AGI externes\",'Relevés de  commissions'!P1474,0)*1","v":0},0,""]
[null,null,null,null,null,null,null,null,null,null,null,null,{"$f":"IF('Relevés de  commissions'!D1475=\"AGI externes\",'Relevés de  commissions'!M1475,0)*1","v":0},{"$f":"IF('Relevés de  commissions'!D1475=\"AGI externes\",'Relevés de  commissions'!N1475,0)*1","v":0},{"$f":"IF('Relevés de  commissions'!D1475=\"AGI externes\",'Relevés de  commissions'!O1475,0)*1","v":0},{"$f":"IF('Relevés de  commissions'!D1475=\"AGI externes\",'Relevés de  commissions'!P1475,0)*1","v":0},{"$f":"IF(N1477=0,O1477,\"\")","v":0},{"$f":"IF(N1477=10,O1477,\"\")","v":""}]
[null,null,null,null,null,null,null,null,null,null,null,null,{"$f":"IF('Relevés de  commissions'!D1476=\"AGI externes\",'Relevés de  commissions'!M1476,0)*1","v":0},{"$f":"IF('Relevés de  commissions'!D1476=\"AGI externes\",'Relevés de  commissions'!N1476,0)*1","v":0},{"$f":"IF('Relevés de  commissions'!D1476=\"AGI externes\",'Relevés de  commissions'!O1476,0)*1","v":0},{"$f":"IF('Relevés de  commissions'!D1476=\"AGI externes\",'Relevés de  commissions'!P1476,0)*1","v":0},0,""]
[null,null,null,null,null,null,null,null,null,null,null,null,{"$f":"IF('Relevés de  commissions'!D1477=\"AGI externes\",'Relevés de  commissions'!M1477,0)*1","v":0},{"$f":"IF('Relevés de  commissions'!D1477=\"AGI externes\",'Relevés de  commissions'!N1477,0)*1","v":0},{"$f":"IF('Relevés de  commissions'!D1477=\"AGI externes\",'Relevés de  commissions'!O1477,0)*1","v":0},{"$f":"IF('Relevés de  commissions'!D1477=\"AGI externes\",'Relevés de  commissions'!P1477,0)*1","v":0},0,""]
[null,null,null,null,null,null,null,null,null,null,null,null,{"$f":"IF('Relevés de  commissions'!D1478=\"AGI externes\",'Relevés de  commissions'!M1478,0)*1","v":0},{"$f":"IF('Relevés de  commissions'!D1478=\"AGI externes\",'Relevés de  commissions'!N1478,0)*1","v":0},{"$f":"IF('Relevés de  commissions'!D1478=\"AGI externes\",'Relevés de  commissions'!O1478,0)*1","v":0},{"$f":"IF('Relevés de  commissions'!D1478=\"AGI externes\",'Relevés de  commissions'!P1478,0)*1","v":0},0,""]
[null,null,null,null,null,null,null,null,null,null,null,null,{"$f":"IF('Relevés de  commissions'!D1479=\"AGI externes\",'Relevés de  commissions'!M1479,0)*1","v":0},{"$f":"IF('Relevés de  commissions'!D1479=\"AGI externes\",'Relevés de  commissions'!N1479,0)*1","v":0},{"$f":"IF('Relevés de  commissions'!D1479=\"AGI externes\",'Relevés de  commissions'!O1479,0)*1","v":0},{"$f":"IF('Relevés de  commissions'!D1479=\"AGI externes\",'Relevés de  commissions'!P1479,0)*1","v":0},0,""]
[null,null,null,null,null,null,null,null,null,null,null,null,{"$f":"IF('Relevés de  commissions'!D1480=\"AGI externes\",'Relevés de  commissions'!M1480,0)*1","v":0},{"$f":"IF('Relevés de  commissions'!D1480=\"AGI externes\",'Relevés de  commissions'!N1480,0)*1","v":0},{"$f":"IF('Relevés de  commissions'!D1480=\"AGI externes\",'Relevés de  commissions'!O1480,0)*1","v":0},{"$f":"IF('Relevés de  commissions'!D1480=\"AGI externes\",'Relevés de  commissions'!P1480,0)*1","v":0},0,""]
[null,null,null,null,null,null,null,null,null,null,null,null,{"$f":"IF('Relevés de  commissions'!D1481=\"AGI externes\",'Relevés de  commissions'!M1481,0)*1","v":0},{"$f":"IF('Relevés de  commissions'!D1481=\"AGI externes\",'Relevés de  commissions'!N1481,0)*1","v":0},{"$f":"IF('Relevés de  commissions'!D1481=\"AGI externes\",'Relevés de  commissions'!O1481,0)*1","v":0},{"$f":"IF('Relevés de  commissions'!D1481=\"AGI externes\",'Relevés de  commissions'!P1481,0)*1","v":0},0,""]
[null,null,null,null,null,null,null,null,null,null,null,null,{"$f":"IF('Relevés de  commissions'!D1482=\"AGI externes\",'Relevés de  commissions'!M1482,0)*1","v":0},{"$f":"IF('Relevés de  commissions'!D1482=\"AGI externes\",'Relevés de  commissions'!N1482,0)*1","v":0},{"$f":"IF('Relevés de  commissions'!D1482=\"AGI externes\",'Relevés de  commissions'!O1482,0)*1","v":0},{"$f":"IF('Relevés de  commissions'!D1482=\"AGI externes\",'Relevés de  commissions'!P1482,0)*1","v":0},0,""]
[null,null,null,null,null,null,null,null,null,null,null,null,{"$f":"IF('Relevés de  commissions'!D1483=\"AGI externes\",'Relevés de  commissions'!M1483,0)*1","v":0},{"$f":"IF('Relevés de  commissions'!D1483=\"AGI externes\",'Relevés de  commissions'!N1483,0)*1","v":0},{"$f":"IF('Relevés de  commissions'!D1483=\"AGI externes\",'Relevés de  commissions'!O1483,0)*1","v":0},{"$f":"IF('Relevés de  commissions'!D1483=\"AGI externes\",'Relevés de  commissions'!P1483,0)*1","v":0},0,""]
[null,null,null,null,null,null,null,null,null,null,null,null,{"$f":"IF('Relevés de  commissions'!D1484=\"AGI externes\",'Relevés de  commissions'!M1484,0)*1","v":0},{"$f":"IF('Relevés de  commissions'!D1484=\"AGI externes\",'Relevés de  commissions'!N1484,0)*1","v":0},{"$f":"IF('Relevés de  commissions'!D1484=\"AGI externes\",'Relevés de  commissions'!O1484,0)*1","v":0},{"$f":"IF('Relevés de  commissions'!D1484=\"AGI externes\",'Relevés de  commissions'!P1484,0)*1","v":0},0,""]
[null,null,null,null,null,null,null,null,null,null,null,null,{"$f":"IF('Relevés de  commissions'!D1485=\"AGI externes\",'Relevés de  commissions'!M1485,0)*1","v":0},{"$f":"IF('Relevés de  commissions'!D1485=\"AGI externes\",'Relevés de  commissions'!N1485,0)*1","v":0},{"$f":"IF('Relevés de  commissions'!D1485=\"AGI externes\",'Relevés de  commissions'!O1485,0)*1","v":0},{"$f":"IF('Relevés de  commissions'!D1485=\"AGI externes\",'Relevés de  commissions'!P1485,0)*1","v":0},0,""]
[null,null,null,null,null,null,null,null,null,null,null,null,{"$f":"IF('Relevés de  commissions'!D1486=\"AGI externes\",'Relevés de  commissions'!M1486,0)*1","v":0},{"$f":"IF('Relevés de  commissions'!D1486=\"AGI externes\",'Relevés de  commissions'!N1486,0)*1","v":0},{"$f":"IF('Relevés de  commissions'!D1486=\"AGI externes\",'Relevés de  commissions'!O1486,0)*1","v":0},{"$f":"IF('Relevés de  commissions'!D1486=\"AGI externes\",'Relevés de  commissions'!P1486,0)*1","v":0},0,""]
[null,null,null,null,null,null,null,null,null,null,null,null,{"$f":"IF('Relevés de  commissions'!D1487=\"AGI externes\",'Relevés de  commissions'!M1487,0)*1","v":0},{"$f":"IF('Relevés de  commissions'!D1487=\"AGI externes\",'Relevés de  commissions'!N1487,0)*1","v":0},{"$f":"IF('Relevés de  commissions'!D1487=\"AGI externes\",'Relevés de  commissions'!O1487,0)*1","v":0},{"$f":"IF('Relevés de  commissions'!D1487=\"AGI externes\",'Relevés de  commissions'!P1487,0)*1","v":0},0,""]
[null,null,null,null,null,null,null,null,null,null,null,null,{"$f":"IF('Relevés de  commissions'!D1488=\"AGI externes\",'Relevés de  commissions'!M1488,0)*1","v":0},{"$f":"IF('Relevés de  commissions'!D1488=\"AGI externes\",'Relevés de  commissions'!N1488,0)*1","v":0},{"$f":"IF('Relevés de  commissions'!D1488=\"AGI externes\",'Relevés de  commissions'!O1488,0)*1","v":0},{"$f":"IF('Relevés de  commissions'!D1488=\"AGI externes\",'Relevés de  commissions'!P1488,0)*1","v":0},0,""]
[null,null,null,null,null,null,null,null,null,null,null,null,{"$f":"IF('Relevés de  commissions'!D1489=\"AGI externes\",'Relevés de  commissions'!M1489,0)*1","v":0},{"$f":"IF('Relevés de  commissions'!D1489=\"AGI externes\",'Relevés de  commissions'!N1489,0)*1","v":0},{"$f":"IF('Relevés de  commissions'!D1489=\"AGI externes\",'Relevés de  commissions'!O1489,0)*1","v":0},{"$f":"IF('Relevés de  commissions'!D1489=\"AGI externes\",'Relevés de  commissions'!P1489,0)*1","v":0},0,""]
[null,null,null,null,null,null,null,null,null,null,null,null,{"$f":"IF('Relevés de  commissions'!D1490=\"AGI externes\",'Relevés de  commissions'!M1490,0)*1","v":0},{"$f":"IF('Relevés de  commissions'!D1490=\"AGI externes\",'Relevés de  commissions'!N1490,0)*1","v":0},{"$f":"IF('Relevés de  commissions'!D1490=\"AGI externes\",'Relevés de  commissions'!O1490,0)*1","v":0},{"$f":"IF('Relevés de  commissions'!D1490=\"AGI externes\",'Relevés de  commissions'!P1490,0)*1","v":0},0,""]
[null,null,null,null,null,null,null,null,null,null,null,null,{"$f":"IF('Relevés de  commissions'!D1491=\"AGI externes\",'Relevés de  commissions'!M1491,0)*1","v":0},{"$f":"IF('Relevés de  commissions'!D1491=\"AGI externes\",'Relevés de  commissions'!N1491,0)*1","v":0},{"$f":"IF('Relevés de  commissions'!D1491=\"AGI externes\",'Relevés de  commissions'!O1491,0)*1","v":0},{"$f":"IF('Relevés de  commissions'!D1491=\"AGI externes\",'Relevés de  commissions'!P1491,0)*1","v":0},0,""]
[null,null,null,null,null,null,null,null,null,null,null,null,{"$f":"IF('Relevés de  commissions'!D1492=\"AGI externes\",'Relevés de  commissions'!M1492,0)*1","v":0},{"$f":"IF('Relevés de  commissions'!D1492=\"AGI externes\",'Relevés de  commissions'!N1492,0)*1","v":0},{"$f":"IF('Relevés de  commissions'!D1492=\"AGI externes\",'Relevés de  commissions'!O1492,0)*1","v":0},{"$f":"IF('Relevés de  commissions'!D1492=\"AGI externes\",'Relevés de  commissions'!P1492,0)*1","v":0},0,""]
[null,null,null,null,null,null,null,null,null,null,null,null,{"$f":"IF('Relevés de  commissions'!D1493=\"AGI externes\",'Relevés de  commissions'!M1493,0)*1","v":0},{"$f":"IF('Relevés de  commissions'!D1493=\"AGI externes\",'Relevés de  commissions'!N1493,0)*1","v":0},{"$f":"IF('Relevés de  commissions'!D1493=\"AGI externes\",'Relevés de  commissions'!O1493,0)*1","v":0},{"$f":"IF('Relevés de  commissions'!D1493=\"AGI externes\",'Relevés de  commissions'!P1493,0)*1","v":0},0,""]
[null,null,null,null,null,null,null,null,null,null,null,null,{"$f":"IF('Relevés de  commissions'!D1494=\"AGI externes\",'Relevés de  commissions'!M1494,0)*1","v":0},{"$f":"IF('Relevés de  commissions'!D1494=\"AGI externes\",'Relevés de  commissions'!N1494,0)*1","v":0},{"$f":"IF('Relevés de  commissions'!D1494=\"AGI externes\",'Relevés de  commissions'!O1494,0)*1","v":0},{"$f":"IF('Relevés de  commissions'!D1494=\"AGI externes\",'Relevés de  commissions'!P1494,0)*1","v":0},0,""]
[null,null,null,null,null,null,null,null,null,null,null,null,{"$f":"IF('Relevés de  commissions'!D1495=\"AGI externes\",'Relevés de  commissions'!M1495,0)*1","v":0},{"$f":"IF('Relevés de  commissions'!D1495=\"AGI externes\",'Relevés de  commissions'!N1495,0)*1","v":0},{"$f":"IF('Relevés de  commissions'!D1495=\"AGI externes\",'Relevés de  commissions'!O1495,0)*1","v":0},{"$f":"IF('Relevés de  commissions'!D1495=\"AGI externes\",'Relevés de  commissions'!P1495,0)*1","v":0},0,""]
[null,null,null,null,null,null,null,null,null,null,null,null,{"$f":"IF('Relevés de  commissions'!D1496=\"AGI externes\",'Relevés de  commissions'!M1496,0)*1","v":0},{"$f":"IF('Relevés de  commissions'!D1496=\"AGI externes\",'Relevés de  commissions'!N1496,0)*1","v":0},{"$f":"IF('Relevés de  commissions'!D1496=\"AGI externes\",'Relevés de  commissions'!O1496,0)*1","v":0},{"$f":"IF('Relevés de  commissions'!D1496=\"AGI externes\",'Relevés de  commissions'!P1496,0)*1","v":0},0,""]
[null,null,null,null,null,null,null,null,null,null,null,null,{"$f":"IF('Relevés de  commissions'!D1497=\"AGI externes\",'Relevés de  commissions'!M1497,0)*1","v":0},{"$f":"IF('Relevés de  commissions'!D1497=\"AGI externes\",'Relevés de  commissions'!N1497,0)*1","v":0},{"$f":"IF('Relevés de  commissions'!D1497=\"AGI externes\",'Relevés de  commissions'!O1497,0)*1","v":0},{"$f":"IF('Relevés de  commissions'!D1497=\"AGI externes\",'Relevés de  commissions'!P1497,0)*1","v":0},0,""]
[null,null,null,null,null,null,null,null,null,null,null,null,{"$f":"IF('Relevés de  commissions'!D1498=\"AGI externes\",'Relevés de  commissions'!M1498,0)*1","v":0},{"$f":"IF('Relevés de  commissions'!D1498=\"AGI externes\",'Relevés de  commissions'!N1498,0)*1","v":0},{"$f":"IF('Relevés de  commissions'!D1498=\"AGI externes\",'Relevés de  commissions'!O1498,0)*1","v":0},{"$f":"IF('Relevés de  commissions'!D1498=\"AGI externes\",'Relevés de  commissions'!P1498,0)*1","v":0},0,""]
[null,null,null,null,null,null,null,null,null,null,null,null,{"$f":"IF('Relevés de  commissions'!D1499=\"AGI externes\",'Relevés de  commissions'!M1499,0)*1","v":0},{"$f":"IF('Relevés de  commissions'!D1499=\"AGI externes\",'Relevés de  commissions'!N1499,0)*1","v":0},{"$f":"IF('Relevés de  commissions'!D1499=\"AGI externes\",'Relevés de  commissions'!O1499,0)*1","v":0},{"$f":"IF('Relevés de  commissions'!D1499=\"AGI externes\",'Relevés de  commissions'!P1499,0)*1","v":0},0,""]
[null,null,null,null,null,null,null,null,null,null,null,null,{"$f":"IF('Relevés de  commissions'!D1500=\"AGI externes\",'Relevés de  commissions'!M1500,0)*1","v":0},{"$f":"IF('Relevés de  commissions'!D1500=\"AGI externes\",'Relevés de  commissions'!N1500,0)*1","v":0},{"$f":"IF('Relevés de  commissions'!D1500=\"AGI externes\",'Relevés de  commissions'!O1500,0)*1","v":0},{"$f":"IF('Relevés de  commissions'!D1500=\"AGI externes\",'Relevés de  commissions'!P1500,0)*1","v":0},0,""]
[null,null,null,null,null,null,null,null,null,null,null,null,{"$f":"IF('Relevés de  commissions'!D1501=\"AGI externes\",'Relevés de  commissions'!M1501,0)*1","v":0},{"$f":"IF('Relevés de  commissions'!D1501=\"AGI externes\",'Relevés de  commissions'!N1501,0)*1","v":0},{"$f":"IF('Relevés de  commissions'!D1501=\"AGI externes\",'Relevés de  commissions'!O1501,0)*1","v":0},{"$f":"IF('Relevés de  commissions'!D1501=\"AGI externes\",'Relevés de  commissions'!P1501,0)*1","v":0},0,""]
[null,null,null,null,null,null,null,null,null,null,null,null,{"$f":"IF('Relevés de  commissions'!D1502=\"AGI externes\",'Relevés de  commissions'!M1502,0)*1","v":0},{"$f":"IF('Relevés de  commissions'!D1502=\"AGI externes\",'Relevés de  commissions'!N1502,0)*1","v":0},{"$f":"IF('Relevés de  commissions'!D1502=\"AGI externes\",'Relevés de  commissions'!O1502,0)*1","v":0},{"$f":"IF('Relevés de  commissions'!D1502=\"AGI externes\",'Relevés de  commissions'!P1502,0)*1","v":0},0,""]
[null,null,null,null,null,null,null,null,null,null,null,null,{"$f":"IF('Relevés de  commissions'!D1503=\"AGI externes\",'Relevés de  commissions'!M1503,0)*1","v":0},{"$f":"IF('Relevés de  commissions'!D1503=\"AGI externes\",'Relevés de  commissions'!N1503,0)*1","v":0},{"$f":"IF('Relevés de  commissions'!D1503=\"AGI externes\",'Relevés de  commissions'!O1503,0)*1","v":0},{"$f":"IF('Relevés de  commissions'!D1503=\"AGI externes\",'Relevés de  commissions'!P1503,0)*1","v":0},0,""]
[null,null,null,null,null,null,null,null,null,null,null,null,{"$f":"IF('Relevés de  commissions'!D1504=\"AGI externes\",'Relevés de  commissions'!M1504,0)*1","v":0},{"$f":"IF('Relevés de  commissions'!D1504=\"AGI externes\",'Relevés de  commissions'!N1504,0)*1","v":0},{"$f":"IF('Relevés de  commissions'!D1504=\"AGI externes\",'Relevés de  commissions'!O1504,0)*1","v":0},{"$f":"IF('Relevés de  commissions'!D1504=\"AGI externes\",'Relevés de  commissions'!P1504,0)*1","v":0},0,""]
[null,null,null,null,null,null,null,null,null,null,null,null,{"$f":"IF('Relevés de  commissions'!D1505=\"AGI externes\",'Relevés de  commissions'!M1505,0)*1","v":0},{"$f":"IF('Relevés de  commissions'!D1505=\"AGI externes\",'Relevés de  commissions'!N1505,0)*1","v":0},{"$f":"IF('Relevés de  commissions'!D1505=\"AGI externes\",'Relevés de  commissions'!O1505,0)*1","v":0},{"$f":"IF('Relevés de  commissions'!D1505=\"AGI externes\",'Relevés de  commissions'!P1505,0)*1","v":0},0,""]
[null,null,null,null,null,null,null,null,null,null,null,null,{"$f":"IF('Relevés de  commissions'!D1506=\"AGI externes\",'Relevés de  commissions'!M1506,0)*1","v":0},{"$f":"IF('Relevés de  commissions'!D1506=\"AGI externes\",'Relevés de  commissions'!N1506,0)*1","v":0},{"$f":"IF('Relevés de  commissions'!D1506=\"AGI externes\",'Relevés de  commissions'!O1506,0)*1","v":0},{"$f":"IF('Relevés de  commissions'!D1506=\"AGI externes\",'Relevés de  commissions'!P1506,0)*1","v":0},0,""]
[null,null,null,null,null,null,null,null,null,null,null,null,{"$f":"IF('Relevés de  commissions'!D1507=\"AGI externes\",'Relevés de  commissions'!M1507,0)*1","v":0},{"$f":"IF('Relevés de  commissions'!D1507=\"AGI externes\",'Relevés de  commissions'!N1507,0)*1","v":0},{"$f":"IF('Relevés de  commissions'!D1507=\"AGI externes\",'Relevés de  commissions'!O1507,0)*1","v":0},{"$f":"IF('Relevés de  commissions'!D1507=\"AGI externes\",'Relevés de  commissions'!P1507,0)*1","v":0},0,""]
[null,null,null,null,null,null,null,null,null,null,null,null,{"$f":"IF('Relevés de  commissions'!D1508=\"AGI externes\",'Relevés de  commissions'!M1508,0)*1","v":0},{"$f":"IF('Relevés de  commissions'!D1508=\"AGI externes\",'Relevés de  commissions'!N1508,0)*1","v":0},{"$f":"IF('Relevés de  commissions'!D1508=\"AGI externes\",'Relevés de  commissions'!O1508,0)*1","v":0},{"$f":"IF('Relevés de  commissions'!D1508=\"AGI externes\",'Relevés de  commissions'!P1508,0)*1","v":0},0,""]
[null,null,null,null,null,null,null,null,null,null,null,null,{"$f":"IF('Relevés de  commissions'!D1509=\"AGI externes\",'Relevés de  commissions'!M1509,0)*1","v":0},{"$f":"IF('Relevés de  commissions'!D1509=\"AGI externes\",'Relevés de  commissions'!N1509,0)*1","v":0},{"$f":"IF('Relevés de  commissions'!D1509=\"AGI externes\",'Relevés de  commissions'!O1509,0)*1","v":0},{"$f":"IF('Relevés de  commissions'!D1509=\"AGI externes\",'Relevés de  commissions'!P1509,0)*1","v":0},0,""]
[null,null,null,null,null,null,null,null,null,null,null,null,{"$f":"IF('Relevés de  commissions'!D1510=\"AGI externes\",'Relevés de  commissions'!M1510,0)*1","v":0},{"$f":"IF('Relevés de  commissions'!D1510=\"AGI externes\",'Relevés de  commissions'!N1510,0)*1","v":0},{"$f":"IF('Relevés de  commissions'!D1510=\"AGI externes\",'Relevés de  commissions'!O1510,0)*1","v":0},{"$f":"IF('Relevés de  commissions'!D1510=\"AGI externes\",'Relevés de  commissions'!P1510,0)*1","v":0},0,""]
[null,null,null,null,null,null,null,null,null,null,null,null,{"$f":"IF('Relevés de  commissions'!D1511=\"AGI externes\",'Relevés de  commissions'!M1511,0)*1","v":0},{"$f":"IF('Relevés de  commissions'!D1511=\"AGI externes\",'Relevés de  commissions'!N1511,0)*1","v":0},{"$f":"IF('Relevés de  commissions'!D1511=\"AGI externes\",'Relevés de  commissions'!O1511,0)*1","v":0},{"$f":"IF('Relevés de  commissions'!D1511=\"AGI externes\",'Relevés de  commissions'!P1511,0)*1","v":0},0,""]
[null,null,null,null,null,null,null,null,null,null,null,null,{"$f":"IF('Relevés de  commissions'!D1512=\"AGI externes\",'Relevés de  commissions'!M1512,0)*1","v":0},{"$f":"IF('Relevés de  commissions'!D1512=\"AGI externes\",'Relevés de  commissions'!N1512,0)*1","v":0},{"$f":"IF('Relevés de  commissions'!D1512=\"AGI externes\",'Relevés de  commissions'!O1512,0)*1","v":0},{"$f":"IF('Relevés de  commissions'!D1512=\"AGI externes\",'Relevés de  commissions'!P1512,0)*1","v":0},0,""]
[null,null,null,null,null,null,null,null,null,null,null,null,{"$f":"IF('Relevés de  commissions'!D1513=\"AGI externes\",'Relevés de  commissions'!M1513,0)*1","v":0},{"$f":"IF('Relevés de  commissions'!D1513=\"AGI externes\",'Relevés de  commissions'!N1513,0)*1","v":0},{"$f":"IF('Relevés de  commissions'!D1513=\"AGI externes\",'Relevés de  commissions'!O1513,0)*1","v":0},{"$f":"IF('Relevés de  commissions'!D1513=\"AGI externes\",'Relevés de  commissions'!P1513,0)*1","v":0},0,""]
[null,null,null,null,null,null,null,null,null,null,null,null,{"$f":"IF('Relevés de  commissions'!D1514=\"AGI externes\",'Relevés de  commissions'!M1514,0)*1","v":0},{"$f":"IF('Relevés de  commissions'!D1514=\"AGI externes\",'Relevés de  commissions'!N1514,0)*1","v":0},{"$f":"IF('Relevés de  commissions'!D1514=\"AGI externes\",'Relevés de  commissions'!O1514,0)*1","v":0},{"$f":"IF('Relevés de  commissions'!D1514=\"AGI externes\",'Relevés de  commissions'!P1514,0)*1","v":0},0,""]
[null,null,null,null,null,null,null,null,null,null,null,null,{"$f":"IF('Relevés de  commissions'!D1515=\"AGI externes\",'Relevés de  commissions'!M1515,0)*1","v":0},{"$f":"IF('Relevés de  commissions'!D1515=\"AGI externes\",'Relevés de  commissions'!N1515,0)*1","v":0},{"$f":"IF('Relevés de  commissions'!D1515=\"AGI externes\",'Relevés de  commissions'!O1515,0)*1","v":0},{"$f":"IF('Relevés de  commissions'!D1515=\"AGI externes\",'Relevés de  commissions'!P1515,0)*1","v":0},0,""]
[null,null,null,null,null,null,null,null,null,null,null,null,{"$f":"IF('Relevés de  commissions'!D1516=\"AGI externes\",'Relevés de  commissions'!M1516,0)*1","v":0},{"$f":"IF('Relevés de  commissions'!D1516=\"AGI externes\",'Relevés de  commissions'!N1516,0)*1","v":0},{"$f":"IF('Relevés de  commissions'!D1516=\"AGI externes\",'Relevés de  commissions'!O1516,0)*1","v":0},{"$f":"IF('Relevés de  commissions'!D1516=\"AGI externes\",'Relevés de  commissions'!P1516,0)*1","v":0},0,""]
[null,null,null,null,null,null,null,null,null,null,null,null,{"$f":"IF('Relevés de  commissions'!D1517=\"AGI externes\",'Relevés de  commissions'!M1517,0)*1","v":0},{"$f":"IF('Relevés de  commissions'!D1517=\"AGI externes\",'Relevés de  commissions'!N1517,0)*1","v":0},{"$f":"IF('Relevés de  commissions'!D1517=\"AGI externes\",'Relevés de  commissions'!O1517,0)*1","v":0},{"$f":"IF('Relevés de  commissions'!D1517=\"AGI externes\",'Relevés de  commissions'!P1517,0)*1","v":0},0,""]
[null,null,null,null,null,null,null,null,null,null,null,null,{"$f":"IF('Relevés de  commissions'!D1518=\"AGI externes\",'Relevés de  commissions'!M1518,0)*1","v":0},{"$f":"IF('Relevés de  commissions'!D1518=\"AGI externes\",'Relevés de  commissions'!N1518,0)*1","v":0},{"$f":"IF('Relevés de  commissions'!D1518=\"AGI externes\",'Relevés de  commissions'!O1518,0)*1","v":0},{"$f":"IF('Relevés de  commissions'!D1518=\"AGI externes\",'Relevés de  commissions'!P1518,0)*1","v":0},0,""]
[null,null,null,null,null,null,null,null,null,null,null,null,{"$f":"IF('Relevés de  commissions'!D1519=\"AGI externes\",'Relevés de  commissions'!M1519,0)*1","v":0},{"$f":"IF('Relevés de  commissions'!D1519=\"AGI externes\",'Relevés de  commissions'!N1519,0)*1","v":0},{"$f":"IF('Relevés de  commissions'!D1519=\"AGI externes\",'Relevés de  commissions'!O1519,0)*1","v":0},{"$f":"IF('Relevés de  commissions'!D1519=\"AGI externes\",'Relevés de  commissions'!P1519,0)*1","v":0},0,""]
[null,null,null,null,null,null,null,null,null,null,null,null,{"$f":"IF('Relevés de  commissions'!D1520=\"AGI externes\",'Relevés de  commissions'!M1520,0)*1","v":0},{"$f":"IF('Relevés de  commissions'!D1520=\"AGI externes\",'Relevés de  commissions'!N1520,0)*1","v":0},{"$f":"IF('Relevés de  commissions'!D1520=\"AGI externes\",'Relevés de  commissions'!O1520,0)*1","v":0},{"$f":"IF('Relevés de  commissions'!D1520=\"AGI externes\",'Relevés de  commissions'!P1520,0)*1","v":0},0,""]
[null,null,null,null,null,null,null,null,null,null,null,null,{"$f":"IF('Relevés de  commissions'!D1521=\"AGI externes\",'Relevés de  commissions'!M1521,0)*1","v":0},{"$f":"IF('Relevés de  commissions'!D1521=\"AGI externes\",'Relevés de  commissions'!N1521,0)*1","v":0},{"$f":"IF('Relevés de  commissions'!D1521=\"AGI externes\",'Relevés de  commissions'!O1521,0)*1","v":0},{"$f":"IF('Relevés de  commissions'!D1521=\"AGI externes\",'Relevés de  commissions'!P1521,0)*1","v":0},0,""]
[null,null,null,null,null,null,null,null,null,null,null,null,{"$f":"IF('Relevés de  commissions'!D1522=\"AGI externes\",'Relevés de  commissions'!M1522,0)*1","v":0},{"$f":"IF('Relevés de  commissions'!D1522=\"AGI externes\",'Relevés de  commissions'!N1522,0)*1","v":0},{"$f":"IF('Relevés de  commissions'!D1522=\"AGI externes\",'Relevés de  commissions'!O1522,0)*1","v":0},{"$f":"IF('Relevés de  commissions'!D1522=\"AGI externes\",'Relevés de  commissions'!P1522,0)*1","v":0},0,""]
[null,null,null,null,null,null,null,null,null,null,null,null,{"$f":"IF('Relevés de  commissions'!D1523=\"AGI externes\",'Relevés de  commissions'!M1523,0)*1","v":0},{"$f":"IF('Relevés de  commissions'!D1523=\"AGI externes\",'Relevés de  commissions'!N1523,0)*1","v":0},{"$f":"IF('Relevés de  commissions'!D1523=\"AGI externes\",'Relevés de  commissions'!O1523,0)*1","v":0},{"$f":"IF('Relevés de  commissions'!D1523=\"AGI externes\",'Relevés de  commissions'!P1523,0)*1","v":0},0,""]
[null,null,null,null,null,null,null,null,null,null,null,null,{"$f":"IF('Relevés de  commissions'!D1524=\"AGI externes\",'Relevés de  commissions'!M1524,0)*1","v":0},{"$f":"IF('Relevés de  commissions'!D1524=\"AGI externes\",'Relevés de  commissions'!N1524,0)*1","v":0},{"$f":"IF('Relevés de  commissions'!D1524=\"AGI externes\",'Relevés de  commissions'!O1524,0)*1","v":0},{"$f":"IF('Relevés de  commissions'!D1524=\"AGI externes\",'Relevés de  commissions'!P1524,0)*1","v":0},0,""]
[null,null,null,null,null,null,null,null,null,null,null,null,{"$f":"IF('Relevés de  commissions'!D1525=\"AGI externes\",'Relevés de  commissions'!M1525,0)*1","v":0},{"$f":"IF('Relevés de  commissions'!D1525=\"AGI externes\",'Relevés de  commissions'!N1525,0)*1","v":0},{"$f":"IF('Relevés de  commissions'!D1525=\"AGI externes\",'Relevés de  commissions'!O1525,0)*1","v":0},{"$f":"IF('Relevés de  commissions'!D1525=\"AGI externes\",'Relevés de  commissions'!P1525,0)*1","v":0},0,""]
[null,null,null,null,null,null,null,null,null,null,null,null,{"$f":"IF('Relevés de  commissions'!D1526=\"AGI externes\",'Relevés de  commissions'!M1526,0)*1","v":0},{"$f":"IF('Relevés de  commissions'!D1526=\"AGI externes\",'Relevés de  commissions'!N1526,0)*1","v":0},{"$f":"IF('Relevés de  commissions'!D1526=\"AGI externes\",'Relevés de  commissions'!O1526,0)*1","v":0},{"$f":"IF('Relevés de  commissions'!D1526=\"AGI externes\",'Relevés de  commissions'!P1526,0)*1","v":0},0,""]
[null,null,null,null,null,null,null,null,null,null,null,null,{"$f":"IF('Relevés de  commissions'!D1527=\"AGI externes\",'Relevés de  commissions'!M1527,0)*1","v":0},{"$f":"IF('Relevés de  commissions'!D1527=\"AGI externes\",'Relevés de  commissions'!N1527,0)*1","v":0},{"$f":"IF('Relevés de  commissions'!D1527=\"AGI externes\",'Relevés de  commissions'!O1527,0)*1","v":0},{"$f":"IF('Relevés de  commissions'!D1527=\"AGI externes\",'Relevés de  commissions'!P1527,0)*1","v":0},0,""]
[null,null,null,null,null,null,null,null,null,null,null,null,{"$f":"IF('Relevés de  commissions'!D1528=\"AGI externes\",'Relevés de  commissions'!M1528,0)*1","v":0},{"$f":"IF('Relevés de  commissions'!D1528=\"AGI externes\",'Relevés de  commissions'!N1528,0)*1","v":0},{"$f":"IF('Relevés de  commissions'!D1528=\"AGI externes\",'Relevés de  commissions'!O1528,0)*1","v":0},{"$f":"IF('Relevés de  commissions'!D1528=\"AGI externes\",'Relevés de  commissions'!P1528,0)*1","v":0},0,""]
[null,null,null,null,null,null,null,null,null,null,null,null,{"$f":"IF('Relevés de  commissions'!D1529=\"AGI externes\",'Relevés de  commissions'!M1529,0)*1","v":0},{"$f":"IF('Relevés de  commissions'!D1529=\"AGI externes\",'Relevés de  commissions'!N1529,0)*1","v":0},{"$f":"IF('Relevés de  commissions'!D1529=\"AGI externes\",'Relevés de  commissions'!O1529,0)*1","v":0},{"$f":"IF('Relevés de  commissions'!D1529=\"AGI externes\",'Relevés de  commissions'!P1529,0)*1","v":0},0,""]
[null,null,null,null,null,null,null,null,null,null,null,null,{"$f":"IF('Relevés de  commissions'!D1530=\"AGI externes\",'Relevés de  commissions'!M1530,0)*1","v":0},{"$f":"IF('Relevés de  commissions'!D1530=\"AGI externes\",'Relevés de  commissions'!N1530,0)*1","v":0},{"$f":"IF('Relevés de  commissions'!D1530=\"AGI externes\",'Relevés de  commissions'!O1530,0)*1","v":0},{"$f":"IF('Relevés de  commissions'!D1530=\"AGI externes\",'Relevés de  commissions'!P1530,0)*1","v":0},0,""]
[null,null,null,null,null,null,null,null,null,null,null,null,{"$f":"IF('Relevés de  commissions'!D1531=\"AGI externes\",'Relevés de  commissions'!M1531,0)*1","v":0},{"$f":"IF('Relevés de  commissions'!D1531=\"AGI externes\",'Relevés de  commissions'!N1531,0)*1","v":0},{"$f":"IF('Relevés de  commissions'!D1531=\"AGI externes\",'Relevés de  commissions'!O1531,0)*1","v":0},{"$f":"IF('Relevés de  commissions'!D1531=\"AGI externes\",'Relevés de  commissions'!P1531,0)*1","v":0},0,""]
[null,null,null,null,null,null,null,null,null,null,null,null,{"$f":"IF('Relevés de  commissions'!D1532=\"AGI externes\",'Relevés de  commissions'!M1532,0)*1","v":0},{"$f":"IF('Relevés de  commissions'!D1532=\"AGI externes\",'Relevés de  commissions'!N1532,0)*1","v":0},{"$f":"IF('Relevés de  commissions'!D1532=\"AGI externes\",'Relevés de  commissions'!O1532,0)*1","v":0},{"$f":"IF('Relevés de  commissions'!D1532=\"AGI externes\",'Relevés de  commissions'!P1532,0)*1","v":0},0,""]
[null,null,null,null,null,null,null,null,null,null,null,null,{"$f":"IF('Relevés de  commissions'!D1533=\"AGI externes\",'Relevés de  commissions'!M1533,0)*1","v":0},{"$f":"IF('Relevés de  commissions'!D1533=\"AGI externes\",'Relevés de  commissions'!N1533,0)*1","v":0},{"$f":"IF('Relevés de  commissions'!D1533=\"AGI externes\",'Relevés de  commissions'!O1533,0)*1","v":0},{"$f":"IF('Relevés de  commissions'!D1533=\"AGI externes\",'Relevés de  commissions'!P1533,0)*1","v":0},0,""]
[null,null,null,null,null,null,null,null,null,null,null,null,{"$f":"IF('Relevés de  commissions'!D1534=\"AGI externes\",'Relevés de  commissions'!M1534,0)*1","v":0},{"$f":"IF('Relevés de  commissions'!D1534=\"AGI externes\",'Relevés de  commissions'!N1534,0)*1","v":0},{"$f":"IF('Relevés de  commissions'!D1534=\"AGI externes\",'Relevés de  commissions'!O1534,0)*1","v":0},{"$f":"IF('Relevés de  commissions'!D1534=\"AGI externes\",'Relevés de  commissions'!P1534,0)*1","v":0},0,""]
[null,null,null,null,null,null,null,null,null,null,null,null,{"$f":"IF('Relevés de  commissions'!D1535=\"AGI externes\",'Relevés de  commissions'!M1535,0)*1","v":0},{"$f":"IF('Relevés de  commissions'!D1535=\"AGI externes\",'Relevés de  commissions'!N1535,0)*1","v":0},{"$f":"IF('Relevés de  commissions'!D1535=\"AGI externes\",'Relevés de  commissions'!O1535,0)*1","v":0},{"$f":"IF('Relevés de  commissions'!D1535=\"AGI externes\",'Relevés de  commissions'!P1535,0)*1","v":0},0,""]
[null,null,null,null,null,null,null,null,null,null,null,null,{"$f":"IF('Relevés de  commissions'!D1536=\"AGI externes\",'Relevés de  commissions'!M1536,0)*1","v":0},{"$f":"IF('Relevés de  commissions'!D1536=\"AGI externes\",'Relevés de  commissions'!N1536,0)*1","v":0},{"$f":"IF('Relevés de  commissions'!D1536=\"AGI externes\",'Relevés de  commissions'!O1536,0)*1","v":0},{"$f":"IF('Relevés de  commissions'!D1536=\"AGI externes\",'Relevés de  commissions'!P1536,0)*1","v":0},0,""]
[null,null,null,null,null,null,null,null,null,null,null,null,{"$f":"IF('Relevés de  commissions'!D1537=\"AGI externes\",'Relevés de  commissions'!M1537,0)*1","v":0},{"$f":"IF('Relevés de  commissions'!D1537=\"AGI externes\",'Relevés de  commissions'!N1537,0)*1","v":0},{"$f":"IF('Relevés de  commissions'!D1537=\"AGI externes\",'Relevés de  commissions'!O1537,0)*1","v":0},{"$f":"IF('Relevés de  commissions'!D1537=\"AGI externes\",'Relevés de  commissions'!P1537,0)*1","v":0},0,""]
[null,null,null,null,null,null,null,null,null,null,null,null,{"$f":"IF('Relevés de  commissions'!D1538=\"AGI externes\",'Relevés de  commissions'!M1538,0)*1","v":0},{"$f":"IF('Relevés de  commissions'!D1538=\"AGI externes\",'Relevés de  commissions'!N1538,0)*1","v":0},{"$f":"IF('Relevés de  commissions'!D1538=\"AGI externes\",'Relevés de  commissions'!O1538,0)*1","v":0},{"$f":"IF('Relevés de  commissions'!D1538=\"AGI externes\",'Relevés de  commissions'!P1538,0)*1","v":0},0,""]
[null,null,null,null,null,null,null,null,null,null,null,null,{"$f":"IF('Relevés de  commissions'!D1539=\"AGI externes\",'Relevés de  commissions'!M1539,0)*1","v":0},{"$f":"IF('Relevés de  commissions'!D1539=\"AGI externes\",'Relevés de  commissions'!N1539,0)*1","v":0},{"$f":"IF('Relevés de  commissions'!D1539=\"AGI externes\",'Relevés de  commissions'!O1539,0)*1","v":0},{"$f":"IF('Relevés de  commissions'!D1539=\"AGI externes\",'Relevés de  commissions'!P1539,0)*1","v":0},{"$f":"IF(N1541=0,O1541,\"\")","v":0},{"$f":"IF(N1541=10,O1541,\"\")","v":""}]
[null,null,null,null,null,null,null,null,null,null,null,null,{"$f":"IF('Relevés de  commissions'!D1540=\"AGI externes\",'Relevés de  commissions'!M1540,0)*1","v":0},{"$f":"IF('Relevés de  commissions'!D1540=\"AGI externes\",'Relevés de  commissions'!N1540,0)*1","v":0},{"$f":"IF('Relevés de  commissions'!D1540=\"AGI externes\",'Relevés de  commissions'!O1540,0)*1","v":0},{"$f":"IF('Relevés de  commissions'!D1540=\"AGI externes\",'Relevés de  commissions'!P1540,0)*1","v":0},0,""]
[null,null,null,null,null,null,null,null,null,null,null,null,{"$f":"IF('Relevés de  commissions'!D1541=\"AGI externes\",'Relevés de  commissions'!M1541,0)*1","v":0},{"$f":"IF('Relevés de  commissions'!D1541=\"AGI externes\",'Relevés de  commissions'!N1541,0)*1","v":0},{"$f":"IF('Relevés de  commissions'!D1541=\"AGI externes\",'Relevés de  commissions'!O1541,0)*1","v":0},{"$f":"IF('Relevés de  commissions'!D1541=\"AGI externes\",'Relevés de  commissions'!P1541,0)*1","v":0},0,""]
[null,null,null,null,null,null,null,null,null,null,null,null,{"$f":"IF('Relevés de  commissions'!D1542=\"AGI externes\",'Relevés de  commissions'!M1542,0)*1","v":0},{"$f":"IF('Relevés de  commissions'!D1542=\"AGI externes\",'Relevés de  commissions'!N1542,0)*1","v":0},{"$f":"IF('Relevés de  commissions'!D1542=\"AGI externes\",'Relevés de  commissions'!O1542,0)*1","v":0},{"$f":"IF('Relevés de  commissions'!D1542=\"AGI externes\",'Relevés de  commissions'!P1542,0)*1","v":0},0,""]
[null,null,null,null,null,null,null,null,null,null,null,null,{"$f":"IF('Relevés de  commissions'!D1543=\"AGI externes\",'Relevés de  commissions'!M1543,0)*1","v":0},{"$f":"IF('Relevés de  commissions'!D1543=\"AGI externes\",'Relevés de  commissions'!N1543,0)*1","v":0},{"$f":"IF('Relevés de  commissions'!D1543=\"AGI externes\",'Relevés de  commissions'!O1543,0)*1","v":0},{"$f":"IF('Relevés de  commissions'!D1543=\"AGI externes\",'Relevés de  commissions'!P1543,0)*1","v":0},0,""]
[null,null,null,null,null,null,null,null,null,null,null,null,{"$f":"IF('Relevés de  commissions'!D1544=\"AGI externes\",'Relevés de  commissions'!M1544,0)*1","v":0},{"$f":"IF('Relevés de  commissions'!D1544=\"AGI externes\",'Relevés de  commissions'!N1544,0)*1","v":0},{"$f":"IF('Relevés de  commissions'!D1544=\"AGI externes\",'Relevés de  commissions'!O1544,0)*1","v":0},{"$f":"IF('Relevés de  commissions'!D1544=\"AGI externes\",'Relevés de  commissions'!P1544,0)*1","v":0},0,""]
[null,null,null,null,null,null,null,null,null,null,null,null,{"$f":"IF('Relevés de  commissions'!D1545=\"AGI externes\",'Relevés de  commissions'!M1545,0)*1","v":0},{"$f":"IF('Relevés de  commissions'!D1545=\"AGI externes\",'Relevés de  commissions'!N1545,0)*1","v":0},{"$f":"IF('Relevés de  commissions'!D1545=\"AGI externes\",'Relevés de  commissions'!O1545,0)*1","v":0},{"$f":"IF('Relevés de  commissions'!D1545=\"AGI externes\",'Relevés de  commissions'!P1545,0)*1","v":0},0,""]
[null,null,null,null,null,null,null,null,null,null,null,null,{"$f":"IF('Relevés de  commissions'!D1546=\"AGI externes\",'Relevés de  commissions'!M1546,0)*1","v":0},{"$f":"IF('Relevés de  commissions'!D1546=\"AGI externes\",'Relevés de  commissions'!N1546,0)*1","v":0},{"$f":"IF('Relevés de  commissions'!D1546=\"AGI externes\",'Relevés de  commissions'!O1546,0)*1","v":0},{"$f":"IF('Relevés de  commissions'!D1546=\"AGI externes\",'Relevés de  commissions'!P1546,0)*1","v":0},0,""]
[null,null,null,null,null,null,null,null,null,null,null,null,{"$f":"IF('Relevés de  commissions'!D1547=\"AGI externes\",'Relevés de  commissions'!M1547,0)*1","v":0},{"$f":"IF('Relevés de  commissions'!D1547=\"AGI externes\",'Relevés de  commissions'!N1547,0)*1","v":0},{"$f":"IF('Relevés de  commissions'!D1547=\"AGI externes\",'Relevés de  commissions'!O1547,0)*1","v":0},{"$f":"IF('Relevés de  commissions'!D1547=\"AGI externes\",'Relevés de  commissions'!P1547,0)*1","v":0},0,""]
[null,null,null,null,null,null,null,null,null,null,null,null,{"$f":"IF('Relevés de  commissions'!D1548=\"AGI externes\",'Relevés de  commissions'!M1548,0)*1","v":0},{"$f":"IF('Relevés de  commissions'!D1548=\"AGI externes\",'Relevés de  commissions'!N1548,0)*1","v":0},{"$f":"IF('Relevés de  commissions'!D1548=\"AGI externes\",'Relevés de  commissions'!O1548,0)*1","v":0},{"$f":"IF('Relevés de  commissions'!D1548=\"AGI externes\",'Relevés de  commissions'!P1548,0)*1","v":0},0,""]
[null,null,null,null,null,null,null,null,null,null,null,null,{"$f":"IF('Relevés de  commissions'!D1549=\"AGI externes\",'Relevés de  commissions'!M1549,0)*1","v":0},{"$f":"IF('Relevés de  commissions'!D1549=\"AGI externes\",'Relevés de  commissions'!N1549,0)*1","v":0},{"$f":"IF('Relevés de  commissions'!D1549=\"AGI externes\",'Relevés de  commissions'!O1549,0)*1","v":0},{"$f":"IF('Relevés de  commissions'!D1549=\"AGI externes\",'Relevés de  commissions'!P1549,0)*1","v":0},0,""]
[null,null,null,null,null,null,null,null,null,null,null,null,{"$f":"IF('Relevés de  commissions'!D1550=\"AGI externes\",'Relevés de  commissions'!M1550,0)*1","v":0},{"$f":"IF('Relevés de  commissions'!D1550=\"AGI externes\",'Relevés de  commissions'!N1550,0)*1","v":0},{"$f":"IF('Relevés de  commissions'!D1550=\"AGI externes\",'Relevés de  commissions'!O1550,0)*1","v":0},{"$f":"IF('Relevés de  commissions'!D1550=\"AGI externes\",'Relevés de  commissions'!P1550,0)*1","v":0},0,""]
[null,null,null,null,null,null,null,null,null,null,null,null,{"$f":"IF('Relevés de  commissions'!D1551=\"AGI externes\",'Relevés de  commissions'!M1551,0)*1","v":0},{"$f":"IF('Relevés de  commissions'!D1551=\"AGI externes\",'Relevés de  commissions'!N1551,0)*1","v":0},{"$f":"IF('Relevés de  commissions'!D1551=\"AGI externes\",'Relevés de  commissions'!O1551,0)*1","v":0},{"$f":"IF('Relevés de  commissions'!D1551=\"AGI externes\",'Relevés de  commissions'!P1551,0)*1","v":0},0,""]
[null,null,null,null,null,null,null,null,null,null,null,null,{"$f":"IF('Relevés de  commissions'!D1552=\"AGI externes\",'Relevés de  commissions'!M1552,0)*1","v":0},{"$f":"IF('Relevés de  commissions'!D1552=\"AGI externes\",'Relevés de  commissions'!N1552,0)*1","v":0},{"$f":"IF('Relevés de  commissions'!D1552=\"AGI externes\",'Relevés de  commissions'!O1552,0)*1","v":0},{"$f":"IF('Relevés de  commissions'!D1552=\"AGI externes\",'Relevés de  commissions'!P1552,0)*1","v":0},0,""]
[null,null,null,null,null,null,null,null,null,null,null,null,{"$f":"IF('Relevés de  commissions'!D1553=\"AGI externes\",'Relevés de  commissions'!M1553,0)*1","v":0},{"$f":"IF('Relevés de  commissions'!D1553=\"AGI externes\",'Relevés de  commissions'!N1553,0)*1","v":0},{"$f":"IF('Relevés de  commissions'!D1553=\"AGI externes\",'Relevés de  commissions'!O1553,0)*1","v":0},{"$f":"IF('Relevés de  commissions'!D1553=\"AGI externes\",'Relevés de  commissions'!P1553,0)*1","v":0},0,""]
[null,null,null,null,null,null,null,null,null,null,null,null,{"$f":"IF('Relevés de  commissions'!D1554=\"AGI externes\",'Relevés de  commissions'!M1554,0)*1","v":0},{"$f":"IF('Relevés de  commissions'!D1554=\"AGI externes\",'Relevés de  commissions'!N1554,0)*1","v":0},{"$f":"IF('Relevés de  commissions'!D1554=\"AGI externes\",'Relevés de  commissions'!O1554,0)*1","v":0},{"$f":"IF('Relevés de  commissions'!D1554=\"AGI externes\",'Relevés de  commissions'!P1554,0)*1","v":0},0,""]
[null,null,null,null,null,null,null,null,null,null,null,null,{"$f":"IF('Relevés de  commissions'!D1555=\"AGI externes\",'Relevés de  commissions'!M1555,0)*1","v":0},{"$f":"IF('Relevés de  commissions'!D1555=\"AGI externes\",'Relevés de  commissions'!N1555,0)*1","v":0},{"$f":"IF('Relevés de  commissions'!D1555=\"AGI externes\",'Relevés de  commissions'!O1555,0)*1","v":0},{"$f":"IF('Relevés de  commissions'!D1555=\"AGI externes\",'Relevés de  commissions'!P1555,0)*1","v":0},0,""]
[null,null,null,null,null,null,null,null,null,null,null,null,{"$f":"IF('Relevés de  commissions'!D1556=\"AGI externes\",'Relevés de  commissions'!M1556,0)*1","v":0},{"$f":"IF('Relevés de  commissions'!D1556=\"AGI externes\",'Relevés de  commissions'!N1556,0)*1","v":0},{"$f":"IF('Relevés de  commissions'!D1556=\"AGI externes\",'Relevés de  commissions'!O1556,0)*1","v":0},{"$f":"IF('Relevés de  commissions'!D1556=\"AGI externes\",'Relevés de  commissions'!P1556,0)*1","v":0},0,""]
[null,null,null,null,null,null,null,null,null,null,null,null,{"$f":"IF('Relevés de  commissions'!D1557=\"AGI externes\",'Relevés de  commissions'!M1557,0)*1","v":0},{"$f":"IF('Relevés de  commissions'!D1557=\"AGI externes\",'Relevés de  commissions'!N1557,0)*1","v":0},{"$f":"IF('Relevés de  commissions'!D1557=\"AGI externes\",'Relevés de  commissions'!O1557,0)*1","v":0},{"$f":"IF('Relevés de  commissions'!D1557=\"AGI externes\",'Relevés de  commissions'!P1557,0)*1","v":0},0,""]
[null,null,null,null,null,null,null,null,null,null,null,null,{"$f":"IF('Relevés de  commissions'!D1558=\"AGI externes\",'Relevés de  commissions'!M1558,0)*1","v":0},{"$f":"IF('Relevés de  commissions'!D1558=\"AGI externes\",'Relevés de  commissions'!N1558,0)*1","v":0},{"$f":"IF('Relevés de  commissions'!D1558=\"AGI externes\",'Relevés de  commissions'!O1558,0)*1","v":0},{"$f":"IF('Relevés de  commissions'!D1558=\"AGI externes\",'Relevés de  commissions'!P1558,0)*1","v":0},0,""]
[null,null,null,null,null,null,null,null,null,null,null,null,{"$f":"IF('Relevés de  commissions'!D1559=\"AGI externes\",'Relevés de  commissions'!M1559,0)*1","v":0},{"$f":"IF('Relevés de  commissions'!D1559=\"AGI externes\",'Relevés de  commissions'!N1559,0)*1","v":0},{"$f":"IF('Relevés de  commissions'!D1559=\"AGI externes\",'Relevés de  commissions'!O1559,0)*1","v":0},{"$f":"IF('Relevés de  commissions'!D1559=\"AGI externes\",'Relevés de  commissions'!P1559,0)*1","v":0},0,""]
[null,null,null,null,null,null,null,null,null,null,null,null,{"$f":"IF('Relevés de  commissions'!D1560=\"AGI externes\",'Relevés de  commissions'!M1560,0)*1","v":0},{"$f":"IF('Relevés de  commissions'!D1560=\"AGI externes\",'Relevés de  commissions'!N1560,0)*1","v":0},{"$f":"IF('Relevés de  commissions'!D1560=\"AGI externes\",'Relevés de  commissions'!O1560,0)*1","v":0},{"$f":"IF('Relevés de  commissions'!D1560=\"AGI externes\",'Relevés de  commissions'!P1560,0)*1","v":0},0,""]
[null,null,null,null,null,null,null,null,null,null,null,null,{"$f":"IF('Relevés de  commissions'!D1561=\"AGI externes\",'Relevés de  commissions'!M1561,0)*1","v":0},{"$f":"IF('Relevés de  commissions'!D1561=\"AGI externes\",'Relevés de  commissions'!N1561,0)*1","v":0},{"$f":"IF('Relevés de  commissions'!D1561=\"AGI externes\",'Relevés de  commissions'!O1561,0)*1","v":0},{"$f":"IF('Relevés de  commissions'!D1561=\"AGI externes\",'Relevés de  commissions'!P1561,0)*1","v":0},0,""]
[null,null,null,null,null,null,null,null,null,null,null,null,{"$f":"IF('Relevés de  commissions'!D1562=\"AGI externes\",'Relevés de  commissions'!M1562,0)*1","v":0},{"$f":"IF('Relevés de  commissions'!D1562=\"AGI externes\",'Relevés de  commissions'!N1562,0)*1","v":0},{"$f":"IF('Relevés de  commissions'!D1562=\"AGI externes\",'Relevés de  commissions'!O1562,0)*1","v":0},{"$f":"IF('Relevés de  commissions'!D1562=\"AGI externes\",'Relevés de  commissions'!P1562,0)*1","v":0},0,""]
[null,null,null,null,null,null,null,null,null,null,null,null,{"$f":"IF('Relevés de  commissions'!D1563=\"AGI externes\",'Relevés de  commissions'!M1563,0)*1","v":0},{"$f":"IF('Relevés de  commissions'!D1563=\"AGI externes\",'Relevés de  commissions'!N1563,0)*1","v":0},{"$f":"IF('Relevés de  commissions'!D1563=\"AGI externes\",'Relevés de  commissions'!O1563,0)*1","v":0},{"$f":"IF('Relevés de  commissions'!D1563=\"AGI externes\",'Relevés de  commissions'!P1563,0)*1","v":0},0,""]
[null,null,null,null,null,null,null,null,null,null,null,null,{"$f":"IF('Relevés de  commissions'!D1564=\"AGI externes\",'Relevés de  commissions'!M1564,0)*1","v":0},{"$f":"IF('Relevés de  commissions'!D1564=\"AGI externes\",'Relevés de  commissions'!N1564,0)*1","v":0},{"$f":"IF('Relevés de  commissions'!D1564=\"AGI externes\",'Relevés de  commissions'!O1564,0)*1","v":0},{"$f":"IF('Relevés de  commissions'!D1564=\"AGI externes\",'Relevés de  commissions'!P1564,0)*1","v":0},0,""]
[null,null,null,null,null,null,null,null,null,null,null,null,{"$f":"IF('Relevés de  commissions'!D1565=\"AGI externes\",'Relevés de  commissions'!M1565,0)*1","v":0},{"$f":"IF('Relevés de  commissions'!D1565=\"AGI externes\",'Relevés de  commissions'!N1565,0)*1","v":0},{"$f":"IF('Relevés de  commissions'!D1565=\"AGI externes\",'Relevés de  commissions'!O1565,0)*1","v":0},{"$f":"IF('Relevés de  commissions'!D1565=\"AGI externes\",'Relevés de  commissions'!P1565,0)*1","v":0},0,""]
[null,null,null,null,null,null,null,null,null,null,null,null,{"$f":"IF('Relevés de  commissions'!D1566=\"AGI externes\",'Relevés de  commissions'!M1566,0)*1","v":0},{"$f":"IF('Relevés de  commissions'!D1566=\"AGI externes\",'Relevés de  commissions'!N1566,0)*1","v":0},{"$f":"IF('Relevés de  commissions'!D1566=\"AGI externes\",'Relevés de  commissions'!O1566,0)*1","v":0},{"$f":"IF('Relevés de  commissions'!D1566=\"AGI externes\",'Relevés de  commissions'!P1566,0)*1","v":0},0,""]
[null,null,null,null,null,null,null,null,null,null,null,null,{"$f":"IF('Relevés de  commissions'!D1567=\"AGI externes\",'Relevés de  commissions'!M1567,0)*1","v":0},{"$f":"IF('Relevés de  commissions'!D1567=\"AGI externes\",'Relevés de  commissions'!N1567,0)*1","v":0},{"$f":"IF('Relevés de  commissions'!D1567=\"AGI externes\",'Relevés de  commissions'!O1567,0)*1","v":0},{"$f":"IF('Relevés de  commissions'!D1567=\"AGI externes\",'Relevés de  commissions'!P1567,0)*1","v":0},0,""]
[null,null,null,null,null,null,null,null,null,null,null,null,{"$f":"IF('Relevés de  commissions'!D1568=\"AGI externes\",'Relevés de  commissions'!M1568,0)*1","v":0},{"$f":"IF('Relevés de  commissions'!D1568=\"AGI externes\",'Relevés de  commissions'!N1568,0)*1","v":0},{"$f":"IF('Relevés de  commissions'!D1568=\"AGI externes\",'Relevés de  commissions'!O1568,0)*1","v":0},{"$f":"IF('Relevés de  commissions'!D1568=\"AGI externes\",'Relevés de  commissions'!P1568,0)*1","v":0},0,""]
[null,null,null,null,null,null,null,null,null,null,null,null,{"$f":"IF('Relevés de  commissions'!D1569=\"AGI externes\",'Relevés de  commissions'!M1569,0)*1","v":0},{"$f":"IF('Relevés de  commissions'!D1569=\"AGI externes\",'Relevés de  commissions'!N1569,0)*1","v":0},{"$f":"IF('Relevés de  commissions'!D1569=\"AGI externes\",'Relevés de  commissions'!O1569,0)*1","v":0},{"$f":"IF('Relevés de  commissions'!D1569=\"AGI externes\",'Relevés de  commissions'!P1569,0)*1","v":0},0,""]
[null,null,null,null,null,null,null,null,null,null,null,null,{"$f":"IF('Relevés de  commissions'!D1570=\"AGI externes\",'Relevés de  commissions'!M1570,0)*1","v":0},{"$f":"IF('Relevés de  commissions'!D1570=\"AGI externes\",'Relevés de  commissions'!N1570,0)*1","v":0},{"$f":"IF('Relevés de  commissions'!D1570=\"AGI externes\",'Relevés de  commissions'!O1570,0)*1","v":0},{"$f":"IF('Relevés de  commissions'!D1570=\"AGI externes\",'Relevés de  commissions'!P1570,0)*1","v":0},0,""]
[null,null,null,null,null,null,null,null,null,null,null,null,{"$f":"IF('Relevés de  commissions'!D1571=\"AGI externes\",'Relevés de  commissions'!M1571,0)*1","v":0},{"$f":"IF('Relevés de  commissions'!D1571=\"AGI externes\",'Relevés de  commissions'!N1571,0)*1","v":0},{"$f":"IF('Relevés de  commissions'!D1571=\"AGI externes\",'Relevés de  commissions'!O1571,0)*1","v":0},{"$f":"IF('Relevés de  commissions'!D1571=\"AGI externes\",'Relevés de  commissions'!P1571,0)*1","v":0},0,""]
[null,null,null,null,null,null,null,null,null,null,null,null,{"$f":"IF('Relevés de  commissions'!D1572=\"AGI externes\",'Relevés de  commissions'!M1572,0)*1","v":0},{"$f":"IF('Relevés de  commissions'!D1572=\"AGI externes\",'Relevés de  commissions'!N1572,0)*1","v":0},{"$f":"IF('Relevés de  commissions'!D1572=\"AGI externes\",'Relevés de  commissions'!O1572,0)*1","v":0},{"$f":"IF('Relevés de  commissions'!D1572=\"AGI externes\",'Relevés de  commissions'!P1572,0)*1","v":0},0,""]
[null,null,null,null,null,null,null,null,null,null,null,null,{"$f":"IF('Relevés de  commissions'!D1573=\"AGI externes\",'Relevés de  commissions'!M1573,0)*1","v":0},{"$f":"IF('Relevés de  commissions'!D1573=\"AGI externes\",'Relevés de  commissions'!N1573,0)*1","v":0},{"$f":"IF('Relevés de  commissions'!D1573=\"AGI externes\",'Relevés de  commissions'!O1573,0)*1","v":0},{"$f":"IF('Relevés de  commissions'!D1573=\"AGI externes\",'Relevés de  commissions'!P1573,0)*1","v":0},0,""]
[null,null,null,null,null,null,null,null,null,null,null,null,{"$f":"IF('Relevés de  commissions'!D1574=\"AGI externes\",'Relevés de  commissions'!M1574,0)*1","v":0},{"$f":"IF('Relevés de  commissions'!D1574=\"AGI externes\",'Relevés de  commissions'!N1574,0)*1","v":0},{"$f":"IF('Relevés de  commissions'!D1574=\"AGI externes\",'Relevés de  commissions'!O1574,0)*1","v":0},{"$f":"IF('Relevés de  commissions'!D1574=\"AGI externes\",'Relevés de  commissions'!P1574,0)*1","v":0},0,""]
[null,null,null,null,null,null,null,null,null,null,null,null,{"$f":"IF('Relevés de  commissions'!D1575=\"AGI externes\",'Relevés de  commissions'!M1575,0)*1","v":0},{"$f":"IF('Relevés de  commissions'!D1575=\"AGI externes\",'Relevés de  commissions'!N1575,0)*1","v":0},{"$f":"IF('Relevés de  commissions'!D1575=\"AGI externes\",'Relevés de  commissions'!O1575,0)*1","v":0},{"$f":"IF('Relevés de  commissions'!D1575=\"AGI externes\",'Relevés de  commissions'!P1575,0)*1","v":0},0,""]
[null,null,null,null,null,null,null,null,null,null,null,null,{"$f":"IF('Relevés de  commissions'!D1576=\"AGI externes\",'Relevés de  commissions'!M1576,0)*1","v":0},{"$f":"IF('Relevés de  commissions'!D1576=\"AGI externes\",'Relevés de  commissions'!N1576,0)*1","v":0},{"$f":"IF('Relevés de  commissions'!D1576=\"AGI externes\",'Relevés de  commissions'!O1576,0)*1","v":0},{"$f":"IF('Relevés de  commissions'!D1576=\"AGI externes\",'Relevés de  commissions'!P1576,0)*1","v":0},0,""]
[null,null,null,null,null,null,null,null,null,null,null,null,{"$f":"IF('Relevés de  commissions'!D1577=\"AGI externes\",'Relevés de  commissions'!M1577,0)*1","v":0},{"$f":"IF('Relevés de  commissions'!D1577=\"AGI externes\",'Relevés de  commissions'!N1577,0)*1","v":0},{"$f":"IF('Relevés de  commissions'!D1577=\"AGI externes\",'Relevés de  commissions'!O1577,0)*1","v":0},{"$f":"IF('Relevés de  commissions'!D1577=\"AGI externes\",'Relevés de  commissions'!P1577,0)*1","v":0},0,""]
[null,null,null,null,null,null,null,null,null,null,null,null,{"$f":"IF('Relevés de  commissions'!D1578=\"AGI externes\",'Relevés de  commissions'!M1578,0)*1","v":0},{"$f":"IF('Relevés de  commissions'!D1578=\"AGI externes\",'Relevés de  commissions'!N1578,0)*1","v":0},{"$f":"IF('Relevés de  commissions'!D1578=\"AGI externes\",'Relevés de  commissions'!O1578,0)*1","v":0},{"$f":"IF('Relevés de  commissions'!D1578=\"AGI externes\",'Relevés de  commissions'!P1578,0)*1","v":0},0,""]
[null,null,null,null,null,null,null,null,null,null,null,null,{"$f":"IF('Relevés de  commissions'!D1579=\"AGI externes\",'Relevés de  commissions'!M1579,0)*1","v":0},{"$f":"IF('Relevés de  commissions'!D1579=\"AGI externes\",'Relevés de  commissions'!N1579,0)*1","v":0},{"$f":"IF('Relevés de  commissions'!D1579=\"AGI externes\",'Relevés de  commissions'!O1579,0)*1","v":0},{"$f":"IF('Relevés de  commissions'!D1579=\"AGI externes\",'Relevés de  commissions'!P1579,0)*1","v":0},0,""]
[null,null,null,null,null,null,null,null,null,null,null,null,{"$f":"IF('Relevés de  commissions'!D1580=\"AGI externes\",'Relevés de  commissions'!M1580,0)*1","v":0},{"$f":"IF('Relevés de  commissions'!D1580=\"AGI externes\",'Relevés de  commissions'!N1580,0)*1","v":0},{"$f":"IF('Relevés de  commissions'!D1580=\"AGI externes\",'Relevés de  commissions'!O1580,0)*1","v":0},{"$f":"IF('Relevés de  commissions'!D1580=\"AGI externes\",'Relevés de  commissions'!P1580,0)*1","v":0},0,""]
[null,null,null,null,null,null,null,null,null,null,null,null,{"$f":"IF('Relevés de  commissions'!D1581=\"AGI externes\",'Relevés de  commissions'!M1581,0)*1","v":0},{"$f":"IF('Relevés de  commissions'!D1581=\"AGI externes\",'Relevés de  commissions'!N1581,0)*1","v":0},{"$f":"IF('Relevés de  commissions'!D1581=\"AGI externes\",'Relevés de  commissions'!O1581,0)*1","v":0},{"$f":"IF('Relevés de  commissions'!D1581=\"AGI externes\",'Relevés de  commissions'!P1581,0)*1","v":0},0,""]
[null,null,null,null,null,null,null,null,null,null,null,null,{"$f":"IF('Relevés de  commissions'!D1582=\"AGI externes\",'Relevés de  commissions'!M1582,0)*1","v":0},{"$f":"IF('Relevés de  commissions'!D1582=\"AGI externes\",'Relevés de  commissions'!N1582,0)*1","v":0},{"$f":"IF('Relevés de  commissions'!D1582=\"AGI externes\",'Relevés de  commissions'!O1582,0)*1","v":0},{"$f":"IF('Relevés de  commissions'!D1582=\"AGI externes\",'Relevés de  commissions'!P1582,0)*1","v":0},0,""]
[null,null,null,null,null,null,null,null,null,null,null,null,{"$f":"IF('Relevés de  commissions'!D1583=\"AGI externes\",'Relevés de  commissions'!M1583,0)*1","v":0},{"$f":"IF('Relevés de  commissions'!D1583=\"AGI externes\",'Relevés de  commissions'!N1583,0)*1","v":0},{"$f":"IF('Relevés de  commissions'!D1583=\"AGI externes\",'Relevés de  commissions'!O1583,0)*1","v":0},{"$f":"IF('Relevés de  commissions'!D1583=\"AGI externes\",'Relevés de  commissions'!P1583,0)*1","v":0},0,""]
[null,null,null,null,null,null,null,null,null,null,null,null,{"$f":"IF('Relevés de  commissions'!D1584=\"AGI externes\",'Relevés de  commissions'!M1584,0)*1","v":0},{"$f":"IF('Relevés de  commissions'!D1584=\"AGI externes\",'Relevés de  commissions'!N1584,0)*1","v":0},{"$f":"IF('Relevés de  commissions'!D1584=\"AGI externes\",'Relevés de  commissions'!O1584,0)*1","v":0},{"$f":"IF('Relevés de  commissions'!D1584=\"AGI externes\",'Relevés de  commissions'!P1584,0)*1","v":0},0,""]
[null,null,null,null,null,null,null,null,null,null,null,null,{"$f":"IF('Relevés de  commissions'!D1585=\"AGI externes\",'Relevés de  commissions'!M1585,0)*1","v":0},{"$f":"IF('Relevés de  commissions'!D1585=\"AGI externes\",'Relevés de  commissions'!N1585,0)*1","v":0},{"$f":"IF('Relevés de  commissions'!D1585=\"AGI externes\",'Relevés de  commissions'!O1585,0)*1","v":0},{"$f":"IF('Relevés de  commissions'!D1585=\"AGI externes\",'Relevés de  commissions'!P1585,0)*1","v":0},0,""]
[null,null,null,null,null,null,null,null,null,null,null,null,{"$f":"IF('Relevés de  commissions'!D1586=\"AGI externes\",'Relevés de  commissions'!M1586,0)*1","v":0},{"$f":"IF('Relevés de  commissions'!D1586=\"AGI externes\",'Relevés de  commissions'!N1586,0)*1","v":0},{"$f":"IF('Relevés de  commissions'!D1586=\"AGI externes\",'Relevés de  commissions'!O1586,0)*1","v":0},{"$f":"IF('Relevés de  commissions'!D1586=\"AGI externes\",'Relevés de  commissions'!P1586,0)*1","v":0},0,""]
[null,null,null,null,null,null,null,null,null,null,null,null,{"$f":"IF('Relevés de  commissions'!D1587=\"AGI externes\",'Relevés de  commissions'!M1587,0)*1","v":0},{"$f":"IF('Relevés de  commissions'!D1587=\"AGI externes\",'Relevés de  commissions'!N1587,0)*1","v":0},{"$f":"IF('Relevés de  commissions'!D1587=\"AGI externes\",'Relevés de  commissions'!O1587,0)*1","v":0},{"$f":"IF('Relevés de  commissions'!D1587=\"AGI externes\",'Relevés de  commissions'!P1587,0)*1","v":0},0,""]
[null,null,null,null,null,null,null,null,null,null,null,null,{"$f":"IF('Relevés de  commissions'!D1588=\"AGI externes\",'Relevés de  commissions'!M1588,0)*1","v":0},{"$f":"IF('Relevés de  commissions'!D1588=\"AGI externes\",'Relevés de  commissions'!N1588,0)*1","v":0},{"$f":"IF('Relevés de  commissions'!D1588=\"AGI externes\",'Relevés de  commissions'!O1588,0)*1","v":0},{"$f":"IF('Relevés de  commissions'!D1588=\"AGI externes\",'Relevés de  commissions'!P1588,0)*1","v":0},0,""]
[null,null,null,null,null,null,null,null,null,null,null,null,{"$f":"IF('Relevés de  commissions'!D1589=\"AGI externes\",'Relevés de  commissions'!M1589,0)*1","v":0},{"$f":"IF('Relevés de  commissions'!D1589=\"AGI externes\",'Relevés de  commissions'!N1589,0)*1","v":0},{"$f":"IF('Relevés de  commissions'!D1589=\"AGI externes\",'Relevés de  commissions'!O1589,0)*1","v":0},{"$f":"IF('Relevés de  commissions'!D1589=\"AGI externes\",'Relevés de  commissions'!P1589,0)*1","v":0},0,""]
[null,null,null,null,null,null,null,null,null,null,null,null,{"$f":"IF('Relevés de  commissions'!D1590=\"AGI externes\",'Relevés de  commissions'!M1590,0)*1","v":0},{"$f":"IF('Relevés de  commissions'!D1590=\"AGI externes\",'Relevés de  commissions'!N1590,0)*1","v":0},{"$f":"IF('Relevés de  commissions'!D1590=\"AGI externes\",'Relevés de  commissions'!O1590,0)*1","v":0},{"$f":"IF('Relevés de  commissions'!D1590=\"AGI externes\",'Relevés de  commissions'!P1590,0)*1","v":0},0,""]
[null,null,null,null,null,null,null,null,null,null,null,null,{"$f":"IF('Relevés de  commissions'!D1591=\"AGI externes\",'Relevés de  commissions'!M1591,0)*1","v":0},{"$f":"IF('Relevés de  commissions'!D1591=\"AGI externes\",'Relevés de  commissions'!N1591,0)*1","v":0},{"$f":"IF('Relevés de  commissions'!D1591=\"AGI externes\",'Relevés de  commissions'!O1591,0)*1","v":0},{"$f":"IF('Relevés de  commissions'!D1591=\"AGI externes\",'Relevés de  commissions'!P1591,0)*1","v":0},0,""]
[null,null,null,null,null,null,null,null,null,null,null,null,{"$f":"IF('Relevés de  commissions'!D1592=\"AGI externes\",'Relevés de  commissions'!M1592,0)*1","v":0},{"$f":"IF('Relevés de  commissions'!D1592=\"AGI externes\",'Relevés de  commissions'!N1592,0)*1","v":0},{"$f":"IF('Relevés de  commissions'!D1592=\"AGI externes\",'Relevés de  commissions'!O1592,0)*1","v":0},{"$f":"IF('Relevés de  commissions'!D1592=\"AGI externes\",'Relevés de  commissions'!P1592,0)*1","v":0},0,""]
[null,null,null,null,null,null,null,null,null,null,null,null,{"$f":"IF('Relevés de  commissions'!D1593=\"AGI externes\",'Relevés de  commissions'!M1593,0)*1","v":0},{"$f":"IF('Relevés de  commissions'!D1593=\"AGI externes\",'Relevés de  commissions'!N1593,0)*1","v":0},{"$f":"IF('Relevés de  commissions'!D1593=\"AGI externes\",'Relevés de  commissions'!O1593,0)*1","v":0},{"$f":"IF('Relevés de  commissions'!D1593=\"AGI externes\",'Relevés de  commissions'!P1593,0)*1","v":0},0,""]
[null,null,null,null,null,null,null,null,null,null,null,null,{"$f":"IF('Relevés de  commissions'!D1594=\"AGI externes\",'Relevés de  commissions'!M1594,0)*1","v":0},{"$f":"IF('Relevés de  commissions'!D1594=\"AGI externes\",'Relevés de  commissions'!N1594,0)*1","v":0},{"$f":"IF('Relevés de  commissions'!D1594=\"AGI externes\",'Relevés de  commissions'!O1594,0)*1","v":0},{"$f":"IF('Relevés de  commissions'!D1594=\"AGI externes\",'Relevés de  commissions'!P1594,0)*1","v":0},0,""]
[null,null,null,null,null,null,null,null,null,null,null,null,{"$f":"IF('Relevés de  commissions'!D1595=\"AGI externes\",'Relevés de  commissions'!M1595,0)*1","v":0},{"$f":"IF('Relevés de  commissions'!D1595=\"AGI externes\",'Relevés de  commissions'!N1595,0)*1","v":0},{"$f":"IF('Relevés de  commissions'!D1595=\"AGI externes\",'Relevés de  commissions'!O1595,0)*1","v":0},{"$f":"IF('Relevés de  commissions'!D1595=\"AGI externes\",'Relevés de  commissions'!P1595,0)*1","v":0},0,""]
[null,null,null,null,null,null,null,null,null,null,null,null,{"$f":"IF('Relevés de  commissions'!D1596=\"AGI externes\",'Relevés de  commissions'!M1596,0)*1","v":0},{"$f":"IF('Relevés de  commissions'!D1596=\"AGI externes\",'Relevés de  commissions'!N1596,0)*1","v":0},{"$f":"IF('Relevés de  commissions'!D1596=\"AGI externes\",'Relevés de  commissions'!O1596,0)*1","v":0},{"$f":"IF('Relevés de  commissions'!D1596=\"AGI externes\",'Relevés de  commissions'!P1596,0)*1","v":0},0,""]
[null,null,null,null,null,null,null,null,null,null,null,null,{"$f":"IF('Relevés de  commissions'!D1597=\"AGI externes\",'Relevés de  commissions'!M1597,0)*1","v":0},{"$f":"IF('Relevés de  commissions'!D1597=\"AGI externes\",'Relevés de  commissions'!N1597,0)*1","v":0},{"$f":"IF('Relevés de  commissions'!D1597=\"AGI externes\",'Relevés de  commissions'!O1597,0)*1","v":0},{"$f":"IF('Relevés de  commissions'!D1597=\"AGI externes\",'Relevés de  commissions'!P1597,0)*1","v":0},0,""]
[null,null,null,null,null,null,null,null,null,null,null,null,{"$f":"IF('Relevés de  commissions'!D1598=\"AGI externes\",'Relevés de  commissions'!M1598,0)*1","v":0},{"$f":"IF('Relevés de  commissions'!D1598=\"AGI externes\",'Relevés de  commissions'!N1598,0)*1","v":0},{"$f":"IF('Relevés de  commissions'!D1598=\"AGI externes\",'Relevés de  commissions'!O1598,0)*1","v":0},{"$f":"IF('Relevés de  commissions'!D1598=\"AGI externes\",'Relevés de  commissions'!P1598,0)*1","v":0},0,""]
[null,null,null,null,null,null,null,null,null,null,null,null,{"$f":"IF('Relevés de  commissions'!D1599=\"AGI externes\",'Relevés de  commissions'!M1599,0)*1","v":0},{"$f":"IF('Relevés de  commissions'!D1599=\"AGI externes\",'Relevés de  commissions'!N1599,0)*1","v":0},{"$f":"IF('Relevés de  commissions'!D1599=\"AGI externes\",'Relevés de  commissions'!O1599,0)*1","v":0},{"$f":"IF('Relevés de  commissions'!D1599=\"AGI externes\",'Relevés de  commissions'!P1599,0)*1","v":0},0,""]
[null,null,null,null,null,null,null,null,null,null,null,null,{"$f":"IF('Relevés de  commissions'!D1600=\"AGI externes\",'Relevés de  commissions'!M1600,0)*1","v":0},{"$f":"IF('Relevés de  commissions'!D1600=\"AGI externes\",'Relevés de  commissions'!N1600,0)*1","v":0},{"$f":"IF('Relevés de  commissions'!D1600=\"AGI externes\",'Relevés de  commissions'!O1600,0)*1","v":0},{"$f":"IF('Relevés de  commissions'!D1600=\"AGI externes\",'Relevés de  commissions'!P1600,0)*1","v":0},0,""]
[null,null,null,null,null,null,null,null,null,null,null,null,{"$f":"IF('Relevés de  commissions'!D1601=\"AGI externes\",'Relevés de  commissions'!M1601,0)*1","v":0},{"$f":"IF('Relevés de  commissions'!D1601=\"AGI externes\",'Relevés de  commissions'!N1601,0)*1","v":0},{"$f":"IF('Relevés de  commissions'!D1601=\"AGI externes\",'Relevés de  commissions'!O1601,0)*1","v":0},{"$f":"IF('Relevés de  commissions'!D1601=\"AGI externes\",'Relevés de  commissions'!P1601,0)*1","v":0},0,""]
[null,null,null,null,null,null,null,null,null,null,null,null,{"$f":"IF('Relevés de  commissions'!D1602=\"AGI externes\",'Relevés de  commissions'!M1602,0)*1","v":0},{"$f":"IF('Relevés de  commissions'!D1602=\"AGI externes\",'Relevés de  commissions'!N1602,0)*1","v":0},{"$f":"IF('Relevés de  commissions'!D1602=\"AGI externes\",'Relevés de  commissions'!O1602,0)*1","v":0},{"$f":"IF('Relevés de  commissions'!D1602=\"AGI externes\",'Relevés de  commissions'!P1602,0)*1","v":0},0,""]
[null,null,null,null,null,null,null,null,null,null,null,null,{"$f":"IF('Relevés de  commissions'!D1603=\"AGI externes\",'Relevés de  commissions'!M1603,0)*1","v":0},{"$f":"IF('Relevés de  commissions'!D1603=\"AGI externes\",'Relevés de  commissions'!N1603,0)*1","v":0},{"$f":"IF('Relevés de  commissions'!D1603=\"AGI externes\",'Relevés de  commissions'!O1603,0)*1","v":0},{"$f":"IF('Relevés de  commissions'!D1603=\"AGI externes\",'Relevés de  commissions'!P1603,0)*1","v":0},{"$f":"IF(N1605=0,O1605,\"\")","v":0},{"$f":"IF(N1605=10,O1605,\"\")","v":""}]
[null,null,null,null,null,null,null,null,null,null,null,null,{"$f":"IF('Relevés de  commissions'!D1604=\"AGI externes\",'Relevés de  commissions'!M1604,0)*1","v":0},{"$f":"IF('Relevés de  commissions'!D1604=\"AGI externes\",'Relevés de  commissions'!N1604,0)*1","v":0},{"$f":"IF('Relevés de  commissions'!D1604=\"AGI externes\",'Relevés de  commissions'!O1604,0)*1","v":0},{"$f":"IF('Relevés de  commissions'!D1604=\"AGI externes\",'Relevés de  commissions'!P1604,0)*1","v":0},0,""]
[null,null,null,null,null,null,null,null,null,null,null,null,{"$f":"IF('Relevés de  commissions'!D1605=\"AGI externes\",'Relevés de  commissions'!M1605,0)*1","v":0},{"$f":"IF('Relevés de  commissions'!D1605=\"AGI externes\",'Relevés de  commissions'!N1605,0)*1","v":0},{"$f":"IF('Relevés de  commissions'!D1605=\"AGI externes\",'Relevés de  commissions'!O1605,0)*1","v":0},{"$f":"IF('Relevés de  commissions'!D1605=\"AGI externes\",'Relevés de  commissions'!P1605,0)*1","v":0},0,""]
[null,null,null,null,null,null,null,null,null,null,null,null,{"$f":"IF('Relevés de  commissions'!D1606=\"AGI externes\",'Relevés de  commissions'!M1606,0)*1","v":0},{"$f":"IF('Relevés de  commissions'!D1606=\"AGI externes\",'Relevés de  commissions'!N1606,0)*1","v":0},{"$f":"IF('Relevés de  commissions'!D1606=\"AGI externes\",'Relevés de  commissions'!O1606,0)*1","v":0},{"$f":"IF('Relevés de  commissions'!D1606=\"AGI externes\",'Relevés de  commissions'!P1606,0)*1","v":0},0,""]
[null,null,null,null,null,null,null,null,null,null,null,null,{"$f":"IF('Relevés de  commissions'!D1607=\"AGI externes\",'Relevés de  commissions'!M1607,0)*1","v":0},{"$f":"IF('Relevés de  commissions'!D1607=\"AGI externes\",'Relevés de  commissions'!N1607,0)*1","v":0},{"$f":"IF('Relevés de  commissions'!D1607=\"AGI externes\",'Relevés de  commissions'!O1607,0)*1","v":0},{"$f":"IF('Relevés de  commissions'!D1607=\"AGI externes\",'Relevés de  commissions'!P1607,0)*1","v":0},0,""]
[null,null,null,null,null,null,null,null,null,null,null,null,{"$f":"IF('Relevés de  commissions'!D1608=\"AGI externes\",'Relevés de  commissions'!M1608,0)*1","v":0},{"$f":"IF('Relevés de  commissions'!D1608=\"AGI externes\",'Relevés de  commissions'!N1608,0)*1","v":0},{"$f":"IF('Relevés de  commissions'!D1608=\"AGI externes\",'Relevés de  commissions'!O1608,0)*1","v":0},{"$f":"IF('Relevés de  commissions'!D1608=\"AGI externes\",'Relevés de  commissions'!P1608,0)*1","v":0},0,""]
[null,null,null,null,null,null,null,null,null,null,null,null,{"$f":"IF('Relevés de  commissions'!D1609=\"AGI externes\",'Relevés de  commissions'!M1609,0)*1","v":0},{"$f":"IF('Relevés de  commissions'!D1609=\"AGI externes\",'Relevés de  commissions'!N1609,0)*1","v":0},{"$f":"IF('Relevés de  commissions'!D1609=\"AGI externes\",'Relevés de  commissions'!O1609,0)*1","v":0},{"$f":"IF('Relevés de  commissions'!D1609=\"AGI externes\",'Relevés de  commissions'!P1609,0)*1","v":0},0,""]
[null,null,null,null,null,null,null,null,null,null,null,null,{"$f":"IF('Relevés de  commissions'!D1610=\"AGI externes\",'Relevés de  commissions'!M1610,0)*1","v":0},{"$f":"IF('Relevés de  commissions'!D1610=\"AGI externes\",'Relevés de  commissions'!N1610,0)*1","v":0},{"$f":"IF('Relevés de  commissions'!D1610=\"AGI externes\",'Relevés de  commissions'!O1610,0)*1","v":0},{"$f":"IF('Relevés de  commissions'!D1610=\"AGI externes\",'Relevés de  commissions'!P1610,0)*1","v":0},0,""]
[null,null,null,null,null,null,null,null,null,null,null,null,{"$f":"IF('Relevés de  commissions'!D1611=\"AGI externes\",'Relevés de  commissions'!M1611,0)*1","v":0},{"$f":"IF('Relevés de  commissions'!D1611=\"AGI externes\",'Relevés de  commissions'!N1611,0)*1","v":0},{"$f":"IF('Relevés de  commissions'!D1611=\"AGI externes\",'Relevés de  commissions'!O1611,0)*1","v":0},{"$f":"IF('Relevés de  commissions'!D1611=\"AGI externes\",'Relevés de  commissions'!P1611,0)*1","v":0},0,""]
[null,null,null,null,null,null,null,null,null,null,null,null,{"$f":"IF('Relevés de  commissions'!D1612=\"AGI externes\",'Relevés de  commissions'!M1612,0)*1","v":0},{"$f":"IF('Relevés de  commissions'!D1612=\"AGI externes\",'Relevés de  commissions'!N1612,0)*1","v":0},{"$f":"IF('Relevés de  commissions'!D1612=\"AGI externes\",'Relevés de  commissions'!O1612,0)*1","v":0},{"$f":"IF('Relevés de  commissions'!D1612=\"AGI externes\",'Relevés de  commissions'!P1612,0)*1","v":0},0,""]
[null,null,null,null,null,null,null,null,null,null,null,null,{"$f":"IF('Relevés de  commissions'!D1613=\"AGI externes\",'Relevés de  commissions'!M1613,0)*1","v":0},{"$f":"IF('Relevés de  commissions'!D1613=\"AGI externes\",'Relevés de  commissions'!N1613,0)*1","v":0},{"$f":"IF('Relevés de  commissions'!D1613=\"AGI externes\",'Relevés de  commissions'!O1613,0)*1","v":0},{"$f":"IF('Relevés de  commissions'!D1613=\"AGI externes\",'Relevés de  commissions'!P1613,0)*1","v":0},0,""]
[null,null,null,null,null,null,null,null,null,null,null,null,{"$f":"IF('Relevés de  commissions'!D1614=\"AGI externes\",'Relevés de  commissions'!M1614,0)*1","v":0},{"$f":"IF('Relevés de  commissions'!D1614=\"AGI externes\",'Relevés de  commissions'!N1614,0)*1","v":0},{"$f":"IF('Relevés de  commissions'!D1614=\"AGI externes\",'Relevés de  commissions'!O1614,0)*1","v":0},{"$f":"IF('Relevés de  commissions'!D1614=\"AGI externes\",'Relevés de  commissions'!P1614,0)*1","v":0},0,""]
[null,null,null,null,null,null,null,null,null,null,null,null,{"$f":"IF('Relevés de  commissions'!D1615=\"AGI externes\",'Relevés de  commissions'!M1615,0)*1","v":0},{"$f":"IF('Relevés de  commissions'!D1615=\"AGI externes\",'Relevés de  commissions'!N1615,0)*1","v":0},{"$f":"IF('Relevés de  commissions'!D1615=\"AGI externes\",'Relevés de  commissions'!O1615,0)*1","v":0},{"$f":"IF('Relevés de  commissions'!D1615=\"AGI externes\",'Relevés de  commissions'!P1615,0)*1","v":0},0,""]
[null,null,null,null,null,null,null,null,null,null,null,null,{"$f":"IF('Relevés de  commissions'!D1616=\"AGI externes\",'Relevés de  commissions'!M1616,0)*1","v":0},{"$f":"IF('Relevés de  commissions'!D1616=\"AGI externes\",'Relevés de  commissions'!N1616,0)*1","v":0},{"$f":"IF('Relevés de  commissions'!D1616=\"AGI externes\",'Relevés de  commissions'!O1616,0)*1","v":0},{"$f":"IF('Relevés de  commissions'!D1616=\"AGI externes\",'Relevés de  commissions'!P1616,0)*1","v":0},0,""]
[null,null,null,null,null,null,null,null,null,null,null,null,{"$f":"IF('Relevés de  commissions'!D1617=\"AGI externes\",'Relevés de  commissions'!M1617,0)*1","v":0},{"$f":"IF('Relevés de  commissions'!D1617=\"AGI externes\",'Relevés de  commissions'!N1617,0)*1","v":0},{"$f":"IF('Relevés de  commissions'!D1617=\"AGI externes\",'Relevés de  commissions'!O1617,0)*1","v":0},{"$f":"IF('Relevés de  commissions'!D1617=\"AGI externes\",'Relevés de  commissions'!P1617,0)*1","v":0},0,""]
[null,null,null,null,null,null,null,null,null,null,null,null,{"$f":"IF('Relevés de  commissions'!D1618=\"AGI externes\",'Relevés de  commissions'!M1618,0)*1","v":0},{"$f":"IF('Relevés de  commissions'!D1618=\"AGI externes\",'Relevés de  commissions'!N1618,0)*1","v":0},{"$f":"IF('Relevés de  commissions'!D1618=\"AGI externes\",'Relevés de  commissions'!O1618,0)*1","v":0},{"$f":"IF('Relevés de  commissions'!D1618=\"AGI externes\",'Relevés de  commissions'!P1618,0)*1","v":0},0,""]
[null,null,null,null,null,null,null,null,null,null,null,null,{"$f":"IF('Relevés de  commissions'!D1619=\"AGI externes\",'Relevés de  commissions'!M1619,0)*1","v":0},{"$f":"IF('Relevés de  commissions'!D1619=\"AGI externes\",'Relevés de  commissions'!N1619,0)*1","v":0},{"$f":"IF('Relevés de  commissions'!D1619=\"AGI externes\",'Relevés de  commissions'!O1619,0)*1","v":0},{"$f":"IF('Relevés de  commissions'!D1619=\"AGI externes\",'Relevés de  commissions'!P1619,0)*1","v":0},0,""]
[null,null,null,null,null,null,null,null,null,null,null,null,{"$f":"IF('Relevés de  commissions'!D1620=\"AGI externes\",'Relevés de  commissions'!M1620,0)*1","v":0},{"$f":"IF('Relevés de  commissions'!D1620=\"AGI externes\",'Relevés de  commissions'!N1620,0)*1","v":0},{"$f":"IF('Relevés de  commissions'!D1620=\"AGI externes\",'Relevés de  commissions'!O1620,0)*1","v":0},{"$f":"IF('Relevés de  commissions'!D1620=\"AGI externes\",'Relevés de  commissions'!P1620,0)*1","v":0},0,""]
[null,null,null,null,null,null,null,null,null,null,null,null,{"$f":"IF('Relevés de  commissions'!D1621=\"AGI externes\",'Relevés de  commissions'!M1621,0)*1","v":0},{"$f":"IF('Relevés de  commissions'!D1621=\"AGI externes\",'Relevés de  commissions'!N1621,0)*1","v":0},{"$f":"IF('Relevés de  commissions'!D1621=\"AGI externes\",'Relevés de  commissions'!O1621,0)*1","v":0},{"$f":"IF('Relevés de  commissions'!D1621=\"AGI externes\",'Relevés de  commissions'!P1621,0)*1","v":0},0,""]
[null,null,null,null,null,null,null,null,null,null,null,null,{"$f":"IF('Relevés de  commissions'!D1622=\"AGI externes\",'Relevés de  commissions'!M1622,0)*1","v":0},{"$f":"IF('Relevés de  commissions'!D1622=\"AGI externes\",'Relevés de  commissions'!N1622,0)*1","v":0},{"$f":"IF('Relevés de  commissions'!D1622=\"AGI externes\",'Relevés de  commissions'!O1622,0)*1","v":0},{"$f":"IF('Relevés de  commissions'!D1622=\"AGI externes\",'Relevés de  commissions'!P1622,0)*1","v":0},0,""]
[null,null,null,null,null,null,null,null,null,null,null,null,{"$f":"IF('Relevés de  commissions'!D1623=\"AGI externes\",'Relevés de  commissions'!M1623,0)*1","v":0},{"$f":"IF('Relevés de  commissions'!D1623=\"AGI externes\",'Relevés de  commissions'!N1623,0)*1","v":0},{"$f":"IF('Relevés de  commissions'!D1623=\"AGI externes\",'Relevés de  commissions'!O1623,0)*1","v":0},{"$f":"IF('Relevés de  commissions'!D1623=\"AGI externes\",'Relevés de  commissions'!P1623,0)*1","v":0},0,""]
[null,null,null,null,null,null,null,null,null,null,null,null,{"$f":"IF('Relevés de  commissions'!D1624=\"AGI externes\",'Relevés de  commissions'!M1624,0)*1","v":0},{"$f":"IF('Relevés de  commissions'!D1624=\"AGI externes\",'Relevés de  commissions'!N1624,0)*1","v":0},{"$f":"IF('Relevés de  commissions'!D1624=\"AGI externes\",'Relevés de  commissions'!O1624,0)*1","v":0},{"$f":"IF('Relevés de  commissions'!D1624=\"AGI externes\",'Relevés de  commissions'!P1624,0)*1","v":0},0,""]
[null,null,null,null,null,null,null,null,null,null,null,null,{"$f":"IF('Relevés de  commissions'!D1625=\"AGI externes\",'Relevés de  commissions'!M1625,0)*1","v":0},{"$f":"IF('Relevés de  commissions'!D1625=\"AGI externes\",'Relevés de  commissions'!N1625,0)*1","v":0},{"$f":"IF('Relevés de  commissions'!D1625=\"AGI externes\",'Relevés de  commissions'!O1625,0)*1","v":0},{"$f":"IF('Relevés de  commissions'!D1625=\"AGI externes\",'Relevés de  commissions'!P1625,0)*1","v":0},0,""]
[null,null,null,null,null,null,null,null,null,null,null,null,{"$f":"IF('Relevés de  commissions'!D1626=\"AGI externes\",'Relevés de  commissions'!M1626,0)*1","v":0},{"$f":"IF('Relevés de  commissions'!D1626=\"AGI externes\",'Relevés de  commissions'!N1626,0)*1","v":0},{"$f":"IF('Relevés de  commissions'!D1626=\"AGI externes\",'Relevés de  commissions'!O1626,0)*1","v":0},{"$f":"IF('Relevés de  commissions'!D1626=\"AGI externes\",'Relevés de  commissions'!P1626,0)*1","v":0},0,""]
[null,null,null,null,null,null,null,null,null,null,null,null,{"$f":"IF('Relevés de  commissions'!D1627=\"AGI externes\",'Relevés de  commissions'!M1627,0)*1","v":0},{"$f":"IF('Relevés de  commissions'!D1627=\"AGI externes\",'Relevés de  commissions'!N1627,0)*1","v":0},{"$f":"IF('Relevés de  commissions'!D1627=\"AGI externes\",'Relevés de  commissions'!O1627,0)*1","v":0},{"$f":"IF('Relevés de  commissions'!D1627=\"AGI externes\",'Relevés de  commissions'!P1627,0)*1","v":0},0,""]
[null,null,null,null,null,null,null,null,null,null,null,null,{"$f":"IF('Relevés de  commissions'!D1628=\"AGI externes\",'Relevés de  commissions'!M1628,0)*1","v":0},{"$f":"IF('Relevés de  commissions'!D1628=\"AGI externes\",'Relevés de  commissions'!N1628,0)*1","v":0},{"$f":"IF('Relevés de  commissions'!D1628=\"AGI externes\",'Relevés de  commissions'!O1628,0)*1","v":0},{"$f":"IF('Relevés de  commissions'!D1628=\"AGI externes\",'Relevés de  commissions'!P1628,0)*1","v":0},0,""]
[null,null,null,null,null,null,null,null,null,null,null,null,{"$f":"IF('Relevés de  commissions'!D1629=\"AGI externes\",'Relevés de  commissions'!M1629,0)*1","v":0},{"$f":"IF('Relevés de  commissions'!D1629=\"AGI externes\",'Relevés de  commissions'!N1629,0)*1","v":0},{"$f":"IF('Relevés de  commissions'!D1629=\"AGI externes\",'Relevés de  commissions'!O1629,0)*1","v":0},{"$f":"IF('Relevés de  commissions'!D1629=\"AGI externes\",'Relevés de  commissions'!P1629,0)*1","v":0},0,""]
[null,null,null,null,null,null,null,null,null,null,null,null,{"$f":"IF('Relevés de  commissions'!D1630=\"AGI externes\",'Relevés de  commissions'!M1630,0)*1","v":0},{"$f":"IF('Relevés de  commissions'!D1630=\"AGI externes\",'Relevés de  commissions'!N1630,0)*1","v":0},{"$f":"IF('Relevés de  commissions'!D1630=\"AGI externes\",'Relevés de  commissions'!O1630,0)*1","v":0},{"$f":"IF('Relevés de  commissions'!D1630=\"AGI externes\",'Relevés de  commissions'!P1630,0)*1","v":0},0,""]
[null,null,null,null,null,null,null,null,null,null,null,null,{"$f":"IF('Relevés de  commissions'!D1631=\"AGI externes\",'Relevés de  commissions'!M1631,0)*1","v":0},{"$f":"IF('Relevés de  commissions'!D1631=\"AGI externes\",'Relevés de  commissions'!N1631,0)*1","v":0},{"$f":"IF('Relevés de  commissions'!D1631=\"AGI externes\",'Relevés de  commissions'!O1631,0)*1","v":0},{"$f":"IF('Relevés de  commissions'!D1631=\"AGI externes\",'Relevés de  commissions'!P1631,0)*1","v":0},0,""]
[null,null,null,null,null,null,null,null,null,null,null,null,{"$f":"IF('Relevés de  commissions'!D1632=\"AGI externes\",'Relevés de  commissions'!M1632,0)*1","v":0},{"$f":"IF('Relevés de  commissions'!D1632=\"AGI externes\",'Relevés de  commissions'!N1632,0)*1","v":0},{"$f":"IF('Relevés de  commissions'!D1632=\"AGI externes\",'Relevés de  commissions'!O1632,0)*1","v":0},{"$f":"IF('Relevés de  commissions'!D1632=\"AGI externes\",'Relevés de  commissions'!P1632,0)*1","v":0},0,""]
[null,null,null,null,null,null,null,null,null,null,null,null,{"$f":"IF('Relevés de  commissions'!D1633=\"AGI externes\",'Relevés de  commissions'!M1633,0)*1","v":0},{"$f":"IF('Relevés de  commissions'!D1633=\"AGI externes\",'Relevés de  commissions'!N1633,0)*1","v":0},{"$f":"IF('Relevés de  commissions'!D1633=\"AGI externes\",'Relevés de  commissions'!O1633,0)*1","v":0},{"$f":"IF('Relevés de  commissions'!D1633=\"AGI externes\",'Relevés de  commissions'!P1633,0)*1","v":0},0,""]
[null,null,null,null,null,null,null,null,null,null,null,null,{"$f":"IF('Relevés de  commissions'!D1634=\"AGI externes\",'Relevés de  commissions'!M1634,0)*1","v":0},{"$f":"IF('Relevés de  commissions'!D1634=\"AGI externes\",'Relevés de  commissions'!N1634,0)*1","v":0},{"$f":"IF('Relevés de  commissions'!D1634=\"AGI externes\",'Relevés de  commissions'!O1634,0)*1","v":0},{"$f":"IF('Relevés de  commissions'!D1634=\"AGI externes\",'Relevés de  commissions'!P1634,0)*1","v":0},0,""]
[null,null,null,null,null,null,null,null,null,null,null,null,{"$f":"IF('Relevés de  commissions'!D1635=\"AGI externes\",'Relevés de  commissions'!M1635,0)*1","v":0},{"$f":"IF('Relevés de  commissions'!D1635=\"AGI externes\",'Relevés de  commissions'!N1635,0)*1","v":0},{"$f":"IF('Relevés de  commissions'!D1635=\"AGI externes\",'Relevés de  commissions'!O1635,0)*1","v":0},{"$f":"IF('Relevés de  commissions'!D1635=\"AGI externes\",'Relevés de  commissions'!P1635,0)*1","v":0},0,""]
[null,null,null,null,null,null,null,null,null,null,null,null,{"$f":"IF('Relevés de  commissions'!D1636=\"AGI externes\",'Relevés de  commissions'!M1636,0)*1","v":0},{"$f":"IF('Relevés de  commissions'!D1636=\"AGI externes\",'Relevés de  commissions'!N1636,0)*1","v":0},{"$f":"IF('Relevés de  commissions'!D1636=\"AGI externes\",'Relevés de  commissions'!O1636,0)*1","v":0},{"$f":"IF('Relevés de  commissions'!D1636=\"AGI externes\",'Relevés de  commissions'!P1636,0)*1","v":0},0,""]
[null,null,null,null,null,null,null,null,null,null,null,null,{"$f":"IF('Relevés de  commissions'!D1637=\"AGI externes\",'Relevés de  commissions'!M1637,0)*1","v":0},{"$f":"IF('Relevés de  commissions'!D1637=\"AGI externes\",'Relevés de  commissions'!N1637,0)*1","v":0},{"$f":"IF('Relevés de  commissions'!D1637=\"AGI externes\",'Relevés de  commissions'!O1637,0)*1","v":0},{"$f":"IF('Relevés de  commissions'!D1637=\"AGI externes\",'Relevés de  commissions'!P1637,0)*1","v":0},0,""]
[null,null,null,null,null,null,null,null,null,null,null,null,{"$f":"IF('Relevés de  commissions'!D1638=\"AGI externes\",'Relevés de  commissions'!M1638,0)*1","v":0},{"$f":"IF('Relevés de  commissions'!D1638=\"AGI externes\",'Relevés de  commissions'!N1638,0)*1","v":0},{"$f":"IF('Relevés de  commissions'!D1638=\"AGI externes\",'Relevés de  commissions'!O1638,0)*1","v":0},{"$f":"IF('Relevés de  commissions'!D1638=\"AGI externes\",'Relevés de  commissions'!P1638,0)*1","v":0},0,""]
[null,null,null,null,null,null,null,null,null,null,null,null,{"$f":"IF('Relevés de  commissions'!D1639=\"AGI externes\",'Relevés de  commissions'!M1639,0)*1","v":0},{"$f":"IF('Relevés de  commissions'!D1639=\"AGI externes\",'Relevés de  commissions'!N1639,0)*1","v":0},{"$f":"IF('Relevés de  commissions'!D1639=\"AGI externes\",'Relevés de  commissions'!O1639,0)*1","v":0},{"$f":"IF('Relevés de  commissions'!D1639=\"AGI externes\",'Relevés de  commissions'!P1639,0)*1","v":0},0,""]
[null,null,null,null,null,null,null,null,null,null,null,null,{"$f":"IF('Relevés de  commissions'!D1640=\"AGI externes\",'Relevés de  commissions'!M1640,0)*1","v":0},{"$f":"IF('Relevés de  commissions'!D1640=\"AGI externes\",'Relevés de  commissions'!N1640,0)*1","v":0},{"$f":"IF('Relevés de  commissions'!D1640=\"AGI externes\",'Relevés de  commissions'!O1640,0)*1","v":0},{"$f":"IF('Relevés de  commissions'!D1640=\"AGI externes\",'Relevés de  commissions'!P1640,0)*1","v":0},0,""]
[null,null,null,null,null,null,null,null,null,null,null,null,{"$f":"IF('Relevés de  commissions'!D1641=\"AGI externes\",'Relevés de  commissions'!M1641,0)*1","v":0},{"$f":"IF('Relevés de  commissions'!D1641=\"AGI externes\",'Relevés de  commissions'!N1641,0)*1","v":0},{"$f":"IF('Relevés de  commissions'!D1641=\"AGI externes\",'Relevés de  commissions'!O1641,0)*1","v":0},{"$f":"IF('Relevés de  commissions'!D1641=\"AGI externes\",'Relevés de  commissions'!P1641,0)*1","v":0},0,""]
[null,null,null,null,null,null,null,null,null,null,null,null,{"$f":"IF('Relevés de  commissions'!D1642=\"AGI externes\",'Relevés de  commissions'!M1642,0)*1","v":0},{"$f":"IF('Relevés de  commissions'!D1642=\"AGI externes\",'Relevés de  commissions'!N1642,0)*1","v":0},{"$f":"IF('Relevés de  commissions'!D1642=\"AGI externes\",'Relevés de  commissions'!O1642,0)*1","v":0},{"$f":"IF('Relevés de  commissions'!D1642=\"AGI externes\",'Relevés de  commissions'!P1642,0)*1","v":0},0,""]
[null,null,null,null,null,null,null,null,null,null,null,null,{"$f":"IF('Relevés de  commissions'!D1643=\"AGI externes\",'Relevés de  commissions'!M1643,0)*1","v":0},{"$f":"IF('Relevés de  commissions'!D1643=\"AGI externes\",'Relevés de  commissions'!N1643,0)*1","v":0},{"$f":"IF('Relevés de  commissions'!D1643=\"AGI externes\",'Relevés de  commissions'!O1643,0)*1","v":0},{"$f":"IF('Relevés de  commissions'!D1643=\"AGI externes\",'Relevés de  commissions'!P1643,0)*1","v":0},0,""]
[null,null,null,null,null,null,null,null,null,null,null,null,{"$f":"IF('Relevés de  commissions'!D1644=\"AGI externes\",'Relevés de  commissions'!M1644,0)*1","v":0},{"$f":"IF('Relevés de  commissions'!D1644=\"AGI externes\",'Relevés de  commissions'!N1644,0)*1","v":0},{"$f":"IF('Relevés de  commissions'!D1644=\"AGI externes\",'Relevés de  commissions'!O1644,0)*1","v":0},{"$f":"IF('Relevés de  commissions'!D1644=\"AGI externes\",'Relevés de  commissions'!P1644,0)*1","v":0},0,""]
[null,null,null,null,null,null,null,null,null,null,null,null,{"$f":"IF('Relevés de  commissions'!D1645=\"AGI externes\",'Relevés de  commissions'!M1645,0)*1","v":0},{"$f":"IF('Relevés de  commissions'!D1645=\"AGI externes\",'Relevés de  commissions'!N1645,0)*1","v":0},{"$f":"IF('Relevés de  commissions'!D1645=\"AGI externes\",'Relevés de  commissions'!O1645,0)*1","v":0},{"$f":"IF('Relevés de  commissions'!D1645=\"AGI externes\",'Relevés de  commissions'!P1645,0)*1","v":0},0,""]
[null,null,null,null,null,null,null,null,null,null,null,null,{"$f":"IF('Relevés de  commissions'!D1646=\"AGI externes\",'Relevés de  commissions'!M1646,0)*1","v":0},{"$f":"IF('Relevés de  commissions'!D1646=\"AGI externes\",'Relevés de  commissions'!N1646,0)*1","v":0},{"$f":"IF('Relevés de  commissions'!D1646=\"AGI externes\",'Relevés de  commissions'!O1646,0)*1","v":0},{"$f":"IF('Relevés de  commissions'!D1646=\"AGI externes\",'Relevés de  commissions'!P1646,0)*1","v":0},0,""]
[null,null,null,null,null,null,null,null,null,null,null,null,{"$f":"IF('Relevés de  commissions'!D1647=\"AGI externes\",'Relevés de  commissions'!M1647,0)*1","v":0},{"$f":"IF('Relevés de  commissions'!D1647=\"AGI externes\",'Relevés de  commissions'!N1647,0)*1","v":0},{"$f":"IF('Relevés de  commissions'!D1647=\"AGI externes\",'Relevés de  commissions'!O1647,0)*1","v":0},{"$f":"IF('Relevés de  commissions'!D1647=\"AGI externes\",'Relevés de  commissions'!P1647,0)*1","v":0},0,""]
[null,null,null,null,null,null,null,null,null,null,null,null,{"$f":"IF('Relevés de  commissions'!D1648=\"AGI externes\",'Relevés de  commissions'!M1648,0)*1","v":0},{"$f":"IF('Relevés de  commissions'!D1648=\"AGI externes\",'Relevés de  commissions'!N1648,0)*1","v":0},{"$f":"IF('Relevés de  commissions'!D1648=\"AGI externes\",'Relevés de  commissions'!O1648,0)*1","v":0},{"$f":"IF('Relevés de  commissions'!D1648=\"AGI externes\",'Relevés de  commissions'!P1648,0)*1","v":0},0,""]
[null,null,null,null,null,null,null,null,null,null,null,null,{"$f":"IF('Relevés de  commissions'!D1649=\"AGI externes\",'Relevés de  commissions'!M1649,0)*1","v":0},{"$f":"IF('Relevés de  commissions'!D1649=\"AGI externes\",'Relevés de  commissions'!N1649,0)*1","v":0},{"$f":"IF('Relevés de  commissions'!D1649=\"AGI externes\",'Relevés de  commissions'!O1649,0)*1","v":0},{"$f":"IF('Relevés de  commissions'!D1649=\"AGI externes\",'Relevés de  commissions'!P1649,0)*1","v":0},0,""]
[null,null,null,null,null,null,null,null,null,null,null,null,{"$f":"IF('Relevés de  commissions'!D1650=\"AGI externes\",'Relevés de  commissions'!M1650,0)*1","v":0},{"$f":"IF('Relevés de  commissions'!D1650=\"AGI externes\",'Relevés de  commissions'!N1650,0)*1","v":0},{"$f":"IF('Relevés de  commissions'!D1650=\"AGI externes\",'Relevés de  commissions'!O1650,0)*1","v":0},{"$f":"IF('Relevés de  commissions'!D1650=\"AGI externes\",'Relevés de  commissions'!P1650,0)*1","v":0},0,""]
[null,null,null,null,null,null,null,null,null,null,null,null,{"$f":"IF('Relevés de  commissions'!D1651=\"AGI externes\",'Relevés de  commissions'!M1651,0)*1","v":0},{"$f":"IF('Relevés de  commissions'!D1651=\"AGI externes\",'Relevés de  commissions'!N1651,0)*1","v":0},{"$f":"IF('Relevés de  commissions'!D1651=\"AGI externes\",'Relevés de  commissions'!O1651,0)*1","v":0},{"$f":"IF('Relevés de  commissions'!D1651=\"AGI externes\",'Relevés de  commissions'!P1651,0)*1","v":0},0,""]
[null,null,null,null,null,null,null,null,null,null,null,null,{"$f":"IF('Relevés de  commissions'!D1652=\"AGI externes\",'Relevés de  commissions'!M1652,0)*1","v":0},{"$f":"IF('Relevés de  commissions'!D1652=\"AGI externes\",'Relevés de  commissions'!N1652,0)*1","v":0},{"$f":"IF('Relevés de  commissions'!D1652=\"AGI externes\",'Relevés de  commissions'!O1652,0)*1","v":0},{"$f":"IF('Relevés de  commissions'!D1652=\"AGI externes\",'Relevés de  commissions'!P1652,0)*1","v":0},0,""]
[null,null,null,null,null,null,null,null,null,null,null,null,{"$f":"IF('Relevés de  commissions'!D1653=\"AGI externes\",'Relevés de  commissions'!M1653,0)*1","v":0},{"$f":"IF('Relevés de  commissions'!D1653=\"AGI externes\",'Relevés de  commissions'!N1653,0)*1","v":0},{"$f":"IF('Relevés de  commissions'!D1653=\"AGI externes\",'Relevés de  commissions'!O1653,0)*1","v":0},{"$f":"IF('Relevés de  commissions'!D1653=\"AGI externes\",'Relevés de  commissions'!P1653,0)*1","v":0},0,""]
[null,null,null,null,null,null,null,null,null,null,null,null,{"$f":"IF('Relevés de  commissions'!D1654=\"AGI externes\",'Relevés de  commissions'!M1654,0)*1","v":0},{"$f":"IF('Relevés de  commissions'!D1654=\"AGI externes\",'Relevés de  commissions'!N1654,0)*1","v":0},{"$f":"IF('Relevés de  commissions'!D1654=\"AGI externes\",'Relevés de  commissions'!O1654,0)*1","v":0},{"$f":"IF('Relevés de  commissions'!D1654=\"AGI externes\",'Relevés de  commissions'!P1654,0)*1","v":0},0,""]
[null,null,null,null,null,null,null,null,null,null,null,null,{"$f":"IF('Relevés de  commissions'!D1655=\"AGI externes\",'Relevés de  commissions'!M1655,0)*1","v":0},{"$f":"IF('Relevés de  commissions'!D1655=\"AGI externes\",'Relevés de  commissions'!N1655,0)*1","v":0},{"$f":"IF('Relevés de  commissions'!D1655=\"AGI externes\",'Relevés de  commissions'!O1655,0)*1","v":0},{"$f":"IF('Relevés de  commissions'!D1655=\"AGI externes\",'Relevés de  commissions'!P1655,0)*1","v":0},0,""]
[null,null,null,null,null,null,null,null,null,null,null,null,{"$f":"IF('Relevés de  commissions'!D1656=\"AGI externes\",'Relevés de  commissions'!M1656,0)*1","v":0},{"$f":"IF('Relevés de  commissions'!D1656=\"AGI externes\",'Relevés de  commissions'!N1656,0)*1","v":0},{"$f":"IF('Relevés de  commissions'!D1656=\"AGI externes\",'Relevés de  commissions'!O1656,0)*1","v":0},{"$f":"IF('Relevés de  commissions'!D1656=\"AGI externes\",'Relevés de  commissions'!P1656,0)*1","v":0},0,""]
[null,null,null,null,null,null,null,null,null,null,null,null,{"$f":"IF('Relevés de  commissions'!D1657=\"AGI externes\",'Relevés de  commissions'!M1657,0)*1","v":0},{"$f":"IF('Relevés de  commissions'!D1657=\"AGI externes\",'Relevés de  commissions'!N1657,0)*1","v":0},{"$f":"IF('Relevés de  commissions'!D1657=\"AGI externes\",'Relevés de  commissions'!O1657,0)*1","v":0},{"$f":"IF('Relevés de  commissions'!D1657=\"AGI externes\",'Relevés de  commissions'!P1657,0)*1","v":0},0,""]
[null,null,null,null,null,null,null,null,null,null,null,null,{"$f":"IF('Relevés de  commissions'!D1658=\"AGI externes\",'Relevés de  commissions'!M1658,0)*1","v":0},{"$f":"IF('Relevés de  commissions'!D1658=\"AGI externes\",'Relevés de  commissions'!N1658,0)*1","v":0},{"$f":"IF('Relevés de  commissions'!D1658=\"AGI externes\",'Relevés de  commissions'!O1658,0)*1","v":0},{"$f":"IF('Relevés de  commissions'!D1658=\"AGI externes\",'Relevés de  commissions'!P1658,0)*1","v":0},0,""]
[null,null,null,null,null,null,null,null,null,null,null,null,{"$f":"IF('Relevés de  commissions'!D1659=\"AGI externes\",'Relevés de  commissions'!M1659,0)*1","v":0},{"$f":"IF('Relevés de  commissions'!D1659=\"AGI externes\",'Relevés de  commissions'!N1659,0)*1","v":0},{"$f":"IF('Relevés de  commissions'!D1659=\"AGI externes\",'Relevés de  commissions'!O1659,0)*1","v":0},{"$f":"IF('Relevés de  commissions'!D1659=\"AGI externes\",'Relevés de  commissions'!P1659,0)*1","v":0},0,""]
[null,null,null,null,null,null,null,null,null,null,null,null,{"$f":"IF('Relevés de  commissions'!D1660=\"AGI externes\",'Relevés de  commissions'!M1660,0)*1","v":0},{"$f":"IF('Relevés de  commissions'!D1660=\"AGI externes\",'Relevés de  commissions'!N1660,0)*1","v":0},{"$f":"IF('Relevés de  commissions'!D1660=\"AGI externes\",'Relevés de  commissions'!O1660,0)*1","v":0},{"$f":"IF('Relevés de  commissions'!D1660=\"AGI externes\",'Relevés de  commissions'!P1660,0)*1","v":0},0,""]
[null,null,null,null,null,null,null,null,null,null,null,null,{"$f":"IF('Relevés de  commissions'!D1661=\"AGI externes\",'Relevés de  commissions'!M1661,0)*1","v":0},{"$f":"IF('Relevés de  commissions'!D1661=\"AGI externes\",'Relevés de  commissions'!N1661,0)*1","v":0},{"$f":"IF('Relevés de  commissions'!D1661=\"AGI externes\",'Relevés de  commissions'!O1661,0)*1","v":0},{"$f":"IF('Relevés de  commissions'!D1661=\"AGI externes\",'Relevés de  commissions'!P1661,0)*1","v":0},0,""]
[null,null,null,null,null,null,null,null,null,null,null,null,{"$f":"IF('Relevés de  commissions'!D1662=\"AGI externes\",'Relevés de  commissions'!M1662,0)*1","v":0},{"$f":"IF('Relevés de  commissions'!D1662=\"AGI externes\",'Relevés de  commissions'!N1662,0)*1","v":0},{"$f":"IF('Relevés de  commissions'!D1662=\"AGI externes\",'Relevés de  commissions'!O1662,0)*1","v":0},{"$f":"IF('Relevés de  commissions'!D1662=\"AGI externes\",'Relevés de  commissions'!P1662,0)*1","v":0},0,""]
[null,null,null,null,null,null,null,null,null,null,null,null,{"$f":"IF('Relevés de  commissions'!D1663=\"AGI externes\",'Relevés de  commissions'!M1663,0)*1","v":0},{"$f":"IF('Relevés de  commissions'!D1663=\"AGI externes\",'Relevés de  commissions'!N1663,0)*1","v":0},{"$f":"IF('Relevés de  commissions'!D1663=\"AGI externes\",'Relevés de  commissions'!O1663,0)*1","v":0},{"$f":"IF('Relevés de  commissions'!D1663=\"AGI externes\",'Relevés de  commissions'!P1663,0)*1","v":0},0,""]
[null,null,null,null,null,null,null,null,null,null,null,null,{"$f":"IF('Relevés de  commissions'!D1664=\"AGI externes\",'Relevés de  commissions'!M1664,0)*1","v":0},{"$f":"IF('Relevés de  commissions'!D1664=\"AGI externes\",'Relevés de  commissions'!N1664,0)*1","v":0},{"$f":"IF('Relevés de  commissions'!D1664=\"AGI externes\",'Relevés de  commissions'!O1664,0)*1","v":0},{"$f":"IF('Relevés de  commissions'!D1664=\"AGI externes\",'Relevés de  commissions'!P1664,0)*1","v":0},0,""]
[null,null,null,null,null,null,null,null,null,null,null,null,{"$f":"IF('Relevés de  commissions'!D1665=\"AGI externes\",'Relevés de  commissions'!M1665,0)*1","v":0},{"$f":"IF('Relevés de  commissions'!D1665=\"AGI externes\",'Relevés de  commissions'!N1665,0)*1","v":0},{"$f":"IF('Relevés de  commissions'!D1665=\"AGI externes\",'Relevés de  commissions'!O1665,0)*1","v":0},{"$f":"IF('Relevés de  commissions'!D1665=\"AGI externes\",'Relevés de  commissions'!P1665,0)*1","v":0},0,""]
[null,null,null,null,null,null,null,null,null,null,null,null,{"$f":"IF('Relevés de  commissions'!D1666=\"AGI externes\",'Relevés de  commissions'!M1666,0)*1","v":0},{"$f":"IF('Relevés de  commissions'!D1666=\"AGI externes\",'Relevés de  commissions'!N1666,0)*1","v":0},{"$f":"IF('Relevés de  commissions'!D1666=\"AGI externes\",'Relevés de  commissions'!O1666,0)*1","v":0},{"$f":"IF('Relevés de  commissions'!D1666=\"AGI externes\",'Relevés de  commissions'!P1666,0)*1","v":0},0,""]
[null,null,null,null,null,null,null,null,null,null,null,null,{"$f":"IF('Relevés de  commissions'!D1667=\"AGI externes\",'Relevés de  commissions'!M1667,0)*1","v":0},{"$f":"IF('Relevés de  commissions'!D1667=\"AGI externes\",'Relevés de  commissions'!N1667,0)*1","v":0},{"$f":"IF('Relevés de  commissions'!D1667=\"AGI externes\",'Relevés de  commissions'!O1667,0)*1","v":0},{"$f":"IF('Relevés de  commissions'!D1667=\"AGI externes\",'Relevés de  commissions'!P1667,0)*1","v":0},{"$f":"IF(N1669=0,O1669,\"\")","v":0},{"$f":"IF(N1669=10,O1669,\"\")","v":""}]
[null,null,null,null,null,null,null,null,null,null,null,null,{"$f":"IF('Relevés de  commissions'!D1668=\"AGI externes\",'Relevés de  commissions'!M1668,0)*1","v":0},{"$f":"IF('Relevés de  commissions'!D1668=\"AGI externes\",'Relevés de  commissions'!N1668,0)*1","v":0},{"$f":"IF('Relevés de  commissions'!D1668=\"AGI externes\",'Relevés de  commissions'!O1668,0)*1","v":0},{"$f":"IF('Relevés de  commissions'!D1668=\"AGI externes\",'Relevés de  commissions'!P1668,0)*1","v":0},0,""]
[null,null,null,null,null,null,null,null,null,null,null,null,{"$f":"IF('Relevés de  commissions'!D1669=\"AGI externes\",'Relevés de  commissions'!M1669,0)*1","v":0},{"$f":"IF('Relevés de  commissions'!D1669=\"AGI externes\",'Relevés de  commissions'!N1669,0)*1","v":0},{"$f":"IF('Relevés de  commissions'!D1669=\"AGI externes\",'Relevés de  commissions'!O1669,0)*1","v":0},{"$f":"IF('Relevés de  commissions'!D1669=\"AGI externes\",'Relevés de  commissions'!P1669,0)*1","v":0},0,""]
[null,null,null,null,null,null,null,null,null,null,null,null,{"$f":"IF('Relevés de  commissions'!D1670=\"AGI externes\",'Relevés de  commissions'!M1670,0)*1","v":0},{"$f":"IF('Relevés de  commissions'!D1670=\"AGI externes\",'Relevés de  commissions'!N1670,0)*1","v":0},{"$f":"IF('Relevés de  commissions'!D1670=\"AGI externes\",'Relevés de  commissions'!O1670,0)*1","v":0},{"$f":"IF('Relevés de  commissions'!D1670=\"AGI externes\",'Relevés de  commissions'!P1670,0)*1","v":0},0,""]
[null,null,null,null,null,null,null,null,null,null,null,null,{"$f":"IF('Relevés de  commissions'!D1671=\"AGI externes\",'Relevés de  commissions'!M1671,0)*1","v":0},{"$f":"IF('Relevés de  commissions'!D1671=\"AGI externes\",'Relevés de  commissions'!N1671,0)*1","v":0},{"$f":"IF('Relevés de  commissions'!D1671=\"AGI externes\",'Relevés de  commissions'!O1671,0)*1","v":0},{"$f":"IF('Relevés de  commissions'!D1671=\"AGI externes\",'Relevés de  commissions'!P1671,0)*1","v":0},0,""]
[null,null,null,null,null,null,null,null,null,null,null,null,{"$f":"IF('Relevés de  commissions'!D1672=\"AGI externes\",'Relevés de  commissions'!M1672,0)*1","v":0},{"$f":"IF('Relevés de  commissions'!D1672=\"AGI externes\",'Relevés de  commissions'!N1672,0)*1","v":0},{"$f":"IF('Relevés de  commissions'!D1672=\"AGI externes\",'Relevés de  commissions'!O1672,0)*1","v":0},{"$f":"IF('Relevés de  commissions'!D1672=\"AGI externes\",'Relevés de  commissions'!P1672,0)*1","v":0},0,""]
[null,null,null,null,null,null,null,null,null,null,null,null,{"$f":"IF('Relevés de  commissions'!D1673=\"AGI externes\",'Relevés de  commissions'!M1673,0)*1","v":0},{"$f":"IF('Relevés de  commissions'!D1673=\"AGI externes\",'Relevés de  commissions'!N1673,0)*1","v":0},{"$f":"IF('Relevés de  commissions'!D1673=\"AGI externes\",'Relevés de  commissions'!O1673,0)*1","v":0},{"$f":"IF('Relevés de  commissions'!D1673=\"AGI externes\",'Relevés de  commissions'!P1673,0)*1","v":0},0,""]
[null,null,null,null,null,null,null,null,null,null,null,null,{"$f":"IF('Relevés de  commissions'!D1674=\"AGI externes\",'Relevés de  commissions'!M1674,0)*1","v":0},{"$f":"IF('Relevés de  commissions'!D1674=\"AGI externes\",'Relevés de  commissions'!N1674,0)*1","v":0},{"$f":"IF('Relevés de  commissions'!D1674=\"AGI externes\",'Relevés de  commissions'!O1674,0)*1","v":0},{"$f":"IF('Relevés de  commissions'!D1674=\"AGI externes\",'Relevés de  commissions'!P1674,0)*1","v":0},0,""]
[null,null,null,null,null,null,null,null,null,null,null,null,{"$f":"IF('Relevés de  commissions'!D1675=\"AGI externes\",'Relevés de  commissions'!M1675,0)*1","v":0},{"$f":"IF('Relevés de  commissions'!D1675=\"AGI externes\",'Relevés de  commissions'!N1675,0)*1","v":0},{"$f":"IF('Relevés de  commissions'!D1675=\"AGI externes\",'Relevés de  commissions'!O1675,0)*1","v":0},{"$f":"IF('Relevés de  commissions'!D1675=\"AGI externes\",'Relevés de  commissions'!P1675,0)*1","v":0},0,""]
[null,null,null,null,null,null,null,null,null,null,null,null,{"$f":"IF('Relevés de  commissions'!D1676=\"AGI externes\",'Relevés de  commissions'!M1676,0)*1","v":0},{"$f":"IF('Relevés de  commissions'!D1676=\"AGI externes\",'Relevés de  commissions'!N1676,0)*1","v":0},{"$f":"IF('Relevés de  commissions'!D1676=\"AGI externes\",'Relevés de  commissions'!O1676,0)*1","v":0},{"$f":"IF('Relevés de  commissions'!D1676=\"AGI externes\",'Relevés de  commissions'!P1676,0)*1","v":0},0,""]
[null,null,null,null,null,null,null,null,null,null,null,null,{"$f":"IF('Relevés de  commissions'!D1677=\"AGI externes\",'Relevés de  commissions'!M1677,0)*1","v":0},{"$f":"IF('Relevés de  commissions'!D1677=\"AGI externes\",'Relevés de  commissions'!N1677,0)*1","v":0},{"$f":"IF('Relevés de  commissions'!D1677=\"AGI externes\",'Relevés de  commissions'!O1677,0)*1","v":0},{"$f":"IF('Relevés de  commissions'!D1677=\"AGI externes\",'Relevés de  commissions'!P1677,0)*1","v":0},0,""]
[null,null,null,null,null,null,null,null,null,null,null,null,{"$f":"IF('Relevés de  commissions'!D1678=\"AGI externes\",'Relevés de  commissions'!M1678,0)*1","v":0},{"$f":"IF('Relevés de  commissions'!D1678=\"AGI externes\",'Relevés de  commissions'!N1678,0)*1","v":0},{"$f":"IF('Relevés de  commissions'!D1678=\"AGI externes\",'Relevés de  commissions'!O1678,0)*1","v":0},{"$f":"IF('Relevés de  commissions'!D1678=\"AGI externes\",'Relevés de  commissions'!P1678,0)*1","v":0},0,""]
[null,null,null,null,null,null,null,null,null,null,null,null,{"$f":"IF('Relevés de  commissions'!D1679=\"AGI externes\",'Relevés de  commissions'!M1679,0)*1","v":0},{"$f":"IF('Relevés de  commissions'!D1679=\"AGI externes\",'Relevés de  commissions'!N1679,0)*1","v":0},{"$f":"IF('Relevés de  commissions'!D1679=\"AGI externes\",'Relevés de  commissions'!O1679,0)*1","v":0},{"$f":"IF('Relevés de  commissions'!D1679=\"AGI externes\",'Relevés de  commissions'!P1679,0)*1","v":0},0,""]
[null,null,null,null,null,null,null,null,null,null,null,null,{"$f":"IF('Relevés de  commissions'!D1680=\"AGI externes\",'Relevés de  commissions'!M1680,0)*1","v":0},{"$f":"IF('Relevés de  commissions'!D1680=\"AGI externes\",'Relevés de  commissions'!N1680,0)*1","v":0},{"$f":"IF('Relevés de  commissions'!D1680=\"AGI externes\",'Relevés de  commissions'!O1680,0)*1","v":0},{"$f":"IF('Relevés de  commissions'!D1680=\"AGI externes\",'Relevés de  commissions'!P1680,0)*1","v":0},0,""]
[null,null,null,null,null,null,null,null,null,null,null,null,{"$f":"IF('Relevés de  commissions'!D1681=\"AGI externes\",'Relevés de  commissions'!M1681,0)*1","v":0},{"$f":"IF('Relevés de  commissions'!D1681=\"AGI externes\",'Relevés de  commissions'!N1681,0)*1","v":0},{"$f":"IF('Relevés de  commissions'!D1681=\"AGI externes\",'Relevés de  commissions'!O1681,0)*1","v":0},{"$f":"IF('Relevés de  commissions'!D1681=\"AGI externes\",'Relevés de  commissions'!P1681,0)*1","v":0},0,""]
[null,null,null,null,null,null,null,null,null,null,null,null,{"$f":"IF('Relevés de  commissions'!D1682=\"AGI externes\",'Relevés de  commissions'!M1682,0)*1","v":0},{"$f":"IF('Relevés de  commissions'!D1682=\"AGI externes\",'Relevés de  commissions'!N1682,0)*1","v":0},{"$f":"IF('Relevés de  commissions'!D1682=\"AGI externes\",'Relevés de  commissions'!O1682,0)*1","v":0},{"$f":"IF('Relevés de  commissions'!D1682=\"AGI externes\",'Relevés de  commissions'!P1682,0)*1","v":0},0,""]
[null,null,null,null,null,null,null,null,null,null,null,null,{"$f":"IF('Relevés de  commissions'!D1683=\"AGI externes\",'Relevés de  commissions'!M1683,0)*1","v":0},{"$f":"IF('Relevés de  commissions'!D1683=\"AGI externes\",'Relevés de  commissions'!N1683,0)*1","v":0},{"$f":"IF('Relevés de  commissions'!D1683=\"AGI externes\",'Relevés de  commissions'!O1683,0)*1","v":0},{"$f":"IF('Relevés de  commissions'!D1683=\"AGI externes\",'Relevés de  commissions'!P1683,0)*1","v":0},0,""]
[null,null,null,null,null,null,null,null,null,null,null,null,{"$f":"IF('Relevés de  commissions'!D1684=\"AGI externes\",'Relevés de  commissions'!M1684,0)*1","v":0},{"$f":"IF('Relevés de  commissions'!D1684=\"AGI externes\",'Relevés de  commissions'!N1684,0)*1","v":0},{"$f":"IF('Relevés de  commissions'!D1684=\"AGI externes\",'Relevés de  commissions'!O1684,0)*1","v":0},{"$f":"IF('Relevés de  commissions'!D1684=\"AGI externes\",'Relevés de  commissions'!P1684,0)*1","v":0},0,""]
[null,null,null,null,null,null,null,null,null,null,null,null,{"$f":"IF('Relevés de  commissions'!D1685=\"AGI externes\",'Relevés de  commissions'!M1685,0)*1","v":0},{"$f":"IF('Relevés de  commissions'!D1685=\"AGI externes\",'Relevés de  commissions'!N1685,0)*1","v":0},{"$f":"IF('Relevés de  commissions'!D1685=\"AGI externes\",'Relevés de  commissions'!O1685,0)*1","v":0},{"$f":"IF('Relevés de  commissions'!D1685=\"AGI externes\",'Relevés de  commissions'!P1685,0)*1","v":0},0,""]
[null,null,null,null,null,null,null,null,null,null,null,null,{"$f":"IF('Relevés de  commissions'!D1686=\"AGI externes\",'Relevés de  commissions'!M1686,0)*1","v":0},{"$f":"IF('Relevés de  commissions'!D1686=\"AGI externes\",'Relevés de  commissions'!N1686,0)*1","v":0},{"$f":"IF('Relevés de  commissions'!D1686=\"AGI externes\",'Relevés de  commissions'!O1686,0)*1","v":0},{"$f":"IF('Relevés de  commissions'!D1686=\"AGI externes\",'Relevés de  commissions'!P1686,0)*1","v":0},0,""]
[null,null,null,null,null,null,null,null,null,null,null,null,{"$f":"IF('Relevés de  commissions'!D1687=\"AGI externes\",'Relevés de  commissions'!M1687,0)*1","v":0},{"$f":"IF('Relevés de  commissions'!D1687=\"AGI externes\",'Relevés de  commissions'!N1687,0)*1","v":0},{"$f":"IF('Relevés de  commissions'!D1687=\"AGI externes\",'Relevés de  commissions'!O1687,0)*1","v":0},{"$f":"IF('Relevés de  commissions'!D1687=\"AGI externes\",'Relevés de  commissions'!P1687,0)*1","v":0},0,""]
[null,null,null,null,null,null,null,null,null,null,null,null,{"$f":"IF('Relevés de  commissions'!D1688=\"AGI externes\",'Relevés de  commissions'!M1688,0)*1","v":0},{"$f":"IF('Relevés de  commissions'!D1688=\"AGI externes\",'Relevés de  commissions'!N1688,0)*1","v":0},{"$f":"IF('Relevés de  commissions'!D1688=\"AGI externes\",'Relevés de  commissions'!O1688,0)*1","v":0},{"$f":"IF('Relevés de  commissions'!D1688=\"AGI externes\",'Relevés de  commissions'!P1688,0)*1","v":0},0,""]
[null,null,null,null,null,null,null,null,null,null,null,null,{"$f":"IF('Relevés de  commissions'!D1689=\"AGI externes\",'Relevés de  commissions'!M1689,0)*1","v":0},{"$f":"IF('Relevés de  commissions'!D1689=\"AGI externes\",'Relevés de  commissions'!N1689,0)*1","v":0},{"$f":"IF('Relevés de  commissions'!D1689=\"AGI externes\",'Relevés de  commissions'!O1689,0)*1","v":0},{"$f":"IF('Relevés de  commissions'!D1689=\"AGI externes\",'Relevés de  commissions'!P1689,0)*1","v":0},0,""]
[null,null,null,null,null,null,null,null,null,null,null,null,{"$f":"IF('Relevés de  commissions'!D1690=\"AGI externes\",'Relevés de  commissions'!M1690,0)*1","v":0},{"$f":"IF('Relevés de  commissions'!D1690=\"AGI externes\",'Relevés de  commissions'!N1690,0)*1","v":0},{"$f":"IF('Relevés de  commissions'!D1690=\"AGI externes\",'Relevés de  commissions'!O1690,0)*1","v":0},{"$f":"IF('Relevés de  commissions'!D1690=\"AGI externes\",'Relevés de  commissions'!P1690,0)*1","v":0},0,""]
[null,null,null,null,null,null,null,null,null,null,null,null,{"$f":"IF('Relevés de  commissions'!D1691=\"AGI externes\",'Relevés de  commissions'!M1691,0)*1","v":0},{"$f":"IF('Relevés de  commissions'!D1691=\"AGI externes\",'Relevés de  commissions'!N1691,0)*1","v":0},{"$f":"IF('Relevés de  commissions'!D1691=\"AGI externes\",'Relevés de  commissions'!O1691,0)*1","v":0},{"$f":"IF('Relevés de  commissions'!D1691=\"AGI externes\",'Relevés de  commissions'!P1691,0)*1","v":0},0,""]
[null,null,null,null,null,null,null,null,null,null,null,null,{"$f":"IF('Relevés de  commissions'!D1692=\"AGI externes\",'Relevés de  commissions'!M1692,0)*1","v":0},{"$f":"IF('Relevés de  commissions'!D1692=\"AGI externes\",'Relevés de  commissions'!N1692,0)*1","v":0},{"$f":"IF('Relevés de  commissions'!D1692=\"AGI externes\",'Relevés de  commissions'!O1692,0)*1","v":0},{"$f":"IF('Relevés de  commissions'!D1692=\"AGI externes\",'Relevés de  commissions'!P1692,0)*1","v":0},0,""]
[null,null,null,null,null,null,null,null,null,null,null,null,{"$f":"IF('Relevés de  commissions'!D1693=\"AGI externes\",'Relevés de  commissions'!M1693,0)*1","v":0},{"$f":"IF('Relevés de  commissions'!D1693=\"AGI externes\",'Relevés de  commissions'!N1693,0)*1","v":0},{"$f":"IF('Relevés de  commissions'!D1693=\"AGI externes\",'Relevés de  commissions'!O1693,0)*1","v":0},{"$f":"IF('Relevés de  commissions'!D1693=\"AGI externes\",'Relevés de  commissions'!P1693,0)*1","v":0},0,""]
[null,null,null,null,null,null,null,null,null,null,null,null,{"$f":"IF('Relevés de  commissions'!D1694=\"AGI externes\",'Relevés de  commissions'!M1694,0)*1","v":0},{"$f":"IF('Relevés de  commissions'!D1694=\"AGI externes\",'Relevés de  commissions'!N1694,0)*1","v":0},{"$f":"IF('Relevés de  commissions'!D1694=\"AGI externes\",'Relevés de  commissions'!O1694,0)*1","v":0},{"$f":"IF('Relevés de  commissions'!D1694=\"AGI externes\",'Relevés de  commissions'!P1694,0)*1","v":0},0,""]
[null,null,null,null,null,null,null,null,null,null,null,null,{"$f":"IF('Relevés de  commissions'!D1695=\"AGI externes\",'Relevés de  commissions'!M1695,0)*1","v":0},{"$f":"IF('Relevés de  commissions'!D1695=\"AGI externes\",'Relevés de  commissions'!N1695,0)*1","v":0},{"$f":"IF('Relevés de  commissions'!D1695=\"AGI externes\",'Relevés de  commissions'!O1695,0)*1","v":0},{"$f":"IF('Relevés de  commissions'!D1695=\"AGI externes\",'Relevés de  commissions'!P1695,0)*1","v":0},0,""]
[null,null,null,null,null,null,null,null,null,null,null,null,{"$f":"IF('Relevés de  commissions'!D1696=\"AGI externes\",'Relevés de  commissions'!M1696,0)*1","v":0},{"$f":"IF('Relevés de  commissions'!D1696=\"AGI externes\",'Relevés de  commissions'!N1696,0)*1","v":0},{"$f":"IF('Relevés de  commissions'!D1696=\"AGI externes\",'Relevés de  commissions'!O1696,0)*1","v":0},{"$f":"IF('Relevés de  commissions'!D1696=\"AGI externes\",'Relevés de  commissions'!P1696,0)*1","v":0},0,""]
[null,null,null,null,null,null,null,null,null,null,null,null,{"$f":"IF('Relevés de  commissions'!D1697=\"AGI externes\",'Relevés de  commissions'!M1697,0)*1","v":0},{"$f":"IF('Relevés de  commissions'!D1697=\"AGI externes\",'Relevés de  commissions'!N1697,0)*1","v":0},{"$f":"IF('Relevés de  commissions'!D1697=\"AGI externes\",'Relevés de  commissions'!O1697,0)*1","v":0},{"$f":"IF('Relevés de  commissions'!D1697=\"AGI externes\",'Relevés de  commissions'!P1697,0)*1","v":0},0,""]
[null,null,null,null,null,null,null,null,null,null,null,null,{"$f":"IF('Relevés de  commissions'!D1698=\"AGI externes\",'Relevés de  commissions'!M1698,0)*1","v":0},{"$f":"IF('Relevés de  commissions'!D1698=\"AGI externes\",'Relevés de  commissions'!N1698,0)*1","v":0},{"$f":"IF('Relevés de  commissions'!D1698=\"AGI externes\",'Relevés de  commissions'!O1698,0)*1","v":0},{"$f":"IF('Relevés de  commissions'!D1698=\"AGI externes\",'Relevés de  commissions'!P1698,0)*1","v":0},0,""]
[null,null,null,null,null,null,null,null,null,null,null,null,{"$f":"IF('Relevés de  commissions'!D1699=\"AGI externes\",'Relevés de  commissions'!M1699,0)*1","v":0},{"$f":"IF('Relevés de  commissions'!D1699=\"AGI externes\",'Relevés de  commissions'!N1699,0)*1","v":0},{"$f":"IF('Relevés de  commissions'!D1699=\"AGI externes\",'Relevés de  commissions'!O1699,0)*1","v":0},{"$f":"IF('Relevés de  commissions'!D1699=\"AGI externes\",'Relevés de  commissions'!P1699,0)*1","v":0},0,""]
[null,null,null,null,null,null,null,null,null,null,null,null,{"$f":"IF('Relevés de  commissions'!D1700=\"AGI externes\",'Relevés de  commissions'!M1700,0)*1","v":0},{"$f":"IF('Relevés de  commissions'!D1700=\"AGI externes\",'Relevés de  commissions'!N1700,0)*1","v":0},{"$f":"IF('Relevés de  commissions'!D1700=\"AGI externes\",'Relevés de  commissions'!O1700,0)*1","v":0},{"$f":"IF('Relevés de  commissions'!D1700=\"AGI externes\",'Relevés de  commissions'!P1700,0)*1","v":0},0,""]
[null,null,null,null,null,null,null,null,null,null,null,null,{"$f":"IF('Relevés de  commissions'!D1701=\"AGI externes\",'Relevés de  commissions'!M1701,0)*1","v":0},{"$f":"IF('Relevés de  commissions'!D1701=\"AGI externes\",'Relevés de  commissions'!N1701,0)*1","v":0},{"$f":"IF('Relevés de  commissions'!D1701=\"AGI externes\",'Relevés de  commissions'!O1701,0)*1","v":0},{"$f":"IF('Relevés de  commissions'!D1701=\"AGI externes\",'Relevés de  commissions'!P1701,0)*1","v":0},0,""]
[null,null,null,null,null,null,null,null,null,null,null,null,{"$f":"IF('Relevés de  commissions'!D1702=\"AGI externes\",'Relevés de  commissions'!M1702,0)*1","v":0},{"$f":"IF('Relevés de  commissions'!D1702=\"AGI externes\",'Relevés de  commissions'!N1702,0)*1","v":0},{"$f":"IF('Relevés de  commissions'!D1702=\"AGI externes\",'Relevés de  commissions'!O1702,0)*1","v":0},{"$f":"IF('Relevés de  commissions'!D1702=\"AGI externes\",'Relevés de  commissions'!P1702,0)*1","v":0},0,""]
[null,null,null,null,null,null,null,null,null,null,null,null,{"$f":"IF('Relevés de  commissions'!D1703=\"AGI externes\",'Relevés de  commissions'!M1703,0)*1","v":0},{"$f":"IF('Relevés de  commissions'!D1703=\"AGI externes\",'Relevés de  commissions'!N1703,0)*1","v":0},{"$f":"IF('Relevés de  commissions'!D1703=\"AGI externes\",'Relevés de  commissions'!O1703,0)*1","v":0},{"$f":"IF('Relevés de  commissions'!D1703=\"AGI externes\",'Relevés de  commissions'!P1703,0)*1","v":0},0,""]
[null,null,null,null,null,null,null,null,null,null,null,null,{"$f":"IF('Relevés de  commissions'!D1704=\"AGI externes\",'Relevés de  commissions'!M1704,0)*1","v":0},{"$f":"IF('Relevés de  commissions'!D1704=\"AGI externes\",'Relevés de  commissions'!N1704,0)*1","v":0},{"$f":"IF('Relevés de  commissions'!D1704=\"AGI externes\",'Relevés de  commissions'!O1704,0)*1","v":0},{"$f":"IF('Relevés de  commissions'!D1704=\"AGI externes\",'Relevés de  commissions'!P1704,0)*1","v":0},0,""]
[null,null,null,null,null,null,null,null,null,null,null,null,{"$f":"IF('Relevés de  commissions'!D1705=\"AGI externes\",'Relevés de  commissions'!M1705,0)*1","v":0},{"$f":"IF('Relevés de  commissions'!D1705=\"AGI externes\",'Relevés de  commissions'!N1705,0)*1","v":0},{"$f":"IF('Relevés de  commissions'!D1705=\"AGI externes\",'Relevés de  commissions'!O1705,0)*1","v":0},{"$f":"IF('Relevés de  commissions'!D1705=\"AGI externes\",'Relevés de  commissions'!P1705,0)*1","v":0},0,""]
[null,null,null,null,null,null,null,null,null,null,null,null,{"$f":"IF('Relevés de  commissions'!D1706=\"AGI externes\",'Relevés de  commissions'!M1706,0)*1","v":0},{"$f":"IF('Relevés de  commissions'!D1706=\"AGI externes\",'Relevés de  commissions'!N1706,0)*1","v":0},{"$f":"IF('Relevés de  commissions'!D1706=\"AGI externes\",'Relevés de  commissions'!O1706,0)*1","v":0},{"$f":"IF('Relevés de  commissions'!D1706=\"AGI externes\",'Relevés de  commissions'!P1706,0)*1","v":0},0,""]
[null,null,null,null,null,null,null,null,null,null,null,null,{"$f":"IF('Relevés de  commissions'!D1707=\"AGI externes\",'Relevés de  commissions'!M1707,0)*1","v":0},{"$f":"IF('Relevés de  commissions'!D1707=\"AGI externes\",'Relevés de  commissions'!N1707,0)*1","v":0},{"$f":"IF('Relevés de  commissions'!D1707=\"AGI externes\",'Relevés de  commissions'!O1707,0)*1","v":0},{"$f":"IF('Relevés de  commissions'!D1707=\"AGI externes\",'Relevés de  commissions'!P1707,0)*1","v":0},0,""]
[null,null,null,null,null,null,null,null,null,null,null,null,{"$f":"IF('Relevés de  commissions'!D1708=\"AGI externes\",'Relevés de  commissions'!M1708,0)*1","v":0},{"$f":"IF('Relevés de  commissions'!D1708=\"AGI externes\",'Relevés de  commissions'!N1708,0)*1","v":0},{"$f":"IF('Relevés de  commissions'!D1708=\"AGI externes\",'Relevés de  commissions'!O1708,0)*1","v":0},{"$f":"IF('Relevés de  commissions'!D1708=\"AGI externes\",'Relevés de  commissions'!P1708,0)*1","v":0},0,""]
[null,null,null,null,null,null,null,null,null,null,null,null,{"$f":"IF('Relevés de  commissions'!D1709=\"AGI externes\",'Relevés de  commissions'!M1709,0)*1","v":0},{"$f":"IF('Relevés de  commissions'!D1709=\"AGI externes\",'Relevés de  commissions'!N1709,0)*1","v":0},{"$f":"IF('Relevés de  commissions'!D1709=\"AGI externes\",'Relevés de  commissions'!O1709,0)*1","v":0},{"$f":"IF('Relevés de  commissions'!D1709=\"AGI externes\",'Relevés de  commissions'!P1709,0)*1","v":0},0,""]
[null,null,null,null,null,null,null,null,null,null,null,null,{"$f":"IF('Relevés de  commissions'!D1710=\"AGI externes\",'Relevés de  commissions'!M1710,0)*1","v":0},{"$f":"IF('Relevés de  commissions'!D1710=\"AGI externes\",'Relevés de  commissions'!N1710,0)*1","v":0},{"$f":"IF('Relevés de  commissions'!D1710=\"AGI externes\",'Relevés de  commissions'!O1710,0)*1","v":0},{"$f":"IF('Relevés de  commissions'!D1710=\"AGI externes\",'Relevés de  commissions'!P1710,0)*1","v":0},0,""]
[null,null,null,null,null,null,null,null,null,null,null,null,{"$f":"IF('Relevés de  commissions'!D1711=\"AGI externes\",'Relevés de  commissions'!M1711,0)*1","v":0},{"$f":"IF('Relevés de  commissions'!D1711=\"AGI externes\",'Relevés de  commissions'!N1711,0)*1","v":0},{"$f":"IF('Relevés de  commissions'!D1711=\"AGI externes\",'Relevés de  commissions'!O1711,0)*1","v":0},{"$f":"IF('Relevés de  commissions'!D1711=\"AGI externes\",'Relevés de  commissions'!P1711,0)*1","v":0},0,""]
[null,null,null,null,null,null,null,null,null,null,null,null,{"$f":"IF('Relevés de  commissions'!D1712=\"AGI externes\",'Relevés de  commissions'!M1712,0)*1","v":0},{"$f":"IF('Relevés de  commissions'!D1712=\"AGI externes\",'Relevés de  commissions'!N1712,0)*1","v":0},{"$f":"IF('Relevés de  commissions'!D1712=\"AGI externes\",'Relevés de  commissions'!O1712,0)*1","v":0},{"$f":"IF('Relevés de  commissions'!D1712=\"AGI externes\",'Relevés de  commissions'!P1712,0)*1","v":0},0,""]
[null,null,null,null,null,null,null,null,null,null,null,null,{"$f":"IF('Relevés de  commissions'!D1713=\"AGI externes\",'Relevés de  commissions'!M1713,0)*1","v":0},{"$f":"IF('Relevés de  commissions'!D1713=\"AGI externes\",'Relevés de  commissions'!N1713,0)*1","v":0},{"$f":"IF('Relevés de  commissions'!D1713=\"AGI externes\",'Relevés de  commissions'!O1713,0)*1","v":0},{"$f":"IF('Relevés de  commissions'!D1713=\"AGI externes\",'Relevés de  commissions'!P1713,0)*1","v":0},0,""]
[null,null,null,null,null,null,null,null,null,null,null,null,{"$f":"IF('Relevés de  commissions'!D1714=\"AGI externes\",'Relevés de  commissions'!M1714,0)*1","v":0},{"$f":"IF('Relevés de  commissions'!D1714=\"AGI externes\",'Relevés de  commissions'!N1714,0)*1","v":0},{"$f":"IF('Relevés de  commissions'!D1714=\"AGI externes\",'Relevés de  commissions'!O1714,0)*1","v":0},{"$f":"IF('Relevés de  commissions'!D1714=\"AGI externes\",'Relevés de  commissions'!P1714,0)*1","v":0},0,""]
[null,null,null,null,null,null,null,null,null,null,null,null,{"$f":"IF('Relevés de  commissions'!D1715=\"AGI externes\",'Relevés de  commissions'!M1715,0)*1","v":0},{"$f":"IF('Relevés de  commissions'!D1715=\"AGI externes\",'Relevés de  commissions'!N1715,0)*1","v":0},{"$f":"IF('Relevés de  commissions'!D1715=\"AGI externes\",'Relevés de  commissions'!O1715,0)*1","v":0},{"$f":"IF('Relevés de  commissions'!D1715=\"AGI externes\",'Relevés de  commissions'!P1715,0)*1","v":0},0,""]
[null,null,null,null,null,null,null,null,null,null,null,null,{"$f":"IF('Relevés de  commissions'!D1716=\"AGI externes\",'Relevés de  commissions'!M1716,0)*1","v":0},{"$f":"IF('Relevés de  commissions'!D1716=\"AGI externes\",'Relevés de  commissions'!N1716,0)*1","v":0},{"$f":"IF('Relevés de  commissions'!D1716=\"AGI externes\",'Relevés de  commissions'!O1716,0)*1","v":0},{"$f":"IF('Relevés de  commissions'!D1716=\"AGI externes\",'Relevés de  commissions'!P1716,0)*1","v":0},0,""]
[null,null,null,null,null,null,null,null,null,null,null,null,{"$f":"IF('Relevés de  commissions'!D1717=\"AGI externes\",'Relevés de  commissions'!M1717,0)*1","v":0},{"$f":"IF('Relevés de  commissions'!D1717=\"AGI externes\",'Relevés de  commissions'!N1717,0)*1","v":0},{"$f":"IF('Relevés de  commissions'!D1717=\"AGI externes\",'Relevés de  commissions'!O1717,0)*1","v":0},{"$f":"IF('Relevés de  commissions'!D1717=\"AGI externes\",'Relevés de  commissions'!P1717,0)*1","v":0},0,""]
[null,null,null,null,null,null,null,null,null,null,null,null,{"$f":"IF('Relevés de  commissions'!D1718=\"AGI externes\",'Relevés de  commissions'!M1718,0)*1","v":0},{"$f":"IF('Relevés de  commissions'!D1718=\"AGI externes\",'Relevés de  commissions'!N1718,0)*1","v":0},{"$f":"IF('Relevés de  commissions'!D1718=\"AGI externes\",'Relevés de  commissions'!O1718,0)*1","v":0},{"$f":"IF('Relevés de  commissions'!D1718=\"AGI externes\",'Relevés de  commissions'!P1718,0)*1","v":0},0,""]
[null,null,null,null,null,null,null,null,null,null,null,null,{"$f":"IF('Relevés de  commissions'!D1719=\"AGI externes\",'Relevés de  commissions'!M1719,0)*1","v":0},{"$f":"IF('Relevés de  commissions'!D1719=\"AGI externes\",'Relevés de  commissions'!N1719,0)*1","v":0},{"$f":"IF('Relevés de  commissions'!D1719=\"AGI externes\",'Relevés de  commissions'!O1719,0)*1","v":0},{"$f":"IF('Relevés de  commissions'!D1719=\"AGI externes\",'Relevés de  commissions'!P1719,0)*1","v":0},0,""]
[null,null,null,null,null,null,null,null,null,null,null,null,{"$f":"IF('Relevés de  commissions'!D1720=\"AGI externes\",'Relevés de  commissions'!M1720,0)*1","v":0},{"$f":"IF('Relevés de  commissions'!D1720=\"AGI externes\",'Relevés de  commissions'!N1720,0)*1","v":0},{"$f":"IF('Relevés de  commissions'!D1720=\"AGI externes\",'Relevés de  commissions'!O1720,0)*1","v":0},{"$f":"IF('Relevés de  commissions'!D1720=\"AGI externes\",'Relevés de  commissions'!P1720,0)*1","v":0},0,""]
[null,null,null,null,null,null,null,null,null,null,null,null,{"$f":"IF('Relevés de  commissions'!D1721=\"AGI externes\",'Relevés de  commissions'!M1721,0)*1","v":0},{"$f":"IF('Relevés de  commissions'!D1721=\"AGI externes\",'Relevés de  commissions'!N1721,0)*1","v":0},{"$f":"IF('Relevés de  commissions'!D1721=\"AGI externes\",'Relevés de  commissions'!O1721,0)*1","v":0},{"$f":"IF('Relevés de  commissions'!D1721=\"AGI externes\",'Relevés de  commissions'!P1721,0)*1","v":0},0,""]
[null,null,null,null,null,null,null,null,null,null,null,null,{"$f":"IF('Relevés de  commissions'!D1722=\"AGI externes\",'Relevés de  commissions'!M1722,0)*1","v":0},{"$f":"IF('Relevés de  commissions'!D1722=\"AGI externes\",'Relevés de  commissions'!N1722,0)*1","v":0},{"$f":"IF('Relevés de  commissions'!D1722=\"AGI externes\",'Relevés de  commissions'!O1722,0)*1","v":0},{"$f":"IF('Relevés de  commissions'!D1722=\"AGI externes\",'Relevés de  commissions'!P1722,0)*1","v":0},0,""]
[null,null,null,null,null,null,null,null,null,null,null,null,{"$f":"IF('Relevés de  commissions'!D1723=\"AGI externes\",'Relevés de  commissions'!M1723,0)*1","v":0},{"$f":"IF('Relevés de  commissions'!D1723=\"AGI externes\",'Relevés de  commissions'!N1723,0)*1","v":0},{"$f":"IF('Relevés de  commissions'!D1723=\"AGI externes\",'Relevés de  commissions'!O1723,0)*1","v":0},{"$f":"IF('Relevés de  commissions'!D1723=\"AGI externes\",'Relevés de  commissions'!P1723,0)*1","v":0},0,""]
[null,null,null,null,null,null,null,null,null,null,null,null,{"$f":"IF('Relevés de  commissions'!D1724=\"AGI externes\",'Relevés de  commissions'!M1724,0)*1","v":0},{"$f":"IF('Relevés de  commissions'!D1724=\"AGI externes\",'Relevés de  commissions'!N1724,0)*1","v":0},{"$f":"IF('Relevés de  commissions'!D1724=\"AGI externes\",'Relevés de  commissions'!O1724,0)*1","v":0},{"$f":"IF('Relevés de  commissions'!D1724=\"AGI externes\",'Relevés de  commissions'!P1724,0)*1","v":0},0,""]
[null,null,null,null,null,null,null,null,null,null,null,null,{"$f":"IF('Relevés de  commissions'!D1725=\"AGI externes\",'Relevés de  commissions'!M1725,0)*1","v":0},{"$f":"IF('Relevés de  commissions'!D1725=\"AGI externes\",'Relevés de  commissions'!N1725,0)*1","v":0},{"$f":"IF('Relevés de  commissions'!D1725=\"AGI externes\",'Relevés de  commissions'!O1725,0)*1","v":0},{"$f":"IF('Relevés de  commissions'!D1725=\"AGI externes\",'Relevés de  commissions'!P1725,0)*1","v":0},0,""]
[null,null,null,null,null,null,null,null,null,null,null,null,{"$f":"IF('Relevés de  commissions'!D1726=\"AGI externes\",'Relevés de  commissions'!M1726,0)*1","v":0},{"$f":"IF('Relevés de  commissions'!D1726=\"AGI externes\",'Relevés de  commissions'!N1726,0)*1","v":0},{"$f":"IF('Relevés de  commissions'!D1726=\"AGI externes\",'Relevés de  commissions'!O1726,0)*1","v":0},{"$f":"IF('Relevés de  commissions'!D1726=\"AGI externes\",'Relevés de  commissions'!P1726,0)*1","v":0},0,""]
[null,null,null,null,null,null,null,null,null,null,null,null,{"$f":"IF('Relevés de  commissions'!D1727=\"AGI externes\",'Relevés de  commissions'!M1727,0)*1","v":0},{"$f":"IF('Relevés de  commissions'!D1727=\"AGI externes\",'Relevés de  commissions'!N1727,0)*1","v":0},{"$f":"IF('Relevés de  commissions'!D1727=\"AGI externes\",'Relevés de  commissions'!O1727,0)*1","v":0},{"$f":"IF('Relevés de  commissions'!D1727=\"AGI externes\",'Relevés de  commissions'!P1727,0)*1","v":0},0,""]
[null,null,null,null,null,null,null,null,null,null,null,null,{"$f":"IF('Relevés de  commissions'!D1728=\"AGI externes\",'Relevés de  commissions'!M1728,0)*1","v":0},{"$f":"IF('Relevés de  commissions'!D1728=\"AGI externes\",'Relevés de  commissions'!N1728,0)*1","v":0},{"$f":"IF('Relevés de  commissions'!D1728=\"AGI externes\",'Relevés de  commissions'!O1728,0)*1","v":0},{"$f":"IF('Relevés de  commissions'!D1728=\"AGI externes\",'Relevés de  commissions'!P1728,0)*1","v":0},0,""]
[null,null,null,null,null,null,null,null,null,null,null,null,{"$f":"IF('Relevés de  commissions'!D1729=\"AGI externes\",'Relevés de  commissions'!M1729,0)*1","v":0},{"$f":"IF('Relevés de  commissions'!D1729=\"AGI externes\",'Relevés de  commissions'!N1729,0)*1","v":0},{"$f":"IF('Relevés de  commissions'!D1729=\"AGI externes\",'Relevés de  commissions'!O1729,0)*1","v":0},{"$f":"IF('Relevés de  commissions'!D1729=\"AGI externes\",'Relevés de  commissions'!P1729,0)*1","v":0},0,""]
[null,null,null,null,null,null,null,null,null,null,null,null,{"$f":"IF('Relevés de  commissions'!D1730=\"AGI externes\",'Relevés de  commissions'!M1730,0)*1","v":0},{"$f":"IF('Relevés de  commissions'!D1730=\"AGI externes\",'Relevés de  commissions'!N1730,0)*1","v":0},{"$f":"IF('Relevés de  commissions'!D1730=\"AGI externes\",'Relevés de  commissions'!O1730,0)*1","v":0},{"$f":"IF('Relevés de  commissions'!D1730=\"AGI externes\",'Relevés de  commissions'!P1730,0)*1","v":0},0,""]
[null,null,null,null,null,null,null,null,null,null,null,null,{"$f":"IF('Relevés de  commissions'!D1731=\"AGI externes\",'Relevés de  commissions'!M1731,0)*1","v":0},{"$f":"IF('Relevés de  commissions'!D1731=\"AGI externes\",'Relevés de  commissions'!N1731,0)*1","v":0},{"$f":"IF('Relevés de  commissions'!D1731=\"AGI externes\",'Relevés de  commissions'!O1731,0)*1","v":0},{"$f":"IF('Relevés de  commissions'!D1731=\"AGI externes\",'Relevés de  commissions'!P1731,0)*1","v":0},{"$f":"IF(N1733=0,O1733,\"\")","v":0},{"$f":"IF(N1733=10,O1733,\"\")","v":""}]
[null,null,null,null,null,null,null,null,null,null,null,null,{"$f":"IF('Relevés de  commissions'!D1732=\"AGI externes\",'Relevés de  commissions'!M1732,0)*1","v":0},{"$f":"IF('Relevés de  commissions'!D1732=\"AGI externes\",'Relevés de  commissions'!N1732,0)*1","v":0},{"$f":"IF('Relevés de  commissions'!D1732=\"AGI externes\",'Relevés de  commissions'!O1732,0)*1","v":0},{"$f":"IF('Relevés de  commissions'!D1732=\"AGI externes\",'Relevés de  commissions'!P1732,0)*1","v":0},0,""]
[null,null,null,null,null,null,null,null,null,null,null,null,{"$f":"IF('Relevés de  commissions'!D1733=\"AGI externes\",'Relevés de  commissions'!M1733,0)*1","v":0},{"$f":"IF('Relevés de  commissions'!D1733=\"AGI externes\",'Relevés de  commissions'!N1733,0)*1","v":0},{"$f":"IF('Relevés de  commissions'!D1733=\"AGI externes\",'Relevés de  commissions'!O1733,0)*1","v":0},{"$f":"IF('Relevés de  commissions'!D1733=\"AGI externes\",'Relevés de  commissions'!P1733,0)*1","v":0},0,""]
[null,null,null,null,null,null,null,null,null,null,null,null,{"$f":"IF('Relevés de  commissions'!D1734=\"AGI externes\",'Relevés de  commissions'!M1734,0)*1","v":0},{"$f":"IF('Relevés de  commissions'!D1734=\"AGI externes\",'Relevés de  commissions'!N1734,0)*1","v":0},{"$f":"IF('Relevés de  commissions'!D1734=\"AGI externes\",'Relevés de  commissions'!O1734,0)*1","v":0},{"$f":"IF('Relevés de  commissions'!D1734=\"AGI externes\",'Relevés de  commissions'!P1734,0)*1","v":0},0,""]
[null,null,null,null,null,null,null,null,null,null,null,null,{"$f":"IF('Relevés de  commissions'!D1735=\"AGI externes\",'Relevés de  commissions'!M1735,0)*1","v":0},{"$f":"IF('Relevés de  commissions'!D1735=\"AGI externes\",'Relevés de  commissions'!N1735,0)*1","v":0},{"$f":"IF('Relevés de  commissions'!D1735=\"AGI externes\",'Relevés de  commissions'!O1735,0)*1","v":0},{"$f":"IF('Relevés de  commissions'!D1735=\"AGI externes\",'Relevés de  commissions'!P1735,0)*1","v":0},0,""]
[null,null,null,null,null,null,null,null,null,null,null,null,{"$f":"IF('Relevés de  commissions'!D1736=\"AGI externes\",'Relevés de  commissions'!M1736,0)*1","v":0},{"$f":"IF('Relevés de  commissions'!D1736=\"AGI externes\",'Relevés de  commissions'!N1736,0)*1","v":0},{"$f":"IF('Relevés de  commissions'!D1736=\"AGI externes\",'Relevés de  commissions'!O1736,0)*1","v":0},{"$f":"IF('Relevés de  commissions'!D1736=\"AGI externes\",'Relevés de  commissions'!P1736,0)*1","v":0},0,""]
[null,null,null,null,null,null,null,null,null,null,null,null,{"$f":"IF('Relevés de  commissions'!D1737=\"AGI externes\",'Relevés de  commissions'!M1737,0)*1","v":0},{"$f":"IF('Relevés de  commissions'!D1737=\"AGI externes\",'Relevés de  commissions'!N1737,0)*1","v":0},{"$f":"IF('Relevés de  commissions'!D1737=\"AGI externes\",'Relevés de  commissions'!O1737,0)*1","v":0},{"$f":"IF('Relevés de  commissions'!D1737=\"AGI externes\",'Relevés de  commissions'!P1737,0)*1","v":0},0,""]
[null,null,null,null,null,null,null,null,null,null,null,null,{"$f":"IF('Relevés de  commissions'!D1738=\"AGI externes\",'Relevés de  commissions'!M1738,0)*1","v":0},{"$f":"IF('Relevés de  commissions'!D1738=\"AGI externes\",'Relevés de  commissions'!N1738,0)*1","v":0},{"$f":"IF('Relevés de  commissions'!D1738=\"AGI externes\",'Relevés de  commissions'!O1738,0)*1","v":0},{"$f":"IF('Relevés de  commissions'!D1738=\"AGI externes\",'Relevés de  commissions'!P1738,0)*1","v":0},0,""]
[null,null,null,null,null,null,null,null,null,null,null,null,{"$f":"IF('Relevés de  commissions'!D1739=\"AGI externes\",'Relevés de  commissions'!M1739,0)*1","v":0},{"$f":"IF('Relevés de  commissions'!D1739=\"AGI externes\",'Relevés de  commissions'!N1739,0)*1","v":0},{"$f":"IF('Relevés de  commissions'!D1739=\"AGI externes\",'Relevés de  commissions'!O1739,0)*1","v":0},{"$f":"IF('Relevés de  commissions'!D1739=\"AGI externes\",'Relevés de  commissions'!P1739,0)*1","v":0},0,""]
[null,null,null,null,null,null,null,null,null,null,null,null,{"$f":"IF('Relevés de  commissions'!D1740=\"AGI externes\",'Relevés de  commissions'!M1740,0)*1","v":0},{"$f":"IF('Relevés de  commissions'!D1740=\"AGI externes\",'Relevés de  commissions'!N1740,0)*1","v":0},{"$f":"IF('Relevés de  commissions'!D1740=\"AGI externes\",'Relevés de  commissions'!O1740,0)*1","v":0},{"$f":"IF('Relevés de  commissions'!D1740=\"AGI externes\",'Relevés de  commissions'!P1740,0)*1","v":0},0,""]
[null,null,null,null,null,null,null,null,null,null,null,null,{"$f":"IF('Relevés de  commissions'!D1741=\"AGI externes\",'Relevés de  commissions'!M1741,0)*1","v":0},{"$f":"IF('Relevés de  commissions'!D1741=\"AGI externes\",'Relevés de  commissions'!N1741,0)*1","v":0},{"$f":"IF('Relevés de  commissions'!D1741=\"AGI externes\",'Relevés de  commissions'!O1741,0)*1","v":0},{"$f":"IF('Relevés de  commissions'!D1741=\"AGI externes\",'Relevés de  commissions'!P1741,0)*1","v":0},0,""]
[null,null,null,null,null,null,null,null,null,null,null,null,{"$f":"IF('Relevés de  commissions'!D1742=\"AGI externes\",'Relevés de  commissions'!M1742,0)*1","v":0},{"$f":"IF('Relevés de  commissions'!D1742=\"AGI externes\",'Relevés de  commissions'!N1742,0)*1","v":0},{"$f":"IF('Relevés de  commissions'!D1742=\"AGI externes\",'Relevés de  commissions'!O1742,0)*1","v":0},{"$f":"IF('Relevés de  commissions'!D1742=\"AGI externes\",'Relevés de  commissions'!P1742,0)*1","v":0},0,""]
[null,null,null,null,null,null,null,null,null,null,null,null,{"$f":"IF('Relevés de  commissions'!D1743=\"AGI externes\",'Relevés de  commissions'!M1743,0)*1","v":0},{"$f":"IF('Relevés de  commissions'!D1743=\"AGI externes\",'Relevés de  commissions'!N1743,0)*1","v":0},{"$f":"IF('Relevés de  commissions'!D1743=\"AGI externes\",'Relevés de  commissions'!O1743,0)*1","v":0},{"$f":"IF('Relevés de  commissions'!D1743=\"AGI externes\",'Relevés de  commissions'!P1743,0)*1","v":0},0,""]
[null,null,null,null,null,null,null,null,null,null,null,null,{"$f":"IF('Relevés de  commissions'!D1744=\"AGI externes\",'Relevés de  commissions'!M1744,0)*1","v":0},{"$f":"IF('Relevés de  commissions'!D1744=\"AGI externes\",'Relevés de  commissions'!N1744,0)*1","v":0},{"$f":"IF('Relevés de  commissions'!D1744=\"AGI externes\",'Relevés de  commissions'!O1744,0)*1","v":0},{"$f":"IF('Relevés de  commissions'!D1744=\"AGI externes\",'Relevés de  commissions'!P1744,0)*1","v":0},0,""]
[null,null,null,null,null,null,null,null,null,null,null,null,{"$f":"IF('Relevés de  commissions'!D1745=\"AGI externes\",'Relevés de  commissions'!M1745,0)*1","v":0},{"$f":"IF('Relevés de  commissions'!D1745=\"AGI externes\",'Relevés de  commissions'!N1745,0)*1","v":0},{"$f":"IF('Relevés de  commissions'!D1745=\"AGI externes\",'Relevés de  commissions'!O1745,0)*1","v":0},{"$f":"IF('Relevés de  commissions'!D1745=\"AGI externes\",'Relevés de  commissions'!P1745,0)*1","v":0},0,""]
[null,null,null,null,null,null,null,null,null,null,null,null,{"$f":"IF('Relevés de  commissions'!D1746=\"AGI externes\",'Relevés de  commissions'!M1746,0)*1","v":0},{"$f":"IF('Relevés de  commissions'!D1746=\"AGI externes\",'Relevés de  commissions'!N1746,0)*1","v":0},{"$f":"IF('Relevés de  commissions'!D1746=\"AGI externes\",'Relevés de  commissions'!O1746,0)*1","v":0},{"$f":"IF('Relevés de  commissions'!D1746=\"AGI externes\",'Relevés de  commissions'!P1746,0)*1","v":0},0,""]
[null,null,null,null,null,null,null,null,null,null,null,null,{"$f":"IF('Relevés de  commissions'!D1747=\"AGI externes\",'Relevés de  commissions'!M1747,0)*1","v":0},{"$f":"IF('Relevés de  commissions'!D1747=\"AGI externes\",'Relevés de  commissions'!N1747,0)*1","v":0},{"$f":"IF('Relevés de  commissions'!D1747=\"AGI externes\",'Relevés de  commissions'!O1747,0)*1","v":0},{"$f":"IF('Relevés de  commissions'!D1747=\"AGI externes\",'Relevés de  commissions'!P1747,0)*1","v":0},0,""]
[null,null,null,null,null,null,null,null,null,null,null,null,{"$f":"IF('Relevés de  commissions'!D1748=\"AGI externes\",'Relevés de  commissions'!M1748,0)*1","v":0},{"$f":"IF('Relevés de  commissions'!D1748=\"AGI externes\",'Relevés de  commissions'!N1748,0)*1","v":0},{"$f":"IF('Relevés de  commissions'!D1748=\"AGI externes\",'Relevés de  commissions'!O1748,0)*1","v":0},{"$f":"IF('Relevés de  commissions'!D1748=\"AGI externes\",'Relevés de  commissions'!P1748,0)*1","v":0},0,""]
[null,null,null,null,null,null,null,null,null,null,null,null,{"$f":"IF('Relevés de  commissions'!D1749=\"AGI externes\",'Relevés de  commissions'!M1749,0)*1","v":0},{"$f":"IF('Relevés de  commissions'!D1749=\"AGI externes\",'Relevés de  commissions'!N1749,0)*1","v":0},{"$f":"IF('Relevés de  commissions'!D1749=\"AGI externes\",'Relevés de  commissions'!O1749,0)*1","v":0},{"$f":"IF('Relevés de  commissions'!D1749=\"AGI externes\",'Relevés de  commissions'!P1749,0)*1","v":0},0,""]
[null,null,null,null,null,null,null,null,null,null,null,null,{"$f":"IF('Relevés de  commissions'!D1750=\"AGI externes\",'Relevés de  commissions'!M1750,0)*1","v":0},{"$f":"IF('Relevés de  commissions'!D1750=\"AGI externes\",'Relevés de  commissions'!N1750,0)*1","v":0},{"$f":"IF('Relevés de  commissions'!D1750=\"AGI externes\",'Relevés de  commissions'!O1750,0)*1","v":0},{"$f":"IF('Relevés de  commissions'!D1750=\"AGI externes\",'Relevés de  commissions'!P1750,0)*1","v":0},0,""]
[null,null,null,null,null,null,null,null,null,null,null,null,{"$f":"IF('Relevés de  commissions'!D1751=\"AGI externes\",'Relevés de  commissions'!M1751,0)*1","v":0},{"$f":"IF('Relevés de  commissions'!D1751=\"AGI externes\",'Relevés de  commissions'!N1751,0)*1","v":0},{"$f":"IF('Relevés de  commissions'!D1751=\"AGI externes\",'Relevés de  commissions'!O1751,0)*1","v":0},{"$f":"IF('Relevés de  commissions'!D1751=\"AGI externes\",'Relevés de  commissions'!P1751,0)*1","v":0},0,""]
[null,null,null,null,null,null,null,null,null,null,null,null,{"$f":"IF('Relevés de  commissions'!D1752=\"AGI externes\",'Relevés de  commissions'!M1752,0)*1","v":0},{"$f":"IF('Relevés de  commissions'!D1752=\"AGI externes\",'Relevés de  commissions'!N1752,0)*1","v":0},{"$f":"IF('Relevés de  commissions'!D1752=\"AGI externes\",'Relevés de  commissions'!O1752,0)*1","v":0},{"$f":"IF('Relevés de  commissions'!D1752=\"AGI externes\",'Relevés de  commissions'!P1752,0)*1","v":0},0,""]
[null,null,null,null,null,null,null,null,null,null,null,null,{"$f":"IF('Relevés de  commissions'!D1753=\"AGI externes\",'Relevés de  commissions'!M1753,0)*1","v":0},{"$f":"IF('Relevés de  commissions'!D1753=\"AGI externes\",'Relevés de  commissions'!N1753,0)*1","v":0},{"$f":"IF('Relevés de  commissions'!D1753=\"AGI externes\",'Relevés de  commissions'!O1753,0)*1","v":0},{"$f":"IF('Relevés de  commissions'!D1753=\"AGI externes\",'Relevés de  commissions'!P1753,0)*1","v":0},0,""]
[null,null,null,null,null,null,null,null,null,null,null,null,{"$f":"IF('Relevés de  commissions'!D1754=\"AGI externes\",'Relevés de  commissions'!M1754,0)*1","v":0},{"$f":"IF('Relevés de  commissions'!D1754=\"AGI externes\",'Relevés de  commissions'!N1754,0)*1","v":0},{"$f":"IF('Relevés de  commissions'!D1754=\"AGI externes\",'Relevés de  commissions'!O1754,0)*1","v":0},{"$f":"IF('Relevés de  commissions'!D1754=\"AGI externes\",'Relevés de  commissions'!P1754,0)*1","v":0},0,""]
[null,null,null,null,null,null,null,null,null,null,null,null,{"$f":"IF('Relevés de  commissions'!D1755=\"AGI externes\",'Relevés de  commissions'!M1755,0)*1","v":0},{"$f":"IF('Relevés de  commissions'!D1755=\"AGI externes\",'Relevés de  commissions'!N1755,0)*1","v":0},{"$f":"IF('Relevés de  commissions'!D1755=\"AGI externes\",'Relevés de  commissions'!O1755,0)*1","v":0},{"$f":"IF('Relevés de  commissions'!D1755=\"AGI externes\",'Relevés de  commissions'!P1755,0)*1","v":0},0,""]
[null,null,null,null,null,null,null,null,null,null,null,null,{"$f":"IF('Relevés de  commissions'!D1756=\"AGI externes\",'Relevés de  commissions'!M1756,0)*1","v":0},{"$f":"IF('Relevés de  commissions'!D1756=\"AGI externes\",'Relevés de  commissions'!N1756,0)*1","v":0},{"$f":"IF('Relevés de  commissions'!D1756=\"AGI externes\",'Relevés de  commissions'!O1756,0)*1","v":0},{"$f":"IF('Relevés de  commissions'!D1756=\"AGI externes\",'Relevés de  commissions'!P1756,0)*1","v":0},0,""]
[null,null,null,null,null,null,null,null,null,null,null,null,{"$f":"IF('Relevés de  commissions'!D1757=\"AGI externes\",'Relevés de  commissions'!M1757,0)*1","v":0},{"$f":"IF('Relevés de  commissions'!D1757=\"AGI externes\",'Relevés de  commissions'!N1757,0)*1","v":0},{"$f":"IF('Relevés de  commissions'!D1757=\"AGI externes\",'Relevés de  commissions'!O1757,0)*1","v":0},{"$f":"IF('Relevés de  commissions'!D1757=\"AGI externes\",'Relevés de  commissions'!P1757,0)*1","v":0},0,""]
[null,null,null,null,null,null,null,null,null,null,null,null,{"$f":"IF('Relevés de  commissions'!D1758=\"AGI externes\",'Relevés de  commissions'!M1758,0)*1","v":0},{"$f":"IF('Relevés de  commissions'!D1758=\"AGI externes\",'Relevés de  commissions'!N1758,0)*1","v":0},{"$f":"IF('Relevés de  commissions'!D1758=\"AGI externes\",'Relevés de  commissions'!O1758,0)*1","v":0},{"$f":"IF('Relevés de  commissions'!D1758=\"AGI externes\",'Relevés de  commissions'!P1758,0)*1","v":0},0,""]
[null,null,null,null,null,null,null,null,null,null,null,null,{"$f":"IF('Relevés de  commissions'!D1759=\"AGI externes\",'Relevés de  commissions'!M1759,0)*1","v":0},{"$f":"IF('Relevés de  commissions'!D1759=\"AGI externes\",'Relevés de  commissions'!N1759,0)*1","v":0},{"$f":"IF('Relevés de  commissions'!D1759=\"AGI externes\",'Relevés de  commissions'!O1759,0)*1","v":0},{"$f":"IF('Relevés de  commissions'!D1759=\"AGI externes\",'Relevés de  commissions'!P1759,0)*1","v":0},0,""]
[null,null,null,null,null,null,null,null,null,null,null,null,{"$f":"IF('Relevés de  commissions'!D1760=\"AGI externes\",'Relevés de  commissions'!M1760,0)*1","v":0},{"$f":"IF('Relevés de  commissions'!D1760=\"AGI externes\",'Relevés de  commissions'!N1760,0)*1","v":0},{"$f":"IF('Relevés de  commissions'!D1760=\"AGI externes\",'Relevés de  commissions'!O1760,0)*1","v":0},{"$f":"IF('Relevés de  commissions'!D1760=\"AGI externes\",'Relevés de  commissions'!P1760,0)*1","v":0},0,""]
[null,null,null,null,null,null,null,null,null,null,null,null,{"$f":"IF('Relevés de  commissions'!D1761=\"AGI externes\",'Relevés de  commissions'!M1761,0)*1","v":0},{"$f":"IF('Relevés de  commissions'!D1761=\"AGI externes\",'Relevés de  commissions'!N1761,0)*1","v":0},{"$f":"IF('Relevés de  commissions'!D1761=\"AGI externes\",'Relevés de  commissions'!O1761,0)*1","v":0},{"$f":"IF('Relevés de  commissions'!D1761=\"AGI externes\",'Relevés de  commissions'!P1761,0)*1","v":0},0,""]
[null,null,null,null,null,null,null,null,null,null,null,null,{"$f":"IF('Relevés de  commissions'!D1762=\"AGI externes\",'Relevés de  commissions'!M1762,0)*1","v":0},{"$f":"IF('Relevés de  commissions'!D1762=\"AGI externes\",'Relevés de  commissions'!N1762,0)*1","v":0},{"$f":"IF('Relevés de  commissions'!D1762=\"AGI externes\",'Relevés de  commissions'!O1762,0)*1","v":0},{"$f":"IF('Relevés de  commissions'!D1762=\"AGI externes\",'Relevés de  commissions'!P1762,0)*1","v":0},0,""]
[null,null,null,null,null,null,null,null,null,null,null,null,{"$f":"IF('Relevés de  commissions'!D1763=\"AGI externes\",'Relevés de  commissions'!M1763,0)*1","v":0},{"$f":"IF('Relevés de  commissions'!D1763=\"AGI externes\",'Relevés de  commissions'!N1763,0)*1","v":0},{"$f":"IF('Relevés de  commissions'!D1763=\"AGI externes\",'Relevés de  commissions'!O1763,0)*1","v":0},{"$f":"IF('Relevés de  commissions'!D1763=\"AGI externes\",'Relevés de  commissions'!P1763,0)*1","v":0},0,""]
[null,null,null,null,null,null,null,null,null,null,null,null,{"$f":"IF('Relevés de  commissions'!D1764=\"AGI externes\",'Relevés de  commissions'!M1764,0)*1","v":0},{"$f":"IF('Relevés de  commissions'!D1764=\"AGI externes\",'Relevés de  commissions'!N1764,0)*1","v":0},{"$f":"IF('Relevés de  commissions'!D1764=\"AGI externes\",'Relevés de  commissions'!O1764,0)*1","v":0},{"$f":"IF('Relevés de  commissions'!D1764=\"AGI externes\",'Relevés de  commissions'!P1764,0)*1","v":0},0,""]
[null,null,null,null,null,null,null,null,null,null,null,null,{"$f":"IF('Relevés de  commissions'!D1765=\"AGI externes\",'Relevés de  commissions'!M1765,0)*1","v":0},{"$f":"IF('Relevés de  commissions'!D1765=\"AGI externes\",'Relevés de  commissions'!N1765,0)*1","v":0},{"$f":"IF('Relevés de  commissions'!D1765=\"AGI externes\",'Relevés de  commissions'!O1765,0)*1","v":0},{"$f":"IF('Relevés de  commissions'!D1765=\"AGI externes\",'Relevés de  commissions'!P1765,0)*1","v":0},0,""]
[null,null,null,null,null,null,null,null,null,null,null,null,{"$f":"IF('Relevés de  commissions'!D1766=\"AGI externes\",'Relevés de  commissions'!M1766,0)*1","v":0},{"$f":"IF('Relevés de  commissions'!D1766=\"AGI externes\",'Relevés de  commissions'!N1766,0)*1","v":0},{"$f":"IF('Relevés de  commissions'!D1766=\"AGI externes\",'Relevés de  commissions'!O1766,0)*1","v":0},{"$f":"IF('Relevés de  commissions'!D1766=\"AGI externes\",'Relevés de  commissions'!P1766,0)*1","v":0},0,""]
[null,null,null,null,null,null,null,null,null,null,null,null,{"$f":"IF('Relevés de  commissions'!D1767=\"AGI externes\",'Relevés de  commissions'!M1767,0)*1","v":0},{"$f":"IF('Relevés de  commissions'!D1767=\"AGI externes\",'Relevés de  commissions'!N1767,0)*1","v":0},{"$f":"IF('Relevés de  commissions'!D1767=\"AGI externes\",'Relevés de  commissions'!O1767,0)*1","v":0},{"$f":"IF('Relevés de  commissions'!D1767=\"AGI externes\",'Relevés de  commissions'!P1767,0)*1","v":0},0,""]
[null,null,null,null,null,null,null,null,null,null,null,null,{"$f":"IF('Relevés de  commissions'!D1768=\"AGI externes\",'Relevés de  commissions'!M1768,0)*1","v":0},{"$f":"IF('Relevés de  commissions'!D1768=\"AGI externes\",'Relevés de  commissions'!N1768,0)*1","v":0},{"$f":"IF('Relevés de  commissions'!D1768=\"AGI externes\",'Relevés de  commissions'!O1768,0)*1","v":0},{"$f":"IF('Relevés de  commissions'!D1768=\"AGI externes\",'Relevés de  commissions'!P1768,0)*1","v":0},0,""]
[null,null,null,null,null,null,null,null,null,null,null,null,{"$f":"IF('Relevés de  commissions'!D1769=\"AGI externes\",'Relevés de  commissions'!M1769,0)*1","v":0},{"$f":"IF('Relevés de  commissions'!D1769=\"AGI externes\",'Relevés de  commissions'!N1769,0)*1","v":0},{"$f":"IF('Relevés de  commissions'!D1769=\"AGI externes\",'Relevés de  commissions'!O1769,0)*1","v":0},{"$f":"IF('Relevés de  commissions'!D1769=\"AGI externes\",'Relevés de  commissions'!P1769,0)*1","v":0},0,""]
[null,null,null,null,null,null,null,null,null,null,null,null,{"$f":"IF('Relevés de  commissions'!D1770=\"AGI externes\",'Relevés de  commissions'!M1770,0)*1","v":0},{"$f":"IF('Relevés de  commissions'!D1770=\"AGI externes\",'Relevés de  commissions'!N1770,0)*1","v":0},{"$f":"IF('Relevés de  commissions'!D1770=\"AGI externes\",'Relevés de  commissions'!O1770,0)*1","v":0},{"$f":"IF('Relevés de  commissions'!D1770=\"AGI externes\",'Relevés de  commissions'!P1770,0)*1","v":0},0,""]
[null,null,null,null,null,null,null,null,null,null,null,null,{"$f":"IF('Relevés de  commissions'!D1771=\"AGI externes\",'Relevés de  commissions'!M1771,0)*1","v":0},{"$f":"IF('Relevés de  commissions'!D1771=\"AGI externes\",'Relevés de  commissions'!N1771,0)*1","v":0},{"$f":"IF('Relevés de  commissions'!D1771=\"AGI externes\",'Relevés de  commissions'!O1771,0)*1","v":0},{"$f":"IF('Relevés de  commissions'!D1771=\"AGI externes\",'Relevés de  commissions'!P1771,0)*1","v":0},0,""]
[null,null,null,null,null,null,null,null,null,null,null,null,{"$f":"IF('Relevés de  commissions'!D1772=\"AGI externes\",'Relevés de  commissions'!M1772,0)*1","v":0},{"$f":"IF('Relevés de  commissions'!D1772=\"AGI externes\",'Relevés de  commissions'!N1772,0)*1","v":0},{"$f":"IF('Relevés de  commissions'!D1772=\"AGI externes\",'Relevés de  commissions'!O1772,0)*1","v":0},{"$f":"IF('Relevés de  commissions'!D1772=\"AGI externes\",'Relevés de  commissions'!P1772,0)*1","v":0},0,""]
[null,null,null,null,null,null,null,null,null,null,null,null,{"$f":"IF('Relevés de  commissions'!D1773=\"AGI externes\",'Relevés de  commissions'!M1773,0)*1","v":0},{"$f":"IF('Relevés de  commissions'!D1773=\"AGI externes\",'Relevés de  commissions'!N1773,0)*1","v":0},{"$f":"IF('Relevés de  commissions'!D1773=\"AGI externes\",'Relevés de  commissions'!O1773,0)*1","v":0},{"$f":"IF('Relevés de  commissions'!D1773=\"AGI externes\",'Relevés de  commissions'!P1773,0)*1","v":0},0,""]
[null,null,null,null,null,null,null,null,null,null,null,null,{"$f":"IF('Relevés de  commissions'!D1774=\"AGI externes\",'Relevés de  commissions'!M1774,0)*1","v":0},{"$f":"IF('Relevés de  commissions'!D1774=\"AGI externes\",'Relevés de  commissions'!N1774,0)*1","v":0},{"$f":"IF('Relevés de  commissions'!D1774=\"AGI externes\",'Relevés de  commissions'!O1774,0)*1","v":0},{"$f":"IF('Relevés de  commissions'!D1774=\"AGI externes\",'Relevés de  commissions'!P1774,0)*1","v":0},0,""]
[null,null,null,null,null,null,null,null,null,null,null,null,{"$f":"IF('Relevés de  commissions'!D1775=\"AGI externes\",'Relevés de  commissions'!M1775,0)*1","v":0},{"$f":"IF('Relevés de  commissions'!D1775=\"AGI externes\",'Relevés de  commissions'!N1775,0)*1","v":0},{"$f":"IF('Relevés de  commissions'!D1775=\"AGI externes\",'Relevés de  commissions'!O1775,0)*1","v":0},{"$f":"IF('Relevés de  commissions'!D1775=\"AGI externes\",'Relevés de  commissions'!P1775,0)*1","v":0},0,""]
[null,null,null,null,null,null,null,null,null,null,null,null,{"$f":"IF('Relevés de  commissions'!D1776=\"AGI externes\",'Relevés de  commissions'!M1776,0)*1","v":0},{"$f":"IF('Relevés de  commissions'!D1776=\"AGI externes\",'Relevés de  commissions'!N1776,0)*1","v":0},{"$f":"IF('Relevés de  commissions'!D1776=\"AGI externes\",'Relevés de  commissions'!O1776,0)*1","v":0},{"$f":"IF('Relevés de  commissions'!D1776=\"AGI externes\",'Relevés de  commissions'!P1776,0)*1","v":0},0,""]
[null,null,null,null,null,null,null,null,null,null,null,null,{"$f":"IF('Relevés de  commissions'!D1777=\"AGI externes\",'Relevés de  commissions'!M1777,0)*1","v":0},{"$f":"IF('Relevés de  commissions'!D1777=\"AGI externes\",'Relevés de  commissions'!N1777,0)*1","v":0},{"$f":"IF('Relevés de  commissions'!D1777=\"AGI externes\",'Relevés de  commissions'!O1777,0)*1","v":0},{"$f":"IF('Relevés de  commissions'!D1777=\"AGI externes\",'Relevés de  commissions'!P1777,0)*1","v":0},0,""]
[null,null,null,null,null,null,null,null,null,null,null,null,{"$f":"IF('Relevés de  commissions'!D1778=\"AGI externes\",'Relevés de  commissions'!M1778,0)*1","v":0},{"$f":"IF('Relevés de  commissions'!D1778=\"AGI externes\",'Relevés de  commissions'!N1778,0)*1","v":0},{"$f":"IF('Relevés de  commissions'!D1778=\"AGI externes\",'Relevés de  commissions'!O1778,0)*1","v":0},{"$f":"IF('Relevés de  commissions'!D1778=\"AGI externes\",'Relevés de  commissions'!P1778,0)*1","v":0},0,""]
[null,null,null,null,null,null,null,null,null,null,null,null,{"$f":"IF('Relevés de  commissions'!D1779=\"AGI externes\",'Relevés de  commissions'!M1779,0)*1","v":0},{"$f":"IF('Relevés de  commissions'!D1779=\"AGI externes\",'Relevés de  commissions'!N1779,0)*1","v":0},{"$f":"IF('Relevés de  commissions'!D1779=\"AGI externes\",'Relevés de  commissions'!O1779,0)*1","v":0},{"$f":"IF('Relevés de  commissions'!D1779=\"AGI externes\",'Relevés de  commissions'!P1779,0)*1","v":0},0,""]
[null,null,null,null,null,null,null,null,null,null,null,null,{"$f":"IF('Relevés de  commissions'!D1780=\"AGI externes\",'Relevés de  commissions'!M1780,0)*1","v":0},{"$f":"IF('Relevés de  commissions'!D1780=\"AGI externes\",'Relevés de  commissions'!N1780,0)*1","v":0},{"$f":"IF('Relevés de  commissions'!D1780=\"AGI externes\",'Relevés de  commissions'!O1780,0)*1","v":0},{"$f":"IF('Relevés de  commissions'!D1780=\"AGI externes\",'Relevés de  commissions'!P1780,0)*1","v":0},0,""]
[null,null,null,null,null,null,null,null,null,null,null,null,{"$f":"IF('Relevés de  commissions'!D1781=\"AGI externes\",'Relevés de  commissions'!M1781,0)*1","v":0},{"$f":"IF('Relevés de  commissions'!D1781=\"AGI externes\",'Relevés de  commissions'!N1781,0)*1","v":0},{"$f":"IF('Relevés de  commissions'!D1781=\"AGI externes\",'Relevés de  commissions'!O1781,0)*1","v":0},{"$f":"IF('Relevés de  commissions'!D1781=\"AGI externes\",'Relevés de  commissions'!P1781,0)*1","v":0},0,""]
[null,null,null,null,null,null,null,null,null,null,null,null,{"$f":"IF('Relevés de  commissions'!D1782=\"AGI externes\",'Relevés de  commissions'!M1782,0)*1","v":0},{"$f":"IF('Relevés de  commissions'!D1782=\"AGI externes\",'Relevés de  commissions'!N1782,0)*1","v":0},{"$f":"IF('Relevés de  commissions'!D1782=\"AGI externes\",'Relevés de  commissions'!O1782,0)*1","v":0},{"$f":"IF('Relevés de  commissions'!D1782=\"AGI externes\",'Relevés de  commissions'!P1782,0)*1","v":0},0,""]
[null,null,null,null,null,null,null,null,null,null,null,null,{"$f":"IF('Relevés de  commissions'!D1783=\"AGI externes\",'Relevés de  commissions'!M1783,0)*1","v":0},{"$f":"IF('Relevés de  commissions'!D1783=\"AGI externes\",'Relevés de  commissions'!N1783,0)*1","v":0},{"$f":"IF('Relevés de  commissions'!D1783=\"AGI externes\",'Relevés de  commissions'!O1783,0)*1","v":0},{"$f":"IF('Relevés de  commissions'!D1783=\"AGI externes\",'Relevés de  commissions'!P1783,0)*1","v":0},0,""]
[null,null,null,null,null,null,null,null,null,null,null,null,{"$f":"IF('Relevés de  commissions'!D1784=\"AGI externes\",'Relevés de  commissions'!M1784,0)*1","v":0},{"$f":"IF('Relevés de  commissions'!D1784=\"AGI externes\",'Relevés de  commissions'!N1784,0)*1","v":0},{"$f":"IF('Relevés de  commissions'!D1784=\"AGI externes\",'Relevés de  commissions'!O1784,0)*1","v":0},{"$f":"IF('Relevés de  commissions'!D1784=\"AGI externes\",'Relevés de  commissions'!P1784,0)*1","v":0},0,""]
[null,null,null,null,null,null,null,null,null,null,null,null,{"$f":"IF('Relevés de  commissions'!D1785=\"AGI externes\",'Relevés de  commissions'!M1785,0)*1","v":0},{"$f":"IF('Relevés de  commissions'!D1785=\"AGI externes\",'Relevés de  commissions'!N1785,0)*1","v":0},{"$f":"IF('Relevés de  commissions'!D1785=\"AGI externes\",'Relevés de  commissions'!O1785,0)*1","v":0},{"$f":"IF('Relevés de  commissions'!D1785=\"AGI externes\",'Relevés de  commissions'!P1785,0)*1","v":0},0,""]
[null,null,null,null,null,null,null,null,null,null,null,null,{"$f":"IF('Relevés de  commissions'!D1786=\"AGI externes\",'Relevés de  commissions'!M1786,0)*1","v":0},{"$f":"IF('Relevés de  commissions'!D1786=\"AGI externes\",'Relevés de  commissions'!N1786,0)*1","v":0},{"$f":"IF('Relevés de  commissions'!D1786=\"AGI externes\",'Relevés de  commissions'!O1786,0)*1","v":0},{"$f":"IF('Relevés de  commissions'!D1786=\"AGI externes\",'Relevés de  commissions'!P1786,0)*1","v":0},0,""]
[null,null,null,null,null,null,null,null,null,null,null,null,{"$f":"IF('Relevés de  commissions'!D1787=\"AGI externes\",'Relevés de  commissions'!M1787,0)*1","v":0},{"$f":"IF('Relevés de  commissions'!D1787=\"AGI externes\",'Relevés de  commissions'!N1787,0)*1","v":0},{"$f":"IF('Relevés de  commissions'!D1787=\"AGI externes\",'Relevés de  commissions'!O1787,0)*1","v":0},{"$f":"IF('Relevés de  commissions'!D1787=\"AGI externes\",'Relevés de  commissions'!P1787,0)*1","v":0},0,""]
[null,null,null,null,null,null,null,null,null,null,null,null,{"$f":"IF('Relevés de  commissions'!D1788=\"AGI externes\",'Relevés de  commissions'!M1788,0)*1","v":0},{"$f":"IF('Relevés de  commissions'!D1788=\"AGI externes\",'Relevés de  commissions'!N1788,0)*1","v":0},{"$f":"IF('Relevés de  commissions'!D1788=\"AGI externes\",'Relevés de  commissions'!O1788,0)*1","v":0},{"$f":"IF('Relevés de  commissions'!D1788=\"AGI externes\",'Relevés de  commissions'!P1788,0)*1","v":0},0,""]
[null,null,null,null,null,null,null,null,null,null,null,null,{"$f":"IF('Relevés de  commissions'!D1789=\"AGI externes\",'Relevés de  commissions'!M1789,0)*1","v":0},{"$f":"IF('Relevés de  commissions'!D1789=\"AGI externes\",'Relevés de  commissions'!N1789,0)*1","v":0},{"$f":"IF('Relevés de  commissions'!D1789=\"AGI externes\",'Relevés de  commissions'!O1789,0)*1","v":0},{"$f":"IF('Relevés de  commissions'!D1789=\"AGI externes\",'Relevés de  commissions'!P1789,0)*1","v":0},0,""]
[null,null,null,null,null,null,null,null,null,null,null,null,{"$f":"IF('Relevés de  commissions'!D1790=\"AGI externes\",'Relevés de  commissions'!M1790,0)*1","v":0},{"$f":"IF('Relevés de  commissions'!D1790=\"AGI externes\",'Relevés de  commissions'!N1790,0)*1","v":0},{"$f":"IF('Relevés de  commissions'!D1790=\"AGI externes\",'Relevés de  commissions'!O1790,0)*1","v":0},{"$f":"IF('Relevés de  commissions'!D1790=\"AGI externes\",'Relevés de  commissions'!P1790,0)*1","v":0},0,""]
[null,null,null,null,null,null,null,null,null,null,null,null,{"$f":"IF('Relevés de  commissions'!D1791=\"AGI externes\",'Relevés de  commissions'!M1791,0)*1","v":0},{"$f":"IF('Relevés de  commissions'!D1791=\"AGI externes\",'Relevés de  commissions'!N1791,0)*1","v":0},{"$f":"IF('Relevés de  commissions'!D1791=\"AGI externes\",'Relevés de  commissions'!O1791,0)*1","v":0},{"$f":"IF('Relevés de  commissions'!D1791=\"AGI externes\",'Relevés de  commissions'!P1791,0)*1","v":0},0,""]
[null,null,null,null,null,null,null,null,null,null,null,null,{"$f":"IF('Relevés de  commissions'!D1792=\"AGI externes\",'Relevés de  commissions'!M1792,0)*1","v":0},{"$f":"IF('Relevés de  commissions'!D1792=\"AGI externes\",'Relevés de  commissions'!N1792,0)*1","v":0},{"$f":"IF('Relevés de  commissions'!D1792=\"AGI externes\",'Relevés de  commissions'!O1792,0)*1","v":0},{"$f":"IF('Relevés de  commissions'!D1792=\"AGI externes\",'Relevés de  commissions'!P1792,0)*1","v":0},0,""]
[null,null,null,null,null,null,null,null,null,null,null,null,{"$f":"IF('Relevés de  commissions'!D1793=\"AGI externes\",'Relevés de  commissions'!M1793,0)*1","v":0},{"$f":"IF('Relevés de  commissions'!D1793=\"AGI externes\",'Relevés de  commissions'!N1793,0)*1","v":0},{"$f":"IF('Relevés de  commissions'!D1793=\"AGI externes\",'Relevés de  commissions'!O1793,0)*1","v":0},{"$f":"IF('Relevés de  commissions'!D1793=\"AGI externes\",'Relevés de  commissions'!P1793,0)*1","v":0},0,""]
[null,null,null,null,null,null,null,null,null,null,null,null,{"$f":"IF('Relevés de  commissions'!D1794=\"AGI externes\",'Relevés de  commissions'!M1794,0)*1","v":0},{"$f":"IF('Relevés de  commissions'!D1794=\"AGI externes\",'Relevés de  commissions'!N1794,0)*1","v":0},{"$f":"IF('Relevés de  commissions'!D1794=\"AGI externes\",'Relevés de  commissions'!O1794,0)*1","v":0},{"$f":"IF('Relevés de  commissions'!D1794=\"AGI externes\",'Relevés de  commissions'!P1794,0)*1","v":0},0,""]
[null,null,null,null,null,null,null,null,null,null,null,null,{"$f":"IF('Relevés de  commissions'!D1795=\"AGI externes\",'Relevés de  commissions'!M1795,0)*1","v":0},{"$f":"IF('Relevés de  commissions'!D1795=\"AGI externes\",'Relevés de  commissions'!N1795,0)*1","v":0},{"$f":"IF('Relevés de  commissions'!D1795=\"AGI externes\",'Relevés de  commissions'!O1795,0)*1","v":0},{"$f":"IF('Relevés de  commissions'!D1795=\"AGI externes\",'Relevés de  commissions'!P1795,0)*1","v":0},{"$f":"IF(N1797=0,O1797,\"\")","v":0},{"$f":"IF(N1797=10,O1797,\"\")","v":""}]
[null,null,null,null,null,null,null,null,null,null,null,null,{"$f":"IF('Relevés de  commissions'!D1796=\"AGI externes\",'Relevés de  commissions'!M1796,0)*1","v":0},{"$f":"IF('Relevés de  commissions'!D1796=\"AGI externes\",'Relevés de  commissions'!N1796,0)*1","v":0},{"$f":"IF('Relevés de  commissions'!D1796=\"AGI externes\",'Relevés de  commissions'!O1796,0)*1","v":0},{"$f":"IF('Relevés de  commissions'!D1796=\"AGI externes\",'Relevés de  commissions'!P1796,0)*1","v":0},0,""]
[null,null,null,null,null,null,null,null,null,null,null,null,{"$f":"IF('Relevés de  commissions'!D1797=\"AGI externes\",'Relevés de  commissions'!M1797,0)*1","v":0},{"$f":"IF('Relevés de  commissions'!D1797=\"AGI externes\",'Relevés de  commissions'!N1797,0)*1","v":0},{"$f":"IF('Relevés de  commissions'!D1797=\"AGI externes\",'Relevés de  commissions'!O1797,0)*1","v":0},{"$f":"IF('Relevés de  commissions'!D1797=\"AGI externes\",'Relevés de  commissions'!P1797,0)*1","v":0},0,""]
[null,null,null,null,null,null,null,null,null,null,null,null,{"$f":"IF('Relevés de  commissions'!D1798=\"AGI externes\",'Relevés de  commissions'!M1798,0)*1","v":0},{"$f":"IF('Relevés de  commissions'!D1798=\"AGI externes\",'Relevés de  commissions'!N1798,0)*1","v":0},{"$f":"IF('Relevés de  commissions'!D1798=\"AGI externes\",'Relevés de  commissions'!O1798,0)*1","v":0},{"$f":"IF('Relevés de  commissions'!D1798=\"AGI externes\",'Relevés de  commissions'!P1798,0)*1","v":0},0,""]
[null,null,null,null,null,null,null,null,null,null,null,null,{"$f":"IF('Relevés de  commissions'!D1799=\"AGI externes\",'Relevés de  commissions'!M1799,0)*1","v":0},{"$f":"IF('Relevés de  commissions'!D1799=\"AGI externes\",'Relevés de  commissions'!N1799,0)*1","v":0},{"$f":"IF('Relevés de  commissions'!D1799=\"AGI externes\",'Relevés de  commissions'!O1799,0)*1","v":0},{"$f":"IF('Relevés de  commissions'!D1799=\"AGI externes\",'Relevés de  commissions'!P1799,0)*1","v":0},0,""]
[null,null,null,null,null,null,null,null,null,null,null,null,{"$f":"IF('Relevés de  commissions'!D1800=\"AGI externes\",'Relevés de  commissions'!M1800,0)*1","v":0},{"$f":"IF('Relevés de  commissions'!D1800=\"AGI externes\",'Relevés de  commissions'!N1800,0)*1","v":0},{"$f":"IF('Relevés de  commissions'!D1800=\"AGI externes\",'Relevés de  commissions'!O1800,0)*1","v":0},{"$f":"IF('Relevés de  commissions'!D1800=\"AGI externes\",'Relevés de  commissions'!P1800,0)*1","v":0},0,""]
[null,null,null,null,null,null,null,null,null,null,null,null,{"$f":"IF('Relevés de  commissions'!D1801=\"AGI externes\",'Relevés de  commissions'!M1801,0)*1","v":0},{"$f":"IF('Relevés de  commissions'!D1801=\"AGI externes\",'Relevés de  commissions'!N1801,0)*1","v":0},{"$f":"IF('Relevés de  commissions'!D1801=\"AGI externes\",'Relevés de  commissions'!O1801,0)*1","v":0},{"$f":"IF('Relevés de  commissions'!D1801=\"AGI externes\",'Relevés de  commissions'!P1801,0)*1","v":0},0,""]
[null,null,null,null,null,null,null,null,null,null,null,null,{"$f":"IF('Relevés de  commissions'!D1802=\"AGI externes\",'Relevés de  commissions'!M1802,0)*1","v":0},{"$f":"IF('Relevés de  commissions'!D1802=\"AGI externes\",'Relevés de  commissions'!N1802,0)*1","v":0},{"$f":"IF('Relevés de  commissions'!D1802=\"AGI externes\",'Relevés de  commissions'!O1802,0)*1","v":0},{"$f":"IF('Relevés de  commissions'!D1802=\"AGI externes\",'Relevés de  commissions'!P1802,0)*1","v":0},0,""]
[null,null,null,null,null,null,null,null,null,null,null,null,{"$f":"IF('Relevés de  commissions'!D1803=\"AGI externes\",'Relevés de  commissions'!M1803,0)*1","v":0},{"$f":"IF('Relevés de  commissions'!D1803=\"AGI externes\",'Relevés de  commissions'!N1803,0)*1","v":0},{"$f":"IF('Relevés de  commissions'!D1803=\"AGI externes\",'Relevés de  commissions'!O1803,0)*1","v":0},{"$f":"IF('Relevés de  commissions'!D1803=\"AGI externes\",'Relevés de  commissions'!P1803,0)*1","v":0},0,""]
[null,null,null,null,null,null,null,null,null,null,null,null,{"$f":"IF('Relevés de  commissions'!D1804=\"AGI externes\",'Relevés de  commissions'!M1804,0)*1","v":0},{"$f":"IF('Relevés de  commissions'!D1804=\"AGI externes\",'Relevés de  commissions'!N1804,0)*1","v":0},{"$f":"IF('Relevés de  commissions'!D1804=\"AGI externes\",'Relevés de  commissions'!O1804,0)*1","v":0},{"$f":"IF('Relevés de  commissions'!D1804=\"AGI externes\",'Relevés de  commissions'!P1804,0)*1","v":0},0,""]
[null,null,null,null,null,null,null,null,null,null,null,null,{"$f":"IF('Relevés de  commissions'!D1805=\"AGI externes\",'Relevés de  commissions'!M1805,0)*1","v":0},{"$f":"IF('Relevés de  commissions'!D1805=\"AGI externes\",'Relevés de  commissions'!N1805,0)*1","v":0},{"$f":"IF('Relevés de  commissions'!D1805=\"AGI externes\",'Relevés de  commissions'!O1805,0)*1","v":0},{"$f":"IF('Relevés de  commissions'!D1805=\"AGI externes\",'Relevés de  commissions'!P1805,0)*1","v":0},0,""]
[null,null,null,null,null,null,null,null,null,null,null,null,{"$f":"IF('Relevés de  commissions'!D1806=\"AGI externes\",'Relevés de  commissions'!M1806,0)*1","v":0},{"$f":"IF('Relevés de  commissions'!D1806=\"AGI externes\",'Relevés de  commissions'!N1806,0)*1","v":0},{"$f":"IF('Relevés de  commissions'!D1806=\"AGI externes\",'Relevés de  commissions'!O1806,0)*1","v":0},{"$f":"IF('Relevés de  commissions'!D1806=\"AGI externes\",'Relevés de  commissions'!P1806,0)*1","v":0},0,""]
[null,null,null,null,null,null,null,null,null,null,null,null,{"$f":"IF('Relevés de  commissions'!D1807=\"AGI externes\",'Relevés de  commissions'!M1807,0)*1","v":0},{"$f":"IF('Relevés de  commissions'!D1807=\"AGI externes\",'Relevés de  commissions'!N1807,0)*1","v":0},{"$f":"IF('Relevés de  commissions'!D1807=\"AGI externes\",'Relevés de  commissions'!O1807,0)*1","v":0},{"$f":"IF('Relevés de  commissions'!D1807=\"AGI externes\",'Relevés de  commissions'!P1807,0)*1","v":0},0,""]
[null,null,null,null,null,null,null,null,null,null,null,null,{"$f":"IF('Relevés de  commissions'!D1808=\"AGI externes\",'Relevés de  commissions'!M1808,0)*1","v":0},{"$f":"IF('Relevés de  commissions'!D1808=\"AGI externes\",'Relevés de  commissions'!N1808,0)*1","v":0},{"$f":"IF('Relevés de  commissions'!D1808=\"AGI externes\",'Relevés de  commissions'!O1808,0)*1","v":0},{"$f":"IF('Relevés de  commissions'!D1808=\"AGI externes\",'Relevés de  commissions'!P1808,0)*1","v":0},0,""]
[null,null,null,null,null,null,null,null,null,null,null,null,{"$f":"IF('Relevés de  commissions'!D1809=\"AGI externes\",'Relevés de  commissions'!M1809,0)*1","v":0},{"$f":"IF('Relevés de  commissions'!D1809=\"AGI externes\",'Relevés de  commissions'!N1809,0)*1","v":0},{"$f":"IF('Relevés de  commissions'!D1809=\"AGI externes\",'Relevés de  commissions'!O1809,0)*1","v":0},{"$f":"IF('Relevés de  commissions'!D1809=\"AGI externes\",'Relevés de  commissions'!P1809,0)*1","v":0},0,""]
[null,null,null,null,null,null,null,null,null,null,null,null,{"$f":"IF('Relevés de  commissions'!D1810=\"AGI externes\",'Relevés de  commissions'!M1810,0)*1","v":0},{"$f":"IF('Relevés de  commissions'!D1810=\"AGI externes\",'Relevés de  commissions'!N1810,0)*1","v":0},{"$f":"IF('Relevés de  commissions'!D1810=\"AGI externes\",'Relevés de  commissions'!O1810,0)*1","v":0},{"$f":"IF('Relevés de  commissions'!D1810=\"AGI externes\",'Relevés de  commissions'!P1810,0)*1","v":0},0,""]
[null,null,null,null,null,null,null,null,null,null,null,null,{"$f":"IF('Relevés de  commissions'!D1811=\"AGI externes\",'Relevés de  commissions'!M1811,0)*1","v":0},{"$f":"IF('Relevés de  commissions'!D1811=\"AGI externes\",'Relevés de  commissions'!N1811,0)*1","v":0},{"$f":"IF('Relevés de  commissions'!D1811=\"AGI externes\",'Relevés de  commissions'!O1811,0)*1","v":0},{"$f":"IF('Relevés de  commissions'!D1811=\"AGI externes\",'Relevés de  commissions'!P1811,0)*1","v":0},0,""]
[null,null,null,null,null,null,null,null,null,null,null,null,{"$f":"IF('Relevés de  commissions'!D1812=\"AGI externes\",'Relevés de  commissions'!M1812,0)*1","v":0},{"$f":"IF('Relevés de  commissions'!D1812=\"AGI externes\",'Relevés de  commissions'!N1812,0)*1","v":0},{"$f":"IF('Relevés de  commissions'!D1812=\"AGI externes\",'Relevés de  commissions'!O1812,0)*1","v":0},{"$f":"IF('Relevés de  commissions'!D1812=\"AGI externes\",'Relevés de  commissions'!P1812,0)*1","v":0},0,""]
[null,null,null,null,null,null,null,null,null,null,null,null,{"$f":"IF('Relevés de  commissions'!D1813=\"AGI externes\",'Relevés de  commissions'!M1813,0)*1","v":0},{"$f":"IF('Relevés de  commissions'!D1813=\"AGI externes\",'Relevés de  commissions'!N1813,0)*1","v":0},{"$f":"IF('Relevés de  commissions'!D1813=\"AGI externes\",'Relevés de  commissions'!O1813,0)*1","v":0},{"$f":"IF('Relevés de  commissions'!D1813=\"AGI externes\",'Relevés de  commissions'!P1813,0)*1","v":0},0,""]
[null,null,null,null,null,null,null,null,null,null,null,null,{"$f":"IF('Relevés de  commissions'!D1814=\"AGI externes\",'Relevés de  commissions'!M1814,0)*1","v":0},{"$f":"IF('Relevés de  commissions'!D1814=\"AGI externes\",'Relevés de  commissions'!N1814,0)*1","v":0},{"$f":"IF('Relevés de  commissions'!D1814=\"AGI externes\",'Relevés de  commissions'!O1814,0)*1","v":0},{"$f":"IF('Relevés de  commissions'!D1814=\"AGI externes\",'Relevés de  commissions'!P1814,0)*1","v":0},0,""]
[null,null,null,null,null,null,null,null,null,null,null,null,{"$f":"IF('Relevés de  commissions'!D1815=\"AGI externes\",'Relevés de  commissions'!M1815,0)*1","v":0},{"$f":"IF('Relevés de  commissions'!D1815=\"AGI externes\",'Relevés de  commissions'!N1815,0)*1","v":0},{"$f":"IF('Relevés de  commissions'!D1815=\"AGI externes\",'Relevés de  commissions'!O1815,0)*1","v":0},{"$f":"IF('Relevés de  commissions'!D1815=\"AGI externes\",'Relevés de  commissions'!P1815,0)*1","v":0},0,""]
[null,null,null,null,null,null,null,null,null,null,null,null,{"$f":"IF('Relevés de  commissions'!D1816=\"AGI externes\",'Relevés de  commissions'!M1816,0)*1","v":0},{"$f":"IF('Relevés de  commissions'!D1816=\"AGI externes\",'Relevés de  commissions'!N1816,0)*1","v":0},{"$f":"IF('Relevés de  commissions'!D1816=\"AGI externes\",'Relevés de  commissions'!O1816,0)*1","v":0},{"$f":"IF('Relevés de  commissions'!D1816=\"AGI externes\",'Relevés de  commissions'!P1816,0)*1","v":0},0,""]
[null,null,null,null,null,null,null,null,null,null,null,null,{"$f":"IF('Relevés de  commissions'!D1817=\"AGI externes\",'Relevés de  commissions'!M1817,0)*1","v":0},{"$f":"IF('Relevés de  commissions'!D1817=\"AGI externes\",'Relevés de  commissions'!N1817,0)*1","v":0},{"$f":"IF('Relevés de  commissions'!D1817=\"AGI externes\",'Relevés de  commissions'!O1817,0)*1","v":0},{"$f":"IF('Relevés de  commissions'!D1817=\"AGI externes\",'Relevés de  commissions'!P1817,0)*1","v":0},0,""]
[null,null,null,null,null,null,null,null,null,null,null,null,{"$f":"IF('Relevés de  commissions'!D1818=\"AGI externes\",'Relevés de  commissions'!M1818,0)*1","v":0},{"$f":"IF('Relevés de  commissions'!D1818=\"AGI externes\",'Relevés de  commissions'!N1818,0)*1","v":0},{"$f":"IF('Relevés de  commissions'!D1818=\"AGI externes\",'Relevés de  commissions'!O1818,0)*1","v":0},{"$f":"IF('Relevés de  commissions'!D1818=\"AGI externes\",'Relevés de  commissions'!P1818,0)*1","v":0},0,""]
[null,null,null,null,null,null,null,null,null,null,null,null,{"$f":"IF('Relevés de  commissions'!D1819=\"AGI externes\",'Relevés de  commissions'!M1819,0)*1","v":0},{"$f":"IF('Relevés de  commissions'!D1819=\"AGI externes\",'Relevés de  commissions'!N1819,0)*1","v":0},{"$f":"IF('Relevés de  commissions'!D1819=\"AGI externes\",'Relevés de  commissions'!O1819,0)*1","v":0},{"$f":"IF('Relevés de  commissions'!D1819=\"AGI externes\",'Relevés de  commissions'!P1819,0)*1","v":0},0,""]
[null,null,null,null,null,null,null,null,null,null,null,null,{"$f":"IF('Relevés de  commissions'!D1820=\"AGI externes\",'Relevés de  commissions'!M1820,0)*1","v":0},{"$f":"IF('Relevés de  commissions'!D1820=\"AGI externes\",'Relevés de  commissions'!N1820,0)*1","v":0},{"$f":"IF('Relevés de  commissions'!D1820=\"AGI externes\",'Relevés de  commissions'!O1820,0)*1","v":0},{"$f":"IF('Relevés de  commissions'!D1820=\"AGI externes\",'Relevés de  commissions'!P1820,0)*1","v":0},0,""]
[null,null,null,null,null,null,null,null,null,null,null,null,{"$f":"IF('Relevés de  commissions'!D1821=\"AGI externes\",'Relevés de  commissions'!M1821,0)*1","v":0},{"$f":"IF('Relevés de  commissions'!D1821=\"AGI externes\",'Relevés de  commissions'!N1821,0)*1","v":0},{"$f":"IF('Relevés de  commissions'!D1821=\"AGI externes\",'Relevés de  commissions'!O1821,0)*1","v":0},{"$f":"IF('Relevés de  commissions'!D1821=\"AGI externes\",'Relevés de  commissions'!P1821,0)*1","v":0},0,""]
[null,null,null,null,null,null,null,null,null,null,null,null,{"$f":"IF('Relevés de  commissions'!D1822=\"AGI externes\",'Relevés de  commissions'!M1822,0)*1","v":0},{"$f":"IF('Relevés de  commissions'!D1822=\"AGI externes\",'Relevés de  commissions'!N1822,0)*1","v":0},{"$f":"IF('Relevés de  commissions'!D1822=\"AGI externes\",'Relevés de  commissions'!O1822,0)*1","v":0},{"$f":"IF('Relevés de  commissions'!D1822=\"AGI externes\",'Relevés de  commissions'!P1822,0)*1","v":0},0,""]
[null,null,null,null,null,null,null,null,null,null,null,null,{"$f":"IF('Relevés de  commissions'!D1823=\"AGI externes\",'Relevés de  commissions'!M1823,0)*1","v":0},{"$f":"IF('Relevés de  commissions'!D1823=\"AGI externes\",'Relevés de  commissions'!N1823,0)*1","v":0},{"$f":"IF('Relevés de  commissions'!D1823=\"AGI externes\",'Relevés de  commissions'!O1823,0)*1","v":0},{"$f":"IF('Relevés de  commissions'!D1823=\"AGI externes\",'Relevés de  commissions'!P1823,0)*1","v":0},0,""]
[null,null,null,null,null,null,null,null,null,null,null,null,{"$f":"IF('Relevés de  commissions'!D1824=\"AGI externes\",'Relevés de  commissions'!M1824,0)*1","v":0},{"$f":"IF('Relevés de  commissions'!D1824=\"AGI externes\",'Relevés de  commissions'!N1824,0)*1","v":0},{"$f":"IF('Relevés de  commissions'!D1824=\"AGI externes\",'Relevés de  commissions'!O1824,0)*1","v":0},{"$f":"IF('Relevés de  commissions'!D1824=\"AGI externes\",'Relevés de  commissions'!P1824,0)*1","v":0},0,""]
[null,null,null,null,null,null,null,null,null,null,null,null,{"$f":"IF('Relevés de  commissions'!D1825=\"AGI externes\",'Relevés de  commissions'!M1825,0)*1","v":0},{"$f":"IF('Relevés de  commissions'!D1825=\"AGI externes\",'Relevés de  commissions'!N1825,0)*1","v":0},{"$f":"IF('Relevés de  commissions'!D1825=\"AGI externes\",'Relevés de  commissions'!O1825,0)*1","v":0},{"$f":"IF('Relevés de  commissions'!D1825=\"AGI externes\",'Relevés de  commissions'!P1825,0)*1","v":0},0,""]
[null,null,null,null,null,null,null,null,null,null,null,null,{"$f":"IF('Relevés de  commissions'!D1826=\"AGI externes\",'Relevés de  commissions'!M1826,0)*1","v":0},{"$f":"IF('Relevés de  commissions'!D1826=\"AGI externes\",'Relevés de  commissions'!N1826,0)*1","v":0},{"$f":"IF('Relevés de  commissions'!D1826=\"AGI externes\",'Relevés de  commissions'!O1826,0)*1","v":0},{"$f":"IF('Relevés de  commissions'!D1826=\"AGI externes\",'Relevés de  commissions'!P1826,0)*1","v":0},0,""]
[null,null,null,null,null,null,null,null,null,null,null,null,{"$f":"IF('Relevés de  commissions'!D1827=\"AGI externes\",'Relevés de  commissions'!M1827,0)*1","v":0},{"$f":"IF('Relevés de  commissions'!D1827=\"AGI externes\",'Relevés de  commissions'!N1827,0)*1","v":0},{"$f":"IF('Relevés de  commissions'!D1827=\"AGI externes\",'Relevés de  commissions'!O1827,0)*1","v":0},{"$f":"IF('Relevés de  commissions'!D1827=\"AGI externes\",'Relevés de  commissions'!P1827,0)*1","v":0},0,""]
[null,null,null,null,null,null,null,null,null,null,null,null,{"$f":"IF('Relevés de  commissions'!D1828=\"AGI externes\",'Relevés de  commissions'!M1828,0)*1","v":0},{"$f":"IF('Relevés de  commissions'!D1828=\"AGI externes\",'Relevés de  commissions'!N1828,0)*1","v":0},{"$f":"IF('Relevés de  commissions'!D1828=\"AGI externes\",'Relevés de  commissions'!O1828,0)*1","v":0},{"$f":"IF('Relevés de  commissions'!D1828=\"AGI externes\",'Relevés de  commissions'!P1828,0)*1","v":0},0,""]
[null,null,null,null,null,null,null,null,null,null,null,null,{"$f":"IF('Relevés de  commissions'!D1829=\"AGI externes\",'Relevés de  commissions'!M1829,0)*1","v":0},{"$f":"IF('Relevés de  commissions'!D1829=\"AGI externes\",'Relevés de  commissions'!N1829,0)*1","v":0},{"$f":"IF('Relevés de  commissions'!D1829=\"AGI externes\",'Relevés de  commissions'!O1829,0)*1","v":0},{"$f":"IF('Relevés de  commissions'!D1829=\"AGI externes\",'Relevés de  commissions'!P1829,0)*1","v":0},0,""]
[null,null,null,null,null,null,null,null,null,null,null,null,{"$f":"IF('Relevés de  commissions'!D1830=\"AGI externes\",'Relevés de  commissions'!M1830,0)*1","v":0},{"$f":"IF('Relevés de  commissions'!D1830=\"AGI externes\",'Relevés de  commissions'!N1830,0)*1","v":0},{"$f":"IF('Relevés de  commissions'!D1830=\"AGI externes\",'Relevés de  commissions'!O1830,0)*1","v":0},{"$f":"IF('Relevés de  commissions'!D1830=\"AGI externes\",'Relevés de  commissions'!P1830,0)*1","v":0},0,""]
[null,null,null,null,null,null,null,null,null,null,null,null,{"$f":"IF('Relevés de  commissions'!D1831=\"AGI externes\",'Relevés de  commissions'!M1831,0)*1","v":0},{"$f":"IF('Relevés de  commissions'!D1831=\"AGI externes\",'Relevés de  commissions'!N1831,0)*1","v":0},{"$f":"IF('Relevés de  commissions'!D1831=\"AGI externes\",'Relevés de  commissions'!O1831,0)*1","v":0},{"$f":"IF('Relevés de  commissions'!D1831=\"AGI externes\",'Relevés de  commissions'!P1831,0)*1","v":0},0,""]
[null,null,null,null,null,null,null,null,null,null,null,null,{"$f":"IF('Relevés de  commissions'!D1832=\"AGI externes\",'Relevés de  commissions'!M1832,0)*1","v":0},{"$f":"IF('Relevés de  commissions'!D1832=\"AGI externes\",'Relevés de  commissions'!N1832,0)*1","v":0},{"$f":"IF('Relevés de  commissions'!D1832=\"AGI externes\",'Relevés de  commissions'!O1832,0)*1","v":0},{"$f":"IF('Relevés de  commissions'!D1832=\"AGI externes\",'Relevés de  commissions'!P1832,0)*1","v":0},0,""]
[null,null,null,null,null,null,null,null,null,null,null,null,{"$f":"IF('Relevés de  commissions'!D1833=\"AGI externes\",'Relevés de  commissions'!M1833,0)*1","v":0},{"$f":"IF('Relevés de  commissions'!D1833=\"AGI externes\",'Relevés de  commissions'!N1833,0)*1","v":0},{"$f":"IF('Relevés de  commissions'!D1833=\"AGI externes\",'Relevés de  commissions'!O1833,0)*1","v":0},{"$f":"IF('Relevés de  commissions'!D1833=\"AGI externes\",'Relevés de  commissions'!P1833,0)*1","v":0},0,""]
[null,null,null,null,null,null,null,null,null,null,null,null,{"$f":"IF('Relevés de  commissions'!D1834=\"AGI externes\",'Relevés de  commissions'!M1834,0)*1","v":0},{"$f":"IF('Relevés de  commissions'!D1834=\"AGI externes\",'Relevés de  commissions'!N1834,0)*1","v":0},{"$f":"IF('Relevés de  commissions'!D1834=\"AGI externes\",'Relevés de  commissions'!O1834,0)*1","v":0},{"$f":"IF('Relevés de  commissions'!D1834=\"AGI externes\",'Relevés de  commissions'!P1834,0)*1","v":0},0,""]
[null,null,null,null,null,null,null,null,null,null,null,null,{"$f":"IF('Relevés de  commissions'!D1835=\"AGI externes\",'Relevés de  commissions'!M1835,0)*1","v":0},{"$f":"IF('Relevés de  commissions'!D1835=\"AGI externes\",'Relevés de  commissions'!N1835,0)*1","v":0},{"$f":"IF('Relevés de  commissions'!D1835=\"AGI externes\",'Relevés de  commissions'!O1835,0)*1","v":0},{"$f":"IF('Relevés de  commissions'!D1835=\"AGI externes\",'Relevés de  commissions'!P1835,0)*1","v":0},0,""]
[null,null,null,null,null,null,null,null,null,null,null,null,{"$f":"IF('Relevés de  commissions'!D1836=\"AGI externes\",'Relevés de  commissions'!M1836,0)*1","v":0},{"$f":"IF('Relevés de  commissions'!D1836=\"AGI externes\",'Relevés de  commissions'!N1836,0)*1","v":0},{"$f":"IF('Relevés de  commissions'!D1836=\"AGI externes\",'Relevés de  commissions'!O1836,0)*1","v":0},{"$f":"IF('Relevés de  commissions'!D1836=\"AGI externes\",'Relevés de  commissions'!P1836,0)*1","v":0},0,""]
[null,null,null,null,null,null,null,null,null,null,null,null,{"$f":"IF('Relevés de  commissions'!D1837=\"AGI externes\",'Relevés de  commissions'!M1837,0)*1","v":0},{"$f":"IF('Relevés de  commissions'!D1837=\"AGI externes\",'Relevés de  commissions'!N1837,0)*1","v":0},{"$f":"IF('Relevés de  commissions'!D1837=\"AGI externes\",'Relevés de  commissions'!O1837,0)*1","v":0},{"$f":"IF('Relevés de  commissions'!D1837=\"AGI externes\",'Relevés de  commissions'!P1837,0)*1","v":0},0,""]
[null,null,null,null,null,null,null,null,null,null,null,null,{"$f":"IF('Relevés de  commissions'!D1838=\"AGI externes\",'Relevés de  commissions'!M1838,0)*1","v":0},{"$f":"IF('Relevés de  commissions'!D1838=\"AGI externes\",'Relevés de  commissions'!N1838,0)*1","v":0},{"$f":"IF('Relevés de  commissions'!D1838=\"AGI externes\",'Relevés de  commissions'!O1838,0)*1","v":0},{"$f":"IF('Relevés de  commissions'!D1838=\"AGI externes\",'Relevés de  commissions'!P1838,0)*1","v":0},0,""]
[null,null,null,null,null,null,null,null,null,null,null,null,{"$f":"IF('Relevés de  commissions'!D1839=\"AGI externes\",'Relevés de  commissions'!M1839,0)*1","v":0},{"$f":"IF('Relevés de  commissions'!D1839=\"AGI externes\",'Relevés de  commissions'!N1839,0)*1","v":0},{"$f":"IF('Relevés de  commissions'!D1839=\"AGI externes\",'Relevés de  commissions'!O1839,0)*1","v":0},{"$f":"IF('Relevés de  commissions'!D1839=\"AGI externes\",'Relevés de  commissions'!P1839,0)*1","v":0},0,""]
[null,null,null,null,null,null,null,null,null,null,null,null,{"$f":"IF('Relevés de  commissions'!D1840=\"AGI externes\",'Relevés de  commissions'!M1840,0)*1","v":0},{"$f":"IF('Relevés de  commissions'!D1840=\"AGI externes\",'Relevés de  commissions'!N1840,0)*1","v":0},{"$f":"IF('Relevés de  commissions'!D1840=\"AGI externes\",'Relevés de  commissions'!O1840,0)*1","v":0},{"$f":"IF('Relevés de  commissions'!D1840=\"AGI externes\",'Relevés de  commissions'!P1840,0)*1","v":0},0,""]
[null,null,null,null,null,null,null,null,null,null,null,null,{"$f":"IF('Relevés de  commissions'!D1841=\"AGI externes\",'Relevés de  commissions'!M1841,0)*1","v":0},{"$f":"IF('Relevés de  commissions'!D1841=\"AGI externes\",'Relevés de  commissions'!N1841,0)*1","v":0},{"$f":"IF('Relevés de  commissions'!D1841=\"AGI externes\",'Relevés de  commissions'!O1841,0)*1","v":0},{"$f":"IF('Relevés de  commissions'!D1841=\"AGI externes\",'Relevés de  commissions'!P1841,0)*1","v":0},0,""]
[null,null,null,null,null,null,null,null,null,null,null,null,{"$f":"IF('Relevés de  commissions'!D1842=\"AGI externes\",'Relevés de  commissions'!M1842,0)*1","v":0},{"$f":"IF('Relevés de  commissions'!D1842=\"AGI externes\",'Relevés de  commissions'!N1842,0)*1","v":0},{"$f":"IF('Relevés de  commissions'!D1842=\"AGI externes\",'Relevés de  commissions'!O1842,0)*1","v":0},{"$f":"IF('Relevés de  commissions'!D1842=\"AGI externes\",'Relevés de  commissions'!P1842,0)*1","v":0},0,""]
[null,null,null,null,null,null,null,null,null,null,null,null,{"$f":"IF('Relevés de  commissions'!D1843=\"AGI externes\",'Relevés de  commissions'!M1843,0)*1","v":0},{"$f":"IF('Relevés de  commissions'!D1843=\"AGI externes\",'Relevés de  commissions'!N1843,0)*1","v":0},{"$f":"IF('Relevés de  commissions'!D1843=\"AGI externes\",'Relevés de  commissions'!O1843,0)*1","v":0},{"$f":"IF('Relevés de  commissions'!D1843=\"AGI externes\",'Relevés de  commissions'!P1843,0)*1","v":0},0,""]
[null,null,null,null,null,null,null,null,null,null,null,null,{"$f":"IF('Relevés de  commissions'!D1844=\"AGI externes\",'Relevés de  commissions'!M1844,0)*1","v":0},{"$f":"IF('Relevés de  commissions'!D1844=\"AGI externes\",'Relevés de  commissions'!N1844,0)*1","v":0},{"$f":"IF('Relevés de  commissions'!D1844=\"AGI externes\",'Relevés de  commissions'!O1844,0)*1","v":0},{"$f":"IF('Relevés de  commissions'!D1844=\"AGI externes\",'Relevés de  commissions'!P1844,0)*1","v":0},0,""]
[null,null,null,null,null,null,null,null,null,null,null,null,{"$f":"IF('Relevés de  commissions'!D1845=\"AGI externes\",'Relevés de  commissions'!M1845,0)*1","v":0},{"$f":"IF('Relevés de  commissions'!D1845=\"AGI externes\",'Relevés de  commissions'!N1845,0)*1","v":0},{"$f":"IF('Relevés de  commissions'!D1845=\"AGI externes\",'Relevés de  commissions'!O1845,0)*1","v":0},{"$f":"IF('Relevés de  commissions'!D1845=\"AGI externes\",'Relevés de  commissions'!P1845,0)*1","v":0},0,""]
[null,null,null,null,null,null,null,null,null,null,null,null,{"$f":"IF('Relevés de  commissions'!D1846=\"AGI externes\",'Relevés de  commissions'!M1846,0)*1","v":0},{"$f":"IF('Relevés de  commissions'!D1846=\"AGI externes\",'Relevés de  commissions'!N1846,0)*1","v":0},{"$f":"IF('Relevés de  commissions'!D1846=\"AGI externes\",'Relevés de  commissions'!O1846,0)*1","v":0},{"$f":"IF('Relevés de  commissions'!D1846=\"AGI externes\",'Relevés de  commissions'!P1846,0)*1","v":0},0,""]
[null,null,null,null,null,null,null,null,null,null,null,null,{"$f":"IF('Relevés de  commissions'!D1847=\"AGI externes\",'Relevés de  commissions'!M1847,0)*1","v":0},{"$f":"IF('Relevés de  commissions'!D1847=\"AGI externes\",'Relevés de  commissions'!N1847,0)*1","v":0},{"$f":"IF('Relevés de  commissions'!D1847=\"AGI externes\",'Relevés de  commissions'!O1847,0)*1","v":0},{"$f":"IF('Relevés de  commissions'!D1847=\"AGI externes\",'Relevés de  commissions'!P1847,0)*1","v":0},0,""]
[null,null,null,null,null,null,null,null,null,null,null,null,{"$f":"IF('Relevés de  commissions'!D1848=\"AGI externes\",'Relevés de  commissions'!M1848,0)*1","v":0},{"$f":"IF('Relevés de  commissions'!D1848=\"AGI externes\",'Relevés de  commissions'!N1848,0)*1","v":0},{"$f":"IF('Relevés de  commissions'!D1848=\"AGI externes\",'Relevés de  commissions'!O1848,0)*1","v":0},{"$f":"IF('Relevés de  commissions'!D1848=\"AGI externes\",'Relevés de  commissions'!P1848,0)*1","v":0},0,""]
[null,null,null,null,null,null,null,null,null,null,null,null,{"$f":"IF('Relevés de  commissions'!D1849=\"AGI externes\",'Relevés de  commissions'!M1849,0)*1","v":0},{"$f":"IF('Relevés de  commissions'!D1849=\"AGI externes\",'Relevés de  commissions'!N1849,0)*1","v":0},{"$f":"IF('Relevés de  commissions'!D1849=\"AGI externes\",'Relevés de  commissions'!O1849,0)*1","v":0},{"$f":"IF('Relevés de  commissions'!D1849=\"AGI externes\",'Relevés de  commissions'!P1849,0)*1","v":0},0,""]
[null,null,null,null,null,null,null,null,null,null,null,null,{"$f":"IF('Relevés de  commissions'!D1850=\"AGI externes\",'Relevés de  commissions'!M1850,0)*1","v":0},{"$f":"IF('Relevés de  commissions'!D1850=\"AGI externes\",'Relevés de  commissions'!N1850,0)*1","v":0},{"$f":"IF('Relevés de  commissions'!D1850=\"AGI externes\",'Relevés de  commissions'!O1850,0)*1","v":0},{"$f":"IF('Relevés de  commissions'!D1850=\"AGI externes\",'Relevés de  commissions'!P1850,0)*1","v":0},0,""]
[null,null,null,null,null,null,null,null,null,null,null,null,{"$f":"IF('Relevés de  commissions'!D1851=\"AGI externes\",'Relevés de  commissions'!M1851,0)*1","v":0},{"$f":"IF('Relevés de  commissions'!D1851=\"AGI externes\",'Relevés de  commissions'!N1851,0)*1","v":0},{"$f":"IF('Relevés de  commissions'!D1851=\"AGI externes\",'Relevés de  commissions'!O1851,0)*1","v":0},{"$f":"IF('Relevés de  commissions'!D1851=\"AGI externes\",'Relevés de  commissions'!P1851,0)*1","v":0},0,""]
[null,null,null,null,null,null,null,null,null,null,null,null,{"$f":"IF('Relevés de  commissions'!D1852=\"AGI externes\",'Relevés de  commissions'!M1852,0)*1","v":0},{"$f":"IF('Relevés de  commissions'!D1852=\"AGI externes\",'Relevés de  commissions'!N1852,0)*1","v":0},{"$f":"IF('Relevés de  commissions'!D1852=\"AGI externes\",'Relevés de  commissions'!O1852,0)*1","v":0},{"$f":"IF('Relevés de  commissions'!D1852=\"AGI externes\",'Relevés de  commissions'!P1852,0)*1","v":0},0,""]
[null,null,null,null,null,null,null,null,null,null,null,null,{"$f":"IF('Relevés de  commissions'!D1853=\"AGI externes\",'Relevés de  commissions'!M1853,0)*1","v":0},{"$f":"IF('Relevés de  commissions'!D1853=\"AGI externes\",'Relevés de  commissions'!N1853,0)*1","v":0},{"$f":"IF('Relevés de  commissions'!D1853=\"AGI externes\",'Relevés de  commissions'!O1853,0)*1","v":0},{"$f":"IF('Relevés de  commissions'!D1853=\"AGI externes\",'Relevés de  commissions'!P1853,0)*1","v":0},0,""]
[null,null,null,null,null,null,null,null,null,null,null,null,{"$f":"IF('Relevés de  commissions'!D1854=\"AGI externes\",'Relevés de  commissions'!M1854,0)*1","v":0},{"$f":"IF('Relevés de  commissions'!D1854=\"AGI externes\",'Relevés de  commissions'!N1854,0)*1","v":0},{"$f":"IF('Relevés de  commissions'!D1854=\"AGI externes\",'Relevés de  commissions'!O1854,0)*1","v":0},{"$f":"IF('Relevés de  commissions'!D1854=\"AGI externes\",'Relevés de  commissions'!P1854,0)*1","v":0},0,""]
[null,null,null,null,null,null,null,null,null,null,null,null,{"$f":"IF('Relevés de  commissions'!D1855=\"AGI externes\",'Relevés de  commissions'!M1855,0)*1","v":0},{"$f":"IF('Relevés de  commissions'!D1855=\"AGI externes\",'Relevés de  commissions'!N1855,0)*1","v":0},{"$f":"IF('Relevés de  commissions'!D1855=\"AGI externes\",'Relevés de  commissions'!O1855,0)*1","v":0},{"$f":"IF('Relevés de  commissions'!D1855=\"AGI externes\",'Relevés de  commissions'!P1855,0)*1","v":0},0,""]
[null,null,null,null,null,null,null,null,null,null,null,null,{"$f":"IF('Relevés de  commissions'!D1856=\"AGI externes\",'Relevés de  commissions'!M1856,0)*1","v":0},{"$f":"IF('Relevés de  commissions'!D1856=\"AGI externes\",'Relevés de  commissions'!N1856,0)*1","v":0},{"$f":"IF('Relevés de  commissions'!D1856=\"AGI externes\",'Relevés de  commissions'!O1856,0)*1","v":0},{"$f":"IF('Relevés de  commissions'!D1856=\"AGI externes\",'Relevés de  commissions'!P1856,0)*1","v":0},0,""]
[null,null,null,null,null,null,null,null,null,null,null,null,{"$f":"IF('Relevés de  commissions'!D1857=\"AGI externes\",'Relevés de  commissions'!M1857,0)*1","v":0},{"$f":"IF('Relevés de  commissions'!D1857=\"AGI externes\",'Relevés de  commissions'!N1857,0)*1","v":0},{"$f":"IF('Relevés de  commissions'!D1857=\"AGI externes\",'Relevés de  commissions'!O1857,0)*1","v":0},{"$f":"IF('Relevés de  commissions'!D1857=\"AGI externes\",'Relevés de  commissions'!P1857,0)*1","v":0},0,""]
[null,null,null,null,null,null,null,null,null,null,null,null,{"$f":"IF('Relevés de  commissions'!D1858=\"AGI externes\",'Relevés de  commissions'!M1858,0)*1","v":0},{"$f":"IF('Relevés de  commissions'!D1858=\"AGI externes\",'Relevés de  commissions'!N1858,0)*1","v":0},{"$f":"IF('Relevés de  commissions'!D1858=\"AGI externes\",'Relevés de  commissions'!O1858,0)*1","v":0},{"$f":"IF('Relevés de  commissions'!D1858=\"AGI externes\",'Relevés de  commissions'!P1858,0)*1","v":0},0,""]
[null,null,null,null,null,null,null,null,null,null,null,null,{"$f":"IF('Relevés de  commissions'!D1859=\"AGI externes\",'Relevés de  commissions'!M1859,0)*1","v":0},{"$f":"IF('Relevés de  commissions'!D1859=\"AGI externes\",'Relevés de  commissions'!N1859,0)*1","v":0},{"$f":"IF('Relevés de  commissions'!D1859=\"AGI externes\",'Relevés de  commissions'!O1859,0)*1","v":0},{"$f":"IF('Relevés de  commissions'!D1859=\"AGI externes\",'Relevés de  commissions'!P1859,0)*1","v":0},{"$f":"IF(N1861=0,O1861,\"\")","v":0},{"$f":"IF(N1861=10,O1861,\"\")","v":""}]
[null,null,null,null,null,null,null,null,null,null,null,null,{"$f":"IF('Relevés de  commissions'!D1860=\"AGI externes\",'Relevés de  commissions'!M1860,0)*1","v":0},{"$f":"IF('Relevés de  commissions'!D1860=\"AGI externes\",'Relevés de  commissions'!N1860,0)*1","v":0},{"$f":"IF('Relevés de  commissions'!D1860=\"AGI externes\",'Relevés de  commissions'!O1860,0)*1","v":0},{"$f":"IF('Relevés de  commissions'!D1860=\"AGI externes\",'Relevés de  commissions'!P1860,0)*1","v":0},0,""]
[null,null,null,null,null,null,null,null,null,null,null,null,{"$f":"IF('Relevés de  commissions'!D1861=\"AGI externes\",'Relevés de  commissions'!M1861,0)*1","v":0},{"$f":"IF('Relevés de  commissions'!D1861=\"AGI externes\",'Relevés de  commissions'!N1861,0)*1","v":0},{"$f":"IF('Relevés de  commissions'!D1861=\"AGI externes\",'Relevés de  commissions'!O1861,0)*1","v":0},{"$f":"IF('Relevés de  commissions'!D1861=\"AGI externes\",'Relevés de  commissions'!P1861,0)*1","v":0},0,""]
[null,null,null,null,null,null,null,null,null,null,null,null,{"$f":"IF('Relevés de  commissions'!D1862=\"AGI externes\",'Relevés de  commissions'!M1862,0)*1","v":0},{"$f":"IF('Relevés de  commissions'!D1862=\"AGI externes\",'Relevés de  commissions'!N1862,0)*1","v":0},{"$f":"IF('Relevés de  commissions'!D1862=\"AGI externes\",'Relevés de  commissions'!O1862,0)*1","v":0},{"$f":"IF('Relevés de  commissions'!D1862=\"AGI externes\",'Relevés de  commissions'!P1862,0)*1","v":0},0,""]
[null,null,null,null,null,null,null,null,null,null,null,null,{"$f":"IF('Relevés de  commissions'!D1863=\"AGI externes\",'Relevés de  commissions'!M1863,0)*1","v":0},{"$f":"IF('Relevés de  commissions'!D1863=\"AGI externes\",'Relevés de  commissions'!N1863,0)*1","v":0},{"$f":"IF('Relevés de  commissions'!D1863=\"AGI externes\",'Relevés de  commissions'!O1863,0)*1","v":0},{"$f":"IF('Relevés de  commissions'!D1863=\"AGI externes\",'Relevés de  commissions'!P1863,0)*1","v":0},0,""]
[null,null,null,null,null,null,null,null,null,null,null,null,{"$f":"IF('Relevés de  commissions'!D1864=\"AGI externes\",'Relevés de  commissions'!M1864,0)*1","v":0},{"$f":"IF('Relevés de  commissions'!D1864=\"AGI externes\",'Relevés de  commissions'!N1864,0)*1","v":0},{"$f":"IF('Relevés de  commissions'!D1864=\"AGI externes\",'Relevés de  commissions'!O1864,0)*1","v":0},{"$f":"IF('Relevés de  commissions'!D1864=\"AGI externes\",'Relevés de  commissions'!P1864,0)*1","v":0},0,""]
[null,null,null,null,null,null,null,null,null,null,null,null,{"$f":"IF('Relevés de  commissions'!D1865=\"AGI externes\",'Relevés de  commissions'!M1865,0)*1","v":0},{"$f":"IF('Relevés de  commissions'!D1865=\"AGI externes\",'Relevés de  commissions'!N1865,0)*1","v":0},{"$f":"IF('Relevés de  commissions'!D1865=\"AGI externes\",'Relevés de  commissions'!O1865,0)*1","v":0},{"$f":"IF('Relevés de  commissions'!D1865=\"AGI externes\",'Relevés de  commissions'!P1865,0)*1","v":0},0,""]
[null,null,null,null,null,null,null,null,null,null,null,null,{"$f":"IF('Relevés de  commissions'!D1866=\"AGI externes\",'Relevés de  commissions'!M1866,0)*1","v":0},{"$f":"IF('Relevés de  commissions'!D1866=\"AGI externes\",'Relevés de  commissions'!N1866,0)*1","v":0},{"$f":"IF('Relevés de  commissions'!D1866=\"AGI externes\",'Relevés de  commissions'!O1866,0)*1","v":0},{"$f":"IF('Relevés de  commissions'!D1866=\"AGI externes\",'Relevés de  commissions'!P1866,0)*1","v":0},0,""]
[null,null,null,null,null,null,null,null,null,null,null,null,{"$f":"IF('Relevés de  commissions'!D1867=\"AGI externes\",'Relevés de  commissions'!M1867,0)*1","v":0},{"$f":"IF('Relevés de  commissions'!D1867=\"AGI externes\",'Relevés de  commissions'!N1867,0)*1","v":0},{"$f":"IF('Relevés de  commissions'!D1867=\"AGI externes\",'Relevés de  commissions'!O1867,0)*1","v":0},{"$f":"IF('Relevés de  commissions'!D1867=\"AGI externes\",'Relevés de  commissions'!P1867,0)*1","v":0},0,""]
[null,null,null,null,null,null,null,null,null,null,null,null,{"$f":"IF('Relevés de  commissions'!D1868=\"AGI externes\",'Relevés de  commissions'!M1868,0)*1","v":0},{"$f":"IF('Relevés de  commissions'!D1868=\"AGI externes\",'Relevés de  commissions'!N1868,0)*1","v":0},{"$f":"IF('Relevés de  commissions'!D1868=\"AGI externes\",'Relevés de  commissions'!O1868,0)*1","v":0},{"$f":"IF('Relevés de  commissions'!D1868=\"AGI externes\",'Relevés de  commissions'!P1868,0)*1","v":0},0,""]
[null,null,null,null,null,null,null,null,null,null,null,null,{"$f":"IF('Relevés de  commissions'!D1869=\"AGI externes\",'Relevés de  commissions'!M1869,0)*1","v":0},{"$f":"IF('Relevés de  commissions'!D1869=\"AGI externes\",'Relevés de  commissions'!N1869,0)*1","v":0},{"$f":"IF('Relevés de  commissions'!D1869=\"AGI externes\",'Relevés de  commissions'!O1869,0)*1","v":0},{"$f":"IF('Relevés de  commissions'!D1869=\"AGI externes\",'Relevés de  commissions'!P1869,0)*1","v":0},0,""]
[null,null,null,null,null,null,null,null,null,null,null,null,{"$f":"IF('Relevés de  commissions'!D1870=\"AGI externes\",'Relevés de  commissions'!M1870,0)*1","v":0},{"$f":"IF('Relevés de  commissions'!D1870=\"AGI externes\",'Relevés de  commissions'!N1870,0)*1","v":0},{"$f":"IF('Relevés de  commissions'!D1870=\"AGI externes\",'Relevés de  commissions'!O1870,0)*1","v":0},{"$f":"IF('Relevés de  commissions'!D1870=\"AGI externes\",'Relevés de  commissions'!P1870,0)*1","v":0},0,""]
[null,null,null,null,null,null,null,null,null,null,null,null,{"$f":"IF('Relevés de  commissions'!D1871=\"AGI externes\",'Relevés de  commissions'!M1871,0)*1","v":0},{"$f":"IF('Relevés de  commissions'!D1871=\"AGI externes\",'Relevés de  commissions'!N1871,0)*1","v":0},{"$f":"IF('Relevés de  commissions'!D1871=\"AGI externes\",'Relevés de  commissions'!O1871,0)*1","v":0},{"$f":"IF('Relevés de  commissions'!D1871=\"AGI externes\",'Relevés de  commissions'!P1871,0)*1","v":0},0,""]
[null,null,null,null,null,null,null,null,null,null,null,null,{"$f":"IF('Relevés de  commissions'!D1872=\"AGI externes\",'Relevés de  commissions'!M1872,0)*1","v":0},{"$f":"IF('Relevés de  commissions'!D1872=\"AGI externes\",'Relevés de  commissions'!N1872,0)*1","v":0},{"$f":"IF('Relevés de  commissions'!D1872=\"AGI externes\",'Relevés de  commissions'!O1872,0)*1","v":0},{"$f":"IF('Relevés de  commissions'!D1872=\"AGI externes\",'Relevés de  commissions'!P1872,0)*1","v":0},0,""]
[null,null,null,null,null,null,null,null,null,null,null,null,{"$f":"IF('Relevés de  commissions'!D1873=\"AGI externes\",'Relevés de  commissions'!M1873,0)*1","v":0},{"$f":"IF('Relevés de  commissions'!D1873=\"AGI externes\",'Relevés de  commissions'!N1873,0)*1","v":0},{"$f":"IF('Relevés de  commissions'!D1873=\"AGI externes\",'Relevés de  commissions'!O1873,0)*1","v":0},{"$f":"IF('Relevés de  commissions'!D1873=\"AGI externes\",'Relevés de  commissions'!P1873,0)*1","v":0},0,""]
[null,null,null,null,null,null,null,null,null,null,null,null,{"$f":"IF('Relevés de  commissions'!D1874=\"AGI externes\",'Relevés de  commissions'!M1874,0)*1","v":0},{"$f":"IF('Relevés de  commissions'!D1874=\"AGI externes\",'Relevés de  commissions'!N1874,0)*1","v":0},{"$f":"IF('Relevés de  commissions'!D1874=\"AGI externes\",'Relevés de  commissions'!O1874,0)*1","v":0},{"$f":"IF('Relevés de  commissions'!D1874=\"AGI externes\",'Relevés de  commissions'!P1874,0)*1","v":0},0,""]
[null,null,null,null,null,null,null,null,null,null,null,null,{"$f":"IF('Relevés de  commissions'!D1875=\"AGI externes\",'Relevés de  commissions'!M1875,0)*1","v":0},{"$f":"IF('Relevés de  commissions'!D1875=\"AGI externes\",'Relevés de  commissions'!N1875,0)*1","v":0},{"$f":"IF('Relevés de  commissions'!D1875=\"AGI externes\",'Relevés de  commissions'!O1875,0)*1","v":0},{"$f":"IF('Relevés de  commissions'!D1875=\"AGI externes\",'Relevés de  commissions'!P1875,0)*1","v":0},0,""]
[null,null,null,null,null,null,null,null,null,null,null,null,{"$f":"IF('Relevés de  commissions'!D1876=\"AGI externes\",'Relevés de  commissions'!M1876,0)*1","v":0},{"$f":"IF('Relevés de  commissions'!D1876=\"AGI externes\",'Relevés de  commissions'!N1876,0)*1","v":0},{"$f":"IF('Relevés de  commissions'!D1876=\"AGI externes\",'Relevés de  commissions'!O1876,0)*1","v":0},{"$f":"IF('Relevés de  commissions'!D1876=\"AGI externes\",'Relevés de  commissions'!P1876,0)*1","v":0},0,""]
[null,null,null,null,null,null,null,null,null,null,null,null,{"$f":"IF('Relevés de  commissions'!D1877=\"AGI externes\",'Relevés de  commissions'!M1877,0)*1","v":0},{"$f":"IF('Relevés de  commissions'!D1877=\"AGI externes\",'Relevés de  commissions'!N1877,0)*1","v":0},{"$f":"IF('Relevés de  commissions'!D1877=\"AGI externes\",'Relevés de  commissions'!O1877,0)*1","v":0},{"$f":"IF('Relevés de  commissions'!D1877=\"AGI externes\",'Relevés de  commissions'!P1877,0)*1","v":0},0,""]
[null,null,null,null,null,null,null,null,null,null,null,null,{"$f":"IF('Relevés de  commissions'!D1878=\"AGI externes\",'Relevés de  commissions'!M1878,0)*1","v":0},{"$f":"IF('Relevés de  commissions'!D1878=\"AGI externes\",'Relevés de  commissions'!N1878,0)*1","v":0},{"$f":"IF('Relevés de  commissions'!D1878=\"AGI externes\",'Relevés de  commissions'!O1878,0)*1","v":0},{"$f":"IF('Relevés de  commissions'!D1878=\"AGI externes\",'Relevés de  commissions'!P1878,0)*1","v":0},0,""]
[null,null,null,null,null,null,null,null,null,null,null,null,{"$f":"IF('Relevés de  commissions'!D1879=\"AGI externes\",'Relevés de  commissions'!M1879,0)*1","v":0},{"$f":"IF('Relevés de  commissions'!D1879=\"AGI externes\",'Relevés de  commissions'!N1879,0)*1","v":0},{"$f":"IF('Relevés de  commissions'!D1879=\"AGI externes\",'Relevés de  commissions'!O1879,0)*1","v":0},{"$f":"IF('Relevés de  commissions'!D1879=\"AGI externes\",'Relevés de  commissions'!P1879,0)*1","v":0},0,""]
[null,null,null,null,null,null,null,null,null,null,null,null,{"$f":"IF('Relevés de  commissions'!D1880=\"AGI externes\",'Relevés de  commissions'!M1880,0)*1","v":0},{"$f":"IF('Relevés de  commissions'!D1880=\"AGI externes\",'Relevés de  commissions'!N1880,0)*1","v":0},{"$f":"IF('Relevés de  commissions'!D1880=\"AGI externes\",'Relevés de  commissions'!O1880,0)*1","v":0},{"$f":"IF('Relevés de  commissions'!D1880=\"AGI externes\",'Relevés de  commissions'!P1880,0)*1","v":0},0,""]
[null,null,null,null,null,null,null,null,null,null,null,null,{"$f":"IF('Relevés de  commissions'!D1881=\"AGI externes\",'Relevés de  commissions'!M1881,0)*1","v":0},{"$f":"IF('Relevés de  commissions'!D1881=\"AGI externes\",'Relevés de  commissions'!N1881,0)*1","v":0},{"$f":"IF('Relevés de  commissions'!D1881=\"AGI externes\",'Relevés de  commissions'!O1881,0)*1","v":0},{"$f":"IF('Relevés de  commissions'!D1881=\"AGI externes\",'Relevés de  commissions'!P1881,0)*1","v":0},0,""]
[null,null,null,null,null,null,null,null,null,null,null,null,{"$f":"IF('Relevés de  commissions'!D1882=\"AGI externes\",'Relevés de  commissions'!M1882,0)*1","v":0},{"$f":"IF('Relevés de  commissions'!D1882=\"AGI externes\",'Relevés de  commissions'!N1882,0)*1","v":0},{"$f":"IF('Relevés de  commissions'!D1882=\"AGI externes\",'Relevés de  commissions'!O1882,0)*1","v":0},{"$f":"IF('Relevés de  commissions'!D1882=\"AGI externes\",'Relevés de  commissions'!P1882,0)*1","v":0},0,""]
[null,null,null,null,null,null,null,null,null,null,null,null,{"$f":"IF('Relevés de  commissions'!D1883=\"AGI externes\",'Relevés de  commissions'!M1883,0)*1","v":0},{"$f":"IF('Relevés de  commissions'!D1883=\"AGI externes\",'Relevés de  commissions'!N1883,0)*1","v":0},{"$f":"IF('Relevés de  commissions'!D1883=\"AGI externes\",'Relevés de  commissions'!O1883,0)*1","v":0},{"$f":"IF('Relevés de  commissions'!D1883=\"AGI externes\",'Relevés de  commissions'!P1883,0)*1","v":0},0,""]
[null,null,null,null,null,null,null,null,null,null,null,null,{"$f":"IF('Relevés de  commissions'!D1884=\"AGI externes\",'Relevés de  commissions'!M1884,0)*1","v":0},{"$f":"IF('Relevés de  commissions'!D1884=\"AGI externes\",'Relevés de  commissions'!N1884,0)*1","v":0},{"$f":"IF('Relevés de  commissions'!D1884=\"AGI externes\",'Relevés de  commissions'!O1884,0)*1","v":0},{"$f":"IF('Relevés de  commissions'!D1884=\"AGI externes\",'Relevés de  commissions'!P1884,0)*1","v":0},0,""]
[null,null,null,null,null,null,null,null,null,null,null,null,{"$f":"IF('Relevés de  commissions'!D1885=\"AGI externes\",'Relevés de  commissions'!M1885,0)*1","v":0},{"$f":"IF('Relevés de  commissions'!D1885=\"AGI externes\",'Relevés de  commissions'!N1885,0)*1","v":0},{"$f":"IF('Relevés de  commissions'!D1885=\"AGI externes\",'Relevés de  commissions'!O1885,0)*1","v":0},{"$f":"IF('Relevés de  commissions'!D1885=\"AGI externes\",'Relevés de  commissions'!P1885,0)*1","v":0},0,""]
[null,null,null,null,null,null,null,null,null,null,null,null,{"$f":"IF('Relevés de  commissions'!D1886=\"AGI externes\",'Relevés de  commissions'!M1886,0)*1","v":0},{"$f":"IF('Relevés de  commissions'!D1886=\"AGI externes\",'Relevés de  commissions'!N1886,0)*1","v":0},{"$f":"IF('Relevés de  commissions'!D1886=\"AGI externes\",'Relevés de  commissions'!O1886,0)*1","v":0},{"$f":"IF('Relevés de  commissions'!D1886=\"AGI externes\",'Relevés de  commissions'!P1886,0)*1","v":0},0,""]
[null,null,null,null,null,null,null,null,null,null,null,null,{"$f":"IF('Relevés de  commissions'!D1887=\"AGI externes\",'Relevés de  commissions'!M1887,0)*1","v":0},{"$f":"IF('Relevés de  commissions'!D1887=\"AGI externes\",'Relevés de  commissions'!N1887,0)*1","v":0},{"$f":"IF('Relevés de  commissions'!D1887=\"AGI externes\",'Relevés de  commissions'!O1887,0)*1","v":0},{"$f":"IF('Relevés de  commissions'!D1887=\"AGI externes\",'Relevés de  commissions'!P1887,0)*1","v":0},0,""]
[null,null,null,null,null,null,null,null,null,null,null,null,{"$f":"IF('Relevés de  commissions'!D1888=\"AGI externes\",'Relevés de  commissions'!M1888,0)*1","v":0},{"$f":"IF('Relevés de  commissions'!D1888=\"AGI externes\",'Relevés de  commissions'!N1888,0)*1","v":0},{"$f":"IF('Relevés de  commissions'!D1888=\"AGI externes\",'Relevés de  commissions'!O1888,0)*1","v":0},{"$f":"IF('Relevés de  commissions'!D1888=\"AGI externes\",'Relevés de  commissions'!P1888,0)*1","v":0},0,""]
[null,null,null,null,null,null,null,null,null,null,null,null,{"$f":"IF('Relevés de  commissions'!D1889=\"AGI externes\",'Relevés de  commissions'!M1889,0)*1","v":0},{"$f":"IF('Relevés de  commissions'!D1889=\"AGI externes\",'Relevés de  commissions'!N1889,0)*1","v":0},{"$f":"IF('Relevés de  commissions'!D1889=\"AGI externes\",'Relevés de  commissions'!O1889,0)*1","v":0},{"$f":"IF('Relevés de  commissions'!D1889=\"AGI externes\",'Relevés de  commissions'!P1889,0)*1","v":0},0,""]
[null,null,null,null,null,null,null,null,null,null,null,null,{"$f":"IF('Relevés de  commissions'!D1890=\"AGI externes\",'Relevés de  commissions'!M1890,0)*1","v":0},{"$f":"IF('Relevés de  commissions'!D1890=\"AGI externes\",'Relevés de  commissions'!N1890,0)*1","v":0},{"$f":"IF('Relevés de  commissions'!D1890=\"AGI externes\",'Relevés de  commissions'!O1890,0)*1","v":0},{"$f":"IF('Relevés de  commissions'!D1890=\"AGI externes\",'Relevés de  commissions'!P1890,0)*1","v":0},0,""]
[null,null,null,null,null,null,null,null,null,null,null,null,{"$f":"IF('Relevés de  commissions'!D1891=\"AGI externes\",'Relevés de  commissions'!M1891,0)*1","v":0},{"$f":"IF('Relevés de  commissions'!D1891=\"AGI externes\",'Relevés de  commissions'!N1891,0)*1","v":0},{"$f":"IF('Relevés de  commissions'!D1891=\"AGI externes\",'Relevés de  commissions'!O1891,0)*1","v":0},{"$f":"IF('Relevés de  commissions'!D1891=\"AGI externes\",'Relevés de  commissions'!P1891,0)*1","v":0},0,""]
[null,null,null,null,null,null,null,null,null,null,null,null,{"$f":"IF('Relevés de  commissions'!D1892=\"AGI externes\",'Relevés de  commissions'!M1892,0)*1","v":0},{"$f":"IF('Relevés de  commissions'!D1892=\"AGI externes\",'Relevés de  commissions'!N1892,0)*1","v":0},{"$f":"IF('Relevés de  commissions'!D1892=\"AGI externes\",'Relevés de  commissions'!O1892,0)*1","v":0},{"$f":"IF('Relevés de  commissions'!D1892=\"AGI externes\",'Relevés de  commissions'!P1892,0)*1","v":0},0,""]
[null,null,null,null,null,null,null,null,null,null,null,null,{"$f":"IF('Relevés de  commissions'!D1893=\"AGI externes\",'Relevés de  commissions'!M1893,0)*1","v":0},{"$f":"IF('Relevés de  commissions'!D1893=\"AGI externes\",'Relevés de  commissions'!N1893,0)*1","v":0},{"$f":"IF('Relevés de  commissions'!D1893=\"AGI externes\",'Relevés de  commissions'!O1893,0)*1","v":0},{"$f":"IF('Relevés de  commissions'!D1893=\"AGI externes\",'Relevés de  commissions'!P1893,0)*1","v":0},0,""]
[null,null,null,null,null,null,null,null,null,null,null,null,{"$f":"IF('Relevés de  commissions'!D1894=\"AGI externes\",'Relevés de  commissions'!M1894,0)*1","v":0},{"$f":"IF('Relevés de  commissions'!D1894=\"AGI externes\",'Relevés de  commissions'!N1894,0)*1","v":0},{"$f":"IF('Relevés de  commissions'!D1894=\"AGI externes\",'Relevés de  commissions'!O1894,0)*1","v":0},{"$f":"IF('Relevés de  commissions'!D1894=\"AGI externes\",'Relevés de  commissions'!P1894,0)*1","v":0},0,""]
[null,null,null,null,null,null,null,null,null,null,null,null,{"$f":"IF('Relevés de  commissions'!D1895=\"AGI externes\",'Relevés de  commissions'!M1895,0)*1","v":0},{"$f":"IF('Relevés de  commissions'!D1895=\"AGI externes\",'Relevés de  commissions'!N1895,0)*1","v":0},{"$f":"IF('Relevés de  commissions'!D1895=\"AGI externes\",'Relevés de  commissions'!O1895,0)*1","v":0},{"$f":"IF('Relevés de  commissions'!D1895=\"AGI externes\",'Relevés de  commissions'!P1895,0)*1","v":0},0,""]
[null,null,null,null,null,null,null,null,null,null,null,null,{"$f":"IF('Relevés de  commissions'!D1896=\"AGI externes\",'Relevés de  commissions'!M1896,0)*1","v":0},{"$f":"IF('Relevés de  commissions'!D1896=\"AGI externes\",'Relevés de  commissions'!N1896,0)*1","v":0},{"$f":"IF('Relevés de  commissions'!D1896=\"AGI externes\",'Relevés de  commissions'!O1896,0)*1","v":0},{"$f":"IF('Relevés de  commissions'!D1896=\"AGI externes\",'Relevés de  commissions'!P1896,0)*1","v":0},0,""]
[null,null,null,null,null,null,null,null,null,null,null,null,{"$f":"IF('Relevés de  commissions'!D1897=\"AGI externes\",'Relevés de  commissions'!M1897,0)*1","v":0},{"$f":"IF('Relevés de  commissions'!D1897=\"AGI externes\",'Relevés de  commissions'!N1897,0)*1","v":0},{"$f":"IF('Relevés de  commissions'!D1897=\"AGI externes\",'Relevés de  commissions'!O1897,0)*1","v":0},{"$f":"IF('Relevés de  commissions'!D1897=\"AGI externes\",'Relevés de  commissions'!P1897,0)*1","v":0},0,""]
[null,null,null,null,null,null,null,null,null,null,null,null,{"$f":"IF('Relevés de  commissions'!D1898=\"AGI externes\",'Relevés de  commissions'!M1898,0)*1","v":0},{"$f":"IF('Relevés de  commissions'!D1898=\"AGI externes\",'Relevés de  commissions'!N1898,0)*1","v":0},{"$f":"IF('Relevés de  commissions'!D1898=\"AGI externes\",'Relevés de  commissions'!O1898,0)*1","v":0},{"$f":"IF('Relevés de  commissions'!D1898=\"AGI externes\",'Relevés de  commissions'!P1898,0)*1","v":0},0,""]
[null,null,null,null,null,null,null,null,null,null,null,null,{"$f":"IF('Relevés de  commissions'!D1899=\"AGI externes\",'Relevés de  commissions'!M1899,0)*1","v":0},{"$f":"IF('Relevés de  commissions'!D1899=\"AGI externes\",'Relevés de  commissions'!N1899,0)*1","v":0},{"$f":"IF('Relevés de  commissions'!D1899=\"AGI externes\",'Relevés de  commissions'!O1899,0)*1","v":0},{"$f":"IF('Relevés de  commissions'!D1899=\"AGI externes\",'Relevés de  commissions'!P1899,0)*1","v":0},0,""]
[null,null,null,null,null,null,null,null,null,null,null,null,{"$f":"IF('Relevés de  commissions'!D1900=\"AGI externes\",'Relevés de  commissions'!M1900,0)*1","v":0},{"$f":"IF('Relevés de  commissions'!D1900=\"AGI externes\",'Relevés de  commissions'!N1900,0)*1","v":0},{"$f":"IF('Relevés de  commissions'!D1900=\"AGI externes\",'Relevés de  commissions'!O1900,0)*1","v":0},{"$f":"IF('Relevés de  commissions'!D1900=\"AGI externes\",'Relevés de  commissions'!P1900,0)*1","v":0},0,""]
[null,null,null,null,null,null,null,null,null,null,null,null,{"$f":"IF('Relevés de  commissions'!D1901=\"AGI externes\",'Relevés de  commissions'!M1901,0)*1","v":0},{"$f":"IF('Relevés de  commissions'!D1901=\"AGI externes\",'Relevés de  commissions'!N1901,0)*1","v":0},{"$f":"IF('Relevés de  commissions'!D1901=\"AGI externes\",'Relevés de  commissions'!O1901,0)*1","v":0},{"$f":"IF('Relevés de  commissions'!D1901=\"AGI externes\",'Relevés de  commissions'!P1901,0)*1","v":0},0,""]
[null,null,null,null,null,null,null,null,null,null,null,null,{"$f":"IF('Relevés de  commissions'!D1902=\"AGI externes\",'Relevés de  commissions'!M1902,0)*1","v":0},{"$f":"IF('Relevés de  commissions'!D1902=\"AGI externes\",'Relevés de  commissions'!N1902,0)*1","v":0},{"$f":"IF('Relevés de  commissions'!D1902=\"AGI externes\",'Relevés de  commissions'!O1902,0)*1","v":0},{"$f":"IF('Relevés de  commissions'!D1902=\"AGI externes\",'Relevés de  commissions'!P1902,0)*1","v":0},0,""]
[null,null,null,null,null,null,null,null,null,null,null,null,{"$f":"IF('Relevés de  commissions'!D1903=\"AGI externes\",'Relevés de  commissions'!M1903,0)*1","v":0},{"$f":"IF('Relevés de  commissions'!D1903=\"AGI externes\",'Relevés de  commissions'!N1903,0)*1","v":0},{"$f":"IF('Relevés de  commissions'!D1903=\"AGI externes\",'Relevés de  commissions'!O1903,0)*1","v":0},{"$f":"IF('Relevés de  commissions'!D1903=\"AGI externes\",'Relevés de  commissions'!P1903,0)*1","v":0},0,""]
[null,null,null,null,null,null,null,null,null,null,null,null,{"$f":"IF('Relevés de  commissions'!D1904=\"AGI externes\",'Relevés de  commissions'!M1904,0)*1","v":0},{"$f":"IF('Relevés de  commissions'!D1904=\"AGI externes\",'Relevés de  commissions'!N1904,0)*1","v":0},{"$f":"IF('Relevés de  commissions'!D1904=\"AGI externes\",'Relevés de  commissions'!O1904,0)*1","v":0},{"$f":"IF('Relevés de  commissions'!D1904=\"AGI externes\",'Relevés de  commissions'!P1904,0)*1","v":0},0,""]
[null,null,null,null,null,null,null,null,null,null,null,null,{"$f":"IF('Relevés de  commissions'!D1905=\"AGI externes\",'Relevés de  commissions'!M1905,0)*1","v":0},{"$f":"IF('Relevés de  commissions'!D1905=\"AGI externes\",'Relevés de  commissions'!N1905,0)*1","v":0},{"$f":"IF('Relevés de  commissions'!D1905=\"AGI externes\",'Relevés de  commissions'!O1905,0)*1","v":0},{"$f":"IF('Relevés de  commissions'!D1905=\"AGI externes\",'Relevés de  commissions'!P1905,0)*1","v":0},0,""]
[null,null,null,null,null,null,null,null,null,null,null,null,{"$f":"IF('Relevés de  commissions'!D1906=\"AGI externes\",'Relevés de  commissions'!M1906,0)*1","v":0},{"$f":"IF('Relevés de  commissions'!D1906=\"AGI externes\",'Relevés de  commissions'!N1906,0)*1","v":0},{"$f":"IF('Relevés de  commissions'!D1906=\"AGI externes\",'Relevés de  commissions'!O1906,0)*1","v":0},{"$f":"IF('Relevés de  commissions'!D1906=\"AGI externes\",'Relevés de  commissions'!P1906,0)*1","v":0},0,""]
[null,null,null,null,null,null,null,null,null,null,null,null,{"$f":"IF('Relevés de  commissions'!D1907=\"AGI externes\",'Relevés de  commissions'!M1907,0)*1","v":0},{"$f":"IF('Relevés de  commissions'!D1907=\"AGI externes\",'Relevés de  commissions'!N1907,0)*1","v":0},{"$f":"IF('Relevés de  commissions'!D1907=\"AGI externes\",'Relevés de  commissions'!O1907,0)*1","v":0},{"$f":"IF('Relevés de  commissions'!D1907=\"AGI externes\",'Relevés de  commissions'!P1907,0)*1","v":0},0,""]
[null,null,null,null,null,null,null,null,null,null,null,null,{"$f":"IF('Relevés de  commissions'!D1908=\"AGI externes\",'Relevés de  commissions'!M1908,0)*1","v":0},{"$f":"IF('Relevés de  commissions'!D1908=\"AGI externes\",'Relevés de  commissions'!N1908,0)*1","v":0},{"$f":"IF('Relevés de  commissions'!D1908=\"AGI externes\",'Relevés de  commissions'!O1908,0)*1","v":0},{"$f":"IF('Relevés de  commissions'!D1908=\"AGI externes\",'Relevés de  commissions'!P1908,0)*1","v":0},0,""]
[null,null,null,null,null,null,null,null,null,null,null,null,{"$f":"IF('Relevés de  commissions'!D1909=\"AGI externes\",'Relevés de  commissions'!M1909,0)*1","v":0},{"$f":"IF('Relevés de  commissions'!D1909=\"AGI externes\",'Relevés de  commissions'!N1909,0)*1","v":0},{"$f":"IF('Relevés de  commissions'!D1909=\"AGI externes\",'Relevés de  commissions'!O1909,0)*1","v":0},{"$f":"IF('Relevés de  commissions'!D1909=\"AGI externes\",'Relevés de  commissions'!P1909,0)*1","v":0},0,""]
[null,null,null,null,null,null,null,null,null,null,null,null,{"$f":"IF('Relevés de  commissions'!D1910=\"AGI externes\",'Relevés de  commissions'!M1910,0)*1","v":0},{"$f":"IF('Relevés de  commissions'!D1910=\"AGI externes\",'Relevés de  commissions'!N1910,0)*1","v":0},{"$f":"IF('Relevés de  commissions'!D1910=\"AGI externes\",'Relevés de  commissions'!O1910,0)*1","v":0},{"$f":"IF('Relevés de  commissions'!D1910=\"AGI externes\",'Relevés de  commissions'!P1910,0)*1","v":0},0,""]
[null,null,null,null,null,null,null,null,null,null,null,null,{"$f":"IF('Relevés de  commissions'!D1911=\"AGI externes\",'Relevés de  commissions'!M1911,0)*1","v":0},{"$f":"IF('Relevés de  commissions'!D1911=\"AGI externes\",'Relevés de  commissions'!N1911,0)*1","v":0},{"$f":"IF('Relevés de  commissions'!D1911=\"AGI externes\",'Relevés de  commissions'!O1911,0)*1","v":0},{"$f":"IF('Relevés de  commissions'!D1911=\"AGI externes\",'Relevés de  commissions'!P1911,0)*1","v":0},0,""]
[null,null,null,null,null,null,null,null,null,null,null,null,{"$f":"IF('Relevés de  commissions'!D1912=\"AGI externes\",'Relevés de  commissions'!M1912,0)*1","v":0},{"$f":"IF('Relevés de  commissions'!D1912=\"AGI externes\",'Relevés de  commissions'!N1912,0)*1","v":0},{"$f":"IF('Relevés de  commissions'!D1912=\"AGI externes\",'Relevés de  commissions'!O1912,0)*1","v":0},{"$f":"IF('Relevés de  commissions'!D1912=\"AGI externes\",'Relevés de  commissions'!P1912,0)*1","v":0},0,""]
[null,null,null,null,null,null,null,null,null,null,null,null,{"$f":"IF('Relevés de  commissions'!D1913=\"AGI externes\",'Relevés de  commissions'!M1913,0)*1","v":0},{"$f":"IF('Relevés de  commissions'!D1913=\"AGI externes\",'Relevés de  commissions'!N1913,0)*1","v":0},{"$f":"IF('Relevés de  commissions'!D1913=\"AGI externes\",'Relevés de  commissions'!O1913,0)*1","v":0},{"$f":"IF('Relevés de  commissions'!D1913=\"AGI externes\",'Relevés de  commissions'!P1913,0)*1","v":0},0,""]
[null,null,null,null,null,null,null,null,null,null,null,null,{"$f":"IF('Relevés de  commissions'!D1914=\"AGI externes\",'Relevés de  commissions'!M1914,0)*1","v":0},{"$f":"IF('Relevés de  commissions'!D1914=\"AGI externes\",'Relevés de  commissions'!N1914,0)*1","v":0},{"$f":"IF('Relevés de  commissions'!D1914=\"AGI externes\",'Relevés de  commissions'!O1914,0)*1","v":0},{"$f":"IF('Relevés de  commissions'!D1914=\"AGI externes\",'Relevés de  commissions'!P1914,0)*1","v":0},0,""]
[null,null,null,null,null,null,null,null,null,null,null,null,{"$f":"IF('Relevés de  commissions'!D1915=\"AGI externes\",'Relevés de  commissions'!M1915,0)*1","v":0},{"$f":"IF('Relevés de  commissions'!D1915=\"AGI externes\",'Relevés de  commissions'!N1915,0)*1","v":0},{"$f":"IF('Relevés de  commissions'!D1915=\"AGI externes\",'Relevés de  commissions'!O1915,0)*1","v":0},{"$f":"IF('Relevés de  commissions'!D1915=\"AGI externes\",'Relevés de  commissions'!P1915,0)*1","v":0},0,""]
[null,null,null,null,null,null,null,null,null,null,null,null,{"$f":"IF('Relevés de  commissions'!D1916=\"AGI externes\",'Relevés de  commissions'!M1916,0)*1","v":0},{"$f":"IF('Relevés de  commissions'!D1916=\"AGI externes\",'Relevés de  commissions'!N1916,0)*1","v":0},{"$f":"IF('Relevés de  commissions'!D1916=\"AGI externes\",'Relevés de  commissions'!O1916,0)*1","v":0},{"$f":"IF('Relevés de  commissions'!D1916=\"AGI externes\",'Relevés de  commissions'!P1916,0)*1","v":0},0,""]
[null,null,null,null,null,null,null,null,null,null,null,null,{"$f":"IF('Relevés de  commissions'!D1917=\"AGI externes\",'Relevés de  commissions'!M1917,0)*1","v":0},{"$f":"IF('Relevés de  commissions'!D1917=\"AGI externes\",'Relevés de  commissions'!N1917,0)*1","v":0},{"$f":"IF('Relevés de  commissions'!D1917=\"AGI externes\",'Relevés de  commissions'!O1917,0)*1","v":0},{"$f":"IF('Relevés de  commissions'!D1917=\"AGI externes\",'Relevés de  commissions'!P1917,0)*1","v":0},0,""]
[null,null,null,null,null,null,null,null,null,null,null,null,{"$f":"IF('Relevés de  commissions'!D1918=\"AGI externes\",'Relevés de  commissions'!M1918,0)*1","v":0},{"$f":"IF('Relevés de  commissions'!D1918=\"AGI externes\",'Relevés de  commissions'!N1918,0)*1","v":0},{"$f":"IF('Relevés de  commissions'!D1918=\"AGI externes\",'Relevés de  commissions'!O1918,0)*1","v":0},{"$f":"IF('Relevés de  commissions'!D1918=\"AGI externes\",'Relevés de  commissions'!P1918,0)*1","v":0},0,""]
[null,null,null,null,null,null,null,null,null,null,null,null,{"$f":"IF('Relevés de  commissions'!D1919=\"AGI externes\",'Relevés de  commissions'!M1919,0)*1","v":0},{"$f":"IF('Relevés de  commissions'!D1919=\"AGI externes\",'Relevés de  commissions'!N1919,0)*1","v":0},{"$f":"IF('Relevés de  commissions'!D1919=\"AGI externes\",'Relevés de  commissions'!O1919,0)*1","v":0},{"$f":"IF('Relevés de  commissions'!D1919=\"AGI externes\",'Relevés de  commissions'!P1919,0)*1","v":0},0,""]
[null,null,null,null,null,null,null,null,null,null,null,null,{"$f":"IF('Relevés de  commissions'!D1920=\"AGI externes\",'Relevés de  commissions'!M1920,0)*1","v":0},{"$f":"IF('Relevés de  commissions'!D1920=\"AGI externes\",'Relevés de  commissions'!N1920,0)*1","v":0},{"$f":"IF('Relevés de  commissions'!D1920=\"AGI externes\",'Relevés de  commissions'!O1920,0)*1","v":0},{"$f":"IF('Relevés de  commissions'!D1920=\"AGI externes\",'Relevés de  commissions'!P1920,0)*1","v":0},0,""]
[null,null,null,null,null,null,null,null,null,null,null,null,{"$f":"IF('Relevés de  commissions'!D1921=\"AGI externes\",'Relevés de  commissions'!M1921,0)*1","v":0},{"$f":"IF('Relevés de  commissions'!D1921=\"AGI externes\",'Relevés de  commissions'!N1921,0)*1","v":0},{"$f":"IF('Relevés de  commissions'!D1921=\"AGI externes\",'Relevés de  commissions'!O1921,0)*1","v":0},{"$f":"IF('Relevés de  commissions'!D1921=\"AGI externes\",'Relevés de  commissions'!P1921,0)*1","v":0},0,""]
[null,null,null,null,null,null,null,null,null,null,null,null,{"$f":"IF('Relevés de  commissions'!D1922=\"AGI externes\",'Relevés de  commissions'!M1922,0)*1","v":0},{"$f":"IF('Relevés de  commissions'!D1922=\"AGI externes\",'Relevés de  commissions'!N1922,0)*1","v":0},{"$f":"IF('Relevés de  commissions'!D1922=\"AGI externes\",'Relevés de  commissions'!O1922,0)*1","v":0},{"$f":"IF('Relevés de  commissions'!D1922=\"AGI externes\",'Relevés de  commissions'!P1922,0)*1","v":0},0,""]
[null,null,null,null,null,null,null,null,null,null,null,null,{"$f":"IF('Relevés de  commissions'!D1923=\"AGI externes\",'Relevés de  commissions'!M1923,0)*1","v":0},{"$f":"IF('Relevés de  commissions'!D1923=\"AGI externes\",'Relevés de  commissions'!N1923,0)*1","v":0},{"$f":"IF('Relevés de  commissions'!D1923=\"AGI externes\",'Relevés de  commissions'!O1923,0)*1","v":0},{"$f":"IF('Relevés de  commissions'!D1923=\"AGI externes\",'Relevés de  commissions'!P1923,0)*1","v":0},{"$f":"IF(N1925=0,O1925,\"\")","v":0},{"$f":"IF(N1925=10,O1925,\"\")","v":""}]
[null,null,null,null,null,null,null,null,null,null,null,null,{"$f":"IF('Relevés de  commissions'!D1924=\"AGI externes\",'Relevés de  commissions'!M1924,0)*1","v":0},{"$f":"IF('Relevés de  commissions'!D1924=\"AGI externes\",'Relevés de  commissions'!N1924,0)*1","v":0},{"$f":"IF('Relevés de  commissions'!D1924=\"AGI externes\",'Relevés de  commissions'!O1924,0)*1","v":0},{"$f":"IF('Relevés de  commissions'!D1924=\"AGI externes\",'Relevés de  commissions'!P1924,0)*1","v":0},0,""]
[null,null,null,null,null,null,null,null,null,null,null,null,{"$f":"IF('Relevés de  commissions'!D1925=\"AGI externes\",'Relevés de  commissions'!M1925,0)*1","v":0},{"$f":"IF('Relevés de  commissions'!D1925=\"AGI externes\",'Relevés de  commissions'!N1925,0)*1","v":0},{"$f":"IF('Relevés de  commissions'!D1925=\"AGI externes\",'Relevés de  commissions'!O1925,0)*1","v":0},{"$f":"IF('Relevés de  commissions'!D1925=\"AGI externes\",'Relevés de  commissions'!P1925,0)*1","v":0},0,""]
[null,null,null,null,null,null,null,null,null,null,null,null,{"$f":"IF('Relevés de  commissions'!D1926=\"AGI externes\",'Relevés de  commissions'!M1926,0)*1","v":0},{"$f":"IF('Relevés de  commissions'!D1926=\"AGI externes\",'Relevés de  commissions'!N1926,0)*1","v":0},{"$f":"IF('Relevés de  commissions'!D1926=\"AGI externes\",'Relevés de  commissions'!O1926,0)*1","v":0},{"$f":"IF('Relevés de  commissions'!D1926=\"AGI externes\",'Relevés de  commissions'!P1926,0)*1","v":0},0,""]
[null,null,null,null,null,null,null,null,null,null,null,null,{"$f":"IF('Relevés de  commissions'!D1927=\"AGI externes\",'Relevés de  commissions'!M1927,0)*1","v":0},{"$f":"IF('Relevés de  commissions'!D1927=\"AGI externes\",'Relevés de  commissions'!N1927,0)*1","v":0},{"$f":"IF('Relevés de  commissions'!D1927=\"AGI externes\",'Relevés de  commissions'!O1927,0)*1","v":0},{"$f":"IF('Relevés de  commissions'!D1927=\"AGI externes\",'Relevés de  commissions'!P1927,0)*1","v":0},0,""]
[null,null,null,null,null,null,null,null,null,null,null,null,{"$f":"IF('Relevés de  commissions'!D1928=\"AGI externes\",'Relevés de  commissions'!M1928,0)*1","v":0},{"$f":"IF('Relevés de  commissions'!D1928=\"AGI externes\",'Relevés de  commissions'!N1928,0)*1","v":0},{"$f":"IF('Relevés de  commissions'!D1928=\"AGI externes\",'Relevés de  commissions'!O1928,0)*1","v":0},{"$f":"IF('Relevés de  commissions'!D1928=\"AGI externes\",'Relevés de  commissions'!P1928,0)*1","v":0},0,""]
[null,null,null,null,null,null,null,null,null,null,null,null,{"$f":"IF('Relevés de  commissions'!D1929=\"AGI externes\",'Relevés de  commissions'!M1929,0)*1","v":0},{"$f":"IF('Relevés de  commissions'!D1929=\"AGI externes\",'Relevés de  commissions'!N1929,0)*1","v":0},{"$f":"IF('Relevés de  commissions'!D1929=\"AGI externes\",'Relevés de  commissions'!O1929,0)*1","v":0},{"$f":"IF('Relevés de  commissions'!D1929=\"AGI externes\",'Relevés de  commissions'!P1929,0)*1","v":0},0,""]
[null,null,null,null,null,null,null,null,null,null,null,null,{"$f":"IF('Relevés de  commissions'!D1930=\"AGI externes\",'Relevés de  commissions'!M1930,0)*1","v":0},{"$f":"IF('Relevés de  commissions'!D1930=\"AGI externes\",'Relevés de  commissions'!N1930,0)*1","v":0},{"$f":"IF('Relevés de  commissions'!D1930=\"AGI externes\",'Relevés de  commissions'!O1930,0)*1","v":0},{"$f":"IF('Relevés de  commissions'!D1930=\"AGI externes\",'Relevés de  commissions'!P1930,0)*1","v":0},0,""]
[null,null,null,null,null,null,null,null,null,null,null,null,{"$f":"IF('Relevés de  commissions'!D1931=\"AGI externes\",'Relevés de  commissions'!M1931,0)*1","v":0},{"$f":"IF('Relevés de  commissions'!D1931=\"AGI externes\",'Relevés de  commissions'!N1931,0)*1","v":0},{"$f":"IF('Relevés de  commissions'!D1931=\"AGI externes\",'Relevés de  commissions'!O1931,0)*1","v":0},{"$f":"IF('Relevés de  commissions'!D1931=\"AGI externes\",'Relevés de  commissions'!P1931,0)*1","v":0},0,""]
[null,null,null,null,null,null,null,null,null,null,null,null,{"$f":"IF('Relevés de  commissions'!D1932=\"AGI externes\",'Relevés de  commissions'!M1932,0)*1","v":0},{"$f":"IF('Relevés de  commissions'!D1932=\"AGI externes\",'Relevés de  commissions'!N1932,0)*1","v":0},{"$f":"IF('Relevés de  commissions'!D1932=\"AGI externes\",'Relevés de  commissions'!O1932,0)*1","v":0},{"$f":"IF('Relevés de  commissions'!D1932=\"AGI externes\",'Relevés de  commissions'!P1932,0)*1","v":0},0,""]
[null,null,null,null,null,null,null,null,null,null,null,null,{"$f":"IF('Relevés de  commissions'!D1933=\"AGI externes\",'Relevés de  commissions'!M1933,0)*1","v":0},{"$f":"IF('Relevés de  commissions'!D1933=\"AGI externes\",'Relevés de  commissions'!N1933,0)*1","v":0},{"$f":"IF('Relevés de  commissions'!D1933=\"AGI externes\",'Relevés de  commissions'!O1933,0)*1","v":0},{"$f":"IF('Relevés de  commissions'!D1933=\"AGI externes\",'Relevés de  commissions'!P1933,0)*1","v":0},0,""]
[null,null,null,null,null,null,null,null,null,null,null,null,{"$f":"IF('Relevés de  commissions'!D1934=\"AGI externes\",'Relevés de  commissions'!M1934,0)*1","v":0},{"$f":"IF('Relevés de  commissions'!D1934=\"AGI externes\",'Relevés de  commissions'!N1934,0)*1","v":0},{"$f":"IF('Relevés de  commissions'!D1934=\"AGI externes\",'Relevés de  commissions'!O1934,0)*1","v":0},{"$f":"IF('Relevés de  commissions'!D1934=\"AGI externes\",'Relevés de  commissions'!P1934,0)*1","v":0},0,""]
[null,null,null,null,null,null,null,null,null,null,null,null,{"$f":"IF('Relevés de  commissions'!D1935=\"AGI externes\",'Relevés de  commissions'!M1935,0)*1","v":0},{"$f":"IF('Relevés de  commissions'!D1935=\"AGI externes\",'Relevés de  commissions'!N1935,0)*1","v":0},{"$f":"IF('Relevés de  commissions'!D1935=\"AGI externes\",'Relevés de  commissions'!O1935,0)*1","v":0},{"$f":"IF('Relevés de  commissions'!D1935=\"AGI externes\",'Relevés de  commissions'!P1935,0)*1","v":0},0,""]
[null,null,null,null,null,null,null,null,null,null,null,null,{"$f":"IF('Relevés de  commissions'!D1936=\"AGI externes\",'Relevés de  commissions'!M1936,0)*1","v":0},{"$f":"IF('Relevés de  commissions'!D1936=\"AGI externes\",'Relevés de  commissions'!N1936,0)*1","v":0},{"$f":"IF('Relevés de  commissions'!D1936=\"AGI externes\",'Relevés de  commissions'!O1936,0)*1","v":0},{"$f":"IF('Relevés de  commissions'!D1936=\"AGI externes\",'Relevés de  commissions'!P1936,0)*1","v":0},0,""]
[null,null,null,null,null,null,null,null,null,null,null,null,{"$f":"IF('Relevés de  commissions'!D1937=\"AGI externes\",'Relevés de  commissions'!M1937,0)*1","v":0},{"$f":"IF('Relevés de  commissions'!D1937=\"AGI externes\",'Relevés de  commissions'!N1937,0)*1","v":0},{"$f":"IF('Relevés de  commissions'!D1937=\"AGI externes\",'Relevés de  commissions'!O1937,0)*1","v":0},{"$f":"IF('Relevés de  commissions'!D1937=\"AGI externes\",'Relevés de  commissions'!P1937,0)*1","v":0},0,""]
[null,null,null,null,null,null,null,null,null,null,null,null,{"$f":"IF('Relevés de  commissions'!D1938=\"AGI externes\",'Relevés de  commissions'!M1938,0)*1","v":0},{"$f":"IF('Relevés de  commissions'!D1938=\"AGI externes\",'Relevés de  commissions'!N1938,0)*1","v":0},{"$f":"IF('Relevés de  commissions'!D1938=\"AGI externes\",'Relevés de  commissions'!O1938,0)*1","v":0},{"$f":"IF('Relevés de  commissions'!D1938=\"AGI externes\",'Relevés de  commissions'!P1938,0)*1","v":0},0,""]
[null,null,null,null,null,null,null,null,null,null,null,null,{"$f":"IF('Relevés de  commissions'!D1939=\"AGI externes\",'Relevés de  commissions'!M1939,0)*1","v":0},{"$f":"IF('Relevés de  commissions'!D1939=\"AGI externes\",'Relevés de  commissions'!N1939,0)*1","v":0},{"$f":"IF('Relevés de  commissions'!D1939=\"AGI externes\",'Relevés de  commissions'!O1939,0)*1","v":0},{"$f":"IF('Relevés de  commissions'!D1939=\"AGI externes\",'Relevés de  commissions'!P1939,0)*1","v":0},0,""]
[null,null,null,null,null,null,null,null,null,null,null,null,{"$f":"IF('Relevés de  commissions'!D1940=\"AGI externes\",'Relevés de  commissions'!M1940,0)*1","v":0},{"$f":"IF('Relevés de  commissions'!D1940=\"AGI externes\",'Relevés de  commissions'!N1940,0)*1","v":0},{"$f":"IF('Relevés de  commissions'!D1940=\"AGI externes\",'Relevés de  commissions'!O1940,0)*1","v":0},{"$f":"IF('Relevés de  commissions'!D1940=\"AGI externes\",'Relevés de  commissions'!P1940,0)*1","v":0},0,""]
[null,null,null,null,null,null,null,null,null,null,null,null,{"$f":"IF('Relevés de  commissions'!D1941=\"AGI externes\",'Relevés de  commissions'!M1941,0)*1","v":0},{"$f":"IF('Relevés de  commissions'!D1941=\"AGI externes\",'Relevés de  commissions'!N1941,0)*1","v":0},{"$f":"IF('Relevés de  commissions'!D1941=\"AGI externes\",'Relevés de  commissions'!O1941,0)*1","v":0},{"$f":"IF('Relevés de  commissions'!D1941=\"AGI externes\",'Relevés de  commissions'!P1941,0)*1","v":0},0,""]
[null,null,null,null,null,null,null,null,null,null,null,null,{"$f":"IF('Relevés de  commissions'!D1942=\"AGI externes\",'Relevés de  commissions'!M1942,0)*1","v":0},{"$f":"IF('Relevés de  commissions'!D1942=\"AGI externes\",'Relevés de  commissions'!N1942,0)*1","v":0},{"$f":"IF('Relevés de  commissions'!D1942=\"AGI externes\",'Relevés de  commissions'!O1942,0)*1","v":0},{"$f":"IF('Relevés de  commissions'!D1942=\"AGI externes\",'Relevés de  commissions'!P1942,0)*1","v":0},0,""]
[null,null,null,null,null,null,null,null,null,null,null,null,{"$f":"IF('Relevés de  commissions'!D1943=\"AGI externes\",'Relevés de  commissions'!M1943,0)*1","v":0},{"$f":"IF('Relevés de  commissions'!D1943=\"AGI externes\",'Relevés de  commissions'!N1943,0)*1","v":0},{"$f":"IF('Relevés de  commissions'!D1943=\"AGI externes\",'Relevés de  commissions'!O1943,0)*1","v":0},{"$f":"IF('Relevés de  commissions'!D1943=\"AGI externes\",'Relevés de  commissions'!P1943,0)*1","v":0},0,""]
[null,null,null,null,null,null,null,null,null,null,null,null,{"$f":"IF('Relevés de  commissions'!D1944=\"AGI externes\",'Relevés de  commissions'!M1944,0)*1","v":0},{"$f":"IF('Relevés de  commissions'!D1944=\"AGI externes\",'Relevés de  commissions'!N1944,0)*1","v":0},{"$f":"IF('Relevés de  commissions'!D1944=\"AGI externes\",'Relevés de  commissions'!O1944,0)*1","v":0},{"$f":"IF('Relevés de  commissions'!D1944=\"AGI externes\",'Relevés de  commissions'!P1944,0)*1","v":0},0,""]
[null,null,null,null,null,null,null,null,null,null,null,null,{"$f":"IF('Relevés de  commissions'!D1945=\"AGI externes\",'Relevés de  commissions'!M1945,0)*1","v":0},{"$f":"IF('Relevés de  commissions'!D1945=\"AGI externes\",'Relevés de  commissions'!N1945,0)*1","v":0},{"$f":"IF('Relevés de  commissions'!D1945=\"AGI externes\",'Relevés de  commissions'!O1945,0)*1","v":0},{"$f":"IF('Relevés de  commissions'!D1945=\"AGI externes\",'Relevés de  commissions'!P1945,0)*1","v":0},0,""]
[null,null,null,null,null,null,null,null,null,null,null,null,{"$f":"IF('Relevés de  commissions'!D1946=\"AGI externes\",'Relevés de  commissions'!M1946,0)*1","v":0},{"$f":"IF('Relevés de  commissions'!D1946=\"AGI externes\",'Relevés de  commissions'!N1946,0)*1","v":0},{"$f":"IF('Relevés de  commissions'!D1946=\"AGI externes\",'Relevés de  commissions'!O1946,0)*1","v":0},{"$f":"IF('Relevés de  commissions'!D1946=\"AGI externes\",'Relevés de  commissions'!P1946,0)*1","v":0},0,""]
[null,null,null,null,null,null,null,null,null,null,null,null,{"$f":"IF('Relevés de  commissions'!D1947=\"AGI externes\",'Relevés de  commissions'!M1947,0)*1","v":0},{"$f":"IF('Relevés de  commissions'!D1947=\"AGI externes\",'Relevés de  commissions'!N1947,0)*1","v":0},{"$f":"IF('Relevés de  commissions'!D1947=\"AGI externes\",'Relevés de  commissions'!O1947,0)*1","v":0},{"$f":"IF('Relevés de  commissions'!D1947=\"AGI externes\",'Relevés de  commissions'!P1947,0)*1","v":0},0,""]
[null,null,null,null,null,null,null,null,null,null,null,null,{"$f":"IF('Relevés de  commissions'!D1948=\"AGI externes\",'Relevés de  commissions'!M1948,0)*1","v":0},{"$f":"IF('Relevés de  commissions'!D1948=\"AGI externes\",'Relevés de  commissions'!N1948,0)*1","v":0},{"$f":"IF('Relevés de  commissions'!D1948=\"AGI externes\",'Relevés de  commissions'!O1948,0)*1","v":0},{"$f":"IF('Relevés de  commissions'!D1948=\"AGI externes\",'Relevés de  commissions'!P1948,0)*1","v":0},0,""]
[null,null,null,null,null,null,null,null,null,null,null,null,{"$f":"IF('Relevés de  commissions'!D1949=\"AGI externes\",'Relevés de  commissions'!M1949,0)*1","v":0},{"$f":"IF('Relevés de  commissions'!D1949=\"AGI externes\",'Relevés de  commissions'!N1949,0)*1","v":0},{"$f":"IF('Relevés de  commissions'!D1949=\"AGI externes\",'Relevés de  commissions'!O1949,0)*1","v":0},{"$f":"IF('Relevés de  commissions'!D1949=\"AGI externes\",'Relevés de  commissions'!P1949,0)*1","v":0},0,""]
[null,null,null,null,null,null,null,null,null,null,null,null,{"$f":"IF('Relevés de  commissions'!D1950=\"AGI externes\",'Relevés de  commissions'!M1950,0)*1","v":0},{"$f":"IF('Relevés de  commissions'!D1950=\"AGI externes\",'Relevés de  commissions'!N1950,0)*1","v":0},{"$f":"IF('Relevés de  commissions'!D1950=\"AGI externes\",'Relevés de  commissions'!O1950,0)*1","v":0},{"$f":"IF('Relevés de  commissions'!D1950=\"AGI externes\",'Relevés de  commissions'!P1950,0)*1","v":0},0,""]
[null,null,null,null,null,null,null,null,null,null,null,null,{"$f":"IF('Relevés de  commissions'!D1951=\"AGI externes\",'Relevés de  commissions'!M1951,0)*1","v":0},{"$f":"IF('Relevés de  commissions'!D1951=\"AGI externes\",'Relevés de  commissions'!N1951,0)*1","v":0},{"$f":"IF('Relevés de  commissions'!D1951=\"AGI externes\",'Relevés de  commissions'!O1951,0)*1","v":0},{"$f":"IF('Relevés de  commissions'!D1951=\"AGI externes\",'Relevés de  commissions'!P1951,0)*1","v":0},0,""]
[null,null,null,null,null,null,null,null,null,null,null,null,{"$f":"IF('Relevés de  commissions'!D1952=\"AGI externes\",'Relevés de  commissions'!M1952,0)*1","v":0},{"$f":"IF('Relevés de  commissions'!D1952=\"AGI externes\",'Relevés de  commissions'!N1952,0)*1","v":0},{"$f":"IF('Relevés de  commissions'!D1952=\"AGI externes\",'Relevés de  commissions'!O1952,0)*1","v":0},{"$f":"IF('Relevés de  commissions'!D1952=\"AGI externes\",'Relevés de  commissions'!P1952,0)*1","v":0},0,""]
[null,null,null,null,null,null,null,null,null,null,null,null,{"$f":"IF('Relevés de  commissions'!D1953=\"AGI externes\",'Relevés de  commissions'!M1953,0)*1","v":0},{"$f":"IF('Relevés de  commissions'!D1953=\"AGI externes\",'Relevés de  commissions'!N1953,0)*1","v":0},{"$f":"IF('Relevés de  commissions'!D1953=\"AGI externes\",'Relevés de  commissions'!O1953,0)*1","v":0},{"$f":"IF('Relevés de  commissions'!D1953=\"AGI externes\",'Relevés de  commissions'!P1953,0)*1","v":0},0,""]
[null,null,null,null,null,null,null,null,null,null,null,null,{"$f":"IF('Relevés de  commissions'!D1954=\"AGI externes\",'Relevés de  commissions'!M1954,0)*1","v":0},{"$f":"IF('Relevés de  commissions'!D1954=\"AGI externes\",'Relevés de  commissions'!N1954,0)*1","v":0},{"$f":"IF('Relevés de  commissions'!D1954=\"AGI externes\",'Relevés de  commissions'!O1954,0)*1","v":0},{"$f":"IF('Relevés de  commissions'!D1954=\"AGI externes\",'Relevés de  commissions'!P1954,0)*1","v":0},0,""]
[null,null,null,null,null,null,null,null,null,null,null,null,{"$f":"IF('Relevés de  commissions'!D1955=\"AGI externes\",'Relevés de  commissions'!M1955,0)*1","v":0},{"$f":"IF('Relevés de  commissions'!D1955=\"AGI externes\",'Relevés de  commissions'!N1955,0)*1","v":0},{"$f":"IF('Relevés de  commissions'!D1955=\"AGI externes\",'Relevés de  commissions'!O1955,0)*1","v":0},{"$f":"IF('Relevés de  commissions'!D1955=\"AGI externes\",'Relevés de  commissions'!P1955,0)*1","v":0},0,""]
[null,null,null,null,null,null,null,null,null,null,null,null,{"$f":"IF('Relevés de  commissions'!D1956=\"AGI externes\",'Relevés de  commissions'!M1956,0)*1","v":0},{"$f":"IF('Relevés de  commissions'!D1956=\"AGI externes\",'Relevés de  commissions'!N1956,0)*1","v":0},{"$f":"IF('Relevés de  commissions'!D1956=\"AGI externes\",'Relevés de  commissions'!O1956,0)*1","v":0},{"$f":"IF('Relevés de  commissions'!D1956=\"AGI externes\",'Relevés de  commissions'!P1956,0)*1","v":0},0,""]
[null,null,null,null,null,null,null,null,null,null,null,null,{"$f":"IF('Relevés de  commissions'!D1957=\"AGI externes\",'Relevés de  commissions'!M1957,0)*1","v":0},{"$f":"IF('Relevés de  commissions'!D1957=\"AGI externes\",'Relevés de  commissions'!N1957,0)*1","v":0},{"$f":"IF('Relevés de  commissions'!D1957=\"AGI externes\",'Relevés de  commissions'!O1957,0)*1","v":0},{"$f":"IF('Relevés de  commissions'!D1957=\"AGI externes\",'Relevés de  commissions'!P1957,0)*1","v":0},0,""]
[null,null,null,null,null,null,null,null,null,null,null,null,{"$f":"IF('Relevés de  commissions'!D1958=\"AGI externes\",'Relevés de  commissions'!M1958,0)*1","v":0},{"$f":"IF('Relevés de  commissions'!D1958=\"AGI externes\",'Relevés de  commissions'!N1958,0)*1","v":0},{"$f":"IF('Relevés de  commissions'!D1958=\"AGI externes\",'Relevés de  commissions'!O1958,0)*1","v":0},{"$f":"IF('Relevés de  commissions'!D1958=\"AGI externes\",'Relevés de  commissions'!P1958,0)*1","v":0},0,""]
[null,null,null,null,null,null,null,null,null,null,null,null,{"$f":"IF('Relevés de  commissions'!D1959=\"AGI externes\",'Relevés de  commissions'!M1959,0)*1","v":0},{"$f":"IF('Relevés de  commissions'!D1959=\"AGI externes\",'Relevés de  commissions'!N1959,0)*1","v":0},{"$f":"IF('Relevés de  commissions'!D1959=\"AGI externes\",'Relevés de  commissions'!O1959,0)*1","v":0},{"$f":"IF('Relevés de  commissions'!D1959=\"AGI externes\",'Relevés de  commissions'!P1959,0)*1","v":0},0,""]
[null,null,null,null,null,null,null,null,null,null,null,null,{"$f":"IF('Relevés de  commissions'!D1960=\"AGI externes\",'Relevés de  commissions'!M1960,0)*1","v":0},{"$f":"IF('Relevés de  commissions'!D1960=\"AGI externes\",'Relevés de  commissions'!N1960,0)*1","v":0},{"$f":"IF('Relevés de  commissions'!D1960=\"AGI externes\",'Relevés de  commissions'!O1960,0)*1","v":0},{"$f":"IF('Relevés de  commissions'!D1960=\"AGI externes\",'Relevés de  commissions'!P1960,0)*1","v":0},0,""]
[null,null,null,null,null,null,null,null,null,null,null,null,{"$f":"IF('Relevés de  commissions'!D1961=\"AGI externes\",'Relevés de  commissions'!M1961,0)*1","v":0},{"$f":"IF('Relevés de  commissions'!D1961=\"AGI externes\",'Relevés de  commissions'!N1961,0)*1","v":0},{"$f":"IF('Relevés de  commissions'!D1961=\"AGI externes\",'Relevés de  commissions'!O1961,0)*1","v":0},{"$f":"IF('Relevés de  commissions'!D1961=\"AGI externes\",'Relevés de  commissions'!P1961,0)*1","v":0},0,""]
[null,null,null,null,null,null,null,null,null,null,null,null,{"$f":"IF('Relevés de  commissions'!D1962=\"AGI externes\",'Relevés de  commissions'!M1962,0)*1","v":0},{"$f":"IF('Relevés de  commissions'!D1962=\"AGI externes\",'Relevés de  commissions'!N1962,0)*1","v":0},{"$f":"IF('Relevés de  commissions'!D1962=\"AGI externes\",'Relevés de  commissions'!O1962,0)*1","v":0},{"$f":"IF('Relevés de  commissions'!D1962=\"AGI externes\",'Relevés de  commissions'!P1962,0)*1","v":0},0,""]
[null,null,null,null,null,null,null,null,null,null,null,null,{"$f":"IF('Relevés de  commissions'!D1963=\"AGI externes\",'Relevés de  commissions'!M1963,0)*1","v":0},{"$f":"IF('Relevés de  commissions'!D1963=\"AGI externes\",'Relevés de  commissions'!N1963,0)*1","v":0},{"$f":"IF('Relevés de  commissions'!D1963=\"AGI externes\",'Relevés de  commissions'!O1963,0)*1","v":0},{"$f":"IF('Relevés de  commissions'!D1963=\"AGI externes\",'Relevés de  commissions'!P1963,0)*1","v":0},0,""]
[null,null,null,null,null,null,null,null,null,null,null,null,{"$f":"IF('Relevés de  commissions'!D1964=\"AGI externes\",'Relevés de  commissions'!M1964,0)*1","v":0},{"$f":"IF('Relevés de  commissions'!D1964=\"AGI externes\",'Relevés de  commissions'!N1964,0)*1","v":0},{"$f":"IF('Relevés de  commissions'!D1964=\"AGI externes\",'Relevés de  commissions'!O1964,0)*1","v":0},{"$f":"IF('Relevés de  commissions'!D1964=\"AGI externes\",'Relevés de  commissions'!P1964,0)*1","v":0},0,""]
[null,null,null,null,null,null,null,null,null,null,null,null,{"$f":"IF('Relevés de  commissions'!D1965=\"AGI externes\",'Relevés de  commissions'!M1965,0)*1","v":0},{"$f":"IF('Relevés de  commissions'!D1965=\"AGI externes\",'Relevés de  commissions'!N1965,0)*1","v":0},{"$f":"IF('Relevés de  commissions'!D1965=\"AGI externes\",'Relevés de  commissions'!O1965,0)*1","v":0},{"$f":"IF('Relevés de  commissions'!D1965=\"AGI externes\",'Relevés de  commissions'!P1965,0)*1","v":0},0,""]
[null,null,null,null,null,null,null,null,null,null,null,null,{"$f":"IF('Relevés de  commissions'!D1966=\"AGI externes\",'Relevés de  commissions'!M1966,0)*1","v":0},{"$f":"IF('Relevés de  commissions'!D1966=\"AGI externes\",'Relevés de  commissions'!N1966,0)*1","v":0},{"$f":"IF('Relevés de  commissions'!D1966=\"AGI externes\",'Relevés de  commissions'!O1966,0)*1","v":0},{"$f":"IF('Relevés de  commissions'!D1966=\"AGI externes\",'Relevés de  commissions'!P1966,0)*1","v":0},0,""]
[null,null,null,null,null,null,null,null,null,null,null,null,{"$f":"IF('Relevés de  commissions'!D1967=\"AGI externes\",'Relevés de  commissions'!M1967,0)*1","v":0},{"$f":"IF('Relevés de  commissions'!D1967=\"AGI externes\",'Relevés de  commissions'!N1967,0)*1","v":0},{"$f":"IF('Relevés de  commissions'!D1967=\"AGI externes\",'Relevés de  commissions'!O1967,0)*1","v":0},{"$f":"IF('Relevés de  commissions'!D1967=\"AGI externes\",'Relevés de  commissions'!P1967,0)*1","v":0},0,""]
[null,null,null,null,null,null,null,null,null,null,null,null,{"$f":"IF('Relevés de  commissions'!D1968=\"AGI externes\",'Relevés de  commissions'!M1968,0)*1","v":0},{"$f":"IF('Relevés de  commissions'!D1968=\"AGI externes\",'Relevés de  commissions'!N1968,0)*1","v":0},{"$f":"IF('Relevés de  commissions'!D1968=\"AGI externes\",'Relevés de  commissions'!O1968,0)*1","v":0},{"$f":"IF('Relevés de  commissions'!D1968=\"AGI externes\",'Relevés de  commissions'!P1968,0)*1","v":0},0,""]
[null,null,null,null,null,null,null,null,null,null,null,null,{"$f":"IF('Relevés de  commissions'!D1969=\"AGI externes\",'Relevés de  commissions'!M1969,0)*1","v":0},{"$f":"IF('Relevés de  commissions'!D1969=\"AGI externes\",'Relevés de  commissions'!N1969,0)*1","v":0},{"$f":"IF('Relevés de  commissions'!D1969=\"AGI externes\",'Relevés de  commissions'!O1969,0)*1","v":0},{"$f":"IF('Relevés de  commissions'!D1969=\"AGI externes\",'Relevés de  commissions'!P1969,0)*1","v":0},0,""]
[null,null,null,null,null,null,null,null,null,null,null,null,{"$f":"IF('Relevés de  commissions'!D1970=\"AGI externes\",'Relevés de  commissions'!M1970,0)*1","v":0},{"$f":"IF('Relevés de  commissions'!D1970=\"AGI externes\",'Relevés de  commissions'!N1970,0)*1","v":0},{"$f":"IF('Relevés de  commissions'!D1970=\"AGI externes\",'Relevés de  commissions'!O1970,0)*1","v":0},{"$f":"IF('Relevés de  commissions'!D1970=\"AGI externes\",'Relevés de  commissions'!P1970,0)*1","v":0},0,""]
[null,null,null,null,null,null,null,null,null,null,null,null,{"$f":"IF('Relevés de  commissions'!D1971=\"AGI externes\",'Relevés de  commissions'!M1971,0)*1","v":0},{"$f":"IF('Relevés de  commissions'!D1971=\"AGI externes\",'Relevés de  commissions'!N1971,0)*1","v":0},{"$f":"IF('Relevés de  commissions'!D1971=\"AGI externes\",'Relevés de  commissions'!O1971,0)*1","v":0},{"$f":"IF('Relevés de  commissions'!D1971=\"AGI externes\",'Relevés de  commissions'!P1971,0)*1","v":0},0,""]
[null,null,null,null,null,null,null,null,null,null,null,null,{"$f":"IF('Relevés de  commissions'!D1972=\"AGI externes\",'Relevés de  commissions'!M1972,0)*1","v":0},{"$f":"IF('Relevés de  commissions'!D1972=\"AGI externes\",'Relevés de  commissions'!N1972,0)*1","v":0},{"$f":"IF('Relevés de  commissions'!D1972=\"AGI externes\",'Relevés de  commissions'!O1972,0)*1","v":0},{"$f":"IF('Relevés de  commissions'!D1972=\"AGI externes\",'Relevés de  commissions'!P1972,0)*1","v":0},0,""]
[null,null,null,null,null,null,null,null,null,null,null,null,{"$f":"IF('Relevés de  commissions'!D1973=\"AGI externes\",'Relevés de  commissions'!M1973,0)*1","v":0},{"$f":"IF('Relevés de  commissions'!D1973=\"AGI externes\",'Relevés de  commissions'!N1973,0)*1","v":0},{"$f":"IF('Relevés de  commissions'!D1973=\"AGI externes\",'Relevés de  commissions'!O1973,0)*1","v":0},{"$f":"IF('Relevés de  commissions'!D1973=\"AGI externes\",'Relevés de  commissions'!P1973,0)*1","v":0},0,""]
[null,null,null,null,null,null,null,null,null,null,null,null,{"$f":"IF('Relevés de  commissions'!D1974=\"AGI externes\",'Relevés de  commissions'!M1974,0)*1","v":0},{"$f":"IF('Relevés de  commissions'!D1974=\"AGI externes\",'Relevés de  commissions'!N1974,0)*1","v":0},{"$f":"IF('Relevés de  commissions'!D1974=\"AGI externes\",'Relevés de  commissions'!O1974,0)*1","v":0},{"$f":"IF('Relevés de  commissions'!D1974=\"AGI externes\",'Relevés de  commissions'!P1974,0)*1","v":0},0,""]
[null,null,null,null,null,null,null,null,null,null,null,null,{"$f":"IF('Relevés de  commissions'!D1975=\"AGI externes\",'Relevés de  commissions'!M1975,0)*1","v":0},{"$f":"IF('Relevés de  commissions'!D1975=\"AGI externes\",'Relevés de  commissions'!N1975,0)*1","v":0},{"$f":"IF('Relevés de  commissions'!D1975=\"AGI externes\",'Relevés de  commissions'!O1975,0)*1","v":0},{"$f":"IF('Relevés de  commissions'!D1975=\"AGI externes\",'Relevés de  commissions'!P1975,0)*1","v":0},0,""]
[null,null,null,null,null,null,null,null,null,null,null,null,{"$f":"IF('Relevés de  commissions'!D1976=\"AGI externes\",'Relevés de  commissions'!M1976,0)*1","v":0},{"$f":"IF('Relevés de  commissions'!D1976=\"AGI externes\",'Relevés de  commissions'!N1976,0)*1","v":0},{"$f":"IF('Relevés de  commissions'!D1976=\"AGI externes\",'Relevés de  commissions'!O1976,0)*1","v":0},{"$f":"IF('Relevés de  commissions'!D1976=\"AGI externes\",'Relevés de  commissions'!P1976,0)*1","v":0},0,""]
[null,null,null,null,null,null,null,null,null,null,null,null,{"$f":"IF('Relevés de  commissions'!D1977=\"AGI externes\",'Relevés de  commissions'!M1977,0)*1","v":0},{"$f":"IF('Relevés de  commissions'!D1977=\"AGI externes\",'Relevés de  commissions'!N1977,0)*1","v":0},{"$f":"IF('Relevés de  commissions'!D1977=\"AGI externes\",'Relevés de  commissions'!O1977,0)*1","v":0},{"$f":"IF('Relevés de  commissions'!D1977=\"AGI externes\",'Relevés de  commissions'!P1977,0)*1","v":0},0,""]
[null,null,null,null,null,null,null,null,null,null,null,null,{"$f":"IF('Relevés de  commissions'!D1978=\"AGI externes\",'Relevés de  commissions'!M1978,0)*1","v":0},{"$f":"IF('Relevés de  commissions'!D1978=\"AGI externes\",'Relevés de  commissions'!N1978,0)*1","v":0},{"$f":"IF('Relevés de  commissions'!D1978=\"AGI externes\",'Relevés de  commissions'!O1978,0)*1","v":0},{"$f":"IF('Relevés de  commissions'!D1978=\"AGI externes\",'Relevés de  commissions'!P1978,0)*1","v":0},0,""]
[null,null,null,null,null,null,null,null,null,null,null,null,{"$f":"IF('Relevés de  commissions'!D1979=\"AGI externes\",'Relevés de  commissions'!M1979,0)*1","v":0},{"$f":"IF('Relevés de  commissions'!D1979=\"AGI externes\",'Relevés de  commissions'!N1979,0)*1","v":0},{"$f":"IF('Relevés de  commissions'!D1979=\"AGI externes\",'Relevés de  commissions'!O1979,0)*1","v":0},{"$f":"IF('Relevés de  commissions'!D1979=\"AGI externes\",'Relevés de  commissions'!P1979,0)*1","v":0},0,""]
[null,null,null,null,null,null,null,null,null,null,null,null,{"$f":"IF('Relevés de  commissions'!D1980=\"AGI externes\",'Relevés de  commissions'!M1980,0)*1","v":0},{"$f":"IF('Relevés de  commissions'!D1980=\"AGI externes\",'Relevés de  commissions'!N1980,0)*1","v":0},{"$f":"IF('Relevés de  commissions'!D1980=\"AGI externes\",'Relevés de  commissions'!O1980,0)*1","v":0},{"$f":"IF('Relevés de  commissions'!D1980=\"AGI externes\",'Relevés de  commissions'!P1980,0)*1","v":0},0,""]
[null,null,null,null,null,null,null,null,null,null,null,null,{"$f":"IF('Relevés de  commissions'!D1981=\"AGI externes\",'Relevés de  commissions'!M1981,0)*1","v":0},{"$f":"IF('Relevés de  commissions'!D1981=\"AGI externes\",'Relevés de  commissions'!N1981,0)*1","v":0},{"$f":"IF('Relevés de  commissions'!D1981=\"AGI externes\",'Relevés de  commissions'!O1981,0)*1","v":0},{"$f":"IF('Relevés de  commissions'!D1981=\"AGI externes\",'Relevés de  commissions'!P1981,0)*1","v":0},0,""]
[null,null,null,null,null,null,null,null,null,null,null,null,{"$f":"IF('Relevés de  commissions'!D1982=\"AGI externes\",'Relevés de  commissions'!M1982,0)*1","v":0},{"$f":"IF('Relevés de  commissions'!D1982=\"AGI externes\",'Relevés de  commissions'!N1982,0)*1","v":0},{"$f":"IF('Relevés de  commissions'!D1982=\"AGI externes\",'Relevés de  commissions'!O1982,0)*1","v":0},{"$f":"IF('Relevés de  commissions'!D1982=\"AGI externes\",'Relevés de  commissions'!P1982,0)*1","v":0},0,""]
[null,null,null,null,null,null,null,null,null,null,null,null,{"$f":"IF('Relevés de  commissions'!D1983=\"AGI externes\",'Relevés de  commissions'!M1983,0)*1","v":0},{"$f":"IF('Relevés de  commissions'!D1983=\"AGI externes\",'Relevés de  commissions'!N1983,0)*1","v":0},{"$f":"IF('Relevés de  commissions'!D1983=\"AGI externes\",'Relevés de  commissions'!O1983,0)*1","v":0},{"$f":"IF('Relevés de  commissions'!D1983=\"AGI externes\",'Relevés de  commissions'!P1983,0)*1","v":0},0,""]
[null,null,null,null,null,null,null,null,null,null,null,null,{"$f":"IF('Relevés de  commissions'!D1984=\"AGI externes\",'Relevés de  commissions'!M1984,0)*1","v":0},{"$f":"IF('Relevés de  commissions'!D1984=\"AGI externes\",'Relevés de  commissions'!N1984,0)*1","v":0},{"$f":"IF('Relevés de  commissions'!D1984=\"AGI externes\",'Relevés de  commissions'!O1984,0)*1","v":0},{"$f":"IF('Relevés de  commissions'!D1984=\"AGI externes\",'Relevés de  commissions'!P1984,0)*1","v":0},0,""]
[null,null,null,null,null,null,null,null,null,null,null,null,{"$f":"IF('Relevés de  commissions'!D1985=\"AGI externes\",'Relevés de  commissions'!M1985,0)*1","v":0},{"$f":"IF('Relevés de  commissions'!D1985=\"AGI externes\",'Relevés de  commissions'!N1985,0)*1","v":0},{"$f":"IF('Relevés de  commissions'!D1985=\"AGI externes\",'Relevés de  commissions'!O1985,0)*1","v":0},{"$f":"IF('Relevés de  commissions'!D1985=\"AGI externes\",'Relevés de  commissions'!P1985,0)*1","v":0},0,""]
[null,null,null,null,null,null,null,null,null,null,null,null,{"$f":"IF('Relevés de  commissions'!D1986=\"AGI externes\",'Relevés de  commissions'!M1986,0)*1","v":0},{"$f":"IF('Relevés de  commissions'!D1986=\"AGI externes\",'Relevés de  commissions'!N1986,0)*1","v":0},{"$f":"IF('Relevés de  commissions'!D1986=\"AGI externes\",'Relevés de  commissions'!O1986,0)*1","v":0},{"$f":"IF('Relevés de  commissions'!D1986=\"AGI externes\",'Relevés de  commissions'!P1986,0)*1","v":0},0,""]
[null,null,null,null,null,null,null,null,null,null,null,null,{"$f":"IF('Relevés de  commissions'!D1987=\"AGI externes\",'Relevés de  commissions'!M1987,0)*1","v":0},{"$f":"IF('Relevés de  commissions'!D1987=\"AGI externes\",'Relevés de  commissions'!N1987,0)*1","v":0},{"$f":"IF('Relevés de  commissions'!D1987=\"AGI externes\",'Relevés de  commissions'!O1987,0)*1","v":0},{"$f":"IF('Relevés de  commissions'!D1987=\"AGI externes\",'Relevés de  commissions'!P1987,0)*1","v":0},{"$f":"IF(N1989=0,O1989,\"\")","v":0},{"$f":"IF(N1989=10,O1989,\"\")","v":""}]
[null,null,null,null,null,null,null,null,null,null,null,null,{"$f":"IF('Relevés de  commissions'!D1988=\"AGI externes\",'Relevés de  commissions'!M1988,0)*1","v":0},{"$f":"IF('Relevés de  commissions'!D1988=\"AGI externes\",'Relevés de  commissions'!N1988,0)*1","v":0},{"$f":"IF('Relevés de  commissions'!D1988=\"AGI externes\",'Relevés de  commissions'!O1988,0)*1","v":0},{"$f":"IF('Relevés de  commissions'!D1988=\"AGI externes\",'Relevés de  commissions'!P1988,0)*1","v":0},0,""]
[null,null,null,null,null,null,null,null,null,null,null,null,{"$f":"IF('Relevés de  commissions'!D1989=\"AGI externes\",'Relevés de  commissions'!M1989,0)*1","v":0},{"$f":"IF('Relevés de  commissions'!D1989=\"AGI externes\",'Relevés de  commissions'!N1989,0)*1","v":0},{"$f":"IF('Relevés de  commissions'!D1989=\"AGI externes\",'Relevés de  commissions'!O1989,0)*1","v":0},{"$f":"IF('Relevés de  commissions'!D1989=\"AGI externes\",'Relevés de  commissions'!P1989,0)*1","v":0},0,""]
[null,null,null,null,null,null,null,null,null,null,null,null,{"$f":"IF('Relevés de  commissions'!D1990=\"AGI externes\",'Relevés de  commissions'!M1990,0)*1","v":0},{"$f":"IF('Relevés de  commissions'!D1990=\"AGI externes\",'Relevés de  commissions'!N1990,0)*1","v":0},{"$f":"IF('Relevés de  commissions'!D1990=\"AGI externes\",'Relevés de  commissions'!O1990,0)*1","v":0},{"$f":"IF('Relevés de  commissions'!D1990=\"AGI externes\",'Relevés de  commissions'!P1990,0)*1","v":0},0,""]
[null,null,null,null,null,null,null,null,null,null,null,null,{"$f":"IF('Relevés de  commissions'!D1991=\"AGI externes\",'Relevés de  commissions'!M1991,0)*1","v":0},{"$f":"IF('Relevés de  commissions'!D1991=\"AGI externes\",'Relevés de  commissions'!N1991,0)*1","v":0},{"$f":"IF('Relevés de  commissions'!D1991=\"AGI externes\",'Relevés de  commissions'!O1991,0)*1","v":0},{"$f":"IF('Relevés de  commissions'!D1991=\"AGI externes\",'Relevés de  commissions'!P1991,0)*1","v":0},0,""]
[null,null,null,null,null,null,null,null,null,null,null,null,{"$f":"IF('Relevés de  commissions'!D1992=\"AGI externes\",'Relevés de  commissions'!M1992,0)*1","v":0},{"$f":"IF('Relevés de  commissions'!D1992=\"AGI externes\",'Relevés de  commissions'!N1992,0)*1","v":0},{"$f":"IF('Relevés de  commissions'!D1992=\"AGI externes\",'Relevés de  commissions'!O1992,0)*1","v":0},{"$f":"IF('Relevés de  commissions'!D1992=\"AGI externes\",'Relevés de  commissions'!P1992,0)*1","v":0},0,""]
[null,null,null,null,null,null,null,null,null,null,null,null,{"$f":"IF('Relevés de  commissions'!D1993=\"AGI externes\",'Relevés de  commissions'!M1993,0)*1","v":0},{"$f":"IF('Relevés de  commissions'!D1993=\"AGI externes\",'Relevés de  commissions'!N1993,0)*1","v":0},{"$f":"IF('Relevés de  commissions'!D1993=\"AGI externes\",'Relevés de  commissions'!O1993,0)*1","v":0},{"$f":"IF('Relevés de  commissions'!D1993=\"AGI externes\",'Relevés de  commissions'!P1993,0)*1","v":0},0,""]
[null,null,null,null,null,null,null,null,null,null,null,null,{"$f":"IF('Relevés de  commissions'!D1994=\"AGI externes\",'Relevés de  commissions'!M1994,0)*1","v":0},{"$f":"IF('Relevés de  commissions'!D1994=\"AGI externes\",'Relevés de  commissions'!N1994,0)*1","v":0},{"$f":"IF('Relevés de  commissions'!D1994=\"AGI externes\",'Relevés de  commissions'!O1994,0)*1","v":0},{"$f":"IF('Relevés de  commissions'!D1994=\"AGI externes\",'Relevés de  commissions'!P1994,0)*1","v":0},0,""]
[null,null,null,null,null,null,null,null,null,null,null,null,{"$f":"IF('Relevés de  commissions'!D1995=\"AGI externes\",'Relevés de  commissions'!M1995,0)*1","v":0},{"$f":"IF('Relevés de  commissions'!D1995=\"AGI externes\",'Relevés de  commissions'!N1995,0)*1","v":0},{"$f":"IF('Relevés de  commissions'!D1995=\"AGI externes\",'Relevés de  commissions'!O1995,0)*1","v":0},{"$f":"IF('Relevés de  commissions'!D1995=\"AGI externes\",'Relevés de  commissions'!P1995,0)*1","v":0},0,""]
[null,null,null,null,null,null,null,null,null,null,null,null,{"$f":"IF('Relevés de  commissions'!D1996=\"AGI externes\",'Relevés de  commissions'!M1996,0)*1","v":0},{"$f":"IF('Relevés de  commissions'!D1996=\"AGI externes\",'Relevés de  commissions'!N1996,0)*1","v":0},{"$f":"IF('Relevés de  commissions'!D1996=\"AGI externes\",'Relevés de  commissions'!O1996,0)*1","v":0},{"$f":"IF('Relevés de  commissions'!D1996=\"AGI externes\",'Relevés de  commissions'!P1996,0)*1","v":0},0,""]
[null,null,null,null,null,null,null,null,null,null,null,null,{"$f":"IF('Relevés de  commissions'!D1997=\"AGI externes\",'Relevés de  commissions'!M1997,0)*1","v":0},{"$f":"IF('Relevés de  commissions'!D1997=\"AGI externes\",'Relevés de  commissions'!N1997,0)*1","v":0},{"$f":"IF('Relevés de  commissions'!D1997=\"AGI externes\",'Relevés de  commissions'!O1997,0)*1","v":0},{"$f":"IF('Relevés de  commissions'!D1997=\"AGI externes\",'Relevés de  commissions'!P1997,0)*1","v":0},0,""]
[null,null,null,null,null,null,null,null,null,null,null,null,{"$f":"IF('Relevés de  commissions'!D1998=\"AGI externes\",'Relevés de  commissions'!M1998,0)*1","v":0},{"$f":"IF('Relevés de  commissions'!D1998=\"AGI externes\",'Relevés de  commissions'!N1998,0)*1","v":0},{"$f":"IF('Relevés de  commissions'!D1998=\"AGI externes\",'Relevés de  commissions'!O1998,0)*1","v":0},{"$f":"IF('Relevés de  commissions'!D1998=\"AGI externes\",'Relevés de  commissions'!P1998,0)*1","v":0},0,""]
[null,null,null,null,null,null,null,null,null,null,null,null,{"$f":"IF('Relevés de  commissions'!D2004=\"AGI externes\",'Relevés de  commissions'!M2004,0)*1","v":0},{"$f":"IF('Relevés de  commissions'!D2004=\"AGI externes\",'Relevés de  commissions'!N2004,0)*1","v":0},{"$f":"IF('Relevés de  commissions'!D2004=\"AGI externes\",'Relevés de  commissions'!O2004,0)*1","v":0},{"$f":"IF('Relevés de  commissions'!D2004=\"AGI externes\",'Relevés de  commissions'!P2004,0)*1","v":0},0,""]
[null,null,null,null,null,null,null,null,null,null,null,null,{"$f":"IF('Relevés de  commissions'!D2011=\"AGI externes\",'Relevés de  commissions'!M2011,0)*1","v":0},{"$f":"IF('Relevés de  commissions'!D2011=\"AGI externes\",'Relevés de  commissions'!N2011,0)*1","v":0},{"$f":"IF('Relevés de  commissions'!D2011=\"AGI externes\",'Relevés de  commissions'!O2011,0)*1","v":0},{"$f":"IF('Relevés de  commissions'!D2011=\"AGI externes\",'Relevés de  commissions'!P2011,0)*1","v":0},0,""]
[null,null,null,null,null,null,null,null,null,null,null,null,{"$f":"IF('Relevés de  commissions'!D2028=\"AGI externes\",'Relevés de  commissions'!M2028,0)*1","v":0},{"$f":"IF('Relevés de  commissions'!D2028=\"AGI externes\",'Relevés de  commissions'!N2028,0)*1","v":0},{"$f":"IF('Relevés de  commissions'!D2028=\"AGI externes\",'Relevés de  commissions'!O2028,0)*1","v":0},{"$f":"IF('Relevés de  commissions'!D2028=\"AGI externes\",'Relevés de  commissions'!P2028,0)*1","v":0},0,""]
[null,null,null,null,null,null,null,null,null,null,null,null,{"$f":"IF('Relevés de  commissions'!D2038=\"AGI externes\",'Relevés de  commissions'!M2038,0)*1","v":0},{"$f":"IF('Relevés de  commissions'!D2038=\"AGI externes\",'Relevés de  commissions'!N2038,0)*1","v":0},{"$f":"IF('Relevés de  commissions'!D2038=\"AGI externes\",'Relevés de  commissions'!O2038,0)*1","v":0},{"$f":"IF('Relevés de  commissions'!D2038=\"AGI externes\",'Relevés de  commissions'!P2038,0)*1","v":0},0,""]
[null,null,null,null,null,null,null,null,null,null,null,null,{"$f":"IF('Relevés de  commissions'!D2044=\"AGI externes\",'Relevés de  commissions'!M2044,0)*1","v":0},{"$f":"IF('Relevés de  commissions'!D2044=\"AGI externes\",'Relevés de  commissions'!N2044,0)*1","v":0},{"$f":"IF('Relevés de  commissions'!D2044=\"AGI externes\",'Relevés de  commissions'!O2044,0)*1","v":0},{"$f":"IF('Relevés de  commissions'!D2044=\"AGI externes\",'Relevés de  commissions'!P2044,0)*1","v":0},0,""]
[null,null,null,null,null,null,null,null,null,null,null,null,{"$f":"IF('Relevés de  commissions'!D2061=\"AGI externes\",'Relevés de  commissions'!M2061,0)*1","v":0},{"$f":"IF('Relevés de  commissions'!D2061=\"AGI externes\",'Relevés de  commissions'!N2061,0)*1","v":0},{"$f":"IF('Relevés de  commissions'!D2061=\"AGI externes\",'Relevés de  commissions'!O2061,0)*1","v":0},{"$f":"IF('Relevés de  commissions'!D2061=\"AGI externes\",'Relevés de  commissions'!P2061,0)*1","v":0},0,""]
[null,null,null,null,null,null,null,null,null,null,null,null,{"$f":"IF('Relevés de  commissions'!D2067=\"AGI externes\",'Relevés de  commissions'!M2067,0)*1","v":0},{"$f":"IF('Relevés de  commissions'!D2067=\"AGI externes\",'Relevés de  commissions'!N2067,0)*1","v":0},{"$f":"IF('Relevés de  commissions'!D2067=\"AGI externes\",'Relevés de  commissions'!O2067,0)*1","v":0},{"$f":"IF('Relevés de  commissions'!D2067=\"AGI externes\",'Relevés de  commissions'!P2067,0)*1","v":0},0,""]
[null,null,null,null,null,null,null,null,null,null,null,null,{"$f":"IF('Relevés de  commissions'!D2076=\"AGI externes\",'Relevés de  commissions'!M2076,0)*1","v":0},{"$f":"IF('Relevés de  commissions'!D2076=\"AGI externes\",'Relevés de  commissions'!N2076,0)*1","v":0},{"$f":"IF('Relevés de  commissions'!D2076=\"AGI externes\",'Relevés de  commissions'!O2076,0)*1","v":0},{"$f":"IF('Relevés de  commissions'!D2076=\"AGI externes\",'Relevés de  commissions'!P2076,0)*1","v":0},0,""]
[null,null,null,null,null,null,null,null,null,null,null,null,{"$f":"IF('Relevés de  commissions'!D2086=\"AGI externes\",'Relevés de  commissions'!M2086,0)*1","v":0},{"$f":"IF('Relevés de  commissions'!D2086=\"AGI externes\",'Relevés de  commissions'!N2086,0)*1","v":0},{"$f":"IF('Relevés de  commissions'!D2086=\"AGI externes\",'Relevés de  commissions'!O2086,0)*1","v":0},{"$f":"IF('Relevés de  commissions'!D2086=\"AGI externes\",'Relevés de  commissions'!P2086,0)*1","v":0},0,""]
[null,null,null,null,null,null,null,null,null,null,null,null,{"$f":"IF('Relevés de  commissions'!D2103=\"AGI externes\",'Relevés de  commissions'!M2103,0)*1","v":0},{"$f":"IF('Relevés de  commissions'!D2103=\"AGI externes\",'Relevés de  commissions'!N2103,0)*1","v":0},{"$f":"IF('Relevés de  commissions'!D2103=\"AGI externes\",'Relevés de  commissions'!O2103,0)*1","v":0},{"$f":"IF('Relevés de  commissions'!D2103=\"AGI externes\",'Relevés de  commissions'!P2103,0)*1","v":0},0,""]
[null,null,null,null,null,null,null,null,null,null,null,null,{"$f":"IF('Relevés de  commissions'!D2109=\"AGI externes\",'Relevés de  commissions'!M2109,0)*1","v":0},{"$f":"IF('Relevés de  commissions'!D2109=\"AGI externes\",'Relevés de  commissions'!N2109,0)*1","v":0},{"$f":"IF('Relevés de  commissions'!D2109=\"AGI externes\",'Relevés de  commissions'!O2109,0)*1","v":0},{"$f":"IF('Relevés de  commissions'!D2109=\"AGI externes\",'Relevés de  commissions'!P2109,0)*1","v":0},0,""]
[null,null,null,null,null,null,null,null,null,null,null,null,{"$f":"IF('Relevés de  commissions'!D2119=\"AGI externes\",'Relevés de  commissions'!M2119,0)*1","v":0},{"$f":"IF('Relevés de  commissions'!D2119=\"AGI externes\",'Relevés de  commissions'!N2119,0)*1","v":0},{"$f":"IF('Relevés de  commissions'!D2119=\"AGI externes\",'Relevés de  commissions'!O2119,0)*1","v":0},{"$f":"IF('Relevés de  commissions'!D2119=\"AGI externes\",'Relevés de  commissions'!P2119,0)*1","v":0},0,""]
[null,null,null,null,null,null,null,null,null,null,null,null,{"$f":"IF('Relevés de  commissions'!D2134=\"AGI externes\",'Relevés de  commissions'!M2134,0)*1","v":0},{"$f":"IF('Relevés de  commissions'!D2134=\"AGI externes\",'Relevés de  commissions'!N2134,0)*1","v":0},{"$f":"IF('Relevés de  commissions'!D2134=\"AGI externes\",'Relevés de  commissions'!O2134,0)*1","v":0},{"$f":"IF('Relevés de  commissions'!D2134=\"AGI externes\",'Relevés de  commissions'!P2134,0)*1","v":0},0,""]
[null,null,null,null,null,null,null,null,null,null,null,null,{"$f":"IF('Relevés de  commissions'!D2141=\"AGI externes\",'Relevés de  commissions'!M2141,0)*1","v":0},{"$f":"IF('Relevés de  commissions'!D2141=\"AGI externes\",'Relevés de  commissions'!N2141,0)*1","v":0},{"$f":"IF('Relevés de  commissions'!D2141=\"AGI externes\",'Relevés de  commissions'!O2141,0)*1","v":0},{"$f":"IF('Relevés de  commissions'!D2141=\"AGI externes\",'Relevés de  commissions'!P2141,0)*1","v":0},0,""]
[null,null,null,null,null,null,null,null,null,null,null,null,{"$f":"IF('Relevés de  commissions'!D2151=\"AGI externes\",'Relevés de  commissions'!M2151,0)*1","v":0},{"$f":"IF('Relevés de  commissions'!D2151=\"AGI externes\",'Relevés de  commissions'!N2151,0)*1","v":0},{"$f":"IF('Relevés de  commissions'!D2151=\"AGI externes\",'Relevés de  commissions'!O2151,0)*1","v":0},{"$f":"IF('Relevés de  commissions'!D2151=\"AGI externes\",'Relevés de  commissions'!P2151,0)*1","v":0},0,""]
[null,null,null,null,null,null,null,null,null,null,null,null,{"$f":"IF('Relevés de  commissions'!D2168=\"AGI externes\",'Relevés de  commissions'!M2168,0)*1","v":0},{"$f":"IF('Relevés de  commissions'!D2168=\"AGI externes\",'Relevés de  commissions'!N2168,0)*1","v":0},{"$f":"IF('Relevés de  commissions'!D2168=\"AGI externes\",'Relevés de  commissions'!O2168,0)*1","v":0},{"$f":"IF('Relevés de  commissions'!D2168=\"AGI externes\",'Relevés de  commissions'!P2168,0)*1","v":0},0,""]
[null,null,null,null,null,null,null,null,null,null,null,null,{"$f":"IF('Relevés de  commissions'!D2178=\"AGI externes\",'Relevés de  commissions'!M2178,0)*1","v":0},{"$f":"IF('Relevés de  commissions'!D2178=\"AGI externes\",'Relevés de  commissions'!N2178,0)*1","v":0},{"$f":"IF('Relevés de  commissions'!D2178=\"AGI externes\",'Relevés de  commissions'!O2178,0)*1","v":0},{"$f":"IF('Relevés de  commissions'!D2178=\"AGI externes\",'Relevés de  commissions'!P2178,0)*1","v":0},0,""]
[null,null,null,null,null,null,null,null,null,null,null,null,{"$f":"IF('Relevés de  commissions'!D2184=\"AGI externes\",'Relevés de  commissions'!M2184,0)*1","v":0},{"$f":"IF('Relevés de  commissions'!D2184=\"AGI externes\",'Relevés de  commissions'!N2184,0)*1","v":0},{"$f":"IF('Relevés de  commissions'!D2184=\"AGI externes\",'Relevés de  commissions'!O2184,0)*1","v":0},{"$f":"IF('Relevés de  commissions'!D2184=\"AGI externes\",'Relevés de  commissions'!P2184,0)*1","v":0},0,""]
[null,null,null,null,null,null,null,null,null,null,null,null,{"$f":"IF('Relevés de  commissions'!D2201=\"AGI externes\",'Relevés de  commissions'!M2201,0)*1","v":0},{"$f":"IF('Relevés de  commissions'!D2201=\"AGI externes\",'Relevés de  commissions'!N2201,0)*1","v":0},{"$f":"IF('Relevés de  commissions'!D2201=\"AGI externes\",'Relevés de  commissions'!O2201,0)*1","v":0},{"$f":"IF('Relevés de  commissions'!D2201=\"AGI externes\",'Relevés de  commissions'!P2201,0)*1","v":0},0,""]
[null,null,null,null,null,null,null,null,null,null,null,null,{"$f":"IF('Relevés de  commissions'!D2210=\"AGI externes\",'Relevés de  commissions'!M2210,0)*1","v":0},{"$f":"IF('Relevés de  commissions'!D2210=\"AGI externes\",'Relevés de  commissions'!N2210,0)*1","v":0},{"$f":"IF('Relevés de  commissions'!D2210=\"AGI externes\",'Relevés de  commissions'!O2210,0)*1","v":0},{"$f":"IF('Relevés de  commissions'!D2210=\"AGI externes\",'Relevés de  commissions'!P2210,0)*1","v":0},0,""]
[null,null,null,null,null,null,null,null,null,null,null,null,{"$f":"IF('Relevés de  commissions'!D2216=\"AGI externes\",'Relevés de  commissions'!M2216,0)*1","v":0},{"$f":"IF('Relevés de  commissions'!D2216=\"AGI externes\",'Relevés de  commissions'!N2216,0)*1","v":0},{"$f":"IF('Relevés de  commissions'!D2216=\"AGI externes\",'Relevés de  commissions'!O2216,0)*1","v":0},{"$f":"IF('Relevés de  commissions'!D2216=\"AGI externes\",'Relevés de  commissions'!P2216,0)*1","v":0},0,""]
[null,null,null,null,null,null,null,null,null,null,null,null,{"$f":"IF('Relevés de  commissions'!D2226=\"AGI externes\",'Relevés de  commissions'!M2226,0)*1","v":0},{"$f":"IF('Relevés de  commissions'!D2226=\"AGI externes\",'Relevés de  commissions'!N2226,0)*1","v":0},{"$f":"IF('Relevés de  commissions'!D2226=\"AGI externes\",'Relevés de  commissions'!O2226,0)*1","v":0},{"$f":"IF('Relevés de  commissions'!D2226=\"AGI externes\",'Relevés de  commissions'!P2226,0)*1","v":0},0,""]
[null,null,null,null,null,null,null,null,null,null,null,null,{"$f":"IF('Relevés de  commissions'!D2243=\"AGI externes\",'Relevés de  commissions'!M2243,0)*1","v":0},{"$f":"IF('Relevés de  commissions'!D2243=\"AGI externes\",'Relevés de  commissions'!N2243,0)*1","v":0},{"$f":"IF('Relevés de  commissions'!D2243=\"AGI externes\",'Relevés de  commissions'!O2243,0)*1","v":0},{"$f":"IF('Relevés de  commissions'!D2243=\"AGI externes\",'Relevés de  commissions'!P2243,0)*1","v":0},{"$f":"IF(N2245=0,O2245,\"\")","v":0},{"$f":"IF(N2245=10,O2245,\"\")","v":""}]
[null,null,null,null,null,null,null,null,null,null,null,null,{"$f":"IF('Relevés de  commissions'!D2249=\"AGI externes\",'Relevés de  commissions'!M2249,0)*1","v":0},{"$f":"IF('Relevés de  commissions'!D2249=\"AGI externes\",'Relevés de  commissions'!N2249,0)*1","v":0},{"$f":"IF('Relevés de  commissions'!D2249=\"AGI externes\",'Relevés de  commissions'!O2249,0)*1","v":0},{"$f":"IF('Relevés de  commissions'!D2249=\"AGI externes\",'Relevés de  commissions'!P2249,0)*1","v":0},0,""]
[null,null,null,null,null,null,null,null,null,null,null,null,{"$f":"IF('Relevés de  commissions'!D2264=\"AGI externes\",'Relevés de  commissions'!M2264,0)*1","v":0},{"$f":"IF('Relevés de  commissions'!D2264=\"AGI externes\",'Relevés de  commissions'!N2264,0)*1","v":0},{"$f":"IF('Relevés de  commissions'!D2264=\"AGI externes\",'Relevés de  commissions'!O2264,0)*1","v":0},{"$f":"IF('Relevés de  commissions'!D2264=\"AGI externes\",'Relevés de  commissions'!P2264,0)*1","v":0},0,""]
[null,null,null,null,null,null,null,null,null,null,null,null,{"$f":"IF('Relevés de  commissions'!D2275=\"AGI externes\",'Relevés de  commissions'!M2275,0)*1","v":0},{"$f":"IF('Relevés de  commissions'!D2275=\"AGI externes\",'Relevés de  commissions'!N2275,0)*1","v":0},{"$f":"IF('Relevés de  commissions'!D2275=\"AGI externes\",'Relevés de  commissions'!O2275,0)*1","v":0},{"$f":"IF('Relevés de  commissions'!D2275=\"AGI externes\",'Relevés de  commissions'!P2275,0)*1","v":0},0,""]
[null,null,null,null,null,null,null,null,null,null,null,null,{"$f":"IF('Relevés de  commissions'!D2281=\"AGI externes\",'Relevés de  commissions'!M2281,0)*1","v":0},{"$f":"IF('Relevés de  commissions'!D2281=\"AGI externes\",'Relevés de  commissions'!N2281,0)*1","v":0},{"$f":"IF('Relevés de  commissions'!D2281=\"AGI externes\",'Relevés de  commissions'!O2281,0)*1","v":0},{"$f":"IF('Relevés de  commissions'!D2281=\"AGI externes\",'Relevés de  commissions'!P2281,0)*1","v":0},0,""]
[null,null,null,null,null,null,null,null,null,null,null,null,{"$f":"IF('Relevés de  commissions'!D2291=\"AGI externes\",'Relevés de  commissions'!M2291,0)*1","v":0},{"$f":"IF('Relevés de  commissions'!D2291=\"AGI externes\",'Relevés de  commissions'!N2291,0)*1","v":0},{"$f":"IF('Relevés de  commissions'!D2291=\"AGI externes\",'Relevés de  commissions'!O2291,0)*1","v":0},{"$f":"IF('Relevés de  commissions'!D2291=\"AGI externes\",'Relevés de  commissions'!P2291,0)*1","v":0},0,""]
[null,null,null,null,null,null,null,null,null,null,null,null,{"$f":"IF('Relevés de  commissions'!D2308=\"AGI externes\",'Relevés de  commissions'!M2308,0)*1","v":0},{"$f":"IF('Relevés de  commissions'!D2308=\"AGI externes\",'Relevés de  commissions'!N2308,0)*1","v":0},{"$f":"IF('Relevés de  commissions'!D2308=\"AGI externes\",'Relevés de  commissions'!O2308,0)*1","v":0},{"$f":"IF('Relevés de  commissions'!D2308=\"AGI externes\",'Relevés de  commissions'!P2308,0)*1","v":0},0,""]
[null,null,null,null,null,null,null,null,null,null,null,null,{"$f":"IF('Relevés de  commissions'!D2318=\"AGI externes\",'Relevés de  commissions'!M2318,0)*1","v":0},{"$f":"IF('Relevés de  commissions'!D2318=\"AGI externes\",'Relevés de  commissions'!N2318,0)*1","v":0},{"$f":"IF('Relevés de  commissions'!D2318=\"AGI externes\",'Relevés de  commissions'!O2318,0)*1","v":0},{"$f":"IF('Relevés de  commissions'!D2318=\"AGI externes\",'Relevés de  commissions'!P2318,0)*1","v":0},0,""]
[null,null,null,null,null,null,null,null,null,null,null,null,{"$f":"IF('Relevés de  commissions'!D2331=\"AGI externes\",'Relevés de  commissions'!M2331,0)*1","v":0},{"$f":"IF('Relevés de  commissions'!D2331=\"AGI externes\",'Relevés de  commissions'!N2331,0)*1","v":0},{"$f":"IF('Relevés de  commissions'!D2331=\"AGI externes\",'Relevés de  commissions'!O2331,0)*1","v":0},{"$f":"IF('Relevés de  commissions'!D2331=\"AGI externes\",'Relevés de  commissions'!P2331,0)*1","v":0},0,""]
[null,null,null,null,null,null,null,null,null,null,null,null,{"$f":"IF('Relevés de  commissions'!D2340=\"AGI externes\",'Relevés de  commissions'!M2340,0)*1","v":0},{"$f":"IF('Relevés de  commissions'!D2340=\"AGI externes\",'Relevés de  commissions'!N2340,0)*1","v":0},{"$f":"IF('Relevés de  commissions'!D2340=\"AGI externes\",'Relevés de  commissions'!O2340,0)*1","v":0},{"$f":"IF('Relevés de  commissions'!D2340=\"AGI externes\",'Relevés de  commissions'!P2340,0)*1","v":0},0,""]
[null,null,null,null,null,null,null,null,null,null,null,null,{"$f":"IF('Relevés de  commissions'!D2350=\"AGI externes\",'Relevés de  commissions'!M2350,0)*1","v":0},{"$f":"IF('Relevés de  commissions'!D2350=\"AGI externes\",'Relevés de  commissions'!N2350,0)*1","v":0},{"$f":"IF('Relevés de  commissions'!D2350=\"AGI externes\",'Relevés de  commissions'!O2350,0)*1","v":0},{"$f":"IF('Relevés de  commissions'!D2350=\"AGI externes\",'Relevés de  commissions'!P2350,0)*1","v":0},0,""]
[null,null,null,null,null,null,null,null,null,null,null,null,{"$f":"IF('Relevés de  commissions'!D2356=\"AGI externes\",'Relevés de  commissions'!M2356,0)*1","v":0},{"$f":"IF('Relevés de  commissions'!D2356=\"AGI externes\",'Relevés de  commissions'!N2356,0)*1","v":0},{"$f":"IF('Relevés de  commissions'!D2356=\"AGI externes\",'Relevés de  commissions'!O2356,0)*1","v":0},{"$f":"IF('Relevés de  commissions'!D2356=\"AGI externes\",'Relevés de  commissions'!P2356,0)*1","v":0},0,""]
[null,null,null,null,null,null,null,null,null,null,null,null,{"$f":"IF('Relevés de  commissions'!D2373=\"AGI externes\",'Relevés de  commissions'!M2373,0)*1","v":0},{"$f":"IF('Relevés de  commissions'!D2373=\"AGI externes\",'Relevés de  commissions'!N2373,0)*1","v":0},{"$f":"IF('Relevés de  commissions'!D2373=\"AGI externes\",'Relevés de  commissions'!O2373,0)*1","v":0},{"$f":"IF('Relevés de  commissions'!D2373=\"AGI externes\",'Relevés de  commissions'!P2373,0)*1","v":0},0,""]
[null,null,null,null,null,null,null,null,null,null,null,null,{"$f":"IF('Relevés de  commissions'!D2383=\"AGI externes\",'Relevés de  commissions'!M2383,0)*1","v":0},{"$f":"IF('Relevés de  commissions'!D2383=\"AGI externes\",'Relevés de  commissions'!N2383,0)*1","v":0},{"$f":"IF('Relevés de  commissions'!D2383=\"AGI externes\",'Relevés de  commissions'!O2383,0)*1","v":0},{"$f":"IF('Relevés de  commissions'!D2383=\"AGI externes\",'Relevés de  commissions'!P2383,0)*1","v":0},0,""]
[null,null,null,null,null,null,null,null,null,null,null,null,{"$f":"IF('Relevés de  commissions'!D2398=\"AGI externes\",'Relevés de  commissions'!M2398,0)*1","v":0},{"$f":"IF('Relevés de  commissions'!D2398=\"AGI externes\",'Relevés de  commissions'!N2398,0)*1","v":0},{"$f":"IF('Relevés de  commissions'!D2398=\"AGI externes\",'Relevés de  commissions'!O2398,0)*1","v":0},{"$f":"IF('Relevés de  commissions'!D2398=\"AGI externes\",'Relevés de  commissions'!P2398,0)*1","v":0},0,""]
[null,null,null,null,null,null,null,null,null,null,null,null,{"$f":"IF('Relevés de  commissions'!D2409=\"AGI externes\",'Relevés de  commissions'!M2409,0)*1","v":0},{"$f":"IF('Relevés de  commissions'!D2409=\"AGI externes\",'Relevés de  commissions'!N2409,0)*1","v":0},{"$f":"IF('Relevés de  commissions'!D2409=\"AGI externes\",'Relevés de  commissions'!O2409,0)*1","v":0},{"$f":"IF('Relevés de  commissions'!D2409=\"AGI externes\",'Relevés de  commissions'!P2409,0)*1","v":0},0,""]
[null,null,null,null,null,null,null,null,null,null,null,null,{"$f":"IF('Relevés de  commissions'!D2415=\"AGI externes\",'Relevés de  commissions'!M2415,0)*1","v":0},{"$f":"IF('Relevés de  commissions'!D2415=\"AGI externes\",'Relevés de  commissions'!N2415,0)*1","v":0},{"$f":"IF('Relevés de  commissions'!D2415=\"AGI externes\",'Relevés de  commissions'!O2415,0)*1","v":0},{"$f":"IF('Relevés de  commissions'!D2415=\"AGI externes\",'Relevés de  commissions'!P2415,0)*1","v":0},0,""]
[null,null,null,null,null,null,null,null,null,null,null,null,{"$f":"IF('Relevés de  commissions'!D2421=\"AGI externes\",'Relevés de  commissions'!M2421,0)*1","v":0},{"$f":"IF('Relevés de  commissions'!D2421=\"AGI externes\",'Relevés de  commissions'!N2421,0)*1","v":0},{"$f":"IF('Relevés de  commissions'!D2421=\"AGI externes\",'Relevés de  commissions'!O2421,0)*1","v":0},{"$f":"IF('Relevés de  commissions'!D2421=\"AGI externes\",'Relevés de  commissions'!P2421,0)*1","v":0},0,""]
[null,null,null,null,null,null,null,null,null,null,null,null,{"$f":"IF('Relevés de  commissions'!D2442=\"AGI externes\",'Relevés de  commissions'!M2442,0)*1","v":0},{"$f":"IF('Relevés de  commissions'!D2442=\"AGI externes\",'Relevés de  commissions'!N2442,0)*1","v":0},{"$f":"IF('Relevés de  commissions'!D2442=\"AGI externes\",'Relevés de  commissions'!O2442,0)*1","v":0},{"$f":"IF('Relevés de  commissions'!D2442=\"AGI externes\",'Relevés de  commissions'!P2442,0)*1","v":0},0,""]
[null,null,null,null,null,null,null,null,null,null,null,null,{"$f":"IF('Relevés de  commissions'!D2448=\"AGI externes\",'Relevés de  commissions'!M2448,0)*1","v":0},{"$f":"IF('Relevés de  commissions'!D2448=\"AGI externes\",'Relevés de  commissions'!N2448,0)*1","v":0},{"$f":"IF('Relevés de  commissions'!D2448=\"AGI externes\",'Relevés de  commissions'!O2448,0)*1","v":0},{"$f":"IF('Relevés de  commissions'!D2448=\"AGI externes\",'Relevés de  commissions'!P2448,0)*1","v":0},0,""]
[null,null,null,null,null,null,null,null,null,null,null,null,{"$f":"IF('Relevés de  commissions'!D2461=\"AGI externes\",'Relevés de  commissions'!M2461,0)*1","v":0},{"$f":"IF('Relevés de  commissions'!D2461=\"AGI externes\",'Relevés de  commissions'!N2461,0)*1","v":0},{"$f":"IF('Relevés de  commissions'!D2461=\"AGI externes\",'Relevés de  commissions'!O2461,0)*1","v":0},{"$f":"IF('Relevés de  commissions'!D2461=\"AGI externes\",'Relevés de  commissions'!P2461,0)*1","v":0},0,""]
[null,null,null,null,null,null,null,null,null,null,null,null,{"$f":"IF('Relevés de  commissions'!D2474=\"AGI externes\",'Relevés de  commissions'!M2474,0)*1","v":0},{"$f":"IF('Relevés de  commissions'!D2474=\"AGI externes\",'Relevés de  commissions'!N2474,0)*1","v":0},{"$f":"IF('Relevés de  commissions'!D2474=\"AGI externes\",'Relevés de  commissions'!O2474,0)*1","v":0},{"$f":"IF('Relevés de  commissions'!D2474=\"AGI externes\",'Relevés de  commissions'!P2474,0)*1","v":0},0,""]
[null,null,null,null,null,null,null,null,null,null,null,null,{"$f":"IF('Relevés de  commissions'!D2480=\"AGI externes\",'Relevés de  commissions'!M2480,0)*1","v":0},{"$f":"IF('Relevés de  commissions'!D2480=\"AGI externes\",'Relevés de  commissions'!N2480,0)*1","v":0},{"$f":"IF('Relevés de  commissions'!D2480=\"AGI externes\",'Relevés de  commissions'!O2480,0)*1","v":0},{"$f":"IF('Relevés de  commissions'!D2480=\"AGI externes\",'Relevés de  commissions'!P2480,0)*1","v":0},0,""]
[null,null,null,null,null,null,null,null,null,null,null,null,{"$f":"IF('Relevés de  commissions'!D2490=\"AGI externes\",'Relevés de  commissions'!M2490,0)*1","v":0},{"$f":"IF('Relevés de  commissions'!D2490=\"AGI externes\",'Relevés de  commissions'!N2490,0)*1","v":0},{"$f":"IF('Relevés de  commissions'!D2490=\"AGI externes\",'Relevés de  commissions'!O2490,0)*1","v":0},{"$f":"IF('Relevés de  commissions'!D2490=\"AGI externes\",'Relevés de  commissions'!P2490,0)*1","v":0},0,""]
[null,null,null,null,null,null,null,null,null,null,null,null,{"$f":"IF('Relevés de  commissions'!D2507=\"AGI externes\",'Relevés de  commissions'!M2507,0)*1","v":0},{"$f":"IF('Relevés de  commissions'!D2507=\"AGI externes\",'Relevés de  commissions'!N2507,0)*1","v":0},{"$f":"IF('Relevés de  commissions'!D2507=\"AGI externes\",'Relevés de  commissions'!O2507,0)*1","v":0},{"$f":"IF('Relevés de  commissions'!D2507=\"AGI externes\",'Relevés de  commissions'!P2507,0)*1","v":0},0,""]
[null,null,null,null,null,null,null,null,null,null,null,null,{"$f":"IF('Relevés de  commissions'!D2513=\"AGI externes\",'Relevés de  commissions'!M2513,0)*1","v":0},{"$f":"IF('Relevés de  commissions'!D2513=\"AGI externes\",'Relevés de  commissions'!N2513,0)*1","v":0},{"$f":"IF('Relevés de  commissions'!D2513=\"AGI externes\",'Relevés de  commissions'!O2513,0)*1","v":0},{"$f":"IF('Relevés de  commissions'!D2513=\"AGI externes\",'Relevés de  commissions'!P2513,0)*1","v":0},0,""]
[null,null,null,null,null,null,null,null,null,null,null,null,{"$f":"IF('Relevés de  commissions'!D2528=\"AGI externes\",'Relevés de  commissions'!M2528,0)*1","v":0},{"$f":"IF('Relevés de  commissions'!D2528=\"AGI externes\",'Relevés de  commissions'!N2528,0)*1","v":0},{"$f":"IF('Relevés de  commissions'!D2528=\"AGI externes\",'Relevés de  commissions'!O2528,0)*1","v":0},{"$f":"IF('Relevés de  commissions'!D2528=\"AGI externes\",'Relevés de  commissions'!P2528,0)*1","v":0},0,""]
[null,null,null,null,null,null,null,null,null,null,null,null,{"$f":"IF('Relevés de  commissions'!D2539=\"AGI externes\",'Relevés de  commissions'!M2539,0)*1","v":0},{"$f":"IF('Relevés de  commissions'!D2539=\"AGI externes\",'Relevés de  commissions'!N2539,0)*1","v":0},{"$f":"IF('Relevés de  commissions'!D2539=\"AGI externes\",'Relevés de  commissions'!O2539,0)*1","v":0},{"$f":"IF('Relevés de  commissions'!D2539=\"AGI externes\",'Relevés de  commissions'!P2539,0)*1","v":0},0,""]
[null,null,null,null,null,null,null,null,null,null,null,null,{"$f":"IF('Relevés de  commissions'!D2549=\"AGI externes\",'Relevés de  commissions'!M2549,0)*1","v":0},{"$f":"IF('Relevés de  commissions'!D2549=\"AGI externes\",'Relevés de  commissions'!N2549,0)*1","v":0},{"$f":"IF('Relevés de  commissions'!D2549=\"AGI externes\",'Relevés de  commissions'!O2549,0)*1","v":0},{"$f":"IF('Relevés de  commissions'!D2549=\"AGI externes\",'Relevés de  commissions'!P2549,0)*1","v":0},0,""]
[null,null,null,null,null,null,null,null,null,null,null,null,{"$f":"IF('Relevés de  commissions'!D2555=\"AGI externes\",'Relevés de  commissions'!M2555,0)*1","v":0},{"$f":"IF('Relevés de  commissions'!D2555=\"AGI externes\",'Relevés de  commissions'!N2555,0)*1","v":0},{"$f":"IF('Relevés de  commissions'!D2555=\"AGI externes\",'Relevés de  commissions'!O2555,0)*1","v":0},{"$f":"IF('Relevés de  commissions'!D2555=\"AGI externes\",'Relevés de  commissions'!P2555,0)*1","v":0},0,""]
[null,null,null,null,null,null,null,null,null,null,null,null,{"$f":"IF('Relevés de  commissions'!D2572=\"AGI externes\",'Relevés de  commissions'!M2572,0)*1","v":0},{"$f":"IF('Relevés de  commissions'!D2572=\"AGI externes\",'Relevés de  commissions'!N2572,0)*1","v":0},{"$f":"IF('Relevés de  commissions'!D2572=\"AGI externes\",'Relevés de  commissions'!O2572,0)*1","v":0},{"$f":"IF('Relevés de  commissions'!D2572=\"AGI externes\",'Relevés de  commissions'!P2572,0)*1","v":0},0,""]
[null,null,null,null,null,null,null,null,null,null,null,null,{"$f":"IF('Relevés de  commissions'!D2582=\"AGI externes\",'Relevés de  commissions'!M2582,0)*1","v":0},{"$f":"IF('Relevés de  commissions'!D2582=\"AGI externes\",'Relevés de  commissions'!N2582,0)*1","v":0},{"$f":"IF('Relevés de  commissions'!D2582=\"AGI externes\",'Relevés de  commissions'!O2582,0)*1","v":0},{"$f":"IF('Relevés de  commissions'!D2582=\"AGI externes\",'Relevés de  commissions'!P2582,0)*1","v":0},0,""]
[null,null,null,null,null,null,null,null,null,null,null,null,{"$f":"IF('Relevés de  commissions'!D2585=\"AGI externes\",'Relevés de  commissions'!M2585,0)*1","v":0},{"$f":"IF('Relevés de  commissions'!D2585=\"AGI externes\",'Relevés de  commissions'!N2585,0)*1","v":0},{"$f":"IF('Relevés de  commissions'!D2585=\"AGI externes\",'Relevés de  commissions'!O2585,0)*1","v":0},{"$f":"IF('Relevés de  commissions'!D2585=\"AGI externes\",'Relevés de  commissions'!P2585,0)*1","v":0},0,""]
[null,null,null,null,null,null,null,null,null,null,null,null,{"$f":"IF('Relevés de  commissions'!D2597=\"AGI externes\",'Relevés de  commissions'!M2597,0)*1","v":0},{"$f":"IF('Relevés de  commissions'!D2597=\"AGI externes\",'Relevés de  commissions'!N2597,0)*1","v":0},{"$f":"IF('Relevés de  commissions'!D2597=\"AGI externes\",'Relevés de  commissions'!O2597,0)*1","v":0},{"$f":"IF('Relevés de  commissions'!D2597=\"AGI externes\",'Relevés de  commissions'!P2597,0)*1","v":0},0,""]
[null,null,null,null,null,null,null,null,null,null,null,null,{"$f":"IF('Relevés de  commissions'!D2614=\"AGI externes\",'Relevés de  commissions'!M2614,0)*1","v":0},{"$f":"IF('Relevés de  commissions'!D2614=\"AGI externes\",'Relevés de  commissions'!N2614,0)*1","v":0},{"$f":"IF('Relevés de  commissions'!D2614=\"AGI externes\",'Relevés de  commissions'!O2614,0)*1","v":0},{"$f":"IF('Relevés de  commissions'!D2614=\"AGI externes\",'Relevés de  commissions'!P2614,0)*1","v":0},0,""]
[null,null,null,null,null,null,null,null,null,null,null,null,{"$f":"IF('Relevés de  commissions'!D2620=\"AGI externes\",'Relevés de  commissions'!M2620,0)*1","v":0},{"$f":"IF('Relevés de  commissions'!D2620=\"AGI externes\",'Relevés de  commissions'!N2620,0)*1","v":0},{"$f":"IF('Relevés de  commissions'!D2620=\"AGI externes\",'Relevés de  commissions'!O2620,0)*1","v":0},{"$f":"IF('Relevés de  commissions'!D2620=\"AGI externes\",'Relevés de  commissions'!P2620,0)*1","v":0},0,""]
[null,null,null,null,null,null,null,null,null,null,null,null,{"$f":"IF('Relevés de  commissions'!D2630=\"AGI externes\",'Relevés de  commissions'!M2630,0)*1","v":0},{"$f":"IF('Relevés de  commissions'!D2630=\"AGI externes\",'Relevés de  commissions'!N2630,0)*1","v":0},{"$f":"IF('Relevés de  commissions'!D2630=\"AGI externes\",'Relevés de  commissions'!O2630,0)*1","v":0},{"$f":"IF('Relevés de  commissions'!D2630=\"AGI externes\",'Relevés de  commissions'!P2630,0)*1","v":0},0,""]
[null,null,null,null,null,null,null,null,null,null,null,null,{"$f":"IF('Relevés de  commissions'!D2647=\"AGI externes\",'Relevés de  commissions'!M2647,0)*1","v":0},{"$f":"IF('Relevés de  commissions'!D2647=\"AGI externes\",'Relevés de  commissions'!N2647,0)*1","v":0},{"$f":"IF('Relevés de  commissions'!D2647=\"AGI externes\",'Relevés de  commissions'!O2647,0)*1","v":0},{"$f":"IF('Relevés de  commissions'!D2647=\"AGI externes\",'Relevés de  commissions'!P2647,0)*1","v":0},0,""]
[null,null,null,null,null,null,null,null,null,null,null,null,{"$f":"IF('Relevés de  commissions'!D2652=\"AGI externes\",'Relevés de  commissions'!M2652,0)*1","v":0},{"$f":"IF('Relevés de  commissions'!D2652=\"AGI externes\",'Relevés de  commissions'!N2652,0)*1","v":0},{"$f":"IF('Relevés de  commissions'!D2652=\"AGI externes\",'Relevés de  commissions'!O2652,0)*1","v":0},{"$f":"IF('Relevés de  commissions'!D2652=\"AGI externes\",'Relevés de  commissions'!P2652,0)*1","v":0},0,""]
[null,null,null,null,null,null,null,null,null,null,null,null,{"$f":"IF('Relevés de  commissions'!D2662=\"AGI externes\",'Relevés de  commissions'!M2662,0)*1","v":0},{"$f":"IF('Relevés de  commissions'!D2662=\"AGI externes\",'Relevés de  commissions'!N2662,0)*1","v":0},{"$f":"IF('Relevés de  commissions'!D2662=\"AGI externes\",'Relevés de  commissions'!O2662,0)*1","v":0},{"$f":"IF('Relevés de  commissions'!D2662=\"AGI externes\",'Relevés de  commissions'!P2662,0)*1","v":0},0,""]
[null,null,null,null,null,null,null,null,null,null,null,null,{"$f":"IF('Relevés de  commissions'!D2679=\"AGI externes\",'Relevés de  commissions'!M2679,0)*1","v":0},{"$f":"IF('Relevés de  commissions'!D2679=\"AGI externes\",'Relevés de  commissions'!N2679,0)*1","v":0},{"$f":"IF('Relevés de  commissions'!D2679=\"AGI externes\",'Relevés de  commissions'!O2679,0)*1","v":0},{"$f":"IF('Relevés de  commissions'!D2679=\"AGI externes\",'Relevés de  commissions'!P2679,0)*1","v":0},0,""]
[null,null,null,null,null,null,null,null,null,null,null,null,{"$f":"IF('Relevés de  commissions'!D2689=\"AGI externes\",'Relevés de  commissions'!M2689,0)*1","v":0},{"$f":"IF('Relevés de  commissions'!D2689=\"AGI externes\",'Relevés de  commissions'!N2689,0)*1","v":0},{"$f":"IF('Relevés de  commissions'!D2689=\"AGI externes\",'Relevés de  commissions'!O2689,0)*1","v":0},{"$f":"IF('Relevés de  commissions'!D2689=\"AGI externes\",'Relevés de  commissions'!P2689,0)*1","v":0},0,""]
[null,null,null,null,null,null,null,null,null,null,null,null,{"$f":"IF('Relevés de  commissions'!D2695=\"AGI externes\",'Relevés de  commissions'!M2695,0)*1","v":0},{"$f":"IF('Relevés de  commissions'!D2695=\"AGI externes\",'Relevés de  commissions'!N2695,0)*1","v":0},{"$f":"IF('Relevés de  commissions'!D2695=\"AGI externes\",'Relevés de  commissions'!O2695,0)*1","v":0},{"$f":"IF('Relevés de  commissions'!D2695=\"AGI externes\",'Relevés de  commissions'!P2695,0)*1","v":0},0,""]
[null,null,null,null,null,null,null,null,null,null,null,null,{"$f":"IF('Relevés de  commissions'!D2712=\"AGI externes\",'Relevés de  commissions'!M2712,0)*1","v":0},{"$f":"IF('Relevés de  commissions'!D2712=\"AGI externes\",'Relevés de  commissions'!N2712,0)*1","v":0},{"$f":"IF('Relevés de  commissions'!D2712=\"AGI externes\",'Relevés de  commissions'!O2712,0)*1","v":0},{"$f":"IF('Relevés de  commissions'!D2712=\"AGI externes\",'Relevés de  commissions'!P2712,0)*1","v":0},0,""]
[null,null,null,null,null,null,null,null,null,null,null,null,{"$f":"IF('Relevés de  commissions'!D2715=\"AGI externes\",'Relevés de  commissions'!M2715,0)*1","v":0},{"$f":"IF('Relevés de  commissions'!D2715=\"AGI externes\",'Relevés de  commissions'!N2715,0)*1","v":0},{"$f":"IF('Relevés de  commissions'!D2715=\"AGI externes\",'Relevés de  commissions'!O2715,0)*1","v":0},{"$f":"IF('Relevés de  commissions'!D2715=\"AGI externes\",'Relevés de  commissions'!P2715,0)*1","v":0},0,""]
[null,null,null,null,null,null,null,null,null,null,null,null,{"$f":"IF('Relevés de  commissions'!D2727=\"AGI externes\",'Relevés de  commissions'!M2727,0)*1","v":0},{"$f":"IF('Relevés de  commissions'!D2727=\"AGI externes\",'Relevés de  commissions'!N2727,0)*1","v":0},{"$f":"IF('Relevés de  commissions'!D2727=\"AGI externes\",'Relevés de  commissions'!O2727,0)*1","v":0},{"$f":"IF('Relevés de  commissions'!D2727=\"AGI externes\",'Relevés de  commissions'!P2727,0)*1","v":0},0,""]
[null,null,null,null,null,null,null,null,null,null,null,null,{"$f":"IF('Relevés de  commissions'!D2744=\"AGI externes\",'Relevés de  commissions'!M2744,0)*1","v":0},{"$f":"IF('Relevés de  commissions'!D2744=\"AGI externes\",'Relevés de  commissions'!N2744,0)*1","v":0},{"$f":"IF('Relevés de  commissions'!D2744=\"AGI externes\",'Relevés de  commissions'!O2744,0)*1","v":0},{"$f":"IF('Relevés de  commissions'!D2744=\"AGI externes\",'Relevés de  commissions'!P2744,0)*1","v":0},0,""]
[null,null,null,null,null,null,null,null,null,null,null,null,{"$f":"IF('Relevés de  commissions'!D2754=\"AGI externes\",'Relevés de  commissions'!M2754,0)*1","v":0},{"$f":"IF('Relevés de  commissions'!D2754=\"AGI externes\",'Relevés de  commissions'!N2754,0)*1","v":0},{"$f":"IF('Relevés de  commissions'!D2754=\"AGI externes\",'Relevés de  commissions'!O2754,0)*1","v":0},{"$f":"IF('Relevés de  commissions'!D2754=\"AGI externes\",'Relevés de  commissions'!P2754,0)*1","v":0},0,""]
[null,null,null,null,null,null,null,null,null,null,null,null,{"$f":"IF('Relevés de  commissions'!D2760=\"AGI externes\",'Relevés de  commissions'!M2760,0)*1","v":0},{"$f":"IF('Relevés de  commissions'!D2760=\"AGI externes\",'Relevés de  commissions'!N2760,0)*1","v":0},{"$f":"IF('Relevés de  commissions'!D2760=\"AGI externes\",'Relevés de  commissions'!O2760,0)*1","v":0},{"$f":"IF('Relevés de  commissions'!D2760=\"AGI externes\",'Relevés de  commissions'!P2760,0)*1","v":0},0,""]
[null,null,null,null,null,null,null,null,null,null,null,null,{"$f":"IF('Relevés de  commissions'!D2770=\"AGI externes\",'Relevés de  commissions'!M2770,0)*1","v":0},{"$f":"IF('Relevés de  commissions'!D2770=\"AGI externes\",'Relevés de  commissions'!N2770,0)*1","v":0},{"$f":"IF('Relevés de  commissions'!D2770=\"AGI externes\",'Relevés de  commissions'!O2770,0)*1","v":0},{"$f":"IF('Relevés de  commissions'!D2770=\"AGI externes\",'Relevés de  commissions'!P2770,0)*1","v":0},0,""]
[null,null,null,null,null,null,null,null,null,null,null,null,{"$f":"IF('Relevés de  commissions'!D2782=\"AGI externes\",'Relevés de  commissions'!M2782,0)*1","v":0},{"$f":"IF('Relevés de  commissions'!D2782=\"AGI externes\",'Relevés de  commissions'!N2782,0)*1","v":0},{"$f":"IF('Relevés de  commissions'!D2782=\"AGI externes\",'Relevés de  commissions'!O2782,0)*1","v":0},{"$f":"IF('Relevés de  commissions'!D2782=\"AGI externes\",'Relevés de  commissions'!P2782,0)*1","v":0},0,""]
[null,null,null,null,null,null,null,null,null,null,null,null,{"$f":"IF('Relevés de  commissions'!D2792=\"AGI externes\",'Relevés de  commissions'!M2792,0)*1","v":0},{"$f":"IF('Relevés de  commissions'!D2792=\"AGI externes\",'Relevés de  commissions'!N2792,0)*1","v":0},{"$f":"IF('Relevés de  commissions'!D2792=\"AGI externes\",'Relevés de  commissions'!O2792,0)*1","v":0},{"$f":"IF('Relevés de  commissions'!D2792=\"AGI externes\",'Relevés de  commissions'!P2792,0)*1","v":0},0,""]
[null,null,null,null,null,null,null,null,null,null,null,null,{"$f":"IF('Relevés de  commissions'!D2802=\"AGI externes\",'Relevés de  commissions'!M2802,0)*1","v":0},{"$f":"IF('Relevés de  commissions'!D2802=\"AGI externes\",'Relevés de  commissions'!N2802,0)*1","v":0},{"$f":"IF('Relevés de  commissions'!D2802=\"AGI externes\",'Relevés de  commissions'!O2802,0)*1","v":0},{"$f":"IF('Relevés de  commissions'!D2802=\"AGI externes\",'Relevés de  commissions'!P2802,0)*1","v":0},0,""]
[null,null,null,null,null,null,null,null,null,null,null,null,{"$f":"IF('Relevés de  commissions'!D2819=\"AGI externes\",'Relevés de  commissions'!M2819,0)*1","v":0},{"$f":"IF('Relevés de  commissions'!D2819=\"AGI externes\",'Relevés de  commissions'!N2819,0)*1","v":0},{"$f":"IF('Relevés de  commissions'!D2819=\"AGI externes\",'Relevés de  commissions'!O2819,0)*1","v":0},{"$f":"IF('Relevés de  commissions'!D2819=\"AGI externes\",'Relevés de  commissions'!P2819,0)*1","v":0},{"$f":"IF(N2821=0,O2821,\"\")","v":0},{"$f":"IF(N2821=10,O2821,\"\")","v":""}]
[null,null,null,null,null,null,null,null,null,null,null,null,{"$f":"IF('Relevés de  commissions'!D2829=\"AGI externes\",'Relevés de  commissions'!M2829,0)*1","v":0},{"$f":"IF('Relevés de  commissions'!D2829=\"AGI externes\",'Relevés de  commissions'!N2829,0)*1","v":0},{"$f":"IF('Relevés de  commissions'!D2829=\"AGI externes\",'Relevés de  commissions'!O2829,0)*1","v":0},{"$f":"IF('Relevés de  commissions'!D2829=\"AGI externes\",'Relevés de  commissions'!P2829,0)*1","v":0},0,""]
[null,null,null,null,null,null,null,null,null,null,null,null,{"$f":"IF('Relevés de  commissions'!D2835=\"AGI externes\",'Relevés de  commissions'!M2835,0)*1","v":0},{"$f":"IF('Relevés de  commissions'!D2835=\"AGI externes\",'Relevés de  commissions'!N2835,0)*1","v":0},{"$f":"IF('Relevés de  commissions'!D2835=\"AGI externes\",'Relevés de  commissions'!O2835,0)*1","v":0},{"$f":"IF('Relevés de  commissions'!D2835=\"AGI externes\",'Relevés de  commissions'!P2835,0)*1","v":0},0,""]
[null,null,null,null,null,null,null,null,null,null,null,null,{"$f":"IF('Relevés de  commissions'!D2849=\"AGI externes\",'Relevés de  commissions'!M2849,0)*1","v":0},{"$f":"IF('Relevés de  commissions'!D2849=\"AGI externes\",'Relevés de  commissions'!N2849,0)*1","v":0},{"$f":"IF('Relevés de  commissions'!D2849=\"AGI externes\",'Relevés de  commissions'!O2849,0)*1","v":0},{"$f":"IF('Relevés de  commissions'!D2849=\"AGI externes\",'Relevés de  commissions'!P2849,0)*1","v":0},0,""]
[null,null,null,null,null,null,null,null,null,null,null,null,{"$f":"IF('Relevés de  commissions'!D2861=\"AGI externes\",'Relevés de  commissions'!M2861,0)*1","v":0},{"$f":"IF('Relevés de  commissions'!D2861=\"AGI externes\",'Relevés de  commissions'!N2861,0)*1","v":0},{"$f":"IF('Relevés de  commissions'!D2861=\"AGI externes\",'Relevés de  commissions'!O2861,0)*1","v":0},{"$f":"IF('Relevés de  commissions'!D2861=\"AGI externes\",'Relevés de  commissions'!P2861,0)*1","v":0},0,""]
[null,null,null,null,null,null,null,null,null,null,null,null,{"$f":"IF('Relevés de  commissions'!D2867=\"AGI externes\",'Relevés de  commissions'!M2867,0)*1","v":0},{"$f":"IF('Relevés de  commissions'!D2867=\"AGI externes\",'Relevés de  commissions'!N2867,0)*1","v":0},{"$f":"IF('Relevés de  commissions'!D2867=\"AGI externes\",'Relevés de  commissions'!O2867,0)*1","v":0},{"$f":"IF('Relevés de  commissions'!D2867=\"AGI externes\",'Relevés de  commissions'!P2867,0)*1","v":0},0,""]
[null,null,null,null,null,null,null,null,null,null,null,null,{"$f":"IF('Relevés de  commissions'!D2884=\"AGI externes\",'Relevés de  commissions'!M2884,0)*1","v":0},{"$f":"IF('Relevés de  commissions'!D2884=\"AGI externes\",'Relevés de  commissions'!N2884,0)*1","v":0},{"$f":"IF('Relevés de  commissions'!D2884=\"AGI externes\",'Relevés de  commissions'!O2884,0)*1","v":0},{"$f":"IF('Relevés de  commissions'!D2884=\"AGI externes\",'Relevés de  commissions'!P2884,0)*1","v":0},0,""]
[null,null,null,null,null,null,null,null,null,null,null,null,{"$f":"IF('Relevés de  commissions'!D2894=\"AGI externes\",'Relevés de  commissions'!M2894,0)*1","v":0},{"$f":"IF('Relevés de  commissions'!D2894=\"AGI externes\",'Relevés de  commissions'!N2894,0)*1","v":0},{"$f":"IF('Relevés de  commissions'!D2894=\"AGI externes\",'Relevés de  commissions'!O2894,0)*1","v":0},{"$f":"IF('Relevés de  commissions'!D2894=\"AGI externes\",'Relevés de  commissions'!P2894,0)*1","v":0},0,""]
[null,null,null,null,null,null,null,null,null,null,null,null,{"$f":"IF('Relevés de  commissions'!D2900=\"AGI externes\",'Relevés de  commissions'!M2900,0)*1","v":0},{"$f":"IF('Relevés de  commissions'!D2900=\"AGI externes\",'Relevés de  commissions'!N2900,0)*1","v":0},{"$f":"IF('Relevés de  commissions'!D2900=\"AGI externes\",'Relevés de  commissions'!O2900,0)*1","v":0},{"$f":"IF('Relevés de  commissions'!D2900=\"AGI externes\",'Relevés de  commissions'!P2900,0)*1","v":0},0,""]
[null,null,null,null,null,null,null,null,null,null,null,null,{"$f":"IF('Relevés de  commissions'!D2912=\"AGI externes\",'Relevés de  commissions'!M2912,0)*1","v":0},{"$f":"IF('Relevés de  commissions'!D2912=\"AGI externes\",'Relevés de  commissions'!N2912,0)*1","v":0},{"$f":"IF('Relevés de  commissions'!D2912=\"AGI externes\",'Relevés de  commissions'!O2912,0)*1","v":0},{"$f":"IF('Relevés de  commissions'!D2912=\"AGI externes\",'Relevés de  commissions'!P2912,0)*1","v":0},0,""]
[null,null,null,null,null,null,null,null,null,null,null,null,{"$f":"IF('Relevés de  commissions'!D2926=\"AGI externes\",'Relevés de  commissions'!M2926,0)*1","v":0},{"$f":"IF('Relevés de  commissions'!D2926=\"AGI externes\",'Relevés de  commissions'!N2926,0)*1","v":0},{"$f":"IF('Relevés de  commissions'!D2926=\"AGI externes\",'Relevés de  commissions'!O2926,0)*1","v":0},{"$f":"IF('Relevés de  commissions'!D2926=\"AGI externes\",'Relevés de  commissions'!P2926,0)*1","v":0},0,""]
[null,null,null,null,null,null,null,null,null,null,null,null,{"$f":"IF('Relevés de  commissions'!D2932=\"AGI externes\",'Relevés de  commissions'!M2932,0)*1","v":0},{"$f":"IF('Relevés de  commissions'!D2932=\"AGI externes\",'Relevés de  commissions'!N2932,0)*1","v":0},{"$f":"IF('Relevés de  commissions'!D2932=\"AGI externes\",'Relevés de  commissions'!O2932,0)*1","v":0},{"$f":"IF('Relevés de  commissions'!D2932=\"AGI externes\",'Relevés de  commissions'!P2932,0)*1","v":0},0,""]
[null,null,null,null,null,null,null,null,null,null,null,null,{"$f":"IF('Relevés de  commissions'!D2942=\"AGI externes\",'Relevés de  commissions'!M2942,0)*1","v":0},{"$f":"IF('Relevés de  commissions'!D2942=\"AGI externes\",'Relevés de  commissions'!N2942,0)*1","v":0},{"$f":"IF('Relevés de  commissions'!D2942=\"AGI externes\",'Relevés de  commissions'!O2942,0)*1","v":0},{"$f":"IF('Relevés de  commissions'!D2942=\"AGI externes\",'Relevés de  commissions'!P2942,0)*1","v":0},0,""]
[null,null,null,null,null,null,null,null,null,null,null,null,{"$f":"IF('Relevés de  commissions'!D2959=\"AGI externes\",'Relevés de  commissions'!M2959,0)*1","v":0},{"$f":"IF('Relevés de  commissions'!D2959=\"AGI externes\",'Relevés de  commissions'!N2959,0)*1","v":0},{"$f":"IF('Relevés de  commissions'!D2959=\"AGI externes\",'Relevés de  commissions'!O2959,0)*1","v":0},{"$f":"IF('Relevés de  commissions'!D2959=\"AGI externes\",'Relevés de  commissions'!P2959,0)*1","v":0},0,""]
[null,null,null,null,null,null,null,null,null,null,null,null,{"$f":"IF('Relevés de  commissions'!D2965=\"AGI externes\",'Relevés de  commissions'!M2965,0)*1","v":0},{"$f":"IF('Relevés de  commissions'!D2965=\"AGI externes\",'Relevés de  commissions'!N2965,0)*1","v":0},{"$f":"IF('Relevés de  commissions'!D2965=\"AGI externes\",'Relevés de  commissions'!O2965,0)*1","v":0},{"$f":"IF('Relevés de  commissions'!D2965=\"AGI externes\",'Relevés de  commissions'!P2965,0)*1","v":0},0,""]
[null,null,null,null,null,null,null,null,null,null,null,null,{"$f":"IF('Relevés de  commissions'!D2979=\"AGI externes\",'Relevés de  commissions'!M2979,0)*1","v":0},{"$f":"IF('Relevés de  commissions'!D2979=\"AGI externes\",'Relevés de  commissions'!N2979,0)*1","v":0},{"$f":"IF('Relevés de  commissions'!D2979=\"AGI externes\",'Relevés de  commissions'!O2979,0)*1","v":0},{"$f":"IF('Relevés de  commissions'!D2979=\"AGI externes\",'Relevés de  commissions'!P2979,0)*1","v":0},0,""]
[null,null,null,null,null,null,null,null,null,null,null,null,{"$f":"IF('Relevés de  commissions'!D2991=\"AGI externes\",'Relevés de  commissions'!M2991,0)*1","v":0},{"$f":"IF('Relevés de  commissions'!D2991=\"AGI externes\",'Relevés de  commissions'!N2991,0)*1","v":0},{"$f":"IF('Relevés de  commissions'!D2991=\"AGI externes\",'Relevés de  commissions'!O2991,0)*1","v":0},{"$f":"IF('Relevés de  commissions'!D2991=\"AGI externes\",'Relevés de  commissions'!P2991,0)*1","v":0},0,""]
[null,null,null,null,null,null,null,null,null,null,null,null,{"$f":"IF('Relevés de  commissions'!D3001=\"AGI externes\",'Relevés de  commissions'!M3001,0)*1","v":0},{"$f":"IF('Relevés de  commissions'!D3001=\"AGI externes\",'Relevés de  commissions'!N3001,0)*1","v":0},{"$f":"IF('Relevés de  commissions'!D3001=\"AGI externes\",'Relevés de  commissions'!O3001,0)*1","v":0},{"$f":"IF('Relevés de  commissions'!D3001=\"AGI externes\",'Relevés de  commissions'!P3001,0)*1","v":0},0,""]
[null,null,null,null,null,null,null,null,null,null,null,null,{"$f":"IF('Relevés de  commissions'!D3007=\"AGI externes\",'Relevés de  commissions'!M3007,0)*1","v":0},{"$f":"IF('Relevés de  commissions'!D3007=\"AGI externes\",'Relevés de  commissions'!N3007,0)*1","v":0},{"$f":"IF('Relevés de  commissions'!D3007=\"AGI externes\",'Relevés de  commissions'!O3007,0)*1","v":0},{"$f":"IF('Relevés de  commissions'!D3007=\"AGI externes\",'Relevés de  commissions'!P3007,0)*1","v":0},0,""]
[null,null,null,null,null,null,null,null,null,null,null,null,{"$f":"IF('Relevés de  commissions'!D3024=\"AGI externes\",'Relevés de  commissions'!M3024,0)*1","v":0},{"$f":"IF('Relevés de  commissions'!D3024=\"AGI externes\",'Relevés de  commissions'!N3024,0)*1","v":0},{"$f":"IF('Relevés de  commissions'!D3024=\"AGI externes\",'Relevés de  commissions'!O3024,0)*1","v":0},{"$f":"IF('Relevés de  commissions'!D3024=\"AGI externes\",'Relevés de  commissions'!P3024,0)*1","v":0},0,""]
[null,null,null,null,null,null,null,null,null,null,null,null,{"$f":"IF('Relevés de  commissions'!D3034=\"AGI externes\",'Relevés de  commissions'!M3034,0)*1","v":0},{"$f":"IF('Relevés de  commissions'!D3034=\"AGI externes\",'Relevés de  commissions'!N3034,0)*1","v":0},{"$f":"IF('Relevés de  commissions'!D3034=\"AGI externes\",'Relevés de  commissions'!O3034,0)*1","v":0},{"$f":"IF('Relevés de  commissions'!D3034=\"AGI externes\",'Relevés de  commissions'!P3034,0)*1","v":0},0,""]
[null,null,null,null,null,null,null,null,null,null,null,null,{"$f":"IF('Relevés de  commissions'!D3046=\"AGI externes\",'Relevés de  commissions'!M3046,0)*1","v":0},{"$f":"IF('Relevés de  commissions'!D3046=\"AGI externes\",'Relevés de  commissions'!N3046,0)*1","v":0},{"$f":"IF('Relevés de  commissions'!D3046=\"AGI externes\",'Relevés de  commissions'!O3046,0)*1","v":0},{"$f":"IF('Relevés de  commissions'!D3046=\"AGI externes\",'Relevés de  commissions'!P3046,0)*1","v":0},0,""]
[null,null,null,null,null,null,null,null,null,null,null,null,{"$f":"IF('Relevés de  commissions'!D3049=\"AGI externes\",'Relevés de  commissions'!M3049,0)*1","v":0},{"$f":"IF('Relevés de  commissions'!D3049=\"AGI externes\",'Relevés de  commissions'!N3049,0)*1","v":0},{"$f":"IF('Relevés de  commissions'!D3049=\"AGI externes\",'Relevés de  commissions'!O3049,0)*1","v":0},{"$f":"IF('Relevés de  commissions'!D3049=\"AGI externes\",'Relevés de  commissions'!P3049,0)*1","v":0},0,""]
[null,null,null,null,null,null,null,null,null,null,null,null,{"$f":"IF('Relevés de  commissions'!D3066=\"AGI externes\",'Relevés de  commissions'!M3066,0)*1","v":0},{"$f":"IF('Relevés de  commissions'!D3066=\"AGI externes\",'Relevés de  commissions'!N3066,0)*1","v":0},{"$f":"IF('Relevés de  commissions'!D3066=\"AGI externes\",'Relevés de  commissions'!O3066,0)*1","v":0},{"$f":"IF('Relevés de  commissions'!D3066=\"AGI externes\",'Relevés de  commissions'!P3066,0)*1","v":0},0,""]
[null,null,null,null,null,null,null,null,null,null,null,null,{"$f":"IF('Relevés de  commissions'!D3072=\"AGI externes\",'Relevés de  commissions'!M3072,0)*1","v":0},{"$f":"IF('Relevés de  commissions'!D3072=\"AGI externes\",'Relevés de  commissions'!N3072,0)*1","v":0},{"$f":"IF('Relevés de  commissions'!D3072=\"AGI externes\",'Relevés de  commissions'!O3072,0)*1","v":0},{"$f":"IF('Relevés de  commissions'!D3072=\"AGI externes\",'Relevés de  commissions'!P3072,0)*1","v":0},0,""]
[null,null,null,null,null,null,null,null,null,null,null,null,{"$f":"IF('Relevés de  commissions'!D3082=\"AGI externes\",'Relevés de  commissions'!M3082,0)*1","v":0},{"$f":"IF('Relevés de  commissions'!D3082=\"AGI externes\",'Relevés de  commissions'!N3082,0)*1","v":0},{"$f":"IF('Relevés de  commissions'!D3082=\"AGI externes\",'Relevés de  commissions'!O3082,0)*1","v":0},{"$f":"IF('Relevés de  commissions'!D3082=\"AGI externes\",'Relevés de  commissions'!P3082,0)*1","v":0},0,""]
[null,null,null,null,null,null,null,null,null,null,null,null,{"$f":"IF('Relevés de  commissions'!D3099=\"AGI externes\",'Relevés de  commissions'!M3099,0)*1","v":0},{"$f":"IF('Relevés de  commissions'!D3099=\"AGI externes\",'Relevés de  commissions'!N3099,0)*1","v":0},{"$f":"IF('Relevés de  commissions'!D3099=\"AGI externes\",'Relevés de  commissions'!O3099,0)*1","v":0},{"$f":"IF('Relevés de  commissions'!D3099=\"AGI externes\",'Relevés de  commissions'!P3099,0)*1","v":0},0,""]
[null,null,null,null,null,null,null,null,null,null,null,null,{"$f":"IF('Relevés de  commissions'!D3113=\"AGI externes\",'Relevés de  commissions'!M3113,0)*1","v":0},{"$f":"IF('Relevés de  commissions'!D3113=\"AGI externes\",'Relevés de  commissions'!N3113,0)*1","v":0},{"$f":"IF('Relevés de  commissions'!D3113=\"AGI externes\",'Relevés de  commissions'!O3113,0)*1","v":0},{"$f":"IF('Relevés de  commissions'!D3113=\"AGI externes\",'Relevés de  commissions'!P3113,0)*1","v":0},0,""]
[null,null,null,null,null,null,null,null,null,null,null,null,{"$f":"IF('Relevés de  commissions'!D3114=\"AGI externes\",'Relevés de  commissions'!M3114,0)*1","v":0},{"$f":"IF('Relevés de  commissions'!D3114=\"AGI externes\",'Relevés de  commissions'!N3114,0)*1","v":0},{"$f":"IF('Relevés de  commissions'!D3114=\"AGI externes\",'Relevés de  commissions'!O3114,0)*1","v":0},{"$f":"IF('Relevés de  commissions'!D3114=\"AGI externes\",'Relevés de  commissions'!P3114,0)*1","v":0},0,""]
[null,null,null,null,null,null,null,null,null,null,null,null,{"$f":"IF('Relevés de  commissions'!D3131=\"AGI externes\",'Relevés de  commissions'!M3131,0)*1","v":0},{"$f":"IF('Relevés de  commissions'!D3131=\"AGI externes\",'Relevés de  commissions'!N3131,0)*1","v":0},{"$f":"IF('Relevés de  commissions'!D3131=\"AGI externes\",'Relevés de  commissions'!O3131,0)*1","v":0},{"$f":"IF('Relevés de  commissions'!D3131=\"AGI externes\",'Relevés de  commissions'!P3131,0)*1","v":0},0,""]
[null,null,null,null,null,null,null,null,null,null,null,null,{"$f":"IF('Relevés de  commissions'!D3141=\"AGI externes\",'Relevés de  commissions'!M3141,0)*1","v":0},{"$f":"IF('Relevés de  commissions'!D3141=\"AGI externes\",'Relevés de  commissions'!N3141,0)*1","v":0},{"$f":"IF('Relevés de  commissions'!D3141=\"AGI externes\",'Relevés de  commissions'!O3141,0)*1","v":0},{"$f":"IF('Relevés de  commissions'!D3141=\"AGI externes\",'Relevés de  commissions'!P3141,0)*1","v":0},0,""]
[null,null,null,null,null,null,null,null,null,null,null,null,{"$f":"IF('Relevés de  commissions'!D3147=\"AGI externes\",'Relevés de  commissions'!M3147,0)*1","v":0},{"$f":"IF('Relevés de  commissions'!D3147=\"AGI externes\",'Relevés de  commissions'!N3147,0)*1","v":0},{"$f":"IF('Relevés de  commissions'!D3147=\"AGI externes\",'Relevés de  commissions'!O3147,0)*1","v":0},{"$f":"IF('Relevés de  commissions'!D3147=\"AGI externes\",'Relevés de  commissions'!P3147,0)*1","v":0},0,""]
[null,null,null,null,null,null,null,null,null,null,null,null,{"$f":"IF('Relevés de  commissions'!D3164=\"AGI externes\",'Relevés de  commissions'!M3164,0)*1","v":0},{"$f":"IF('Relevés de  commissions'!D3164=\"AGI externes\",'Relevés de  commissions'!N3164,0)*1","v":0},{"$f":"IF('Relevés de  commissions'!D3164=\"AGI externes\",'Relevés de  commissions'!O3164,0)*1","v":0},{"$f":"IF('Relevés de  commissions'!D3164=\"AGI externes\",'Relevés de  commissions'!P3164,0)*1","v":0},0,""]
[null,null,null,null,null,null,null,null,null,null,null,null,{"$f":"IF('Relevés de  commissions'!D3176=\"AGI externes\",'Relevés de  commissions'!M3176,0)*1","v":0},{"$f":"IF('Relevés de  commissions'!D3176=\"AGI externes\",'Relevés de  commissions'!N3176,0)*1","v":0},{"$f":"IF('Relevés de  commissions'!D3176=\"AGI externes\",'Relevés de  commissions'!O3176,0)*1","v":0},{"$f":"IF('Relevés de  commissions'!D3176=\"AGI externes\",'Relevés de  commissions'!P3176,0)*1","v":0},0,""]
[null,null,null,null,null,null,null,null,null,null,null,null,{"$f":"IF('Relevés de  commissions'!D3179=\"AGI externes\",'Relevés de  commissions'!M3179,0)*1","v":0},{"$f":"IF('Relevés de  commissions'!D3179=\"AGI externes\",'Relevés de  commissions'!N3179,0)*1","v":0},{"$f":"IF('Relevés de  commissions'!D3179=\"AGI externes\",'Relevés de  commissions'!O3179,0)*1","v":0},{"$f":"IF('Relevés de  commissions'!D3179=\"AGI externes\",'Relevés de  commissions'!P3179,0)*1","v":0},0,""]
[null,null,null,null,null,null,null,null,null,null,null,null,{"$f":"IF('Relevés de  commissions'!D3200=\"AGI externes\",'Relevés de  commissions'!M3200,0)*1","v":0},{"$f":"IF('Relevés de  commissions'!D3200=\"AGI externes\",'Relevés de  commissions'!N3200,0)*1","v":0},{"$f":"IF('Relevés de  commissions'!D3200=\"AGI externes\",'Relevés de  commissions'!O3200,0)*1","v":0},{"$f":"IF('Relevés de  commissions'!D3200=\"AGI externes\",'Relevés de  commissions'!P3200,0)*1","v":0},0,""]
[null,null,null,null,null,null,null,null,null,null,null,null,{"$f":"IF('Relevés de  commissions'!D3206=\"AGI externes\",'Relevés de  commissions'!M3206,0)*1","v":0},{"$f":"IF('Relevés de  commissions'!D3206=\"AGI externes\",'Relevés de  commissions'!N3206,0)*1","v":0},{"$f":"IF('Relevés de  commissions'!D3206=\"AGI externes\",'Relevés de  commissions'!O3206,0)*1","v":0},{"$f":"IF('Relevés de  commissions'!D3206=\"AGI externes\",'Relevés de  commissions'!P3206,0)*1","v":0},0,""]
[null,null,null,null,null,null,null,null,null,null,null,null,{"$f":"IF('Relevés de  commissions'!D3212=\"AGI externes\",'Relevés de  commissions'!M3212,0)*1","v":0},{"$f":"IF('Relevés de  commissions'!D3212=\"AGI externes\",'Relevés de  commissions'!N3212,0)*1","v":0},{"$f":"IF('Relevés de  commissions'!D3212=\"AGI externes\",'Relevés de  commissions'!O3212,0)*1","v":0},{"$f":"IF('Relevés de  commissions'!D3212=\"AGI externes\",'Relevés de  commissions'!P3212,0)*1","v":0},0,""]
[null,null,null,null,null,null,null,null,null,null,null,null,{"$f":"IF('Relevés de  commissions'!D3233=\"AGI externes\",'Relevés de  commissions'!M3233,0)*1","v":0},{"$f":"IF('Relevés de  commissions'!D3233=\"AGI externes\",'Relevés de  commissions'!N3233,0)*1","v":0},{"$f":"IF('Relevés de  commissions'!D3233=\"AGI externes\",'Relevés de  commissions'!O3233,0)*1","v":0},{"$f":"IF('Relevés de  commissions'!D3233=\"AGI externes\",'Relevés de  commissions'!P3233,0)*1","v":0},0,""]
[null,null,null,null,null,null,null,null,null,null,null,null,{"$f":"IF('Relevés de  commissions'!D3243=\"AGI externes\",'Relevés de  commissions'!M3243,0)*1","v":0},{"$f":"IF('Relevés de  commissions'!D3243=\"AGI externes\",'Relevés de  commissions'!N3243,0)*1","v":0},{"$f":"IF('Relevés de  commissions'!D3243=\"AGI externes\",'Relevés de  commissions'!O3243,0)*1","v":0},{"$f":"IF('Relevés de  commissions'!D3243=\"AGI externes\",'Relevés de  commissions'!P3243,0)*1","v":0},0,""]
[null,null,null,null,null,null,null,null,null,null,null,null,{"$f":"IF('Relevés de  commissions'!D3244=\"AGI externes\",'Relevés de  commissions'!M3244,0)*1","v":0},{"$f":"IF('Relevés de  commissions'!D3244=\"AGI externes\",'Relevés de  commissions'!N3244,0)*1","v":0},{"$f":"IF('Relevés de  commissions'!D3244=\"AGI externes\",'Relevés de  commissions'!O3244,0)*1","v":0},{"$f":"IF('Relevés de  commissions'!D3244=\"AGI externes\",'Relevés de  commissions'!P3244,0)*1","v":0},0,""]
[null,null,null,null,null,null,null,null,null,null,null,null,{"$f":"IF('Relevés de  commissions'!D3265=\"AGI externes\",'Relevés de  commissions'!M3265,0)*1","v":0},{"$f":"IF('Relevés de  commissions'!D3265=\"AGI externes\",'Relevés de  commissions'!N3265,0)*1","v":0},{"$f":"IF('Relevés de  commissions'!D3265=\"AGI externes\",'Relevés de  commissions'!O3265,0)*1","v":0},{"$f":"IF('Relevés de  commissions'!D3265=\"AGI externes\",'Relevés de  commissions'!P3265,0)*1","v":0},0,""]
[null,null,null,null,null,null,null,null,null,null,null,null,{"$f":"IF('Relevés de  commissions'!D3271=\"AGI externes\",'Relevés de  commissions'!M3271,0)*1","v":0},{"$f":"IF('Relevés de  commissions'!D3271=\"AGI externes\",'Relevés de  commissions'!N3271,0)*1","v":0},{"$f":"IF('Relevés de  commissions'!D3271=\"AGI externes\",'Relevés de  commissions'!O3271,0)*1","v":0},{"$f":"IF('Relevés de  commissions'!D3271=\"AGI externes\",'Relevés de  commissions'!P3271,0)*1","v":0},0,""]
[null,null,null,null,null,null,null,null,null,null,null,null,{"$f":"IF('Relevés de  commissions'!D3281=\"AGI externes\",'Relevés de  commissions'!M3281,0)*1","v":0},{"$f":"IF('Relevés de  commissions'!D3281=\"AGI externes\",'Relevés de  commissions'!N3281,0)*1","v":0},{"$f":"IF('Relevés de  commissions'!D3281=\"AGI externes\",'Relevés de  commissions'!O3281,0)*1","v":0},{"$f":"IF('Relevés de  commissions'!D3281=\"AGI externes\",'Relevés de  commissions'!P3281,0)*1","v":0},0,""]
[null,null,null,null,null,null,null,null,null,null,null,null,{"$f":"IF('Relevés de  commissions'!D3298=\"AGI externes\",'Relevés de  commissions'!M3298,0)*1","v":0},{"$f":"IF('Relevés de  commissions'!D3298=\"AGI externes\",'Relevés de  commissions'!N3298,0)*1","v":0},{"$f":"IF('Relevés de  commissions'!D3298=\"AGI externes\",'Relevés de  commissions'!O3298,0)*1","v":0},{"$f":"IF('Relevés de  commissions'!D3298=\"AGI externes\",'Relevés de  commissions'!P3298,0)*1","v":0},0,""]
[null,null,null,null,null,null,null,null,null,null,null,null,{"$f":"IF('Relevés de  commissions'!D3300=\"AGI externes\",'Relevés de  commissions'!M3300,0)*1","v":0},{"$f":"IF('Relevés de  commissions'!D3300=\"AGI externes\",'Relevés de  commissions'!N3300,0)*1","v":0},{"$f":"IF('Relevés de  commissions'!D3300=\"AGI externes\",'Relevés de  commissions'!O3300,0)*1","v":0},{"$f":"IF('Relevés de  commissions'!D3300=\"AGI externes\",'Relevés de  commissions'!P3300,0)*1","v":0},0,""]
[null,null,null,null,null,null,null,null,null,null,null,null,{"$f":"IF('Relevés de  commissions'!D3313=\"AGI externes\",'Relevés de  commissions'!M3313,0)*1","v":0},{"$f":"IF('Relevés de  commissions'!D3313=\"AGI externes\",'Relevés de  commissions'!N3313,0)*1","v":0},{"$f":"IF('Relevés de  commissions'!D3313=\"AGI externes\",'Relevés de  commissions'!O3313,0)*1","v":0},{"$f":"IF('Relevés de  commissions'!D3313=\"AGI externes\",'Relevés de  commissions'!P3313,0)*1","v":0},0,""]
[null,null,null,null,null,null,null,null,null,null,null,null,{"$f":"IF('Relevés de  commissions'!D3330=\"AGI externes\",'Relevés de  commissions'!M3330,0)*1","v":0},{"$f":"IF('Relevés de  commissions'!D3330=\"AGI externes\",'Relevés de  commissions'!N3330,0)*1","v":0},{"$f":"IF('Relevés de  commissions'!D3330=\"AGI externes\",'Relevés de  commissions'!O3330,0)*1","v":0},{"$f":"IF('Relevés de  commissions'!D3330=\"AGI externes\",'Relevés de  commissions'!P3330,0)*1","v":0},0,""]
[null,null,null,null,null,null,null,null,null,null,null,null,{"$f":"IF('Relevés de  commissions'!D3336=\"AGI externes\",'Relevés de  commissions'!M3336,0)*1","v":0},{"$f":"IF('Relevés de  commissions'!D3336=\"AGI externes\",'Relevés de  commissions'!N3336,0)*1","v":0},{"$f":"IF('Relevés de  commissions'!D3336=\"AGI externes\",'Relevés de  commissions'!O3336,0)*1","v":0},{"$f":"IF('Relevés de  commissions'!D3336=\"AGI externes\",'Relevés de  commissions'!P3336,0)*1","v":0},0,""]
[null,null,null,null,null,null,null,null,null,null,null,null,{"$f":"IF('Relevés de  commissions'!D3346=\"AGI externes\",'Relevés de  commissions'!M3346,0)*1","v":0},{"$f":"IF('Relevés de  commissions'!D3346=\"AGI externes\",'Relevés de  commissions'!N3346,0)*1","v":0},{"$f":"IF('Relevés de  commissions'!D3346=\"AGI externes\",'Relevés de  commissions'!O3346,0)*1","v":0},{"$f":"IF('Relevés de  commissions'!D3346=\"AGI externes\",'Relevés de  commissions'!P3346,0)*1","v":0},0,""]
[null,null,null,null,null,null,null,null,null,null,null,null,{"$f":"IF('Relevés de  commissions'!D3363=\"AGI externes\",'Relevés de  commissions'!M3363,0)*1","v":0},{"$f":"IF('Relevés de  commissions'!D3363=\"AGI externes\",'Relevés de  commissions'!N3363,0)*1","v":0},{"$f":"IF('Relevés de  commissions'!D3363=\"AGI externes\",'Relevés de  commissions'!O3363,0)*1","v":0},{"$f":"IF('Relevés de  commissions'!D3363=\"AGI externes\",'Relevés de  commissions'!P3363,0)*1","v":0},0,""]
[null,null,null,null,null,null,null,null,null,null,null,null,{"$f":"IF('Relevés de  commissions'!D3373=\"AGI externes\",'Relevés de  commissions'!M3373,0)*1","v":0},{"$f":"IF('Relevés de  commissions'!D3373=\"AGI externes\",'Relevés de  commissions'!N3373,0)*1","v":0},{"$f":"IF('Relevés de  commissions'!D3373=\"AGI externes\",'Relevés de  commissions'!O3373,0)*1","v":0},{"$f":"IF('Relevés de  commissions'!D3373=\"AGI externes\",'Relevés de  commissions'!P3373,0)*1","v":0},0,""]
[null,null,null,null,null,null,null,null,null,null,null,null,{"$f":"IF('Relevés de  commissions'!D3378=\"AGI externes\",'Relevés de  commissions'!M3378,0)*1","v":0},{"$f":"IF('Relevés de  commissions'!D3378=\"AGI externes\",'Relevés de  commissions'!N3378,0)*1","v":0},{"$f":"IF('Relevés de  commissions'!D3378=\"AGI externes\",'Relevés de  commissions'!O3378,0)*1","v":0},{"$f":"IF('Relevés de  commissions'!D3378=\"AGI externes\",'Relevés de  commissions'!P3378,0)*1","v":0},0,""]
[null,null,null,null,null,null,null,null,null,null,null,null,{"$f":"IF('Relevés de  commissions'!D3395=\"AGI externes\",'Relevés de  commissions'!M3395,0)*1","v":0},{"$f":"IF('Relevés de  commissions'!D3395=\"AGI externes\",'Relevés de  commissions'!N3395,0)*1","v":0},{"$f":"IF('Relevés de  commissions'!D3395=\"AGI externes\",'Relevés de  commissions'!O3395,0)*1","v":0},{"$f":"IF('Relevés de  commissions'!D3395=\"AGI externes\",'Relevés de  commissions'!P3395,0)*1","v":0},{"$f":"IF(N3397=0,O3397,\"\")","v":0},{"$f":"IF(N3397=10,O3397,\"\")","v":""}]
[null,null,null,null,null,null,null,null,null,null,null,null,{"$f":"IF('Relevés de  commissions'!D3405=\"AGI externes\",'Relevés de  commissions'!M3405,0)*1","v":0},{"$f":"IF('Relevés de  commissions'!D3405=\"AGI externes\",'Relevés de  commissions'!N3405,0)*1","v":0},{"$f":"IF('Relevés de  commissions'!D3405=\"AGI externes\",'Relevés de  commissions'!O3405,0)*1","v":0},{"$f":"IF('Relevés de  commissions'!D3405=\"AGI externes\",'Relevés de  commissions'!P3405,0)*1","v":0},0,""]
[null,null,null,null,null,null,null,null,null,null,null,null,{"$f":"IF('Relevés de  commissions'!D3411=\"AGI externes\",'Relevés de  commissions'!M3411,0)*1","v":0},{"$f":"IF('Relevés de  commissions'!D3411=\"AGI externes\",'Relevés de  commissions'!N3411,0)*1","v":0},{"$f":"IF('Relevés de  commissions'!D3411=\"AGI externes\",'Relevés de  commissions'!O3411,0)*1","v":0},{"$f":"IF('Relevés de  commissions'!D3411=\"AGI externes\",'Relevés de  commissions'!P3411,0)*1","v":0},0,""]
[null,null,null,null,null,null,null,null,null,null,null,null,{"$f":"IF('Relevés de  commissions'!D3421=\"AGI externes\",'Relevés de  commissions'!M3421,0)*1","v":0},{"$f":"IF('Relevés de  commissions'!D3421=\"AGI externes\",'Relevés de  commissions'!N3421,0)*1","v":0},{"$f":"IF('Relevés de  commissions'!D3421=\"AGI externes\",'Relevés de  commissions'!O3421,0)*1","v":0},{"$f":"IF('Relevés de  commissions'!D3421=\"AGI externes\",'Relevés de  commissions'!P3421,0)*1","v":0},0,""]
[null,null,null,null,null,null,null,null,null,null,null,null,{"$f":"IF('Relevés de  commissions'!D3430=\"AGI externes\",'Relevés de  commissions'!M3430,0)*1","v":0},{"$f":"IF('Relevés de  commissions'!D3430=\"AGI externes\",'Relevés de  commissions'!N3430,0)*1","v":0},{"$f":"IF('Relevés de  commissions'!D3430=\"AGI externes\",'Relevés de  commissions'!O3430,0)*1","v":0},{"$f":"IF('Relevés de  commissions'!D3430=\"AGI externes\",'Relevés de  commissions'!P3430,0)*1","v":0},0,""]
[null,null,null,null,null,null,null,null,null,null,null,null,{"$f":"IF('Relevés de  commissions'!D3443=\"AGI externes\",'Relevés de  commissions'!M3443,0)*1","v":0},{"$f":"IF('Relevés de  commissions'!D3443=\"AGI externes\",'Relevés de  commissions'!N3443,0)*1","v":0},{"$f":"IF('Relevés de  commissions'!D3443=\"AGI externes\",'Relevés de  commissions'!O3443,0)*1","v":0},{"$f":"IF('Relevés de  commissions'!D3443=\"AGI externes\",'Relevés de  commissions'!P3443,0)*1","v":0},0,""]
[null,null,null,null,null,null,null,null,null,null,null,null,{"$f":"IF('Relevés de  commissions'!D3453=\"AGI externes\",'Relevés de  commissions'!M3453,0)*1","v":0},{"$f":"IF('Relevés de  commissions'!D3453=\"AGI externes\",'Relevés de  commissions'!N3453,0)*1","v":0},{"$f":"IF('Relevés de  commissions'!D3453=\"AGI externes\",'Relevés de  commissions'!O3453,0)*1","v":0},{"$f":"IF('Relevés de  commissions'!D3453=\"AGI externes\",'Relevés de  commissions'!P3453,0)*1","v":0},0,""]
[null,null,null,null,null,null,null,null,null,null,null,null,{"$f":"IF('Relevés de  commissions'!D3470=\"AGI externes\",'Relevés de  commissions'!M3470,0)*1","v":0},{"$f":"IF('Relevés de  commissions'!D3470=\"AGI externes\",'Relevés de  commissions'!N3470,0)*1","v":0},{"$f":"IF('Relevés de  commissions'!D3470=\"AGI externes\",'Relevés de  commissions'!O3470,0)*1","v":0},{"$f":"IF('Relevés de  commissions'!D3470=\"AGI externes\",'Relevés de  commissions'!P3470,0)*1","v":0},0,""]
[null,null,null,null,null,null,null,null,null,null,null,null,{"$f":"IF('Relevés de  commissions'!D3476=\"AGI externes\",'Relevés de  commissions'!M3476,0)*1","v":0},{"$f":"IF('Relevés de  commissions'!D3476=\"AGI externes\",'Relevés de  commissions'!N3476,0)*1","v":0},{"$f":"IF('Relevés de  commissions'!D3476=\"AGI externes\",'Relevés de  commissions'!O3476,0)*1","v":0},{"$f":"IF('Relevés de  commissions'!D3476=\"AGI externes\",'Relevés de  commissions'!P3476,0)*1","v":0},0,""]
[null,null,null,null,null,null,null,null,null,null,null,null,{"$f":"IF('Relevés de  commissions'!D3486=\"AGI externes\",'Relevés de  commissions'!M3486,0)*1","v":0},{"$f":"IF('Relevés de  commissions'!D3486=\"AGI externes\",'Relevés de  commissions'!N3486,0)*1","v":0},{"$f":"IF('Relevés de  commissions'!D3486=\"AGI externes\",'Relevés de  commissions'!O3486,0)*1","v":0},{"$f":"IF('Relevés de  commissions'!D3486=\"AGI externes\",'Relevés de  commissions'!P3486,0)*1","v":0},0,""]
[null,null,null,null,null,null,null,null,null,null,null,null,{"$f":"IF('Relevés de  commissions'!D3497=\"AGI externes\",'Relevés de  commissions'!M3497,0)*1","v":0},{"$f":"IF('Relevés de  commissions'!D3497=\"AGI externes\",'Relevés de  commissions'!N3497,0)*1","v":0},{"$f":"IF('Relevés de  commissions'!D3497=\"AGI externes\",'Relevés de  commissions'!O3497,0)*1","v":0},{"$f":"IF('Relevés de  commissions'!D3497=\"AGI externes\",'Relevés de  commissions'!P3497,0)*1","v":0},0,""]
[null,null,null,null,null,null,null,null,null,null,null,null,{"$f":"IF('Relevés de  commissions'!D3512=\"AGI externes\",'Relevés de  commissions'!M3512,0)*1","v":0},{"$f":"IF('Relevés de  commissions'!D3512=\"AGI externes\",'Relevés de  commissions'!N3512,0)*1","v":0},{"$f":"IF('Relevés de  commissions'!D3512=\"AGI externes\",'Relevés de  commissions'!O3512,0)*1","v":0},{"$f":"IF('Relevés de  commissions'!D3512=\"AGI externes\",'Relevés de  commissions'!P3512,0)*1","v":0},0,""]
[null,null,null,null,null,null,null,null,null,null,null,null,{"$f":"IF('Relevés de  commissions'!D3518=\"AGI externes\",'Relevés de  commissions'!M3518,0)*1","v":0},{"$f":"IF('Relevés de  commissions'!D3518=\"AGI externes\",'Relevés de  commissions'!N3518,0)*1","v":0},{"$f":"IF('Relevés de  commissions'!D3518=\"AGI externes\",'Relevés de  commissions'!O3518,0)*1","v":0},{"$f":"IF('Relevés de  commissions'!D3518=\"AGI externes\",'Relevés de  commissions'!P3518,0)*1","v":0},0,""]
[null,null,null,null,null,null,null,null,null,null,null,null,{"$f":"IF('Relevés de  commissions'!D3535=\"AGI externes\",'Relevés de  commissions'!M3535,0)*1","v":0},{"$f":"IF('Relevés de  commissions'!D3535=\"AGI externes\",'Relevés de  commissions'!N3535,0)*1","v":0},{"$f":"IF('Relevés de  commissions'!D3535=\"AGI externes\",'Relevés de  commissions'!O3535,0)*1","v":0},{"$f":"IF('Relevés de  commissions'!D3535=\"AGI externes\",'Relevés de  commissions'!P3535,0)*1","v":0},0,""]
[null,null,null,null,null,null,null,null,null,null,null,null,{"$f":"IF('Relevés de  commissions'!D3545=\"AGI externes\",'Relevés de  commissions'!M3545,0)*1","v":0},{"$f":"IF('Relevés de  commissions'!D3545=\"AGI externes\",'Relevés de  commissions'!N3545,0)*1","v":0},{"$f":"IF('Relevés de  commissions'!D3545=\"AGI externes\",'Relevés de  commissions'!O3545,0)*1","v":0},{"$f":"IF('Relevés de  commissions'!D3545=\"AGI externes\",'Relevés de  commissions'!P3545,0)*1","v":0},0,""]
[null,null,null,null,null,null,null,null,null,null,null,null,{"$f":"IF('Relevés de  commissions'!D3551=\"AGI externes\",'Relevés de  commissions'!M3551,0)*1","v":0},{"$f":"IF('Relevés de  commissions'!D3551=\"AGI externes\",'Relevés de  commissions'!N3551,0)*1","v":0},{"$f":"IF('Relevés de  commissions'!D3551=\"AGI externes\",'Relevés de  commissions'!O3551,0)*1","v":0},{"$f":"IF('Relevés de  commissions'!D3551=\"AGI externes\",'Relevés de  commissions'!P3551,0)*1","v":0},0,""]
[null,null,null,null,null,null,null,null,null,null,null,null,{"$f":"IF('Relevés de  commissions'!D3560=\"AGI externes\",'Relevés de  commissions'!M3560,0)*1","v":0},{"$f":"IF('Relevés de  commissions'!D3560=\"AGI externes\",'Relevés de  commissions'!N3560,0)*1","v":0},{"$f":"IF('Relevés de  commissions'!D3560=\"AGI externes\",'Relevés de  commissions'!O3560,0)*1","v":0},{"$f":"IF('Relevés de  commissions'!D3560=\"AGI externes\",'Relevés de  commissions'!P3560,0)*1","v":0},0,""]
[null,null,null,null,null,null,null,null,null,null,null,null,{"$f":"IF('Relevés de  commissions'!D3577=\"AGI externes\",'Relevés de  commissions'!M3577,0)*1","v":0},{"$f":"IF('Relevés de  commissions'!D3577=\"AGI externes\",'Relevés de  commissions'!N3577,0)*1","v":0},{"$f":"IF('Relevés de  commissions'!D3577=\"AGI externes\",'Relevés de  commissions'!O3577,0)*1","v":0},{"$f":"IF('Relevés de  commissions'!D3577=\"AGI externes\",'Relevés de  commissions'!P3577,0)*1","v":0},0,""]
[null,null,null,null,null,null,null,null,null,null,null,null,{"$f":"IF('Relevés de  commissions'!D3583=\"AGI externes\",'Relevés de  commissions'!M3583,0)*1","v":0},{"$f":"IF('Relevés de  commissions'!D3583=\"AGI externes\",'Relevés de  commissions'!N3583,0)*1","v":0},{"$f":"IF('Relevés de  commissions'!D3583=\"AGI externes\",'Relevés de  commissions'!O3583,0)*1","v":0},{"$f":"IF('Relevés de  commissions'!D3583=\"AGI externes\",'Relevés de  commissions'!P3583,0)*1","v":0},0,""]
[null,null,null,null,null,null,null,null,null,null,null,null,{"$f":"IF('Relevés de  commissions'!D3593=\"AGI externes\",'Relevés de  commissions'!M3593,0)*1","v":0},{"$f":"IF('Relevés de  commissions'!D3593=\"AGI externes\",'Relevés de  commissions'!N3593,0)*1","v":0},{"$f":"IF('Relevés de  commissions'!D3593=\"AGI externes\",'Relevés de  commissions'!O3593,0)*1","v":0},{"$f":"IF('Relevés de  commissions'!D3593=\"AGI externes\",'Relevés de  commissions'!P3593,0)*1","v":0},0,""]
[null,null,null,null,null,null,null,null,null,null,null,null,{"$f":"IF('Relevés de  commissions'!D3610=\"AGI externes\",'Relevés de  commissions'!M3610,0)*1","v":0},{"$f":"IF('Relevés de  commissions'!D3610=\"AGI externes\",'Relevés de  commissions'!N3610,0)*1","v":0},{"$f":"IF('Relevés de  commissions'!D3610=\"AGI externes\",'Relevés de  commissions'!O3610,0)*1","v":0},{"$f":"IF('Relevés de  commissions'!D3610=\"AGI externes\",'Relevés de  commissions'!P3610,0)*1","v":0},0,""]
[null,null,null,null,null,null,null,null,null,null,null,null,{"$f":"IF('Relevés de  commissions'!D3616=\"AGI externes\",'Relevés de  commissions'!M3616,0)*1","v":0},{"$f":"IF('Relevés de  commissions'!D3616=\"AGI externes\",'Relevés de  commissions'!N3616,0)*1","v":0},{"$f":"IF('Relevés de  commissions'!D3616=\"AGI externes\",'Relevés de  commissions'!O3616,0)*1","v":0},{"$f":"IF('Relevés de  commissions'!D3616=\"AGI externes\",'Relevés de  commissions'!P3616,0)*1","v":0},0,""]
[null,null,null,null,null,null,null,null,null,null,null,null,{"$f":"IF('Relevés de  commissions'!D3627=\"AGI externes\",'Relevés de  commissions'!M3627,0)*1","v":0},{"$f":"IF('Relevés de  commissions'!D3627=\"AGI externes\",'Relevés de  commissions'!N3627,0)*1","v":0},{"$f":"IF('Relevés de  commissions'!D3627=\"AGI externes\",'Relevés de  commissions'!O3627,0)*1","v":0},{"$f":"IF('Relevés de  commissions'!D3627=\"AGI externes\",'Relevés de  commissions'!P3627,0)*1","v":0},0,""]
[null,null,null,null,null,null,null,null,null,null,null,null,{"$f":"IF('Relevés de  commissions'!D3642=\"AGI externes\",'Relevés de  commissions'!M3642,0)*1","v":0},{"$f":"IF('Relevés de  commissions'!D3642=\"AGI externes\",'Relevés de  commissions'!N3642,0)*1","v":0},{"$f":"IF('Relevés de  commissions'!D3642=\"AGI externes\",'Relevés de  commissions'!O3642,0)*1","v":0},{"$f":"IF('Relevés de  commissions'!D3642=\"AGI externes\",'Relevés de  commissions'!P3642,0)*1","v":0},0,""]
[null,null,null,null,null,null,null,null,null,null,null,null,{"$f":"IF('Relevés de  commissions'!D3652=\"AGI externes\",'Relevés de  commissions'!M3652,0)*1","v":0},{"$f":"IF('Relevés de  commissions'!D3652=\"AGI externes\",'Relevés de  commissions'!N3652,0)*1","v":0},{"$f":"IF('Relevés de  commissions'!D3652=\"AGI externes\",'Relevés de  commissions'!O3652,0)*1","v":0},{"$f":"IF('Relevés de  commissions'!D3652=\"AGI externes\",'Relevés de  commissions'!P3652,0)*1","v":0},0,""]
[null,null,null,null,null,null,null,null,null,null,null,null,{"$f":"IF('Relevés de  commissions'!D3658=\"AGI externes\",'Relevés de  commissions'!M3658,0)*1","v":0},{"$f":"IF('Relevés de  commissions'!D3658=\"AGI externes\",'Relevés de  commissions'!N3658,0)*1","v":0},{"$f":"IF('Relevés de  commissions'!D3658=\"AGI externes\",'Relevés de  commissions'!O3658,0)*1","v":0},{"$f":"IF('Relevés de  commissions'!D3658=\"AGI externes\",'Relevés de  commissions'!P3658,0)*1","v":0},0,""]
[null,null,null,null,null,null,null,null,null,null,null,null,{"$f":"IF('Relevés de  commissions'!D3675=\"AGI externes\",'Relevés de  commissions'!M3675,0)*1","v":0},{"$f":"IF('Relevés de  commissions'!D3675=\"AGI externes\",'Relevés de  commissions'!N3675,0)*1","v":0},{"$f":"IF('Relevés de  commissions'!D3675=\"AGI externes\",'Relevés de  commissions'!O3675,0)*1","v":0},{"$f":"IF('Relevés de  commissions'!D3675=\"AGI externes\",'Relevés de  commissions'!P3675,0)*1","v":0},0,""]
[null,null,null,null,null,null,null,null,null,null,null,null,{"$f":"IF('Relevés de  commissions'!D3685=\"AGI externes\",'Relevés de  commissions'!M3685,0)*1","v":0},{"$f":"IF('Relevés de  commissions'!D3685=\"AGI externes\",'Relevés de  commissions'!N3685,0)*1","v":0},{"$f":"IF('Relevés de  commissions'!D3685=\"AGI externes\",'Relevés de  commissions'!O3685,0)*1","v":0},{"$f":"IF('Relevés de  commissions'!D3685=\"AGI externes\",'Relevés de  commissions'!P3685,0)*1","v":0},0,""]
[null,null,null,null,null,null,null,null,null,null,null,null,{"$f":"IF('Relevés de  commissions'!D3694=\"AGI externes\",'Relevés de  commissions'!M3694,0)*1","v":0},{"$f":"IF('Relevés de  commissions'!D3694=\"AGI externes\",'Relevés de  commissions'!N3694,0)*1","v":0},{"$f":"IF('Relevés de  commissions'!D3694=\"AGI externes\",'Relevés de  commissions'!O3694,0)*1","v":0},{"$f":"IF('Relevés de  commissions'!D3694=\"AGI externes\",'Relevés de  commissions'!P3694,0)*1","v":0},0,""]
[null,null,null,null,null,null,null,null,null,null,null,null,{"$f":"IF('Relevés de  commissions'!D3707=\"AGI externes\",'Relevés de  commissions'!M3707,0)*1","v":0},{"$f":"IF('Relevés de  commissions'!D3707=\"AGI externes\",'Relevés de  commissions'!N3707,0)*1","v":0},{"$f":"IF('Relevés de  commissions'!D3707=\"AGI externes\",'Relevés de  commissions'!O3707,0)*1","v":0},{"$f":"IF('Relevés de  commissions'!D3707=\"AGI externes\",'Relevés de  commissions'!P3707,0)*1","v":0},0,""]
[null,null,null,null,null,null,null,null,null,null,null,null,{"$f":"IF('Relevés de  commissions'!D3717=\"AGI externes\",'Relevés de  commissions'!M3717,0)*1","v":0},{"$f":"IF('Relevés de  commissions'!D3717=\"AGI externes\",'Relevés de  commissions'!N3717,0)*1","v":0},{"$f":"IF('Relevés de  commissions'!D3717=\"AGI externes\",'Relevés de  commissions'!O3717,0)*1","v":0},{"$f":"IF('Relevés de  commissions'!D3717=\"AGI externes\",'Relevés de  commissions'!P3717,0)*1","v":0},0,""]
[null,null,null,null,null,null,null,null,null,null,null,null,{"$f":"IF('Relevés de  commissions'!D3723=\"AGI externes\",'Relevés de  commissions'!M3723,0)*1","v":0},{"$f":"IF('Relevés de  commissions'!D3723=\"AGI externes\",'Relevés de  commissions'!N3723,0)*1","v":0},{"$f":"IF('Relevés de  commissions'!D3723=\"AGI externes\",'Relevés de  commissions'!O3723,0)*1","v":0},{"$f":"IF('Relevés de  commissions'!D3723=\"AGI externes\",'Relevés de  commissions'!P3723,0)*1","v":0},0,""]
[null,null,null,null,null,null,null,null,null,null,null,null,{"$f":"IF('Relevés de  commissions'!D3733=\"AGI externes\",'Relevés de  commissions'!M3733,0)*1","v":0},{"$f":"IF('Relevés de  commissions'!D3733=\"AGI externes\",'Relevés de  commissions'!N3733,0)*1","v":0},{"$f":"IF('Relevés de  commissions'!D3733=\"AGI externes\",'Relevés de  commissions'!O3733,0)*1","v":0},{"$f":"IF('Relevés de  commissions'!D3733=\"AGI externes\",'Relevés de  commissions'!P3733,0)*1","v":0},0,""]
[null,null,null,null,null,null,null,null,null,null,null,null,{"$f":"IF('Relevés de  commissions'!D3750=\"AGI externes\",'Relevés de  commissions'!M3750,0)*1","v":0},{"$f":"IF('Relevés de  commissions'!D3750=\"AGI externes\",'Relevés de  commissions'!N3750,0)*1","v":0},{"$f":"IF('Relevés de  commissions'!D3750=\"AGI externes\",'Relevés de  commissions'!O3750,0)*1","v":0},{"$f":"IF('Relevés de  commissions'!D3750=\"AGI externes\",'Relevés de  commissions'!P3750,0)*1","v":0},0,""]
[null,null,null,null,null,null,null,null,null,null,null,null,{"$f":"IF('Relevés de  commissions'!D3761=\"AGI externes\",'Relevés de  commissions'!M3761,0)*1","v":0},{"$f":"IF('Relevés de  commissions'!D3761=\"AGI externes\",'Relevés de  commissions'!N3761,0)*1","v":0},{"$f":"IF('Relevés de  commissions'!D3761=\"AGI externes\",'Relevés de  commissions'!O3761,0)*1","v":0},{"$f":"IF('Relevés de  commissions'!D3761=\"AGI externes\",'Relevés de  commissions'!P3761,0)*1","v":0},0,""]
[null,null,null,null,null,null,null,null,null,null,null,null,{"$f":"IF('Relevés de  commissions'!D3765=\"AGI externes\",'Relevés de  commissions'!M3765,0)*1","v":0},{"$f":"IF('Relevés de  commissions'!D3765=\"AGI externes\",'Relevés de  commissions'!N3765,0)*1","v":0},{"$f":"IF('Relevés de  commissions'!D3765=\"AGI externes\",'Relevés de  commissions'!O3765,0)*1","v":0},{"$f":"IF('Relevés de  commissions'!D3765=\"AGI externes\",'Relevés de  commissions'!P3765,0)*1","v":0},0,""]
[null,null,null,null,null,null,null,null,null,null,null,null,{"$f":"IF('Relevés de  commissions'!D3782=\"AGI externes\",'Relevés de  commissions'!M3782,0)*1","v":0},{"$f":"IF('Relevés de  commissions'!D3782=\"AGI externes\",'Relevés de  commissions'!N3782,0)*1","v":0},{"$f":"IF('Relevés de  commissions'!D3782=\"AGI externes\",'Relevés de  commissions'!O3782,0)*1","v":0},{"$f":"IF('Relevés de  commissions'!D3782=\"AGI externes\",'Relevés de  commissions'!P3782,0)*1","v":0},0,""]
[null,null,null,null,null,null,null,null,null,null,null,null,{"$f":"IF('Relevés de  commissions'!D3792=\"AGI externes\",'Relevés de  commissions'!M3792,0)*1","v":0},{"$f":"IF('Relevés de  commissions'!D3792=\"AGI externes\",'Relevés de  commissions'!N3792,0)*1","v":0},{"$f":"IF('Relevés de  commissions'!D3792=\"AGI externes\",'Relevés de  commissions'!O3792,0)*1","v":0},{"$f":"IF('Relevés de  commissions'!D3792=\"AGI externes\",'Relevés de  commissions'!P3792,0)*1","v":0},0,""]
[null,null,null,null,null,null,null,null,null,null,null,null,{"$f":"IF('Relevés de  commissions'!D3798=\"AGI externes\",'Relevés de  commissions'!M3798,0)*1","v":0},{"$f":"IF('Relevés de  commissions'!D3798=\"AGI externes\",'Relevés de  commissions'!N3798,0)*1","v":0},{"$f":"IF('Relevés de  commissions'!D3798=\"AGI externes\",'Relevés de  commissions'!O3798,0)*1","v":0},{"$f":"IF('Relevés de  commissions'!D3798=\"AGI externes\",'Relevés de  commissions'!P3798,0)*1","v":0},0,""]
[null,null,null,null,null,null,null,null,null,null,null,null,{"$f":"IF('Relevés de  commissions'!D3815=\"AGI externes\",'Relevés de  commissions'!M3815,0)*1","v":0},{"$f":"IF('Relevés de  commissions'!D3815=\"AGI externes\",'Relevés de  commissions'!N3815,0)*1","v":0},{"$f":"IF('Relevés de  commissions'!D3815=\"AGI externes\",'Relevés de  commissions'!O3815,0)*1","v":0},{"$f":"IF('Relevés de  commissions'!D3815=\"AGI externes\",'Relevés de  commissions'!P3815,0)*1","v":0},0,""]
[null,null,null,null,null,null,null,null,null,null,null,null,{"$f":"IF('Relevés de  commissions'!D3824=\"AGI externes\",'Relevés de  commissions'!M3824,0)*1","v":0},{"$f":"IF('Relevés de  commissions'!D3824=\"AGI externes\",'Relevés de  commissions'!N3824,0)*1","v":0},{"$f":"IF('Relevés de  commissions'!D3824=\"AGI externes\",'Relevés de  commissions'!O3824,0)*1","v":0},{"$f":"IF('Relevés de  commissions'!D3824=\"AGI externes\",'Relevés de  commissions'!P3824,0)*1","v":0},0,""]
[null,null,null,null,null,null,null,null,null,null,null,null,{"$f":"IF('Relevés de  commissions'!D3830=\"AGI externes\",'Relevés de  commissions'!M3830,0)*1","v":0},{"$f":"IF('Relevés de  commissions'!D3830=\"AGI externes\",'Relevés de  commissions'!N3830,0)*1","v":0},{"$f":"IF('Relevés de  commissions'!D3830=\"AGI externes\",'Relevés de  commissions'!O3830,0)*1","v":0},{"$f":"IF('Relevés de  commissions'!D3830=\"AGI externes\",'Relevés de  commissions'!P3830,0)*1","v":0},0,""]
[null,null,null,null,null,null,null,null,null,null,null,null,{"$f":"IF('Relevés de  commissions'!D3847=\"AGI externes\",'Relevés de  commissions'!M3847,0)*1","v":0},{"$f":"IF('Relevés de  commissions'!D3847=\"AGI externes\",'Relevés de  commissions'!N3847,0)*1","v":0},{"$f":"IF('Relevés de  commissions'!D3847=\"AGI externes\",'Relevés de  commissions'!O3847,0)*1","v":0},{"$f":"IF('Relevés de  commissions'!D3847=\"AGI externes\",'Relevés de  commissions'!P3847,0)*1","v":0},0,""]
[null,null,null,null,null,null,null,null,null,null,null,null,{"$f":"IF('Relevés de  commissions'!D3857=\"AGI externes\",'Relevés de  commissions'!M3857,0)*1","v":0},{"$f":"IF('Relevés de  commissions'!D3857=\"AGI externes\",'Relevés de  commissions'!N3857,0)*1","v":0},{"$f":"IF('Relevés de  commissions'!D3857=\"AGI externes\",'Relevés de  commissions'!O3857,0)*1","v":0},{"$f":"IF('Relevés de  commissions'!D3857=\"AGI externes\",'Relevés de  commissions'!P3857,0)*1","v":0},0,""]
[null,null,null,null,null,null,null,null,null,null,null,null,{"$f":"IF('Relevés de  commissions'!D3863=\"AGI externes\",'Relevés de  commissions'!M3863,0)*1","v":0},{"$f":"IF('Relevés de  commissions'!D3863=\"AGI externes\",'Relevés de  commissions'!N3863,0)*1","v":0},{"$f":"IF('Relevés de  commissions'!D3863=\"AGI externes\",'Relevés de  commissions'!O3863,0)*1","v":0},{"$f":"IF('Relevés de  commissions'!D3863=\"AGI externes\",'Relevés de  commissions'!P3863,0)*1","v":0},0,""]
[null,null,null,null,null,null,null,null,null,null,null,null,{"$f":"IF('Relevés de  commissions'!D3873=\"AGI externes\",'Relevés de  commissions'!M3873,0)*1","v":0},{"$f":"IF('Relevés de  commissions'!D3873=\"AGI externes\",'Relevés de  commissions'!N3873,0)*1","v":0},{"$f":"IF('Relevés de  commissions'!D3873=\"AGI externes\",'Relevés de  commissions'!O3873,0)*1","v":0},{"$f":"IF('Relevés de  commissions'!D3873=\"AGI externes\",'Relevés de  commissions'!P3873,0)*1","v":0},0,""]
[null,null,null,null,null,null,null,null,null,null,null,null,{"$f":"IF('Relevés de  commissions'!D3891=\"AGI externes\",'Relevés de  commissions'!M3891,0)*1","v":0},{"$f":"IF('Relevés de  commissions'!D3891=\"AGI externes\",'Relevés de  commissions'!N3891,0)*1","v":0},{"$f":"IF('Relevés de  commissions'!D3891=\"AGI externes\",'Relevés de  commissions'!O3891,0)*1","v":0},{"$f":"IF('Relevés de  commissions'!D3891=\"AGI externes\",'Relevés de  commissions'!P3891,0)*1","v":0},0,""]
[null,null,null,null,null,null,null,null,null,null,null,null,{"$f":"IF('Relevés de  commissions'!D3895=\"AGI externes\",'Relevés de  commissions'!M3895,0)*1","v":0},{"$f":"IF('Relevés de  commissions'!D3895=\"AGI externes\",'Relevés de  commissions'!N3895,0)*1","v":0},{"$f":"IF('Relevés de  commissions'!D3895=\"AGI externes\",'Relevés de  commissions'!O3895,0)*1","v":0},{"$f":"IF('Relevés de  commissions'!D3895=\"AGI externes\",'Relevés de  commissions'!P3895,0)*1","v":0},0,""]
[null,null,null,null,null,null,null,null,null,null,null,null,{"$f":"IF('Relevés de  commissions'!D3905=\"AGI externes\",'Relevés de  commissions'!M3905,0)*1","v":0},{"$f":"IF('Relevés de  commissions'!D3905=\"AGI externes\",'Relevés de  commissions'!N3905,0)*1","v":0},{"$f":"IF('Relevés de  commissions'!D3905=\"AGI externes\",'Relevés de  commissions'!O3905,0)*1","v":0},{"$f":"IF('Relevés de  commissions'!D3905=\"AGI externes\",'Relevés de  commissions'!P3905,0)*1","v":0},0,""]
[null,null,null,null,null,null,null,null,null,null,null,null,{"$f":"IF('Relevés de  commissions'!D3922=\"AGI externes\",'Relevés de  commissions'!M3922,0)*1","v":0},{"$f":"IF('Relevés de  commissions'!D3922=\"AGI externes\",'Relevés de  commissions'!N3922,0)*1","v":0},{"$f":"IF('Relevés de  commissions'!D3922=\"AGI externes\",'Relevés de  commissions'!O3922,0)*1","v":0},{"$f":"IF('Relevés de  commissions'!D3922=\"AGI externes\",'Relevés de  commissions'!P3922,0)*1","v":0},0,""]
[null,null,null,null,null,null,null,null,null,null,null,null,{"$f":"IF('Relevés de  commissions'!D3928=\"AGI externes\",'Relevés de  commissions'!M3928,0)*1","v":0},{"$f":"IF('Relevés de  commissions'!D3928=\"AGI externes\",'Relevés de  commissions'!N3928,0)*1","v":0},{"$f":"IF('Relevés de  commissions'!D3928=\"AGI externes\",'Relevés de  commissions'!O3928,0)*1","v":0},{"$f":"IF('Relevés de  commissions'!D3928=\"AGI externes\",'Relevés de  commissions'!P3928,0)*1","v":0},0,""]
[null,null,null,null,null,null,null,null,null,null,null,null,{"$f":"IF('Relevés de  commissions'!D3938=\"AGI externes\",'Relevés de  commissions'!M3938,0)*1","v":0},{"$f":"IF('Relevés de  commissions'!D3938=\"AGI externes\",'Relevés de  commissions'!N3938,0)*1","v":0},{"$f":"IF('Relevés de  commissions'!D3938=\"AGI externes\",'Relevés de  commissions'!O3938,0)*1","v":0},{"$f":"IF('Relevés de  commissions'!D3938=\"AGI externes\",'Relevés de  commissions'!P3938,0)*1","v":0},0,""]
[null,null,null,null,null,null,null,null,null,null,null,null,{"$f":"IF('Relevés de  commissions'!D3958=\"AGI externes\",'Relevés de  commissions'!M3958,0)*1","v":0},{"$f":"IF('Relevés de  commissions'!D3958=\"AGI externes\",'Relevés de  commissions'!N3958,0)*1","v":0},{"$f":"IF('Relevés de  commissions'!D3958=\"AGI externes\",'Relevés de  commissions'!O3958,0)*1","v":0},{"$f":"IF('Relevés de  commissions'!D3958=\"AGI externes\",'Relevés de  commissions'!P3958,0)*1","v":0},0,""]
[null,null,null,null,null,null,null,null,null,null,null,null,{"$f":"IF('Relevés de  commissions'!D3964=\"AGI externes\",'Relevés de  commissions'!M3964,0)*1","v":0},{"$f":"IF('Relevés de  commissions'!D3964=\"AGI externes\",'Relevés de  commissions'!N3964,0)*1","v":0},{"$f":"IF('Relevés de  commissions'!D3964=\"AGI externes\",'Relevés de  commissions'!O3964,0)*1","v":0},{"$f":"IF('Relevés de  commissions'!D3964=\"AGI externes\",'Relevés de  commissions'!P3964,0)*1","v":0},0,""]
[null,null,null,null,null,null,null,null,null,null,null,null,{"$f":"IF('Relevés de  commissions'!D3970=\"AGI externes\",'Relevés de  commissions'!M3970,0)*1","v":0},{"$f":"IF('Relevés de  commissions'!D3970=\"AGI externes\",'Relevés de  commissions'!N3970,0)*1","v":0},{"$f":"IF('Relevés de  commissions'!D3970=\"AGI externes\",'Relevés de  commissions'!O3970,0)*1","v":0},{"$f":"IF('Relevés de  commissions'!D3970=\"AGI externes\",'Relevés de  commissions'!P3970,0)*1","v":0},0,""]
[null,null,null,null,null,null,null,null,null,null,null,null,{"$f":"IF('Relevés de  commissions'!D3987=\"AGI externes\",'Relevés de  commissions'!M3987,0)*1","v":0},{"$f":"IF('Relevés de  commissions'!D3987=\"AGI externes\",'Relevés de  commissions'!N3987,0)*1","v":0},{"$f":"IF('Relevés de  commissions'!D3987=\"AGI externes\",'Relevés de  commissions'!O3987,0)*1","v":0},{"$f":"IF('Relevés de  commissions'!D3987=\"AGI externes\",'Relevés de  commissions'!P3987,0)*1","v":0},0,""]
[null,null,null,null,null,null,null,null,null,null,null,null,{"$f":"IF('Relevés de  commissions'!D3997=\"AGI externes\",'Relevés de  commissions'!M3997,0)*1","v":0},{"$f":"IF('Relevés de  commissions'!D3997=\"AGI externes\",'Relevés de  commissions'!N3997,0)*1","v":0},{"$f":"IF('Relevés de  commissions'!D3997=\"AGI externes\",'Relevés de  commissions'!O3997,0)*1","v":0},{"$f":"IF('Relevés de  commissions'!D3997=\"AGI externes\",'Relevés de  commissions'!P3997,0)*1","v":0},0,""]
[null,null,null,null,null,null,null,null,null,null,null,null,{"$f":"IF('Relevés de  commissions'!D4003=\"AGI externes\",'Relevés de  commissions'!M4003,0)*1","v":0},{"$f":"IF('Relevés de  commissions'!D4003=\"AGI externes\",'Relevés de  commissions'!N4003,0)*1","v":0},{"$f":"IF('Relevés de  commissions'!D4003=\"AGI externes\",'Relevés de  commissions'!O4003,0)*1","v":0},{"$f":"IF('Relevés de  commissions'!D4003=\"AGI externes\",'Relevés de  commissions'!P4003,0)*1","v":0},0,""]
[null,null,null,null,null,null,null,null,null,null,null,null,{"$f":"IF('Relevés de  commissions'!D4021=\"AGI externes\",'Relevés de  commissions'!M4021,0)*1","v":0},{"$f":"IF('Relevés de  commissions'!D4021=\"AGI externes\",'Relevés de  commissions'!N4021,0)*1","v":0},{"$f":"IF('Relevés de  commissions'!D4021=\"AGI externes\",'Relevés de  commissions'!O4021,0)*1","v":0},{"$f":"IF('Relevés de  commissions'!D4021=\"AGI externes\",'Relevés de  commissions'!P4021,0)*1","v":0},0,""]
[null,null,null,null,null,null,null,null,null,null,null,null,{"$f":"IF('Relevés de  commissions'!D4029=\"AGI externes\",'Relevés de  commissions'!M4029,0)*1","v":0},{"$f":"IF('Relevés de  commissions'!D4029=\"AGI externes\",'Relevés de  commissions'!N4029,0)*1","v":0},{"$f":"IF('Relevés de  commissions'!D4029=\"AGI externes\",'Relevés de  commissions'!O4029,0)*1","v":0},{"$f":"IF('Relevés de  commissions'!D4029=\"AGI externes\",'Relevés de  commissions'!P4029,0)*1","v":0},0,""]
[null,null,null,null,null,null,null,null,null,null,null,null,{"$f":"IF('Relevés de  commissions'!D4035=\"AGI externes\",'Relevés de  commissions'!M4035,0)*1","v":0},{"$f":"IF('Relevés de  commissions'!D4035=\"AGI externes\",'Relevés de  commissions'!N4035,0)*1","v":0},{"$f":"IF('Relevés de  commissions'!D4035=\"AGI externes\",'Relevés de  commissions'!O4035,0)*1","v":0},{"$f":"IF('Relevés de  commissions'!D4035=\"AGI externes\",'Relevés de  commissions'!P4035,0)*1","v":0},{"$f":"IF(N4037=0,O4037,\"\")","v":0},{"$f":"IF(N4037=10,O4037,\"\")","v":""}]
[null,null,null,null,null,null,null,null,null,null,null,null,{"$f":"IF('Relevés de  commissions'!D4056=\"AGI externes\",'Relevés de  commissions'!M4056,0)*1","v":0},{"$f":"IF('Relevés de  commissions'!D4056=\"AGI externes\",'Relevés de  commissions'!N4056,0)*1","v":0},{"$f":"IF('Relevés de  commissions'!D4056=\"AGI externes\",'Relevés de  commissions'!O4056,0)*1","v":0},{"$f":"IF('Relevés de  commissions'!D4056=\"AGI externes\",'Relevés de  commissions'!P4056,0)*1","v":0},0,""]
[null,null,null,null,null,null,null,null,null,null,null,null,{"$f":"IF('Relevés de  commissions'!D4062=\"AGI externes\",'Relevés de  commissions'!M4062,0)*1","v":0},{"$f":"IF('Relevés de  commissions'!D4062=\"AGI externes\",'Relevés de  commissions'!N4062,0)*1","v":0},{"$f":"IF('Relevés de  commissions'!D4062=\"AGI externes\",'Relevés de  commissions'!O4062,0)*1","v":0},{"$f":"IF('Relevés de  commissions'!D4062=\"AGI externes\",'Relevés de  commissions'!P4062,0)*1","v":0},0,""]
[null,null,null,null,null,null,null,null,null,null,null,null,{"$f":"IF('Relevés de  commissions'!D4068=\"AGI externes\",'Relevés de  commissions'!M4068,0)*1","v":0},{"$f":"IF('Relevés de  commissions'!D4068=\"AGI externes\",'Relevés de  commissions'!N4068,0)*1","v":0},{"$f":"IF('Relevés de  commissions'!D4068=\"AGI externes\",'Relevés de  commissions'!O4068,0)*1","v":0},{"$f":"IF('Relevés de  commissions'!D4068=\"AGI externes\",'Relevés de  commissions'!P4068,0)*1","v":0},0,""]
[null,null,null,null,null,null,null,null,null,null,null,null,{"$f":"IF('Relevés de  commissions'!D4088=\"AGI externes\",'Relevés de  commissions'!M4088,0)*1","v":0},{"$f":"IF('Relevés de  commissions'!D4088=\"AGI externes\",'Relevés de  commissions'!N4088,0)*1","v":0},{"$f":"IF('Relevés de  commissions'!D4088=\"AGI externes\",'Relevés de  commissions'!O4088,0)*1","v":0},{"$f":"IF('Relevés de  commissions'!D4088=\"AGI externes\",'Relevés de  commissions'!P4088,0)*1","v":0},0,""]
[null,null,null,null,null,null,null,null,null,null,null,null,{"$f":"IF('Relevés de  commissions'!D4094=\"AGI externes\",'Relevés de  commissions'!M4094,0)*1","v":0},{"$f":"IF('Relevés de  commissions'!D4094=\"AGI externes\",'Relevés de  commissions'!N4094,0)*1","v":0},{"$f":"IF('Relevés de  commissions'!D4094=\"AGI externes\",'Relevés de  commissions'!O4094,0)*1","v":0},{"$f":"IF('Relevés de  commissions'!D4094=\"AGI externes\",'Relevés de  commissions'!P4094,0)*1","v":0},0,""]
[null,null,null,null,null,null,null,null,null,null,null,null,{"$f":"IF('Relevés de  commissions'!D4104=\"AGI externes\",'Relevés de  commissions'!M4104,0)*1","v":0},{"$f":"IF('Relevés de  commissions'!D4104=\"AGI externes\",'Relevés de  commissions'!N4104,0)*1","v":0},{"$f":"IF('Relevés de  commissions'!D4104=\"AGI externes\",'Relevés de  commissions'!O4104,0)*1","v":0},{"$f":"IF('Relevés de  commissions'!D4104=\"AGI externes\",'Relevés de  commissions'!P4104,0)*1","v":0},0,""]
[null,null,null,null,null,null,null,null,null,null,null,null,{"$f":"IF('Relevés de  commissions'!D4121=\"AGI externes\",'Relevés de  commissions'!M4121,0)*1","v":0},{"$f":"IF('Relevés de  commissions'!D4121=\"AGI externes\",'Relevés de  commissions'!N4121,0)*1","v":0},{"$f":"IF('Relevés de  commissions'!D4121=\"AGI externes\",'Relevés de  commissions'!O4121,0)*1","v":0},{"$f":"IF('Relevés de  commissions'!D4121=\"AGI externes\",'Relevés de  commissions'!P4121,0)*1","v":0},0,""]
[null,null,null,null,null,null,null,null,null,null,null,null,{"$f":"IF('Relevés de  commissions'!D4127=\"AGI externes\",'Relevés de  commissions'!M4127,0)*1","v":0},{"$f":"IF('Relevés de  commissions'!D4127=\"AGI externes\",'Relevés de  commissions'!N4127,0)*1","v":0},{"$f":"IF('Relevés de  commissions'!D4127=\"AGI externes\",'Relevés de  commissions'!O4127,0)*1","v":0},{"$f":"IF('Relevés de  commissions'!D4127=\"AGI externes\",'Relevés de  commissions'!P4127,0)*1","v":0},0,""]
[null,null,null,null,null,null,null,null,null,null,null,null,{"$f":"IF('Relevés de  commissions'!D4137=\"AGI externes\",'Relevés de  commissions'!M4137,0)*1","v":0},{"$f":"IF('Relevés de  commissions'!D4137=\"AGI externes\",'Relevés de  commissions'!N4137,0)*1","v":0},{"$f":"IF('Relevés de  commissions'!D4137=\"AGI externes\",'Relevés de  commissions'!O4137,0)*1","v":0},{"$f":"IF('Relevés de  commissions'!D4137=\"AGI externes\",'Relevés de  commissions'!P4137,0)*1","v":0},0,""]
[null,null,null,null,null,null,null,null,null,null,null,null,{"$f":"IF('Relevés de  commissions'!D4145=\"AGI externes\",'Relevés de  commissions'!M4145,0)*1","v":0},{"$f":"IF('Relevés de  commissions'!D4145=\"AGI externes\",'Relevés de  commissions'!N4145,0)*1","v":0},{"$f":"IF('Relevés de  commissions'!D4145=\"AGI externes\",'Relevés de  commissions'!O4145,0)*1","v":0},{"$f":"IF('Relevés de  commissions'!D4145=\"AGI externes\",'Relevés de  commissions'!P4145,0)*1","v":0},0,""]
[null,null,null,null,null,null,null,null,null,null,null,null,{"$f":"IF('Relevés de  commissions'!D4163=\"AGI externes\",'Relevés de  commissions'!M4163,0)*1","v":0},{"$f":"IF('Relevés de  commissions'!D4163=\"AGI externes\",'Relevés de  commissions'!N4163,0)*1","v":0},{"$f":"IF('Relevés de  commissions'!D4163=\"AGI externes\",'Relevés de  commissions'!O4163,0)*1","v":0},{"$f":"IF('Relevés de  commissions'!D4163=\"AGI externes\",'Relevés de  commissions'!P4163,0)*1","v":0},{"$f":"IF(N4165=0,O4165,\"\")","v":0},{"$f":"IF(N4165=10,O4165,\"\")","v":""}]
[null,null,null,null,null,null,null,null,null,null,null,null,{"$f":"IF('Relevés de  commissions'!D4169=\"AGI externes\",'Relevés de  commissions'!M4169,0)*1","v":0},{"$f":"IF('Relevés de  commissions'!D4169=\"AGI externes\",'Relevés de  commissions'!N4169,0)*1","v":0},{"$f":"IF('Relevés de  commissions'!D4169=\"AGI externes\",'Relevés de  commissions'!O4169,0)*1","v":0},{"$f":"IF('Relevés de  commissions'!D4169=\"AGI externes\",'Relevés de  commissions'!P4169,0)*1","v":0},0,""]
[null,null,null,null,null,null,null,null,null,null,null,null,{"$f":"IF('Relevés de  commissions'!D4186=\"AGI externes\",'Relevés de  commissions'!M4186,0)*1","v":0},{"$f":"IF('Relevés de  commissions'!D4186=\"AGI externes\",'Relevés de  commissions'!N4186,0)*1","v":0},{"$f":"IF('Relevés de  commissions'!D4186=\"AGI externes\",'Relevés de  commissions'!O4186,0)*1","v":0},{"$f":"IF('Relevés de  commissions'!D4186=\"AGI externes\",'Relevés de  commissions'!P4186,0)*1","v":0},0,""]
[null,null,null,null,null,null,null,null,null,null,null,null,{"$f":"IF('Relevés de  commissions'!D4196=\"AGI externes\",'Relevés de  commissions'!M4196,0)*1","v":0},{"$f":"IF('Relevés de  commissions'!D4196=\"AGI externes\",'Relevés de  commissions'!N4196,0)*1","v":0},{"$f":"IF('Relevés de  commissions'!D4196=\"AGI externes\",'Relevés de  commissions'!O4196,0)*1","v":0},{"$f":"IF('Relevés de  commissions'!D4196=\"AGI externes\",'Relevés de  commissions'!P4196,0)*1","v":0},0,""]
[null,null,null,null,null,null,null,null,null,null,null,null,{"$f":"IF('Relevés de  commissions'!D4202=\"AGI externes\",'Relevés de  commissions'!M4202,0)*1","v":0},{"$f":"IF('Relevés de  commissions'!D4202=\"AGI externes\",'Relevés de  commissions'!N4202,0)*1","v":0},{"$f":"IF('Relevés de  commissions'!D4202=\"AGI externes\",'Relevés de  commissions'!O4202,0)*1","v":0},{"$f":"IF('Relevés de  commissions'!D4202=\"AGI externes\",'Relevés de  commissions'!P4202,0)*1","v":0},0,""]
[null,null,null,null,null,null,null,null,null,null,null,null,{"$f":"IF('Relevés de  commissions'!D4212=\"AGI externes\",'Relevés de  commissions'!M4212,0)*1","v":0},{"$f":"IF('Relevés de  commissions'!D4212=\"AGI externes\",'Relevés de  commissions'!N4212,0)*1","v":0},{"$f":"IF('Relevés de  commissions'!D4212=\"AGI externes\",'Relevés de  commissions'!O4212,0)*1","v":0},{"$f":"IF('Relevés de  commissions'!D4212=\"AGI externes\",'Relevés de  commissions'!P4212,0)*1","v":0},0,""]
[null,null,null,null,null,null,null,null,null,null,null,null,{"$f":"IF('Relevés de  commissions'!D4228=\"AGI externes\",'Relevés de  commissions'!M4228,0)*1","v":0},{"$f":"IF('Relevés de  commissions'!D4228=\"AGI externes\",'Relevés de  commissions'!N4228,0)*1","v":0},{"$f":"IF('Relevés de  commissions'!D4228=\"AGI externes\",'Relevés de  commissions'!O4228,0)*1","v":0},{"$f":"IF('Relevés de  commissions'!D4228=\"AGI externes\",'Relevés de  commissions'!P4228,0)*1","v":0},0,""]
[null,null,null,null,null,null,null,null,null,null,null,null,{"$f":"IF('Relevés de  commissions'!D4234=\"AGI externes\",'Relevés de  commissions'!M4234,0)*1","v":0},{"$f":"IF('Relevés de  commissions'!D4234=\"AGI externes\",'Relevés de  commissions'!N4234,0)*1","v":0},{"$f":"IF('Relevés de  commissions'!D4234=\"AGI externes\",'Relevés de  commissions'!O4234,0)*1","v":0},{"$f":"IF('Relevés de  commissions'!D4234=\"AGI externes\",'Relevés de  commissions'!P4234,0)*1","v":0},0,""]
[null,null,null,null,null,null,null,null,null,null,null,null,{"$f":"IF('Relevés de  commissions'!D4244=\"AGI externes\",'Relevés de  commissions'!M4244,0)*1","v":0},{"$f":"IF('Relevés de  commissions'!D4244=\"AGI externes\",'Relevés de  commissions'!N4244,0)*1","v":0},{"$f":"IF('Relevés de  commissions'!D4244=\"AGI externes\",'Relevés de  commissions'!O4244,0)*1","v":0},{"$f":"IF('Relevés de  commissions'!D4244=\"AGI externes\",'Relevés de  commissions'!P4244,0)*1","v":0},0,""]
[null,null,null,null,null,null,null,null,null,null,null,null,{"$f":"IF('Relevés de  commissions'!D4261=\"AGI externes\",'Relevés de  commissions'!M4261,0)*1","v":0},{"$f":"IF('Relevés de  commissions'!D4261=\"AGI externes\",'Relevés de  commissions'!N4261,0)*1","v":0},{"$f":"IF('Relevés de  commissions'!D4261=\"AGI externes\",'Relevés de  commissions'!O4261,0)*1","v":0},{"$f":"IF('Relevés de  commissions'!D4261=\"AGI externes\",'Relevés de  commissions'!P4261,0)*1","v":0},0,""]
[null,null,null,null,null,null,null,null,null,null,null,null,{"$f":"IF('Relevés de  commissions'!D4267=\"AGI externes\",'Relevés de  commissions'!M4267,0)*1","v":0},{"$f":"IF('Relevés de  commissions'!D4267=\"AGI externes\",'Relevés de  commissions'!N4267,0)*1","v":0},{"$f":"IF('Relevés de  commissions'!D4267=\"AGI externes\",'Relevés de  commissions'!O4267,0)*1","v":0},{"$f":"IF('Relevés de  commissions'!D4267=\"AGI externes\",'Relevés de  commissions'!P4267,0)*1","v":0},0,""]
[null,null,null,null,null,null,null,null,null,null,null,null,{"$f":"IF('Relevés de  commissions'!D4275=\"AGI externes\",'Relevés de  commissions'!M4275,0)*1","v":0},{"$f":"IF('Relevés de  commissions'!D4275=\"AGI externes\",'Relevés de  commissions'!N4275,0)*1","v":0},{"$f":"IF('Relevés de  commissions'!D4275=\"AGI externes\",'Relevés de  commissions'!O4275,0)*1","v":0},{"$f":"IF('Relevés de  commissions'!D4275=\"AGI externes\",'Relevés de  commissions'!P4275,0)*1","v":0},0,""]
[null,null,null,null,null,null,null,null,null,null,null,null,{"$f":"IF('Relevés de  commissions'!D4293=\"AGI externes\",'Relevés de  commissions'!M4293,0)*1","v":0},{"$f":"IF('Relevés de  commissions'!D4293=\"AGI externes\",'Relevés de  commissions'!N4293,0)*1","v":0},{"$f":"IF('Relevés de  commissions'!D4293=\"AGI externes\",'Relevés de  commissions'!O4293,0)*1","v":0},{"$f":"IF('Relevés de  commissions'!D4293=\"AGI externes\",'Relevés de  commissions'!P4293,0)*1","v":0},0,""]
[null,null,null,null,null,null,null,null,null,null,null,null,{"$f":"IF('Relevés de  commissions'!D4299=\"AGI externes\",'Relevés de  commissions'!M4299,0)*1","v":0},{"$f":"IF('Relevés de  commissions'!D4299=\"AGI externes\",'Relevés de  commissions'!N4299,0)*1","v":0},{"$f":"IF('Relevés de  commissions'!D4299=\"AGI externes\",'Relevés de  commissions'!O4299,0)*1","v":0},{"$f":"IF('Relevés de  commissions'!D4299=\"AGI externes\",'Relevés de  commissions'!P4299,0)*1","v":0},0,""]
[null,null,null,null,null,null,null,null,null,null,null,null,{"$f":"IF('Relevés de  commissions'!D4309=\"AGI externes\",'Relevés de  commissions'!M4309,0)*1","v":0},{"$f":"IF('Relevés de  commissions'!D4309=\"AGI externes\",'Relevés de  commissions'!N4309,0)*1","v":0},{"$f":"IF('Relevés de  commissions'!D4309=\"AGI externes\",'Relevés de  commissions'!O4309,0)*1","v":0},{"$f":"IF('Relevés de  commissions'!D4309=\"AGI externes\",'Relevés de  commissions'!P4309,0)*1","v":0},0,""]
[null,null,null,null,null,null,null,null,null,null,null,null,{"$f":"IF('Relevés de  commissions'!D4326=\"AGI externes\",'Relevés de  commissions'!M4326,0)*1","v":0},{"$f":"IF('Relevés de  commissions'!D4326=\"AGI externes\",'Relevés de  commissions'!N4326,0)*1","v":0},{"$f":"IF('Relevés de  commissions'!D4326=\"AGI externes\",'Relevés de  commissions'!O4326,0)*1","v":0},{"$f":"IF('Relevés de  commissions'!D4326=\"AGI externes\",'Relevés de  commissions'!P4326,0)*1","v":0},0,""]
[null,null,null,null,null,null,null,null,null,null,null,null,{"$f":"IF('Relevés de  commissions'!D4336=\"AGI externes\",'Relevés de  commissions'!M4336,0)*1","v":0},{"$f":"IF('Relevés de  commissions'!D4336=\"AGI externes\",'Relevés de  commissions'!N4336,0)*1","v":0},{"$f":"IF('Relevés de  commissions'!D4336=\"AGI externes\",'Relevés de  commissions'!O4336,0)*1","v":0},{"$f":"IF('Relevés de  commissions'!D4336=\"AGI externes\",'Relevés de  commissions'!P4336,0)*1","v":0},0,""]
[null,null,null,null,null,null,null,null,null,null,null,null,{"$f":"IF('Relevés de  commissions'!D4342=\"AGI externes\",'Relevés de  commissions'!M4342,0)*1","v":0},{"$f":"IF('Relevés de  commissions'!D4342=\"AGI externes\",'Relevés de  commissions'!N4342,0)*1","v":0},{"$f":"IF('Relevés de  commissions'!D4342=\"AGI externes\",'Relevés de  commissions'!O4342,0)*1","v":0},{"$f":"IF('Relevés de  commissions'!D4342=\"AGI externes\",'Relevés de  commissions'!P4342,0)*1","v":0},0,""]
[null,null,null,null,null,null,null,null,null,null,null,null,{"$f":"IF('Relevés de  commissions'!D4358=\"AGI externes\",'Relevés de  commissions'!M4358,0)*1","v":0},{"$f":"IF('Relevés de  commissions'!D4358=\"AGI externes\",'Relevés de  commissions'!N4358,0)*1","v":0},{"$f":"IF('Relevés de  commissions'!D4358=\"AGI externes\",'Relevés de  commissions'!O4358,0)*1","v":0},{"$f":"IF('Relevés de  commissions'!D4358=\"AGI externes\",'Relevés de  commissions'!P4358,0)*1","v":0},0,""]
[null,null,null,null,null,null,null,null,null,null,null,null,{"$f":"IF('Relevés de  commissions'!D4368=\"AGI externes\",'Relevés de  commissions'!M4368,0)*1","v":0},{"$f":"IF('Relevés de  commissions'!D4368=\"AGI externes\",'Relevés de  commissions'!N4368,0)*1","v":0},{"$f":"IF('Relevés de  commissions'!D4368=\"AGI externes\",'Relevés de  commissions'!O4368,0)*1","v":0},{"$f":"IF('Relevés de  commissions'!D4368=\"AGI externes\",'Relevés de  commissions'!P4368,0)*1","v":0},0,""]
[null,null,null,null,null,null,null,null,null,null,null,null,{"$f":"IF('Relevés de  commissions'!D4374=\"AGI externes\",'Relevés de  commissions'!M4374,0)*1","v":0},{"$f":"IF('Relevés de  commissions'!D4374=\"AGI externes\",'Relevés de  commissions'!N4374,0)*1","v":0},{"$f":"IF('Relevés de  commissions'!D4374=\"AGI externes\",'Relevés de  commissions'!O4374,0)*1","v":0},{"$f":"IF('Relevés de  commissions'!D4374=\"AGI externes\",'Relevés de  commissions'!P4374,0)*1","v":0},0,""]
[null,null,null,null,null,null,null,null,null,null,null,null,{"$f":"IF('Relevés de  commissions'!D4384=\"AGI externes\",'Relevés de  commissions'!M4384,0)*1","v":0},{"$f":"IF('Relevés de  commissions'!D4384=\"AGI externes\",'Relevés de  commissions'!N4384,0)*1","v":0},{"$f":"IF('Relevés de  commissions'!D4384=\"AGI externes\",'Relevés de  commissions'!O4384,0)*1","v":0},{"$f":"IF('Relevés de  commissions'!D4384=\"AGI externes\",'Relevés de  commissions'!P4384,0)*1","v":0},0,""]
[null,null,null,null,null,null,null,null,null,null,null,null,{"$f":"IF('Relevés de  commissions'!D4401=\"AGI externes\",'Relevés de  commissions'!M4401,0)*1","v":0},{"$f":"IF('Relevés de  commissions'!D4401=\"AGI externes\",'Relevés de  commissions'!N4401,0)*1","v":0},{"$f":"IF('Relevés de  commissions'!D4401=\"AGI externes\",'Relevés de  commissions'!O4401,0)*1","v":0},{"$f":"IF('Relevés de  commissions'!D4401=\"AGI externes\",'Relevés de  commissions'!P4401,0)*1","v":0},0,""]
[null,null,null,null,null,null,null,null,null,null,null,null,{"$f":"IF('Relevés de  commissions'!D4409=\"AGI externes\",'Relevés de  commissions'!M4409,0)*1","v":0},{"$f":"IF('Relevés de  commissions'!D4409=\"AGI externes\",'Relevés de  commissions'!N4409,0)*1","v":0},{"$f":"IF('Relevés de  commissions'!D4409=\"AGI externes\",'Relevés de  commissions'!O4409,0)*1","v":0},{"$f":"IF('Relevés de  commissions'!D4409=\"AGI externes\",'Relevés de  commissions'!P4409,0)*1","v":0},0,""]
[null,null,null,null,null,null,null,null,null,null,null,null,{"$f":"IF('Relevés de  commissions'!D4416=\"AGI externes\",'Relevés de  commissions'!M4416,0)*1","v":0},{"$f":"IF('Relevés de  commissions'!D4416=\"AGI externes\",'Relevés de  commissions'!N4416,0)*1","v":0},{"$f":"IF('Relevés de  commissions'!D4416=\"AGI externes\",'Relevés de  commissions'!O4416,0)*1","v":0},{"$f":"IF('Relevés de  commissions'!D4416=\"AGI externes\",'Relevés de  commissions'!P4416,0)*1","v":0},0,""]
[null,null,null,null,null,null,null,null,null,null,null,null,{"$f":"IF('Relevés de  commissions'!D4433=\"AGI externes\",'Relevés de  commissions'!M4433,0)*1","v":0},{"$f":"IF('Relevés de  commissions'!D4433=\"AGI externes\",'Relevés de  commissions'!N4433,0)*1","v":0},{"$f":"IF('Relevés de  commissions'!D4433=\"AGI externes\",'Relevés de  commissions'!O4433,0)*1","v":0},{"$f":"IF('Relevés de  commissions'!D4433=\"AGI externes\",'Relevés de  commissions'!P4433,0)*1","v":0},0,""]
[null,null,null,null,null,null,null,null,null,null,null,null,{"$f":"IF('Relevés de  commissions'!D4439=\"AGI externes\",'Relevés de  commissions'!M4439,0)*1","v":0},{"$f":"IF('Relevés de  commissions'!D4439=\"AGI externes\",'Relevés de  commissions'!N4439,0)*1","v":0},{"$f":"IF('Relevés de  commissions'!D4439=\"AGI externes\",'Relevés de  commissions'!O4439,0)*1","v":0},{"$f":"IF('Relevés de  commissions'!D4439=\"AGI externes\",'Relevés de  commissions'!P4439,0)*1","v":0},0,""]
[null,null,null,null,null,null,null,null,null,null,null,null,{"$f":"IF('Relevés de  commissions'!D4449=\"AGI externes\",'Relevés de  commissions'!M4449,0)*1","v":0},{"$f":"IF('Relevés de  commissions'!D4449=\"AGI externes\",'Relevés de  commissions'!N4449,0)*1","v":0},{"$f":"IF('Relevés de  commissions'!D4449=\"AGI externes\",'Relevés de  commissions'!O4449,0)*1","v":0},{"$f":"IF('Relevés de  commissions'!D4449=\"AGI externes\",'Relevés de  commissions'!P4449,0)*1","v":0},0,""]
[null,null,null,null,null,null,null,null,null,null,null,null,{"$f":"IF('Relevés de  commissions'!D4466=\"AGI externes\",'Relevés de  commissions'!M4466,0)*1","v":0},{"$f":"IF('Relevés de  commissions'!D4466=\"AGI externes\",'Relevés de  commissions'!N4466,0)*1","v":0},{"$f":"IF('Relevés de  commissions'!D4466=\"AGI externes\",'Relevés de  commissions'!O4466,0)*1","v":0},{"$f":"IF('Relevés de  commissions'!D4466=\"AGI externes\",'Relevés de  commissions'!P4466,0)*1","v":0},0,""]
[null,null,null,null,null,null,null,null,null,null,null,null,{"$f":"IF('Relevés de  commissions'!D4472=\"AGI externes\",'Relevés de  commissions'!M4472,0)*1","v":0},{"$f":"IF('Relevés de  commissions'!D4472=\"AGI externes\",'Relevés de  commissions'!N4472,0)*1","v":0},{"$f":"IF('Relevés de  commissions'!D4472=\"AGI externes\",'Relevés de  commissions'!O4472,0)*1","v":0},{"$f":"IF('Relevés de  commissions'!D4472=\"AGI externes\",'Relevés de  commissions'!P4472,0)*1","v":0},0,""]
[null,null,null,null,null,null,null,null,null,null,null,null,{"$f":"IF('Relevés de  commissions'!D4481=\"AGI externes\",'Relevés de  commissions'!M4481,0)*1","v":0},{"$f":"IF('Relevés de  commissions'!D4481=\"AGI externes\",'Relevés de  commissions'!N4481,0)*1","v":0},{"$f":"IF('Relevés de  commissions'!D4481=\"AGI externes\",'Relevés de  commissions'!O4481,0)*1","v":0},{"$f":"IF('Relevés de  commissions'!D4481=\"AGI externes\",'Relevés de  commissions'!P4481,0)*1","v":0},0,""]
[null,null,null,null,null,null,null,null,null,null,null,null,{"$f":"IF('Relevés de  commissions'!D4498=\"AGI externes\",'Relevés de  commissions'!M4498,0)*1","v":0},{"$f":"IF('Relevés de  commissions'!D4498=\"AGI externes\",'Relevés de  commissions'!N4498,0)*1","v":0},{"$f":"IF('Relevés de  commissions'!D4498=\"AGI externes\",'Relevés de  commissions'!O4498,0)*1","v":0},{"$f":"IF('Relevés de  commissions'!D4498=\"AGI externes\",'Relevés de  commissions'!P4498,0)*1","v":0},0,""]
[null,null,null,null,null,null,null,null,null,null,null,null,{"$f":"IF('Relevés de  commissions'!D4508=\"AGI externes\",'Relevés de  commissions'!M4508,0)*1","v":0},{"$f":"IF('Relevés de  commissions'!D4508=\"AGI externes\",'Relevés de  commissions'!N4508,0)*1","v":0},{"$f":"IF('Relevés de  commissions'!D4508=\"AGI externes\",'Relevés de  commissions'!O4508,0)*1","v":0},{"$f":"IF('Relevés de  commissions'!D4508=\"AGI externes\",'Relevés de  commissions'!P4508,0)*1","v":0},0,""]
[null,null,null,null,null,null,null,null,null,null,null,null,{"$f":"IF('Relevés de  commissions'!D4514=\"AGI externes\",'Relevés de  commissions'!M4514,0)*1","v":0},{"$f":"IF('Relevés de  commissions'!D4514=\"AGI externes\",'Relevés de  commissions'!N4514,0)*1","v":0},{"$f":"IF('Relevés de  commissions'!D4514=\"AGI externes\",'Relevés de  commissions'!O4514,0)*1","v":0},{"$f":"IF('Relevés de  commissions'!D4514=\"AGI externes\",'Relevés de  commissions'!P4514,0)*1","v":0},0,""]
[null,null,null,null,null,null,null,null,null,null,null,null,{"$f":"IF('Relevés de  commissions'!D4531=\"AGI externes\",'Relevés de  commissions'!M4531,0)*1","v":0},{"$f":"IF('Relevés de  commissions'!D4531=\"AGI externes\",'Relevés de  commissions'!N4531,0)*1","v":0},{"$f":"IF('Relevés de  commissions'!D4531=\"AGI externes\",'Relevés de  commissions'!O4531,0)*1","v":0},{"$f":"IF('Relevés de  commissions'!D4531=\"AGI externes\",'Relevés de  commissions'!P4531,0)*1","v":0},0,""]
[null,null,null,null,null,null,null,null,null,null,null,null,{"$f":"IF('Relevés de  commissions'!D4539=\"AGI externes\",'Relevés de  commissions'!M4539,0)*1","v":0},{"$f":"IF('Relevés de  commissions'!D4539=\"AGI externes\",'Relevés de  commissions'!N4539,0)*1","v":0},{"$f":"IF('Relevés de  commissions'!D4539=\"AGI externes\",'Relevés de  commissions'!O4539,0)*1","v":0},{"$f":"IF('Relevés de  commissions'!D4539=\"AGI externes\",'Relevés de  commissions'!P4539,0)*1","v":0},0,""]
[null,null,null,null,null,null,null,null,null,null,null,null,{"$f":"IF('Relevés de  commissions'!D4546=\"AGI externes\",'Relevés de  commissions'!M4546,0)*1","v":0},{"$f":"IF('Relevés de  commissions'!D4546=\"AGI externes\",'Relevés de  commissions'!N4546,0)*1","v":0},{"$f":"IF('Relevés de  commissions'!D4546=\"AGI externes\",'Relevés de  commissions'!O4546,0)*1","v":0},{"$f":"IF('Relevés de  commissions'!D4546=\"AGI externes\",'Relevés de  commissions'!P4546,0)*1","v":0},0,""]
[null,null,null,null,null,null,null,null,null,null,null,null,{"$f":"IF('Relevés de  commissions'!D4556=\"AGI externes\",'Relevés de  commissions'!M4556,0)*1","v":0},{"$f":"IF('Relevés de  commissions'!D4556=\"AGI externes\",'Relevés de  commissions'!N4556,0)*1","v":0},{"$f":"IF('Relevés de  commissions'!D4556=\"AGI externes\",'Relevés de  commissions'!O4556,0)*1","v":0},{"$f":"IF('Relevés de  commissions'!D4556=\"AGI externes\",'Relevés de  commissions'!P4556,0)*1","v":0},0,""]
[null,null,null,null,null,null,null,null,null,null,null,null,{"$f":"IF('Relevés de  commissions'!D4573=\"AGI externes\",'Relevés de  commissions'!M4573,0)*1","v":0},{"$f":"IF('Relevés de  commissions'!D4573=\"AGI externes\",'Relevés de  commissions'!N4573,0)*1","v":0},{"$f":"IF('Relevés de  commissions'!D4573=\"AGI externes\",'Relevés de  commissions'!O4573,0)*1","v":0},{"$f":"IF('Relevés de  commissions'!D4573=\"AGI externes\",'Relevés de  commissions'!P4573,0)*1","v":0},0,""]
[null,null,null,null,null,null,null,null,null,null,null,null,{"$f":"IF('Relevés de  commissions'!D4579=\"AGI externes\",'Relevés de  commissions'!M4579,0)*1","v":0},{"$f":"IF('Relevés de  commissions'!D4579=\"AGI externes\",'Relevés de  commissions'!N4579,0)*1","v":0},{"$f":"IF('Relevés de  commissions'!D4579=\"AGI externes\",'Relevés de  commissions'!O4579,0)*1","v":0},{"$f":"IF('Relevés de  commissions'!D4579=\"AGI externes\",'Relevés de  commissions'!P4579,0)*1","v":0},0,""]
[null,null,null,null,null,null,null,null,null,null,null,null,{"$f":"IF('Relevés de  commissions'!D4589=\"AGI externes\",'Relevés de  commissions'!M4589,0)*1","v":0},{"$f":"IF('Relevés de  commissions'!D4589=\"AGI externes\",'Relevés de  commissions'!N4589,0)*1","v":0},{"$f":"IF('Relevés de  commissions'!D4589=\"AGI externes\",'Relevés de  commissions'!O4589,0)*1","v":0},{"$f":"IF('Relevés de  commissions'!D4589=\"AGI externes\",'Relevés de  commissions'!P4589,0)*1","v":0},0,""]
[null,null,null,null,null,null,null,null,null,null,null,null,{"$f":"IF('Relevés de  commissions'!D4606=\"AGI externes\",'Relevés de  commissions'!M4606,0)*1","v":0},{"$f":"IF('Relevés de  commissions'!D4606=\"AGI externes\",'Relevés de  commissions'!N4606,0)*1","v":0},{"$f":"IF('Relevés de  commissions'!D4606=\"AGI externes\",'Relevés de  commissions'!O4606,0)*1","v":0},{"$f":"IF('Relevés de  commissions'!D4606=\"AGI externes\",'Relevés de  commissions'!P4606,0)*1","v":0},0,""]
[null,null,null,null,null,null,null,null,null,null,null,null,{"$f":"IF('Relevés de  commissions'!D4615=\"AGI externes\",'Relevés de  commissions'!M4615,0)*1","v":0},{"$f":"IF('Relevés de  commissions'!D4615=\"AGI externes\",'Relevés de  commissions'!N4615,0)*1","v":0},{"$f":"IF('Relevés de  commissions'!D4615=\"AGI externes\",'Relevés de  commissions'!O4615,0)*1","v":0},{"$f":"IF('Relevés de  commissions'!D4615=\"AGI externes\",'Relevés de  commissions'!P4615,0)*1","v":0},0,""]
[null,null,null,null,null,null,null,null,null,null,null,null,{"$f":"IF('Relevés de  commissions'!D4621=\"AGI externes\",'Relevés de  commissions'!M4621,0)*1","v":0},{"$f":"IF('Relevés de  commissions'!D4621=\"AGI externes\",'Relevés de  commissions'!N4621,0)*1","v":0},{"$f":"IF('Relevés de  commissions'!D4621=\"AGI externes\",'Relevés de  commissions'!O4621,0)*1","v":0},{"$f":"IF('Relevés de  commissions'!D4621=\"AGI externes\",'Relevés de  commissions'!P4621,0)*1","v":0},0,""]
[null,null,null,null,null,null,null,null,null,null,null,null,{"$f":"IF('Relevés de  commissions'!D4638=\"AGI externes\",'Relevés de  commissions'!M4638,0)*1","v":0},{"$f":"IF('Relevés de  commissions'!D4638=\"AGI externes\",'Relevés de  commissions'!N4638,0)*1","v":0},{"$f":"IF('Relevés de  commissions'!D4638=\"AGI externes\",'Relevés de  commissions'!O4638,0)*1","v":0},{"$f":"IF('Relevés de  commissions'!D4638=\"AGI externes\",'Relevés de  commissions'!P4638,0)*1","v":0},0,""]
[null,null,null,null,null,null,null,null,null,null,null,null,{"$f":"IF('Relevés de  commissions'!D4648=\"AGI externes\",'Relevés de  commissions'!M4648,0)*1","v":0},{"$f":"IF('Relevés de  commissions'!D4648=\"AGI externes\",'Relevés de  commissions'!N4648,0)*1","v":0},{"$f":"IF('Relevés de  commissions'!D4648=\"AGI externes\",'Relevés de  commissions'!O4648,0)*1","v":0},{"$f":"IF('Relevés de  commissions'!D4648=\"AGI externes\",'Relevés de  commissions'!P4648,0)*1","v":0},0,""]
[null,null,null,null,null,null,null,null,null,null,null,null,{"$f":"IF('Relevés de  commissions'!D4654=\"AGI externes\",'Relevés de  commissions'!M4654,0)*1","v":0},{"$f":"IF('Relevés de  commissions'!D4654=\"AGI externes\",'Relevés de  commissions'!N4654,0)*1","v":0},{"$f":"IF('Relevés de  commissions'!D4654=\"AGI externes\",'Relevés de  commissions'!O4654,0)*1","v":0},{"$f":"IF('Relevés de  commissions'!D4654=\"AGI externes\",'Relevés de  commissions'!P4654,0)*1","v":0},0,""]
[null,null,null,null,null,null,null,null,null,null,null,null,{"$f":"IF('Relevés de  commissions'!D4673=\"AGI externes\",'Relevés de  commissions'!M4673,0)*1","v":0},{"$f":"IF('Relevés de  commissions'!D4673=\"AGI externes\",'Relevés de  commissions'!N4673,0)*1","v":0},{"$f":"IF('Relevés de  commissions'!D4673=\"AGI externes\",'Relevés de  commissions'!O4673,0)*1","v":0},{"$f":"IF('Relevés de  commissions'!D4673=\"AGI externes\",'Relevés de  commissions'!P4673,0)*1","v":0},0,""]
[null,null,null,null,null,null,null,null,null,null,null,null,{"$f":"IF('Relevés de  commissions'!D4680=\"AGI externes\",'Relevés de  commissions'!M4680,0)*1","v":0},{"$f":"IF('Relevés de  commissions'!D4680=\"AGI externes\",'Relevés de  commissions'!N4680,0)*1","v":0},{"$f":"IF('Relevés de  commissions'!D4680=\"AGI externes\",'Relevés de  commissions'!O4680,0)*1","v":0},{"$f":"IF('Relevés de  commissions'!D4680=\"AGI externes\",'Relevés de  commissions'!P4680,0)*1","v":0},0,""]
[null,null,null,null,null,null,null,null,null,null,null,null,{"$f":"IF('Relevés de  commissions'!D4686=\"AGI externes\",'Relevés de  commissions'!M4686,0)*1","v":0},{"$f":"IF('Relevés de  commissions'!D4686=\"AGI externes\",'Relevés de  commissions'!N4686,0)*1","v":0},{"$f":"IF('Relevés de  commissions'!D4686=\"AGI externes\",'Relevés de  commissions'!O4686,0)*1","v":0},{"$f":"IF('Relevés de  commissions'!D4686=\"AGI externes\",'Relevés de  commissions'!P4686,0)*1","v":0},0,""]
[null,null,null,null,null,null,null,null,null,null,null,null,{"$f":"IF('Relevés de  commissions'!D4696=\"AGI externes\",'Relevés de  commissions'!M4696,0)*1","v":0},{"$f":"IF('Relevés de  commissions'!D4696=\"AGI externes\",'Relevés de  commissions'!N4696,0)*1","v":0},{"$f":"IF('Relevés de  commissions'!D4696=\"AGI externes\",'Relevés de  commissions'!O4696,0)*1","v":0},{"$f":"IF('Relevés de  commissions'!D4696=\"AGI externes\",'Relevés de  commissions'!P4696,0)*1","v":0},0,""]
[null,null,null,null,null,null,null,null,null,null,null,null,{"$f":"IF('Relevés de  commissions'!D4713=\"AGI externes\",'Relevés de  commissions'!M4713,0)*1","v":0},{"$f":"IF('Relevés de  commissions'!D4713=\"AGI externes\",'Relevés de  commissions'!N4713,0)*1","v":0},{"$f":"IF('Relevés de  commissions'!D4713=\"AGI externes\",'Relevés de  commissions'!O4713,0)*1","v":0},{"$f":"IF('Relevés de  commissions'!D4713=\"AGI externes\",'Relevés de  commissions'!P4713,0)*1","v":0},0,""]
[null,null,null,null,null,null,null,null,null,null,null,null,{"$f":"IF('Relevés de  commissions'!D4719=\"AGI externes\",'Relevés de  commissions'!M4719,0)*1","v":0},{"$f":"IF('Relevés de  commissions'!D4719=\"AGI externes\",'Relevés de  commissions'!N4719,0)*1","v":0},{"$f":"IF('Relevés de  commissions'!D4719=\"AGI externes\",'Relevés de  commissions'!O4719,0)*1","v":0},{"$f":"IF('Relevés de  commissions'!D4719=\"AGI externes\",'Relevés de  commissions'!P4719,0)*1","v":0},0,""]
[null,null,null,null,null,null,null,null,null,null,null,null,{"$f":"IF('Relevés de  commissions'!D4736=\"AGI externes\",'Relevés de  commissions'!M4736,0)*1","v":0},{"$f":"IF('Relevés de  commissions'!D4736=\"AGI externes\",'Relevés de  commissions'!N4736,0)*1","v":0},{"$f":"IF('Relevés de  commissions'!D4736=\"AGI externes\",'Relevés de  commissions'!O4736,0)*1","v":0},{"$f":"IF('Relevés de  commissions'!D4736=\"AGI externes\",'Relevés de  commissions'!P4736,0)*1","v":0},0,""]
[null,null,null,null,null,null,null,null,null,null,null,null,{"$f":"IF('Relevés de  commissions'!D4745=\"AGI externes\",'Relevés de  commissions'!M4745,0)*1","v":0},{"$f":"IF('Relevés de  commissions'!D4745=\"AGI externes\",'Relevés de  commissions'!N4745,0)*1","v":0},{"$f":"IF('Relevés de  commissions'!D4745=\"AGI externes\",'Relevés de  commissions'!O4745,0)*1","v":0},{"$f":"IF('Relevés de  commissions'!D4745=\"AGI externes\",'Relevés de  commissions'!P4745,0)*1","v":0},0,""]
[null,null,null,null,null,null,null,null,null,null,null,null,{"$f":"IF('Relevés de  commissions'!D4755=\"AGI externes\",'Relevés de  commissions'!M4755,0)*1","v":0},{"$f":"IF('Relevés de  commissions'!D4755=\"AGI externes\",'Relevés de  commissions'!N4755,0)*1","v":0},{"$f":"IF('Relevés de  commissions'!D4755=\"AGI externes\",'Relevés de  commissions'!O4755,0)*1","v":0},{"$f":"IF('Relevés de  commissions'!D4755=\"AGI externes\",'Relevés de  commissions'!P4755,0)*1","v":0},0,""]
[null,null,null,null,null,null,null,null,null,null,null,null,{"$f":"IF('Relevés de  commissions'!D4761=\"AGI externes\",'Relevés de  commissions'!M4761,0)*1","v":0},{"$f":"IF('Relevés de  commissions'!D4761=\"AGI externes\",'Relevés de  commissions'!N4761,0)*1","v":0},{"$f":"IF('Relevés de  commissions'!D4761=\"AGI externes\",'Relevés de  commissions'!O4761,0)*1","v":0},{"$f":"IF('Relevés de  commissions'!D4761=\"AGI externes\",'Relevés de  commissions'!P4761,0)*1","v":0},0,""]
[null,null,null,null,null,null,null,null,null,null,null,null,{"$f":"IF('Relevés de  commissions'!D4778=\"AGI externes\",'Relevés de  commissions'!M4778,0)*1","v":0},{"$f":"IF('Relevés de  commissions'!D4778=\"AGI externes\",'Relevés de  commissions'!N4778,0)*1","v":0},{"$f":"IF('Relevés de  commissions'!D4778=\"AGI externes\",'Relevés de  commissions'!O4778,0)*1","v":0},{"$f":"IF('Relevés de  commissions'!D4778=\"AGI externes\",'Relevés de  commissions'!P4778,0)*1","v":0},0,""]
[null,null,null,null,null,null,null,null,null,null,null,null,{"$f":"IF('Relevés de  commissions'!D4788=\"AGI externes\",'Relevés de  commissions'!M4788,0)*1","v":0},{"$f":"IF('Relevés de  commissions'!D4788=\"AGI externes\",'Relevés de  commissions'!N4788,0)*1","v":0},{"$f":"IF('Relevés de  commissions'!D4788=\"AGI externes\",'Relevés de  commissions'!O4788,0)*1","v":0},{"$f":"IF('Relevés de  commissions'!D4788=\"AGI externes\",'Relevés de  commissions'!P4788,0)*1","v":0},0,""]
[null,null,null,null,null,null,null,null,null,null,null,null,{"$f":"IF('Relevés de  commissions'!D4803=\"AGI externes\",'Relevés de  commissions'!M4803,0)*1","v":0},{"$f":"IF('Relevés de  commissions'!D4803=\"AGI externes\",'Relevés de  commissions'!N4803,0)*1","v":0},{"$f":"IF('Relevés de  commissions'!D4803=\"AGI externes\",'Relevés de  commissions'!O4803,0)*1","v":0},{"$f":"IF('Relevés de  commissions'!D4803=\"AGI externes\",'Relevés de  commissions'!P4803,0)*1","v":0},{"$f":"IF(N4805=0,O4805,\"\")","v":0},{"$f":"IF(N4805=10,O4805,\"\")","v":""}]
[null,null,null,null,null,null,null,null,null,null,null,null,{"$f":"IF('Relevés de  commissions'!D4810=\"AGI externes\",'Relevés de  commissions'!M4810,0)*1","v":0},{"$f":"IF('Relevés de  commissions'!D4810=\"AGI externes\",'Relevés de  commissions'!N4810,0)*1","v":0},{"$f":"IF('Relevés de  commissions'!D4810=\"AGI externes\",'Relevés de  commissions'!O4810,0)*1","v":0},{"$f":"IF('Relevés de  commissions'!D4810=\"AGI externes\",'Relevés de  commissions'!P4810,0)*1","v":0},0,""]
[null,null,null,null,null,null,null,null,null,null,null,null,{"$f":"IF('Relevés de  commissions'!D4820=\"AGI externes\",'Relevés de  commissions'!M4820,0)*1","v":0},{"$f":"IF('Relevés de  commissions'!D4820=\"AGI externes\",'Relevés de  commissions'!N4820,0)*1","v":0},{"$f":"IF('Relevés de  commissions'!D4820=\"AGI externes\",'Relevés de  commissions'!O4820,0)*1","v":0},{"$f":"IF('Relevés de  commissions'!D4820=\"AGI externes\",'Relevés de  commissions'!P4820,0)*1","v":0},0,""]
[null,null,null,null,null,null,null,null,null,null,null,null,{"$f":"IF('Relevés de  commissions'!D4826=\"AGI externes\",'Relevés de  commissions'!M4826,0)*1","v":0},{"$f":"IF('Relevés de  commissions'!D4826=\"AGI externes\",'Relevés de  commissions'!N4826,0)*1","v":0},{"$f":"IF('Relevés de  commissions'!D4826=\"AGI externes\",'Relevés de  commissions'!O4826,0)*1","v":0},{"$f":"IF('Relevés de  commissions'!D4826=\"AGI externes\",'Relevés de  commissions'!P4826,0)*1","v":0},0,""]
[null,null,null,null,null,null,null,null,null,null,null,null,{"$f":"IF('Relevés de  commissions'!D4847=\"AGI externes\",'Relevés de  commissions'!M4847,0)*1","v":0},{"$f":"IF('Relevés de  commissions'!D4847=\"AGI externes\",'Relevés de  commissions'!N4847,0)*1","v":0},{"$f":"IF('Relevés de  commissions'!D4847=\"AGI externes\",'Relevés de  commissions'!O4847,0)*1","v":0},{"$f":"IF('Relevés de  commissions'!D4847=\"AGI externes\",'Relevés de  commissions'!P4847,0)*1","v":0},0,""]
[null,null,null,null,null,null,null,null,null,null,null,null,{"$f":"IF('Relevés de  commissions'!D4853=\"AGI externes\",'Relevés de  commissions'!M4853,0)*1","v":0},{"$f":"IF('Relevés de  commissions'!D4853=\"AGI externes\",'Relevés de  commissions'!N4853,0)*1","v":0},{"$f":"IF('Relevés de  commissions'!D4853=\"AGI externes\",'Relevés de  commissions'!O4853,0)*1","v":0},{"$f":"IF('Relevés de  commissions'!D4853=\"AGI externes\",'Relevés de  commissions'!P4853,0)*1","v":0},0,""]
[null,null,null,null,null,null,null,null,null,null,null,null,{"$f":"IF('Relevés de  commissions'!D4860=\"AGI externes\",'Relevés de  commissions'!M4860,0)*1","v":0},{"$f":"IF('Relevés de  commissions'!D4860=\"AGI externes\",'Relevés de  commissions'!N4860,0)*1","v":0},{"$f":"IF('Relevés de  commissions'!D4860=\"AGI externes\",'Relevés de  commissions'!O4860,0)*1","v":0},{"$f":"IF('Relevés de  commissions'!D4860=\"AGI externes\",'Relevés de  commissions'!P4860,0)*1","v":0},0,""]
[null,null,null,null,null,null,null,null,null,null,null,null,{"$f":"IF('Relevés de  commissions'!D4879=\"AGI externes\",'Relevés de  commissions'!M4879,0)*1","v":0},{"$f":"IF('Relevés de  commissions'!D4879=\"AGI externes\",'Relevés de  commissions'!N4879,0)*1","v":0},{"$f":"IF('Relevés de  commissions'!D4879=\"AGI externes\",'Relevés de  commissions'!O4879,0)*1","v":0},{"$f":"IF('Relevés de  commissions'!D4879=\"AGI externes\",'Relevés de  commissions'!P4879,0)*1","v":0},0,""]
[null,null,null,null,null,null,null,null,null,null,null,null,{"$f":"IF('Relevés de  commissions'!D4885=\"AGI externes\",'Relevés de  commissions'!M4885,0)*1","v":0},{"$f":"IF('Relevés de  commissions'!D4885=\"AGI externes\",'Relevés de  commissions'!N4885,0)*1","v":0},{"$f":"IF('Relevés de  commissions'!D4885=\"AGI externes\",'Relevés de  commissions'!O4885,0)*1","v":0},{"$f":"IF('Relevés de  commissions'!D4885=\"AGI externes\",'Relevés de  commissions'!P4885,0)*1","v":0},0,""]
[null,null,null,null,null,null,null,null,null,null,null,null,{"$f":"IF('Relevés de  commissions'!D4891=\"AGI externes\",'Relevés de  commissions'!M4891,0)*1","v":0},{"$f":"IF('Relevés de  commissions'!D4891=\"AGI externes\",'Relevés de  commissions'!N4891,0)*1","v":0},{"$f":"IF('Relevés de  commissions'!D4891=\"AGI externes\",'Relevés de  commissions'!O4891,0)*1","v":0},{"$f":"IF('Relevés de  commissions'!D4891=\"AGI externes\",'Relevés de  commissions'!P4891,0)*1","v":0},0,""]
[null,null,null,null,null,null,null,null,null,null,null,null,{"$f":"IF('Relevés de  commissions'!D4912=\"AGI externes\",'Relevés de  commissions'!M4912,0)*1","v":0},{"$f":"IF('Relevés de  commissions'!D4912=\"AGI externes\",'Relevés de  commissions'!N4912,0)*1","v":0},{"$f":"IF('Relevés de  commissions'!D4912=\"AGI externes\",'Relevés de  commissions'!O4912,0)*1","v":0},{"$f":"IF('Relevés de  commissions'!D4912=\"AGI externes\",'Relevés de  commissions'!P4912,0)*1","v":0},0,""]
[null,null,null,null,null,null,null,null,null,null,null,null,{"$f":"IF('Relevés de  commissions'!D4918=\"AGI externes\",'Relevés de  commissions'!M4918,0)*1","v":0},{"$f":"IF('Relevés de  commissions'!D4918=\"AGI externes\",'Relevés de  commissions'!N4918,0)*1","v":0},{"$f":"IF('Relevés de  commissions'!D4918=\"AGI externes\",'Relevés de  commissions'!O4918,0)*1","v":0},{"$f":"IF('Relevés de  commissions'!D4918=\"AGI externes\",'Relevés de  commissions'!P4918,0)*1","v":0},0,""]
[null,null,null,null,null,null,null,null,null,null,null,null,{"$f":"IF('Relevés de  commissions'!D4933=\"AGI externes\",'Relevés de  commissions'!M4933,0)*1","v":0},{"$f":"IF('Relevés de  commissions'!D4933=\"AGI externes\",'Relevés de  commissions'!N4933,0)*1","v":0},{"$f":"IF('Relevés de  commissions'!D4933=\"AGI externes\",'Relevés de  commissions'!O4933,0)*1","v":0},{"$f":"IF('Relevés de  commissions'!D4933=\"AGI externes\",'Relevés de  commissions'!P4933,0)*1","v":0},0,""]
[null,null,null,null,null,null,null,null,null,null,null,null,{"$f":"IF('Relevés de  commissions'!D4944=\"AGI externes\",'Relevés de  commissions'!M4944,0)*1","v":0},{"$f":"IF('Relevés de  commissions'!D4944=\"AGI externes\",'Relevés de  commissions'!N4944,0)*1","v":0},{"$f":"IF('Relevés de  commissions'!D4944=\"AGI externes\",'Relevés de  commissions'!O4944,0)*1","v":0},{"$f":"IF('Relevés de  commissions'!D4944=\"AGI externes\",'Relevés de  commissions'!P4944,0)*1","v":0},0,""]
[null,null,null,null,null,null,null,null,null,null,null,null,{"$f":"IF('Relevés de  commissions'!D4950=\"AGI externes\",'Relevés de  commissions'!M4950,0)*1","v":0},{"$f":"IF('Relevés de  commissions'!D4950=\"AGI externes\",'Relevés de  commissions'!N4950,0)*1","v":0},{"$f":"IF('Relevés de  commissions'!D4950=\"AGI externes\",'Relevés de  commissions'!O4950,0)*1","v":0},{"$f":"IF('Relevés de  commissions'!D4950=\"AGI externes\",'Relevés de  commissions'!P4950,0)*1","v":0},0,""]
[null,null,null,null,null,null,null,null,null,null,null,null,{"$f":"IF('Relevés de  commissions'!D4960=\"AGI externes\",'Relevés de  commissions'!M4960,0)*1","v":0},{"$f":"IF('Relevés de  commissions'!D4960=\"AGI externes\",'Relevés de  commissions'!N4960,0)*1","v":0},{"$f":"IF('Relevés de  commissions'!D4960=\"AGI externes\",'Relevés de  commissions'!O4960,0)*1","v":0},{"$f":"IF('Relevés de  commissions'!D4960=\"AGI externes\",'Relevés de  commissions'!P4960,0)*1","v":0},0,""]
[null,null,null,null,null,null,null,null,null,null,null,null,{"$f":"IF('Relevés de  commissions'!D4977=\"AGI externes\",'Relevés de  commissions'!M4977,0)*1","v":0},{"$f":"IF('Relevés de  commissions'!D4977=\"AGI externes\",'Relevés de  commissions'!N4977,0)*1","v":0},{"$f":"IF('Relevés de  commissions'!D4977=\"AGI externes\",'Relevés de  commissions'!O4977,0)*1","v":0},{"$f":"IF('Relevés de  commissions'!D4977=\"AGI externes\",'Relevés de  commissions'!P4977,0)*1","v":0},0,""]
[null,null,null,null,null,null,null,null,null,null,null,null,{"$f":"IF('Relevés de  commissions'!D4987=\"AGI externes\",'Relevés de  commissions'!M4987,0)*1","v":0},{"$f":"IF('Relevés de  commissions'!D4987=\"AGI externes\",'Relevés de  commissions'!N4987,0)*1","v":0},{"$f":"IF('Relevés de  commissions'!D4987=\"AGI externes\",'Relevés de  commissions'!O4987,0)*1","v":0},{"$f":"IF('Relevés de  commissions'!D4987=\"AGI externes\",'Relevés de  commissions'!P4987,0)*1","v":0},0,""]
[null,null,null,null,null,null,null,null,null,null,null,null,{"$f":"IF('Relevés de  commissions'!D4990=\"AGI externes\",'Relevés de  commissions'!M4990,0)*1","v":0},{"$f":"IF('Relevés de  commissions'!D4990=\"AGI externes\",'Relevés de  commissions'!N4990,0)*1","v":0},{"$f":"IF('Relevés de  commissions'!D4990=\"AGI externes\",'Relevés de  commissions'!O4990,0)*1","v":0},{"$f":"IF('Relevés de  commissions'!D4990=\"AGI externes\",'Relevés de  commissions'!P4990,0)*1","v":0},0,""]
[null,null,null,null,null,null,null,null,null,null,null,null,{"$f":"IF('Relevés de  commissions'!D5009=\"AGI externes\",'Relevés de  commissions'!M5009,0)*1","v":0},{"$f":"IF('Relevés de  commissions'!D5009=\"AGI externes\",'Relevés de  commissions'!N5009,0)*1","v":0},{"$f":"IF('Relevés de  commissions'!D5009=\"AGI externes\",'Relevés de  commissions'!O5009,0)*1","v":0},{"$f":"IF('Relevés de  commissions'!D5009=\"AGI externes\",'Relevés de  commissions'!P5009,0)*1","v":0},0,""]
[null,null,null,null,null,null,null,null,null,null,null,null,{"$f":"IF('Relevés de  commissions'!D5019=\"AGI externes\",'Relevés de  commissions'!M5019,0)*1","v":0},{"$f":"IF('Relevés de  commissions'!D5019=\"AGI externes\",'Relevés de  commissions'!N5019,0)*1","v":0},{"$f":"IF('Relevés de  commissions'!D5019=\"AGI externes\",'Relevés de  commissions'!O5019,0)*1","v":0},{"$f":"IF('Relevés de  commissions'!D5019=\"AGI externes\",'Relevés de  commissions'!P5019,0)*1","v":0},0,""]
[null,null,null,null,null,null,null,null,null,null,null,null,{"$f":"IF('Relevés de  commissions'!D5025=\"AGI externes\",'Relevés de  commissions'!M5025,0)*1","v":0},{"$f":"IF('Relevés de  commissions'!D5025=\"AGI externes\",'Relevés de  commissions'!N5025,0)*1","v":0},{"$f":"IF('Relevés de  commissions'!D5025=\"AGI externes\",'Relevés de  commissions'!O5025,0)*1","v":0},{"$f":"IF('Relevés de  commissions'!D5025=\"AGI externes\",'Relevés de  commissions'!P5025,0)*1","v":0},0,""]
[null,null,null,null,null,null,null,null,null,null,null,null,{"$f":"IF('Relevés de  commissions'!D5042=\"AGI externes\",'Relevés de  commissions'!M5042,0)*1","v":0},{"$f":"IF('Relevés de  commissions'!D5042=\"AGI externes\",'Relevés de  commissions'!N5042,0)*1","v":0},{"$f":"IF('Relevés de  commissions'!D5042=\"AGI externes\",'Relevés de  commissions'!O5042,0)*1","v":0},{"$f":"IF('Relevés de  commissions'!D5042=\"AGI externes\",'Relevés de  commissions'!P5042,0)*1","v":0},0,""]
[null,null,null,null,null,null,null,null,null,null,null,null,{"$f":"IF('Relevés de  commissions'!D5052=\"AGI externes\",'Relevés de  commissions'!M5052,0)*1","v":0},{"$f":"IF('Relevés de  commissions'!D5052=\"AGI externes\",'Relevés de  commissions'!N5052,0)*1","v":0},{"$f":"IF('Relevés de  commissions'!D5052=\"AGI externes\",'Relevés de  commissions'!O5052,0)*1","v":0},{"$f":"IF('Relevés de  commissions'!D5052=\"AGI externes\",'Relevés de  commissions'!P5052,0)*1","v":0},0,""]
[null,null,null,null,null,null,null,null,null,null,null,null,{"$f":"IF('Relevés de  commissions'!D5057=\"AGI externes\",'Relevés de  commissions'!M5057,0)*1","v":0},{"$f":"IF('Relevés de  commissions'!D5057=\"AGI externes\",'Relevés de  commissions'!N5057,0)*1","v":0},{"$f":"IF('Relevés de  commissions'!D5057=\"AGI externes\",'Relevés de  commissions'!O5057,0)*1","v":0},{"$f":"IF('Relevés de  commissions'!D5057=\"AGI externes\",'Relevés de  commissions'!P5057,0)*1","v":0},0,""]
[null,null,null,null,null,null,null,null,null,null,null,null,{"$f":"IF('Relevés de  commissions'!D5067=\"AGI externes\",'Relevés de  commissions'!M5067,0)*1","v":0},{"$f":"IF('Relevés de  commissions'!D5067=\"AGI externes\",'Relevés de  commissions'!N5067,0)*1","v":0},{"$f":"IF('Relevés de  commissions'!D5067=\"AGI externes\",'Relevés de  commissions'!O5067,0)*1","v":0},{"$f":"IF('Relevés de  commissions'!D5067=\"AGI externes\",'Relevés de  commissions'!P5067,0)*1","v":0},0,""]
[null,null,null,null,null,null,null,null,null,null,null,null,{"$f":"IF('Relevés de  commissions'!D5084=\"AGI externes\",'Relevés de  commissions'!M5084,0)*1","v":0},{"$f":"IF('Relevés de  commissions'!D5084=\"AGI externes\",'Relevés de  commissions'!N5084,0)*1","v":0},{"$f":"IF('Relevés de  commissions'!D5084=\"AGI externes\",'Relevés de  commissions'!O5084,0)*1","v":0},{"$f":"IF('Relevés de  commissions'!D5084=\"AGI externes\",'Relevés de  commissions'!P5084,0)*1","v":0},0,""]
[null,null,null,null,null,null,null,null,null,null,null,null,{"$f":"IF('Relevés de  commissions'!D5090=\"AGI externes\",'Relevés de  commissions'!M5090,0)*1","v":0},{"$f":"IF('Relevés de  commissions'!D5090=\"AGI externes\",'Relevés de  commissions'!N5090,0)*1","v":0},{"$f":"IF('Relevés de  commissions'!D5090=\"AGI externes\",'Relevés de  commissions'!O5090,0)*1","v":0},{"$f":"IF('Relevés de  commissions'!D5090=\"AGI externes\",'Relevés de  commissions'!P5090,0)*1","v":0},0,""]
[null,null,null,null,null,null,null,null,null,null,null,null,{"$f":"IF('Relevés de  commissions'!D5100=\"AGI externes\",'Relevés de  commissions'!M5100,0)*1","v":0},{"$f":"IF('Relevés de  commissions'!D5100=\"AGI externes\",'Relevés de  commissions'!N5100,0)*1","v":0},{"$f":"IF('Relevés de  commissions'!D5100=\"AGI externes\",'Relevés de  commissions'!O5100,0)*1","v":0},{"$f":"IF('Relevés de  commissions'!D5100=\"AGI externes\",'Relevés de  commissions'!P5100,0)*1","v":0},0,""]
[null,null,null,null,null,null,null,null,null,null,null,null,{"$f":"IF('Relevés de  commissions'!D5117=\"AGI externes\",'Relevés de  commissions'!M5117,0)*1","v":0},{"$f":"IF('Relevés de  commissions'!D5117=\"AGI externes\",'Relevés de  commissions'!N5117,0)*1","v":0},{"$f":"IF('Relevés de  commissions'!D5117=\"AGI externes\",'Relevés de  commissions'!O5117,0)*1","v":0},{"$f":"IF('Relevés de  commissions'!D5117=\"AGI externes\",'Relevés de  commissions'!P5117,0)*1","v":0},0,""]
[null,null,null,null,null,null,null,null,null,null,null,null,{"$f":"IF('Relevés de  commissions'!D5120=\"AGI externes\",'Relevés de  commissions'!M5120,0)*1","v":0},{"$f":"IF('Relevés de  commissions'!D5120=\"AGI externes\",'Relevés de  commissions'!N5120,0)*1","v":0},{"$f":"IF('Relevés de  commissions'!D5120=\"AGI externes\",'Relevés de  commissions'!O5120,0)*1","v":0},{"$f":"IF('Relevés de  commissions'!D5120=\"AGI externes\",'Relevés de  commissions'!P5120,0)*1","v":0},0,""]
[null,null,null,null,null,null,null,null,null,null,null,null,{"$f":"IF('Relevés de  commissions'!D5132=\"AGI externes\",'Relevés de  commissions'!M5132,0)*1","v":0},{"$f":"IF('Relevés de  commissions'!D5132=\"AGI externes\",'Relevés de  commissions'!N5132,0)*1","v":0},{"$f":"IF('Relevés de  commissions'!D5132=\"AGI externes\",'Relevés de  commissions'!O5132,0)*1","v":0},{"$f":"IF('Relevés de  commissions'!D5132=\"AGI externes\",'Relevés de  commissions'!P5132,0)*1","v":0},0,""]
[null,null,null,null,null,null,null,null,null,null,null,null,{"$f":"IF('Relevés de  commissions'!D5149=\"AGI externes\",'Relevés de  commissions'!M5149,0)*1","v":0},{"$f":"IF('Relevés de  commissions'!D5149=\"AGI externes\",'Relevés de  commissions'!N5149,0)*1","v":0},{"$f":"IF('Relevés de  commissions'!D5149=\"AGI externes\",'Relevés de  commissions'!O5149,0)*1","v":0},{"$f":"IF('Relevés de  commissions'!D5149=\"AGI externes\",'Relevés de  commissions'!P5149,0)*1","v":0},0,""]
[null,null,null,null,null,null,null,null,null,null,null,null,{"$f":"IF('Relevés de  commissions'!D5159=\"AGI externes\",'Relevés de  commissions'!M5159,0)*1","v":0},{"$f":"IF('Relevés de  commissions'!D5159=\"AGI externes\",'Relevés de  commissions'!N5159,0)*1","v":0},{"$f":"IF('Relevés de  commissions'!D5159=\"AGI externes\",'Relevés de  commissions'!O5159,0)*1","v":0},{"$f":"IF('Relevés de  commissions'!D5159=\"AGI externes\",'Relevés de  commissions'!P5159,0)*1","v":0},0,""]
[null,null,null,null,null,null,null,null,null,null,null,null,{"$f":"IF('Relevés de  commissions'!D5165=\"AGI externes\",'Relevés de  commissions'!M5165,0)*1","v":0},{"$f":"IF('Relevés de  commissions'!D5165=\"AGI externes\",'Relevés de  commissions'!N5165,0)*1","v":0},{"$f":"IF('Relevés de  commissions'!D5165=\"AGI externes\",'Relevés de  commissions'!O5165,0)*1","v":0},{"$f":"IF('Relevés de  commissions'!D5165=\"AGI externes\",'Relevés de  commissions'!P5165,0)*1","v":0},0,""]
[null,null,null,null,null,null,null,null,null,null,null,null,{"$f":"IF('Relevés de  commissions'!D5182=\"AGI externes\",'Relevés de  commissions'!M5182,0)*1","v":0},{"$f":"IF('Relevés de  commissions'!D5182=\"AGI externes\",'Relevés de  commissions'!N5182,0)*1","v":0},{"$f":"IF('Relevés de  commissions'!D5182=\"AGI externes\",'Relevés de  commissions'!O5182,0)*1","v":0},{"$f":"IF('Relevés de  commissions'!D5182=\"AGI externes\",'Relevés de  commissions'!P5182,0)*1","v":0},0,""]
[null,null,null,null,null,null,null,null,null,null,null,null,{"$f":"IF('Relevés de  commissions'!D5187=\"AGI externes\",'Relevés de  commissions'!M5187,0)*1","v":0},{"$f":"IF('Relevés de  commissions'!D5187=\"AGI externes\",'Relevés de  commissions'!N5187,0)*1","v":0},{"$f":"IF('Relevés de  commissions'!D5187=\"AGI externes\",'Relevés de  commissions'!O5187,0)*1","v":0},{"$f":"IF('Relevés de  commissions'!D5187=\"AGI externes\",'Relevés de  commissions'!P5187,0)*1","v":0},{"$f":"IF(N5189=0,O5189,\"\")","v":0},{"$f":"IF(N5189=10,O5189,\"\")","v":""}]
[null,null,null,null,null,null,null,null,null,null,null,null,{"$f":"IF('Relevés de  commissions'!D5197=\"AGI externes\",'Relevés de  commissions'!M5197,0)*1","v":0},{"$f":"IF('Relevés de  commissions'!D5197=\"AGI externes\",'Relevés de  commissions'!N5197,0)*1","v":0},{"$f":"IF('Relevés de  commissions'!D5197=\"AGI externes\",'Relevés de  commissions'!O5197,0)*1","v":0},{"$f":"IF('Relevés de  commissions'!D5197=\"AGI externes\",'Relevés de  commissions'!P5197,0)*1","v":0},0,""]
[null,null,null,null,null,null,null,null,null,null,null,null,{"$f":"IF('Relevés de  commissions'!D5207=\"AGI externes\",'Relevés de  commissions'!M5207,0)*1","v":0},{"$f":"IF('Relevés de  commissions'!D5207=\"AGI externes\",'Relevés de  commissions'!N5207,0)*1","v":0},{"$f":"IF('Relevés de  commissions'!D5207=\"AGI externes\",'Relevés de  commissions'!O5207,0)*1","v":0},{"$f":"IF('Relevés de  commissions'!D5207=\"AGI externes\",'Relevés de  commissions'!P5207,0)*1","v":0},0,""]
[null,null,null,null,null,null,null,null,null,null,null,null,{"$f":"IF('Relevés de  commissions'!D5224=\"AGI externes\",'Relevés de  commissions'!M5224,0)*1","v":0},{"$f":"IF('Relevés de  commissions'!D5224=\"AGI externes\",'Relevés de  commissions'!N5224,0)*1","v":0},{"$f":"IF('Relevés de  commissions'!D5224=\"AGI externes\",'Relevés de  commissions'!O5224,0)*1","v":0},{"$f":"IF('Relevés de  commissions'!D5224=\"AGI externes\",'Relevés de  commissions'!P5224,0)*1","v":0},0,""]
[null,null,null,null,null,null,null,null,null,null,null,null,{"$f":"IF('Relevés de  commissions'!D5230=\"AGI externes\",'Relevés de  commissions'!M5230,0)*1","v":0},{"$f":"IF('Relevés de  commissions'!D5230=\"AGI externes\",'Relevés de  commissions'!N5230,0)*1","v":0},{"$f":"IF('Relevés de  commissions'!D5230=\"AGI externes\",'Relevés de  commissions'!O5230,0)*1","v":0},{"$f":"IF('Relevés de  commissions'!D5230=\"AGI externes\",'Relevés de  commissions'!P5230,0)*1","v":0},0,""]
[null,null,null,null,null,null,null,null,null,null,null,null,{"$f":"IF('Relevés de  commissions'!D5240=\"AGI externes\",'Relevés de  commissions'!M5240,0)*1","v":0},{"$f":"IF('Relevés de  commissions'!D5240=\"AGI externes\",'Relevés de  commissions'!N5240,0)*1","v":0},{"$f":"IF('Relevés de  commissions'!D5240=\"AGI externes\",'Relevés de  commissions'!O5240,0)*1","v":0},{"$f":"IF('Relevés de  commissions'!D5240=\"AGI externes\",'Relevés de  commissions'!P5240,0)*1","v":0},0,""]
[null,null,null,null,null,null,null,null,null,null,null,null,{"$f":"IF('Relevés de  commissions'!D5254=\"AGI externes\",'Relevés de  commissions'!M5254,0)*1","v":0},{"$f":"IF('Relevés de  commissions'!D5254=\"AGI externes\",'Relevés de  commissions'!N5254,0)*1","v":0},{"$f":"IF('Relevés de  commissions'!D5254=\"AGI externes\",'Relevés de  commissions'!O5254,0)*1","v":0},{"$f":"IF('Relevés de  commissions'!D5254=\"AGI externes\",'Relevés de  commissions'!P5254,0)*1","v":0},0,""]
[null,null,null,null,null,null,null,null,null,null,null,null,{"$f":"IF('Relevés de  commissions'!D5262=\"AGI externes\",'Relevés de  commissions'!M5262,0)*1","v":0},{"$f":"IF('Relevés de  commissions'!D5262=\"AGI externes\",'Relevés de  commissions'!N5262,0)*1","v":0},{"$f":"IF('Relevés de  commissions'!D5262=\"AGI externes\",'Relevés de  commissions'!O5262,0)*1","v":0},{"$f":"IF('Relevés de  commissions'!D5262=\"AGI externes\",'Relevés de  commissions'!P5262,0)*1","v":0},0,""]
[null,null,null,null,null,null,null,null,null,null,null,null,{"$f":"IF('Relevés de  commissions'!D5272=\"AGI externes\",'Relevés de  commissions'!M5272,0)*1","v":0},{"$f":"IF('Relevés de  commissions'!D5272=\"AGI externes\",'Relevés de  commissions'!N5272,0)*1","v":0},{"$f":"IF('Relevés de  commissions'!D5272=\"AGI externes\",'Relevés de  commissions'!O5272,0)*1","v":0},{"$f":"IF('Relevés de  commissions'!D5272=\"AGI externes\",'Relevés de  commissions'!P5272,0)*1","v":0},0,""]
[null,null,null,null,null,null,null,null,null,null,null,null,{"$f":"IF('Relevés de  commissions'!D5289=\"AGI externes\",'Relevés de  commissions'!M5289,0)*1","v":0},{"$f":"IF('Relevés de  commissions'!D5289=\"AGI externes\",'Relevés de  commissions'!N5289,0)*1","v":0},{"$f":"IF('Relevés de  commissions'!D5289=\"AGI externes\",'Relevés de  commissions'!O5289,0)*1","v":0},{"$f":"IF('Relevés de  commissions'!D5289=\"AGI externes\",'Relevés de  commissions'!P5289,0)*1","v":0},0,""]
[null,null,null,null,null,null,null,null,null,null,null,null,{"$f":"IF('Relevés de  commissions'!D5299=\"AGI externes\",'Relevés de  commissions'!M5299,0)*1","v":0},{"$f":"IF('Relevés de  commissions'!D5299=\"AGI externes\",'Relevés de  commissions'!N5299,0)*1","v":0},{"$f":"IF('Relevés de  commissions'!D5299=\"AGI externes\",'Relevés de  commissions'!O5299,0)*1","v":0},{"$f":"IF('Relevés de  commissions'!D5299=\"AGI externes\",'Relevés de  commissions'!P5299,0)*1","v":0},0,""]
[null,null,null,null,null,null,null,null,null,null,null,null,{"$f":"IF('Relevés de  commissions'!D5305=\"AGI externes\",'Relevés de  commissions'!M5305,0)*1","v":0},{"$f":"IF('Relevés de  commissions'!D5305=\"AGI externes\",'Relevés de  commissions'!N5305,0)*1","v":0},{"$f":"IF('Relevés de  commissions'!D5305=\"AGI externes\",'Relevés de  commissions'!O5305,0)*1","v":0},{"$f":"IF('Relevés de  commissions'!D5305=\"AGI externes\",'Relevés de  commissions'!P5305,0)*1","v":0},0,""]
[null,null,null,null,null,null,null,null,null,null,null,null,{"$f":"IF('Relevés de  commissions'!D5321=\"AGI externes\",'Relevés de  commissions'!M5321,0)*1","v":0},{"$f":"IF('Relevés de  commissions'!D5321=\"AGI externes\",'Relevés de  commissions'!N5321,0)*1","v":0},{"$f":"IF('Relevés de  commissions'!D5321=\"AGI externes\",'Relevés de  commissions'!O5321,0)*1","v":0},{"$f":"IF('Relevés de  commissions'!D5321=\"AGI externes\",'Relevés de  commissions'!P5321,0)*1","v":0},0,""]
[null,null,null,null,null,null,null,null,null,null,null,null,{"$f":"IF('Relevés de  commissions'!D5331=\"AGI externes\",'Relevés de  commissions'!M5331,0)*1","v":0},{"$f":"IF('Relevés de  commissions'!D5331=\"AGI externes\",'Relevés de  commissions'!N5331,0)*1","v":0},{"$f":"IF('Relevés de  commissions'!D5331=\"AGI externes\",'Relevés de  commissions'!O5331,0)*1","v":0},{"$f":"IF('Relevés de  commissions'!D5331=\"AGI externes\",'Relevés de  commissions'!P5331,0)*1","v":0},0,""]
[null,null,null,null,null,null,null,null,null,null,null,null,{"$f":"IF('Relevés de  commissions'!D5337=\"AGI externes\",'Relevés de  commissions'!M5337,0)*1","v":0},{"$f":"IF('Relevés de  commissions'!D5337=\"AGI externes\",'Relevés de  commissions'!N5337,0)*1","v":0},{"$f":"IF('Relevés de  commissions'!D5337=\"AGI externes\",'Relevés de  commissions'!O5337,0)*1","v":0},{"$f":"IF('Relevés de  commissions'!D5337=\"AGI externes\",'Relevés de  commissions'!P5337,0)*1","v":0},0,""]
[null,null,null,null,null,null,null,null,null,null,null,null,{"$f":"IF('Relevés de  commissions'!D5347=\"AGI externes\",'Relevés de  commissions'!M5347,0)*1","v":0},{"$f":"IF('Relevés de  commissions'!D5347=\"AGI externes\",'Relevés de  commissions'!N5347,0)*1","v":0},{"$f":"IF('Relevés de  commissions'!D5347=\"AGI externes\",'Relevés de  commissions'!O5347,0)*1","v":0},{"$f":"IF('Relevés de  commissions'!D5347=\"AGI externes\",'Relevés de  commissions'!P5347,0)*1","v":0},0,""]
[null,null,null,null,null,null,null,null,null,null,null,null,{"$f":"IF('Relevés de  commissions'!D5364=\"AGI externes\",'Relevés de  commissions'!M5364,0)*1","v":0},{"$f":"IF('Relevés de  commissions'!D5364=\"AGI externes\",'Relevés de  commissions'!N5364,0)*1","v":0},{"$f":"IF('Relevés de  commissions'!D5364=\"AGI externes\",'Relevés de  commissions'!O5364,0)*1","v":0},{"$f":"IF('Relevés de  commissions'!D5364=\"AGI externes\",'Relevés de  commissions'!P5364,0)*1","v":0},0,""]
[null,null,null,null,null,null,null,null,null,null,null,null,{"$f":"IF('Relevés de  commissions'!D5370=\"AGI externes\",'Relevés de  commissions'!M5370,0)*1","v":0},{"$f":"IF('Relevés de  commissions'!D5370=\"AGI externes\",'Relevés de  commissions'!N5370,0)*1","v":0},{"$f":"IF('Relevés de  commissions'!D5370=\"AGI externes\",'Relevés de  commissions'!O5370,0)*1","v":0},{"$f":"IF('Relevés de  commissions'!D5370=\"AGI externes\",'Relevés de  commissions'!P5370,0)*1","v":0},0,""]
[null,null,null,null,null,null,null,null,null,null,null,null,{"$f":"IF('Relevés de  commissions'!D5384=\"AGI externes\",'Relevés de  commissions'!M5384,0)*1","v":0},{"$f":"IF('Relevés de  commissions'!D5384=\"AGI externes\",'Relevés de  commissions'!N5384,0)*1","v":0},{"$f":"IF('Relevés de  commissions'!D5384=\"AGI externes\",'Relevés de  commissions'!O5384,0)*1","v":0},{"$f":"IF('Relevés de  commissions'!D5384=\"AGI externes\",'Relevés de  commissions'!P5384,0)*1","v":0},0,""]
[null,null,null,null,null,null,null,null,null,null,null,null,{"$f":"IF('Relevés de  commissions'!D5396=\"AGI externes\",'Relevés de  commissions'!M5396,0)*1","v":0},{"$f":"IF('Relevés de  commissions'!D5396=\"AGI externes\",'Relevés de  commissions'!N5396,0)*1","v":0},{"$f":"IF('Relevés de  commissions'!D5396=\"AGI externes\",'Relevés de  commissions'!O5396,0)*1","v":0},{"$f":"IF('Relevés de  commissions'!D5396=\"AGI externes\",'Relevés de  commissions'!P5396,0)*1","v":0},0,""]
[null,null,null,null,null,null,null,null,null,null,null,null,{"$f":"IF('Relevés de  commissions'!D5402=\"AGI externes\",'Relevés de  commissions'!M5402,0)*1","v":0},{"$f":"IF('Relevés de  commissions'!D5402=\"AGI externes\",'Relevés de  commissions'!N5402,0)*1","v":0},{"$f":"IF('Relevés de  commissions'!D5402=\"AGI externes\",'Relevés de  commissions'!O5402,0)*1","v":0},{"$f":"IF('Relevés de  commissions'!D5402=\"AGI externes\",'Relevés de  commissions'!P5402,0)*1","v":0},0,""]
[null,null,null,null,null,null,null,null,null,null,null,null,{"$f":"IF('Relevés de  commissions'!D5412=\"AGI externes\",'Relevés de  commissions'!M5412,0)*1","v":0},{"$f":"IF('Relevés de  commissions'!D5412=\"AGI externes\",'Relevés de  commissions'!N5412,0)*1","v":0},{"$f":"IF('Relevés de  commissions'!D5412=\"AGI externes\",'Relevés de  commissions'!O5412,0)*1","v":0},{"$f":"IF('Relevés de  commissions'!D5412=\"AGI externes\",'Relevés de  commissions'!P5412,0)*1","v":0},0,""]
[null,null,null,null,null,null,null,null,null,null,null,null,{"$f":"IF('Relevés de  commissions'!D5429=\"AGI externes\",'Relevés de  commissions'!M5429,0)*1","v":0},{"$f":"IF('Relevés de  commissions'!D5429=\"AGI externes\",'Relevés de  commissions'!N5429,0)*1","v":0},{"$f":"IF('Relevés de  commissions'!D5429=\"AGI externes\",'Relevés de  commissions'!O5429,0)*1","v":0},{"$f":"IF('Relevés de  commissions'!D5429=\"AGI externes\",'Relevés de  commissions'!P5429,0)*1","v":0},0,""]
[null,null,null,null,null,null,null,null,null,null,null,null,{"$f":"IF('Relevés de  commissions'!D5439=\"AGI externes\",'Relevés de  commissions'!M5439,0)*1","v":0},{"$f":"IF('Relevés de  commissions'!D5439=\"AGI externes\",'Relevés de  commissions'!N5439,0)*1","v":0},{"$f":"IF('Relevés de  commissions'!D5439=\"AGI externes\",'Relevés de  commissions'!O5439,0)*1","v":0},{"$f":"IF('Relevés de  commissions'!D5439=\"AGI externes\",'Relevés de  commissions'!P5439,0)*1","v":0},0,""]
[null,null,null,null,null,null,null,null,null,null,null,null,{"$f":"IF('Relevés de  commissions'!D5451=\"AGI externes\",'Relevés de  commissions'!M5451,0)*1","v":0},{"$f":"IF('Relevés de  commissions'!D5451=\"AGI externes\",'Relevés de  commissions'!N5451,0)*1","v":0},{"$f":"IF('Relevés de  commissions'!D5451=\"AGI externes\",'Relevés de  commissions'!O5451,0)*1","v":0},{"$f":"IF('Relevés de  commissions'!D5451=\"AGI externes\",'Relevés de  commissions'!P5451,0)*1","v":0},0,""]
[null,null,null,null,null,null,null,null,null,null,null,null,{"$f":"IF('Relevés de  commissions'!D5461=\"AGI externes\",'Relevés de  commissions'!M5461,0)*1","v":0},{"$f":"IF('Relevés de  commissions'!D5461=\"AGI externes\",'Relevés de  commissions'!N5461,0)*1","v":0},{"$f":"IF('Relevés de  commissions'!D5461=\"AGI externes\",'Relevés de  commissions'!O5461,0)*1","v":0},{"$f":"IF('Relevés de  commissions'!D5461=\"AGI externes\",'Relevés de  commissions'!P5461,0)*1","v":0},0,""]
[null,null,null,null,null,null,null,null,null,null,null,null,{"$f":"IF('Relevés de  commissions'!D5471=\"AGI externes\",'Relevés de  commissions'!M5471,0)*1","v":0},{"$f":"IF('Relevés de  commissions'!D5471=\"AGI externes\",'Relevés de  commissions'!N5471,0)*1","v":0},{"$f":"IF('Relevés de  commissions'!D5471=\"AGI externes\",'Relevés de  commissions'!O5471,0)*1","v":0},{"$f":"IF('Relevés de  commissions'!D5471=\"AGI externes\",'Relevés de  commissions'!P5471,0)*1","v":0},0,""]
[null,null,null,null,null,null,null,null,null,null,null,null,{"$f":"IF('Relevés de  commissions'!D5477=\"AGI externes\",'Relevés de  commissions'!M5477,0)*1","v":0},{"$f":"IF('Relevés de  commissions'!D5477=\"AGI externes\",'Relevés de  commissions'!N5477,0)*1","v":0},{"$f":"IF('Relevés de  commissions'!D5477=\"AGI externes\",'Relevés de  commissions'!O5477,0)*1","v":0},{"$f":"IF('Relevés de  commissions'!D5477=\"AGI externes\",'Relevés de  commissions'!P5477,0)*1","v":0},0,""]
[null,null,null,null,null,null,null,null,null,null,null,null,{"$f":"IF('Relevés de  commissions'!D5494=\"AGI externes\",'Relevés de  commissions'!M5494,0)*1","v":0},{"$f":"IF('Relevés de  commissions'!D5494=\"AGI externes\",'Relevés de  commissions'!N5494,0)*1","v":0},{"$f":"IF('Relevés de  commissions'!D5494=\"AGI externes\",'Relevés de  commissions'!O5494,0)*1","v":0},{"$f":"IF('Relevés de  commissions'!D5494=\"AGI externes\",'Relevés de  commissions'!P5494,0)*1","v":0},0,""]
[null,null,null,null,null,null,null,null,null,null,null,null,{"$f":"IF('Relevés de  commissions'!D5504=\"AGI externes\",'Relevés de  commissions'!M5504,0)*1","v":0},{"$f":"IF('Relevés de  commissions'!D5504=\"AGI externes\",'Relevés de  commissions'!N5504,0)*1","v":0},{"$f":"IF('Relevés de  commissions'!D5504=\"AGI externes\",'Relevés de  commissions'!O5504,0)*1","v":0},{"$f":"IF('Relevés de  commissions'!D5504=\"AGI externes\",'Relevés de  commissions'!P5504,0)*1","v":0},0,""]
[null,null,null,null,null,null,null,null,null,null,null,null,{"$f":"IF('Relevés de  commissions'!D5518=\"AGI externes\",'Relevés de  commissions'!M5518,0)*1","v":0},{"$f":"IF('Relevés de  commissions'!D5518=\"AGI externes\",'Relevés de  commissions'!N5518,0)*1","v":0},{"$f":"IF('Relevés de  commissions'!D5518=\"AGI externes\",'Relevés de  commissions'!O5518,0)*1","v":0},{"$f":"IF('Relevés de  commissions'!D5518=\"AGI externes\",'Relevés de  commissions'!P5518,0)*1","v":0},0,""]
[null,null,null,null,null,null,null,null,null,null,null,null,{"$f":"IF('Relevés de  commissions'!D5519=\"AGI externes\",'Relevés de  commissions'!M5519,0)*1","v":0},{"$f":"IF('Relevés de  commissions'!D5519=\"AGI externes\",'Relevés de  commissions'!N5519,0)*1","v":0},{"$f":"IF('Relevés de  commissions'!D5519=\"AGI externes\",'Relevés de  commissions'!O5519,0)*1","v":0},{"$f":"IF('Relevés de  commissions'!D5519=\"AGI externes\",'Relevés de  commissions'!P5519,0)*1","v":0},0,""]
[null,null,null,null,null,null,null,null,null,null,null,null,{"$f":"IF('Relevés de  commissions'!D5536=\"AGI externes\",'Relevés de  commissions'!M5536,0)*1","v":0},{"$f":"IF('Relevés de  commissions'!D5536=\"AGI externes\",'Relevés de  commissions'!N5536,0)*1","v":0},{"$f":"IF('Relevés de  commissions'!D5536=\"AGI externes\",'Relevés de  commissions'!O5536,0)*1","v":0},{"$f":"IF('Relevés de  commissions'!D5536=\"AGI externes\",'Relevés de  commissions'!P5536,0)*1","v":0},0,""]
[null,null,null,null,null,null,null,null,null,null,null,null,{"$f":"IF('Relevés de  commissions'!D5542=\"AGI externes\",'Relevés de  commissions'!M5542,0)*1","v":0},{"$f":"IF('Relevés de  commissions'!D5542=\"AGI externes\",'Relevés de  commissions'!N5542,0)*1","v":0},{"$f":"IF('Relevés de  commissions'!D5542=\"AGI externes\",'Relevés de  commissions'!O5542,0)*1","v":0},{"$f":"IF('Relevés de  commissions'!D5542=\"AGI externes\",'Relevés de  commissions'!P5542,0)*1","v":0},0,""]
[null,null,null,null,null,null,null,null,null,null,null,null,{"$f":"IF('Relevés de  commissions'!D5552=\"AGI externes\",'Relevés de  commissions'!M5552,0)*1","v":0},{"$f":"IF('Relevés de  commissions'!D5552=\"AGI externes\",'Relevés de  commissions'!N5552,0)*1","v":0},{"$f":"IF('Relevés de  commissions'!D5552=\"AGI externes\",'Relevés de  commissions'!O5552,0)*1","v":0},{"$f":"IF('Relevés de  commissions'!D5552=\"AGI externes\",'Relevés de  commissions'!P5552,0)*1","v":0},0,""]
[null,null,null,null,null,null,null,null,null,null,null,null,{"$f":"IF('Relevés de  commissions'!D5569=\"AGI externes\",'Relevés de  commissions'!M5569,0)*1","v":0},{"$f":"IF('Relevés de  commissions'!D5569=\"AGI externes\",'Relevés de  commissions'!N5569,0)*1","v":0},{"$f":"IF('Relevés de  commissions'!D5569=\"AGI externes\",'Relevés de  commissions'!O5569,0)*1","v":0},{"$f":"IF('Relevés de  commissions'!D5569=\"AGI externes\",'Relevés de  commissions'!P5569,0)*1","v":0},0,""]
[null,null,null,null,null,null,null,null,null,null,null,null,{"$f":"IF('Relevés de  commissions'!D5581=\"AGI externes\",'Relevés de  commissions'!M5581,0)*1","v":0},{"$f":"IF('Relevés de  commissions'!D5581=\"AGI externes\",'Relevés de  commissions'!N5581,0)*1","v":0},{"$f":"IF('Relevés de  commissions'!D5581=\"AGI externes\",'Relevés de  commissions'!O5581,0)*1","v":0},{"$f":"IF('Relevés de  commissions'!D5581=\"AGI externes\",'Relevés de  commissions'!P5581,0)*1","v":0},0,""]
[null,null,null,null,null,null,null,null,null,null,null,null,{"$f":"IF('Relevés de  commissions'!D5584=\"AGI externes\",'Relevés de  commissions'!M5584,0)*1","v":0},{"$f":"IF('Relevés de  commissions'!D5584=\"AGI externes\",'Relevés de  commissions'!N5584,0)*1","v":0},{"$f":"IF('Relevés de  commissions'!D5584=\"AGI externes\",'Relevés de  commissions'!O5584,0)*1","v":0},{"$f":"IF('Relevés de  commissions'!D5584=\"AGI externes\",'Relevés de  commissions'!P5584,0)*1","v":0},0,""]
[null,null,null,null,null,null,null,null,null,null,null,null,{"$f":"IF('Relevés de  commissions'!D5601=\"AGI externes\",'Relevés de  commissions'!M5601,0)*1","v":0},{"$f":"IF('Relevés de  commissions'!D5601=\"AGI externes\",'Relevés de  commissions'!N5601,0)*1","v":0},{"$f":"IF('Relevés de  commissions'!D5601=\"AGI externes\",'Relevés de  commissions'!O5601,0)*1","v":0},{"$f":"IF('Relevés de  commissions'!D5601=\"AGI externes\",'Relevés de  commissions'!P5601,0)*1","v":0},0,""]
[null,null,null,null,null,null,null,null,null,null,null,null,{"$f":"IF('Relevés de  commissions'!D5611=\"AGI externes\",'Relevés de  commissions'!M5611,0)*1","v":0},{"$f":"IF('Relevés de  commissions'!D5611=\"AGI externes\",'Relevés de  commissions'!N5611,0)*1","v":0},{"$f":"IF('Relevés de  commissions'!D5611=\"AGI externes\",'Relevés de  commissions'!O5611,0)*1","v":0},{"$f":"IF('Relevés de  commissions'!D5611=\"AGI externes\",'Relevés de  commissions'!P5611,0)*1","v":0},0,""]
[null,null,null,null,null,null,null,null,null,null,null,null,{"$f":"IF('Relevés de  commissions'!D5617=\"AGI externes\",'Relevés de  commissions'!M5617,0)*1","v":0},{"$f":"IF('Relevés de  commissions'!D5617=\"AGI externes\",'Relevés de  commissions'!N5617,0)*1","v":0},{"$f":"IF('Relevés de  commissions'!D5617=\"AGI externes\",'Relevés de  commissions'!O5617,0)*1","v":0},{"$f":"IF('Relevés de  commissions'!D5617=\"AGI externes\",'Relevés de  commissions'!P5617,0)*1","v":0},0,""]
[null,null,null,null,null,null,null,null,null,null,null,null,{"$f":"IF('Relevés de  commissions'!D5634=\"AGI externes\",'Relevés de  commissions'!M5634,0)*1","v":0},{"$f":"IF('Relevés de  commissions'!D5634=\"AGI externes\",'Relevés de  commissions'!N5634,0)*1","v":0},{"$f":"IF('Relevés de  commissions'!D5634=\"AGI externes\",'Relevés de  commissions'!O5634,0)*1","v":0},{"$f":"IF('Relevés de  commissions'!D5634=\"AGI externes\",'Relevés de  commissions'!P5634,0)*1","v":0},0,""]
[null,null,null,null,null,null,null,null,null,null,null,null,{"$f":"IF('Relevés de  commissions'!D5648=\"AGI externes\",'Relevés de  commissions'!M5648,0)*1","v":0},{"$f":"IF('Relevés de  commissions'!D5648=\"AGI externes\",'Relevés de  commissions'!N5648,0)*1","v":0},{"$f":"IF('Relevés de  commissions'!D5648=\"AGI externes\",'Relevés de  commissions'!O5648,0)*1","v":0},{"$f":"IF('Relevés de  commissions'!D5648=\"AGI externes\",'Relevés de  commissions'!P5648,0)*1","v":0},0,""]
[null,null,null,null,null,null,null,null,null,null,null,null,{"$f":"IF('Relevés de  commissions'!D5649=\"AGI externes\",'Relevés de  commissions'!M5649,0)*1","v":0},{"$f":"IF('Relevés de  commissions'!D5649=\"AGI externes\",'Relevés de  commissions'!N5649,0)*1","v":0},{"$f":"IF('Relevés de  commissions'!D5649=\"AGI externes\",'Relevés de  commissions'!O5649,0)*1","v":0},{"$f":"IF('Relevés de  commissions'!D5649=\"AGI externes\",'Relevés de  commissions'!P5649,0)*1","v":0},0,""]
[null,null,null,null,null,null,null,null,null,null,null,null,{"$f":"IF('Relevés de  commissions'!D5670=\"AGI externes\",'Relevés de  commissions'!M5670,0)*1","v":0},{"$f":"IF('Relevés de  commissions'!D5670=\"AGI externes\",'Relevés de  commissions'!N5670,0)*1","v":0},{"$f":"IF('Relevés de  commissions'!D5670=\"AGI externes\",'Relevés de  commissions'!O5670,0)*1","v":0},{"$f":"IF('Relevés de  commissions'!D5670=\"AGI externes\",'Relevés de  commissions'!P5670,0)*1","v":0},0,""]
[null,null,null,null,null,null,null,null,null,null,null,null,{"$f":"IF('Relevés de  commissions'!D5676=\"AGI externes\",'Relevés de  commissions'!M5676,0)*1","v":0},{"$f":"IF('Relevés de  commissions'!D5676=\"AGI externes\",'Relevés de  commissions'!N5676,0)*1","v":0},{"$f":"IF('Relevés de  commissions'!D5676=\"AGI externes\",'Relevés de  commissions'!O5676,0)*1","v":0},{"$f":"IF('Relevés de  commissions'!D5676=\"AGI externes\",'Relevés de  commissions'!P5676,0)*1","v":0},0,""]
[null,null,null,null,null,null,null,null,null,null,null,null,{"$f":"IF('Relevés de  commissions'!D5682=\"AGI externes\",'Relevés de  commissions'!M5682,0)*1","v":0},{"$f":"IF('Relevés de  commissions'!D5682=\"AGI externes\",'Relevés de  commissions'!N5682,0)*1","v":0},{"$f":"IF('Relevés de  commissions'!D5682=\"AGI externes\",'Relevés de  commissions'!O5682,0)*1","v":0},{"$f":"IF('Relevés de  commissions'!D5682=\"AGI externes\",'Relevés de  commissions'!P5682,0)*1","v":0},0,""]
[null,null,null,null,null,null,null,null,null,null,null,null,{"$f":"IF('Relevés de  commissions'!D5703=\"AGI externes\",'Relevés de  commissions'!M5703,0)*1","v":0},{"$f":"IF('Relevés de  commissions'!D5703=\"AGI externes\",'Relevés de  commissions'!N5703,0)*1","v":0},{"$f":"IF('Relevés de  commissions'!D5703=\"AGI externes\",'Relevés de  commissions'!O5703,0)*1","v":0},{"$f":"IF('Relevés de  commissions'!D5703=\"AGI externes\",'Relevés de  commissions'!P5703,0)*1","v":0},0,""]
[null,null,null,null,null,null,null,null,null,null,null,null,{"$f":"IF('Relevés de  commissions'!D5705=\"AGI externes\",'Relevés de  commissions'!M5705,0)*1","v":0},{"$f":"IF('Relevés de  commissions'!D5705=\"AGI externes\",'Relevés de  commissions'!N5705,0)*1","v":0},{"$f":"IF('Relevés de  commissions'!D5705=\"AGI externes\",'Relevés de  commissions'!O5705,0)*1","v":0},{"$f":"IF('Relevés de  commissions'!D5705=\"AGI externes\",'Relevés de  commissions'!P5705,0)*1","v":0},0,""]
[null,null,null,null,null,null,null,null,null,null,null,null,{"$f":"IF('Relevés de  commissions'!D5718=\"AGI externes\",'Relevés de  commissions'!M5718,0)*1","v":0},{"$f":"IF('Relevés de  commissions'!D5718=\"AGI externes\",'Relevés de  commissions'!N5718,0)*1","v":0},{"$f":"IF('Relevés de  commissions'!D5718=\"AGI externes\",'Relevés de  commissions'!O5718,0)*1","v":0},{"$f":"IF('Relevés de  commissions'!D5718=\"AGI externes\",'Relevés de  commissions'!P5718,0)*1","v":0},0,""]
[null,null,null,null,null,null,null,null,null,null,null,null,{"$f":"IF('Relevés de  commissions'!D5735=\"AGI externes\",'Relevés de  commissions'!M5735,0)*1","v":0},{"$f":"IF('Relevés de  commissions'!D5735=\"AGI externes\",'Relevés de  commissions'!N5735,0)*1","v":0},{"$f":"IF('Relevés de  commissions'!D5735=\"AGI externes\",'Relevés de  commissions'!O5735,0)*1","v":0},{"$f":"IF('Relevés de  commissions'!D5735=\"AGI externes\",'Relevés de  commissions'!P5735,0)*1","v":0},0,""]
[null,null,null,null,null,null,null,null,null,null,null,null,{"$f":"IF('Relevés de  commissions'!D5741=\"AGI externes\",'Relevés de  commissions'!M5741,0)*1","v":0},{"$f":"IF('Relevés de  commissions'!D5741=\"AGI externes\",'Relevés de  commissions'!N5741,0)*1","v":0},{"$f":"IF('Relevés de  commissions'!D5741=\"AGI externes\",'Relevés de  commissions'!O5741,0)*1","v":0},{"$f":"IF('Relevés de  commissions'!D5741=\"AGI externes\",'Relevés de  commissions'!P5741,0)*1","v":0},0,""]
[null,null,null,null,null,null,null,null,null,null,null,null,{"$f":"IF('Relevés de  commissions'!D5751=\"AGI externes\",'Relevés de  commissions'!M5751,0)*1","v":0},{"$f":"IF('Relevés de  commissions'!D5751=\"AGI externes\",'Relevés de  commissions'!N5751,0)*1","v":0},{"$f":"IF('Relevés de  commissions'!D5751=\"AGI externes\",'Relevés de  commissions'!O5751,0)*1","v":0},{"$f":"IF('Relevés de  commissions'!D5751=\"AGI externes\",'Relevés de  commissions'!P5751,0)*1","v":0},0,""]
[null,null,null,null,null,null,null,null,null,null,null,null,{"$f":"IF('Relevés de  commissions'!D5768=\"AGI externes\",'Relevés de  commissions'!M5768,0)*1","v":0},{"$f":"IF('Relevés de  commissions'!D5768=\"AGI externes\",'Relevés de  commissions'!N5768,0)*1","v":0},{"$f":"IF('Relevés de  commissions'!D5768=\"AGI externes\",'Relevés de  commissions'!O5768,0)*1","v":0},{"$f":"IF('Relevés de  commissions'!D5768=\"AGI externes\",'Relevés de  commissions'!P5768,0)*1","v":0},0,""]
[null,null,null,null,null,null,null,null,null,null,null,null,{"$f":"IF('Relevés de  commissions'!D5772=\"AGI externes\",'Relevés de  commissions'!M5772,0)*1","v":0},{"$f":"IF('Relevés de  commissions'!D5772=\"AGI externes\",'Relevés de  commissions'!N5772,0)*1","v":0},{"$f":"IF('Relevés de  commissions'!D5772=\"AGI externes\",'Relevés de  commissions'!O5772,0)*1","v":0},{"$f":"IF('Relevés de  commissions'!D5772=\"AGI externes\",'Relevés de  commissions'!P5772,0)*1","v":0},0,""]
[null,null,null,null,null,null,null,null,null,null,null,null,{"$f":"IF('Relevés de  commissions'!D5783=\"AGI externes\",'Relevés de  commissions'!M5783,0)*1","v":0},{"$f":"IF('Relevés de  commissions'!D5783=\"AGI externes\",'Relevés de  commissions'!N5783,0)*1","v":0},{"$f":"IF('Relevés de  commissions'!D5783=\"AGI externes\",'Relevés de  commissions'!O5783,0)*1","v":0},{"$f":"IF('Relevés de  commissions'!D5783=\"AGI externes\",'Relevés de  commissions'!P5783,0)*1","v":0},0,""]
[null,null,null,null,null,null,null,null,null,null,null,null,{"$f":"IF('Relevés de  commissions'!D5800=\"AGI externes\",'Relevés de  commissions'!M5800,0)*1","v":0},{"$f":"IF('Relevés de  commissions'!D5800=\"AGI externes\",'Relevés de  commissions'!N5800,0)*1","v":0},{"$f":"IF('Relevés de  commissions'!D5800=\"AGI externes\",'Relevés de  commissions'!O5800,0)*1","v":0},{"$f":"IF('Relevés de  commissions'!D5800=\"AGI externes\",'Relevés de  commissions'!P5800,0)*1","v":0},0,""]
[null,null,null,null,null,null,null,null,null,null,null,null,{"$f":"IF('Relevés de  commissions'!D5810=\"AGI externes\",'Relevés de  commissions'!M5810,0)*1","v":0},{"$f":"IF('Relevés de  commissions'!D5810=\"AGI externes\",'Relevés de  commissions'!N5810,0)*1","v":0},{"$f":"IF('Relevés de  commissions'!D5810=\"AGI externes\",'Relevés de  commissions'!O5810,0)*1","v":0},{"$f":"IF('Relevés de  commissions'!D5810=\"AGI externes\",'Relevés de  commissions'!P5810,0)*1","v":0},0,""]
[null,null,null,null,null,null,null,null,null,null,null,null,{"$f":"IF('Relevés de  commissions'!D5816=\"AGI externes\",'Relevés de  commissions'!M5816,0)*1","v":0},{"$f":"IF('Relevés de  commissions'!D5816=\"AGI externes\",'Relevés de  commissions'!N5816,0)*1","v":0},{"$f":"IF('Relevés de  commissions'!D5816=\"AGI externes\",'Relevés de  commissions'!O5816,0)*1","v":0},{"$f":"IF('Relevés de  commissions'!D5816=\"AGI externes\",'Relevés de  commissions'!P5816,0)*1","v":0},0,""]
[null,null,null,null,null,null,null,null,null,null,null,null,{"$f":"IF('Relevés de  commissions'!D5833=\"AGI externes\",'Relevés de  commissions'!M5833,0)*1","v":0},{"$f":"IF('Relevés de  commissions'!D5833=\"AGI externes\",'Relevés de  commissions'!N5833,0)*1","v":0},{"$f":"IF('Relevés de  commissions'!D5833=\"AGI externes\",'Relevés de  commissions'!O5833,0)*1","v":0},{"$f":"IF('Relevés de  commissions'!D5833=\"AGI externes\",'Relevés de  commissions'!P5833,0)*1","v":0},0,""]
[null,null,null,null,null,null,null,null,null,null,null,null,{"$f":"IF('Relevés de  commissions'!D5835=\"AGI externes\",'Relevés de  commissions'!M5835,0)*1","v":0},{"$f":"IF('Relevés de  commissions'!D5835=\"AGI externes\",'Relevés de  commissions'!N5835,0)*1","v":0},{"$f":"IF('Relevés de  commissions'!D5835=\"AGI externes\",'Relevés de  commissions'!O5835,0)*1","v":0},{"$f":"IF('Relevés de  commissions'!D5835=\"AGI externes\",'Relevés de  commissions'!P5835,0)*1","v":0},0,""]
[null,null,null,null,null,null,null,null,null,null,null,null,{"$f":"IF('Relevés de  commissions'!D5848=\"AGI externes\",'Relevés de  commissions'!M5848,0)*1","v":0},{"$f":"IF('Relevés de  commissions'!D5848=\"AGI externes\",'Relevés de  commissions'!N5848,0)*1","v":0},{"$f":"IF('Relevés de  commissions'!D5848=\"AGI externes\",'Relevés de  commissions'!O5848,0)*1","v":0},{"$f":"IF('Relevés de  commissions'!D5848=\"AGI externes\",'Relevés de  commissions'!P5848,0)*1","v":0},0,""]
[null,null,null,null,null,null,null,null,null,null,null,null,{"$f":"IF('Relevés de  commissions'!D5865=\"AGI externes\",'Relevés de  commissions'!M5865,0)*1","v":0},{"$f":"IF('Relevés de  commissions'!D5865=\"AGI externes\",'Relevés de  commissions'!N5865,0)*1","v":0},{"$f":"IF('Relevés de  commissions'!D5865=\"AGI externes\",'Relevés de  commissions'!O5865,0)*1","v":0},{"$f":"IF('Relevés de  commissions'!D5865=\"AGI externes\",'Relevés de  commissions'!P5865,0)*1","v":0},0,""]
[null,null,null,null,null,null,null,null,null,null,null,null,{"$f":"IF('Relevés de  commissions'!D5875=\"AGI externes\",'Relevés de  commissions'!M5875,0)*1","v":0},{"$f":"IF('Relevés de  commissions'!D5875=\"AGI externes\",'Relevés de  commissions'!N5875,0)*1","v":0},{"$f":"IF('Relevés de  commissions'!D5875=\"AGI externes\",'Relevés de  commissions'!O5875,0)*1","v":0},{"$f":"IF('Relevés de  commissions'!D5875=\"AGI externes\",'Relevés de  commissions'!P5875,0)*1","v":0},0,""]
[null,null,null,null,null,null,null,null,null,null,null,null,{"$f":"IF('Relevés de  commissions'!D5881=\"AGI externes\",'Relevés de  commissions'!M5881,0)*1","v":0},{"$f":"IF('Relevés de  commissions'!D5881=\"AGI externes\",'Relevés de  commissions'!N5881,0)*1","v":0},{"$f":"IF('Relevés de  commissions'!D5881=\"AGI externes\",'Relevés de  commissions'!O5881,0)*1","v":0},{"$f":"IF('Relevés de  commissions'!D5881=\"AGI externes\",'Relevés de  commissions'!P5881,0)*1","v":0},0,""]
[null,null,null,null,null,null,null,null,null,null,null,null,{"$f":"IF('Relevés de  commissions'!D5891=\"AGI externes\",'Relevés de  commissions'!M5891,0)*1","v":0},{"$f":"IF('Relevés de  commissions'!D5891=\"AGI externes\",'Relevés de  commissions'!N5891,0)*1","v":0},{"$f":"IF('Relevés de  commissions'!D5891=\"AGI externes\",'Relevés de  commissions'!O5891,0)*1","v":0},{"$f":"IF('Relevés de  commissions'!D5891=\"AGI externes\",'Relevés de  commissions'!P5891,0)*1","v":0},{"$f":"IF(N5893=0,O5893,\"\")","v":0},{"$f":"IF(N5893=10,O5893,\"\")","v":""}]
[null,null,null,null,null,null,null,null,null,null,null,null,{"$f":"IF('Relevés de  commissions'!D5902=\"AGI externes\",'Relevés de  commissions'!M5902,0)*1","v":0},{"$f":"IF('Relevés de  commissions'!D5902=\"AGI externes\",'Relevés de  commissions'!N5902,0)*1","v":0},{"$f":"IF('Relevés de  commissions'!D5902=\"AGI externes\",'Relevés de  commissions'!O5902,0)*1","v":0},{"$f":"IF('Relevés de  commissions'!D5902=\"AGI externes\",'Relevés de  commissions'!P5902,0)*1","v":0},0,""]
[null,null,null,null,null,null,null,null,null,null,null,null,{"$f":"IF('Relevés de  commissions'!D5913=\"AGI externes\",'Relevés de  commissions'!M5913,0)*1","v":0},{"$f":"IF('Relevés de  commissions'!D5913=\"AGI externes\",'Relevés de  commissions'!N5913,0)*1","v":0},{"$f":"IF('Relevés de  commissions'!D5913=\"AGI externes\",'Relevés de  commissions'!O5913,0)*1","v":0},{"$f":"IF('Relevés de  commissions'!D5913=\"AGI externes\",'Relevés de  commissions'!P5913,0)*1","v":0},0,""]
[null,null,null,null,null,null,null,null,null,null,null,null,{"$f":"IF('Relevés de  commissions'!D5923=\"AGI externes\",'Relevés de  commissions'!M5923,0)*1","v":0},{"$f":"IF('Relevés de  commissions'!D5923=\"AGI externes\",'Relevés de  commissions'!N5923,0)*1","v":0},{"$f":"IF('Relevés de  commissions'!D5923=\"AGI externes\",'Relevés de  commissions'!O5923,0)*1","v":0},{"$f":"IF('Relevés de  commissions'!D5923=\"AGI externes\",'Relevés de  commissions'!P5923,0)*1","v":0},0,""]
[null,null,null,null,null,null,null,null,null,null,null,null,{"$f":"IF('Relevés de  commissions'!D5940=\"AGI externes\",'Relevés de  commissions'!M5940,0)*1","v":0},{"$f":"IF('Relevés de  commissions'!D5940=\"AGI externes\",'Relevés de  commissions'!N5940,0)*1","v":0},{"$f":"IF('Relevés de  commissions'!D5940=\"AGI externes\",'Relevés de  commissions'!O5940,0)*1","v":0},{"$f":"IF('Relevés de  commissions'!D5940=\"AGI externes\",'Relevés de  commissions'!P5940,0)*1","v":0},0,""]
[null,null,null,null,null,null,null,null,null,null,null,null,{"$f":"IF('Relevés de  commissions'!D5950=\"AGI externes\",'Relevés de  commissions'!M5950,0)*1","v":0},{"$f":"IF('Relevés de  commissions'!D5950=\"AGI externes\",'Relevés de  commissions'!N5950,0)*1","v":0},{"$f":"IF('Relevés de  commissions'!D5950=\"AGI externes\",'Relevés de  commissions'!O5950,0)*1","v":0},{"$f":"IF('Relevés de  commissions'!D5950=\"AGI externes\",'Relevés de  commissions'!P5950,0)*1","v":0},0,""]
[null,null,null,null,null,null,null,null,null,null,null,null,{"$f":"IF('Relevés de  commissions'!D5956=\"AGI externes\",'Relevés de  commissions'!M5956,0)*1","v":0},{"$f":"IF('Relevés de  commissions'!D5956=\"AGI externes\",'Relevés de  commissions'!N5956,0)*1","v":0},{"$f":"IF('Relevés de  commissions'!D5956=\"AGI externes\",'Relevés de  commissions'!O5956,0)*1","v":0},{"$f":"IF('Relevés de  commissions'!D5956=\"AGI externes\",'Relevés de  commissions'!P5956,0)*1","v":0},0,""]
[null,null,null,null,null,null,null,null,null,null,null,null,{"$f":"IF('Relevés de  commissions'!D5969=\"AGI externes\",'Relevés de  commissions'!M5969,0)*1","v":0},{"$f":"IF('Relevés de  commissions'!D5969=\"AGI externes\",'Relevés de  commissions'!N5969,0)*1","v":0},{"$f":"IF('Relevés de  commissions'!D5969=\"AGI externes\",'Relevés de  commissions'!O5969,0)*1","v":0},{"$f":"IF('Relevés de  commissions'!D5969=\"AGI externes\",'Relevés de  commissions'!P5969,0)*1","v":0},0,""]
[null,null,null,null,null,null,null,null,null,null,null,null,{"$f":"IF('Relevés de  commissions'!D5982=\"AGI externes\",'Relevés de  commissions'!M5982,0)*1","v":0},{"$f":"IF('Relevés de  commissions'!D5982=\"AGI externes\",'Relevés de  commissions'!N5982,0)*1","v":0},{"$f":"IF('Relevés de  commissions'!D5982=\"AGI externes\",'Relevés de  commissions'!O5982,0)*1","v":0},{"$f":"IF('Relevés de  commissions'!D5982=\"AGI externes\",'Relevés de  commissions'!P5982,0)*1","v":0},0,""]
[null,null,null,null,null,null,null,null,null,null,null,null,{"$f":"IF('Relevés de  commissions'!D5988=\"AGI externes\",'Relevés de  commissions'!M5988,0)*1","v":0},{"$f":"IF('Relevés de  commissions'!D5988=\"AGI externes\",'Relevés de  commissions'!N5988,0)*1","v":0},{"$f":"IF('Relevés de  commissions'!D5988=\"AGI externes\",'Relevés de  commissions'!O5988,0)*1","v":0},{"$f":"IF('Relevés de  commissions'!D5988=\"AGI externes\",'Relevés de  commissions'!P5988,0)*1","v":0},0,""]
[null,null,null,null,null,null,null,null,null,null,null,null,{"$f":"IF('Relevés de  commissions'!D6005=\"AGI externes\",'Relevés de  commissions'!M6005,0)*1","v":0},{"$f":"IF('Relevés de  commissions'!D6005=\"AGI externes\",'Relevés de  commissions'!N6005,0)*1","v":0},{"$f":"IF('Relevés de  commissions'!D6005=\"AGI externes\",'Relevés de  commissions'!O6005,0)*1","v":0},{"$f":"IF('Relevés de  commissions'!D6005=\"AGI externes\",'Relevés de  commissions'!P6005,0)*1","v":0},0,""]
[null,null,null,null,null,null,null,null,null,null,null,null,{"$f":"IF('Relevés de  commissions'!D6015=\"AGI externes\",'Relevés de  commissions'!M6015,0)*1","v":0},{"$f":"IF('Relevés de  commissions'!D6015=\"AGI externes\",'Relevés de  commissions'!N6015,0)*1","v":0},{"$f":"IF('Relevés de  commissions'!D6015=\"AGI externes\",'Relevés de  commissions'!O6015,0)*1","v":0},{"$f":"IF('Relevés de  commissions'!D6015=\"AGI externes\",'Relevés de  commissions'!P6015,0)*1","v":0},0,""]
[null,null,null,null,null,null,null,null,null,null,null,null,{"$f":"IF('Relevés de  commissions'!D6021=\"AGI externes\",'Relevés de  commissions'!M6021,0)*1","v":0},{"$f":"IF('Relevés de  commissions'!D6021=\"AGI externes\",'Relevés de  commissions'!N6021,0)*1","v":0},{"$f":"IF('Relevés de  commissions'!D6021=\"AGI externes\",'Relevés de  commissions'!O6021,0)*1","v":0},{"$f":"IF('Relevés de  commissions'!D6021=\"AGI externes\",'Relevés de  commissions'!P6021,0)*1","v":0},0,""]
[null,null,null,null,null,null,null,null,null,null,null,null,{"$f":"IF('Relevés de  commissions'!D6032=\"AGI externes\",'Relevés de  commissions'!M6032,0)*1","v":0},{"$f":"IF('Relevés de  commissions'!D6032=\"AGI externes\",'Relevés de  commissions'!N6032,0)*1","v":0},{"$f":"IF('Relevés de  commissions'!D6032=\"AGI externes\",'Relevés de  commissions'!O6032,0)*1","v":0},{"$f":"IF('Relevés de  commissions'!D6032=\"AGI externes\",'Relevés de  commissions'!P6032,0)*1","v":0},0,""]
[null,null,null,null,null,null,null,null,null,null,null,null,{"$f":"IF('Relevés de  commissions'!D6047=\"AGI externes\",'Relevés de  commissions'!M6047,0)*1","v":0},{"$f":"IF('Relevés de  commissions'!D6047=\"AGI externes\",'Relevés de  commissions'!N6047,0)*1","v":0},{"$f":"IF('Relevés de  commissions'!D6047=\"AGI externes\",'Relevés de  commissions'!O6047,0)*1","v":0},{"$f":"IF('Relevés de  commissions'!D6047=\"AGI externes\",'Relevés de  commissions'!P6047,0)*1","v":0},0,""]
[null,null,null,null,null,null,null,null,null,null,null,null,{"$f":"IF('Relevés de  commissions'!D6053=\"AGI externes\",'Relevés de  commissions'!M6053,0)*1","v":0},{"$f":"IF('Relevés de  commissions'!D6053=\"AGI externes\",'Relevés de  commissions'!N6053,0)*1","v":0},{"$f":"IF('Relevés de  commissions'!D6053=\"AGI externes\",'Relevés de  commissions'!O6053,0)*1","v":0},{"$f":"IF('Relevés de  commissions'!D6053=\"AGI externes\",'Relevés de  commissions'!P6053,0)*1","v":0},0,""]
[null,null,null,null,null,null,null,null,null,null,null,null,{"$f":"IF('Relevés de  commissions'!D6063=\"AGI externes\",'Relevés de  commissions'!M6063,0)*1","v":0},{"$f":"IF('Relevés de  commissions'!D6063=\"AGI externes\",'Relevés de  commissions'!N6063,0)*1","v":0},{"$f":"IF('Relevés de  commissions'!D6063=\"AGI externes\",'Relevés de  commissions'!O6063,0)*1","v":0},{"$f":"IF('Relevés de  commissions'!D6063=\"AGI externes\",'Relevés de  commissions'!P6063,0)*1","v":0},0,""]
[null,null,null,null,null,null,null,null,null,null,null,null,{"$f":"IF('Relevés de  commissions'!D6080=\"AGI externes\",'Relevés de  commissions'!M6080,0)*1","v":0},{"$f":"IF('Relevés de  commissions'!D6080=\"AGI externes\",'Relevés de  commissions'!N6080,0)*1","v":0},{"$f":"IF('Relevés de  commissions'!D6080=\"AGI externes\",'Relevés de  commissions'!O6080,0)*1","v":0},{"$f":"IF('Relevés de  commissions'!D6080=\"AGI externes\",'Relevés de  commissions'!P6080,0)*1","v":0},0,""]
[null,null,null,null,null,null,null,null,null,null,null,null,{"$f":"IF('Relevés de  commissions'!D6090=\"AGI externes\",'Relevés de  commissions'!M6090,0)*1","v":0},{"$f":"IF('Relevés de  commissions'!D6090=\"AGI externes\",'Relevés de  commissions'!N6090,0)*1","v":0},{"$f":"IF('Relevés de  commissions'!D6090=\"AGI externes\",'Relevés de  commissions'!O6090,0)*1","v":0},{"$f":"IF('Relevés de  commissions'!D6090=\"AGI externes\",'Relevés de  commissions'!P6090,0)*1","v":0},0,""]
[null,null,null,null,null,null,null,null,null,null,null,null,{"$f":"IF('Relevés de  commissions'!D6099=\"AGI externes\",'Relevés de  commissions'!M6099,0)*1","v":0},{"$f":"IF('Relevés de  commissions'!D6099=\"AGI externes\",'Relevés de  commissions'!N6099,0)*1","v":0},{"$f":"IF('Relevés de  commissions'!D6099=\"AGI externes\",'Relevés de  commissions'!O6099,0)*1","v":0},{"$f":"IF('Relevés de  commissions'!D6099=\"AGI externes\",'Relevés de  commissions'!P6099,0)*1","v":0},0,""]
[null,null,null,null,null,null,null,null,null,null,null,null,{"$f":"IF('Relevés de  commissions'!D6112=\"AGI externes\",'Relevés de  commissions'!M6112,0)*1","v":0},{"$f":"IF('Relevés de  commissions'!D6112=\"AGI externes\",'Relevés de  commissions'!N6112,0)*1","v":0},{"$f":"IF('Relevés de  commissions'!D6112=\"AGI externes\",'Relevés de  commissions'!O6112,0)*1","v":0},{"$f":"IF('Relevés de  commissions'!D6112=\"AGI externes\",'Relevés de  commissions'!P6112,0)*1","v":0},0,""]
[null,null,null,null,null,null,null,null,null,null,null,null,{"$f":"IF('Relevés de  commissions'!D6122=\"AGI externes\",'Relevés de  commissions'!M6122,0)*1","v":0},{"$f":"IF('Relevés de  commissions'!D6122=\"AGI externes\",'Relevés de  commissions'!N6122,0)*1","v":0},{"$f":"IF('Relevés de  commissions'!D6122=\"AGI externes\",'Relevés de  commissions'!O6122,0)*1","v":0},{"$f":"IF('Relevés de  commissions'!D6122=\"AGI externes\",'Relevés de  commissions'!P6122,0)*1","v":0},0,""]
[null,null,null,null,null,null,null,null,null,null,null,null,{"$f":"IF('Relevés de  commissions'!D6128=\"AGI externes\",'Relevés de  commissions'!M6128,0)*1","v":0},{"$f":"IF('Relevés de  commissions'!D6128=\"AGI externes\",'Relevés de  commissions'!N6128,0)*1","v":0},{"$f":"IF('Relevés de  commissions'!D6128=\"AGI externes\",'Relevés de  commissions'!O6128,0)*1","v":0},{"$f":"IF('Relevés de  commissions'!D6128=\"AGI externes\",'Relevés de  commissions'!P6128,0)*1","v":0},0,""]
[null,null,null,null,null,null,null,null,null,null,null,null,{"$f":"IF('Relevés de  commissions'!D6145=\"AGI externes\",'Relevés de  commissions'!M6145,0)*1","v":0},{"$f":"IF('Relevés de  commissions'!D6145=\"AGI externes\",'Relevés de  commissions'!N6145,0)*1","v":0},{"$f":"IF('Relevés de  commissions'!D6145=\"AGI externes\",'Relevés de  commissions'!O6145,0)*1","v":0},{"$f":"IF('Relevés de  commissions'!D6145=\"AGI externes\",'Relevés de  commissions'!P6145,0)*1","v":0},0,""]
[null,null,null,null,null,null,null,null,null,null,null,null,{"$f":"IF('Relevés de  commissions'!D6155=\"AGI externes\",'Relevés de  commissions'!M6155,0)*1","v":0},{"$f":"IF('Relevés de  commissions'!D6155=\"AGI externes\",'Relevés de  commissions'!N6155,0)*1","v":0},{"$f":"IF('Relevés de  commissions'!D6155=\"AGI externes\",'Relevés de  commissions'!O6155,0)*1","v":0},{"$f":"IF('Relevés de  commissions'!D6155=\"AGI externes\",'Relevés de  commissions'!P6155,0)*1","v":0},0,""]
[null,null,null,null,null,null,null,null,null,null,null,null,{"$f":"IF('Relevés de  commissions'!D6166=\"AGI externes\",'Relevés de  commissions'!M6166,0)*1","v":0},{"$f":"IF('Relevés de  commissions'!D6166=\"AGI externes\",'Relevés de  commissions'!N6166,0)*1","v":0},{"$f":"IF('Relevés de  commissions'!D6166=\"AGI externes\",'Relevés de  commissions'!O6166,0)*1","v":0},{"$f":"IF('Relevés de  commissions'!D6166=\"AGI externes\",'Relevés de  commissions'!P6166,0)*1","v":0},0,""]
[null,null,null,null,null,null,null,null,null,null,null,null,{"$f":"IF('Relevés de  commissions'!D6170=\"AGI externes\",'Relevés de  commissions'!M6170,0)*1","v":0},{"$f":"IF('Relevés de  commissions'!D6170=\"AGI externes\",'Relevés de  commissions'!N6170,0)*1","v":0},{"$f":"IF('Relevés de  commissions'!D6170=\"AGI externes\",'Relevés de  commissions'!O6170,0)*1","v":0},{"$f":"IF('Relevés de  commissions'!D6170=\"AGI externes\",'Relevés de  commissions'!P6170,0)*1","v":0},0,""]
[null,null,null,null,null,null,null,null,null,null,null,null,{"$f":"IF('Relevés de  commissions'!D6187=\"AGI externes\",'Relevés de  commissions'!M6187,0)*1","v":0},{"$f":"IF('Relevés de  commissions'!D6187=\"AGI externes\",'Relevés de  commissions'!N6187,0)*1","v":0},{"$f":"IF('Relevés de  commissions'!D6187=\"AGI externes\",'Relevés de  commissions'!O6187,0)*1","v":0},{"$f":"IF('Relevés de  commissions'!D6187=\"AGI externes\",'Relevés de  commissions'!P6187,0)*1","v":0},0,""]
[null,null,null,null,null,null,null,null,null,null,null,null,{"$f":"IF('Relevés de  commissions'!D6193=\"AGI externes\",'Relevés de  commissions'!M6193,0)*1","v":0},{"$f":"IF('Relevés de  commissions'!D6193=\"AGI externes\",'Relevés de  commissions'!N6193,0)*1","v":0},{"$f":"IF('Relevés de  commissions'!D6193=\"AGI externes\",'Relevés de  commissions'!O6193,0)*1","v":0},{"$f":"IF('Relevés de  commissions'!D6193=\"AGI externes\",'Relevés de  commissions'!P6193,0)*1","v":0},0,""]
[null,null,null,null,null,null,null,null,null,null,null,null,{"$f":"IF('Relevés de  commissions'!D6203=\"AGI externes\",'Relevés de  commissions'!M6203,0)*1","v":0},{"$f":"IF('Relevés de  commissions'!D6203=\"AGI externes\",'Relevés de  commissions'!N6203,0)*1","v":0},{"$f":"IF('Relevés de  commissions'!D6203=\"AGI externes\",'Relevés de  commissions'!O6203,0)*1","v":0},{"$f":"IF('Relevés de  commissions'!D6203=\"AGI externes\",'Relevés de  commissions'!P6203,0)*1","v":0},0,""]
[null,null,null,null,null,null,null,null,null,null,null,null,{"$f":"IF('Relevés de  commissions'!D6220=\"AGI externes\",'Relevés de  commissions'!M6220,0)*1","v":0},{"$f":"IF('Relevés de  commissions'!D6220=\"AGI externes\",'Relevés de  commissions'!N6220,0)*1","v":0},{"$f":"IF('Relevés de  commissions'!D6220=\"AGI externes\",'Relevés de  commissions'!O6220,0)*1","v":0},{"$f":"IF('Relevés de  commissions'!D6220=\"AGI externes\",'Relevés de  commissions'!P6220,0)*1","v":0},0,""]
[null,null,null,null,null,null,null,null,null,null,null,null,{"$f":"IF('Relevés de  commissions'!D6233=\"AGI externes\",'Relevés de  commissions'!M6233,0)*1","v":0},{"$f":"IF('Relevés de  commissions'!D6233=\"AGI externes\",'Relevés de  commissions'!N6233,0)*1","v":0},{"$f":"IF('Relevés de  commissions'!D6233=\"AGI externes\",'Relevés de  commissions'!O6233,0)*1","v":0},{"$f":"IF('Relevés de  commissions'!D6233=\"AGI externes\",'Relevés de  commissions'!P6233,0)*1","v":0},0,""]
[null,null,null,null,null,null,null,null,null,null,null,null,{"$f":"IF('Relevés de  commissions'!D6235=\"AGI externes\",'Relevés de  commissions'!M6235,0)*1","v":0},{"$f":"IF('Relevés de  commissions'!D6235=\"AGI externes\",'Relevés de  commissions'!N6235,0)*1","v":0},{"$f":"IF('Relevés de  commissions'!D6235=\"AGI externes\",'Relevés de  commissions'!O6235,0)*1","v":0},{"$f":"IF('Relevés de  commissions'!D6235=\"AGI externes\",'Relevés de  commissions'!P6235,0)*1","v":0},0,""]
[null,null,null,null,null,null,null,null,null,null,null,null,{"$f":"IF('Relevés de  commissions'!D6252=\"AGI externes\",'Relevés de  commissions'!M6252,0)*1","v":0},{"$f":"IF('Relevés de  commissions'!D6252=\"AGI externes\",'Relevés de  commissions'!N6252,0)*1","v":0},{"$f":"IF('Relevés de  commissions'!D6252=\"AGI externes\",'Relevés de  commissions'!O6252,0)*1","v":0},{"$f":"IF('Relevés de  commissions'!D6252=\"AGI externes\",'Relevés de  commissions'!P6252,0)*1","v":0},0,""]
[null,null,null,null,null,null,null,null,null,null,null,null,{"$f":"IF('Relevés de  commissions'!D6262=\"AGI externes\",'Relevés de  commissions'!M6262,0)*1","v":0},{"$f":"IF('Relevés de  commissions'!D6262=\"AGI externes\",'Relevés de  commissions'!N6262,0)*1","v":0},{"$f":"IF('Relevés de  commissions'!D6262=\"AGI externes\",'Relevés de  commissions'!O6262,0)*1","v":0},{"$f":"IF('Relevés de  commissions'!D6262=\"AGI externes\",'Relevés de  commissions'!P6262,0)*1","v":0},0,""]
[null,null,null,null,null,null,null,null,null,null,null,null,{"$f":"IF('Relevés de  commissions'!D6268=\"AGI externes\",'Relevés de  commissions'!M6268,0)*1","v":0},{"$f":"IF('Relevés de  commissions'!D6268=\"AGI externes\",'Relevés de  commissions'!N6268,0)*1","v":0},{"$f":"IF('Relevés de  commissions'!D6268=\"AGI externes\",'Relevés de  commissions'!O6268,0)*1","v":0},{"$f":"IF('Relevés de  commissions'!D6268=\"AGI externes\",'Relevés de  commissions'!P6268,0)*1","v":0},0,""]
[null,null,null,null,null,null,null,null,null,null,null,null,{"$f":"IF('Relevés de  commissions'!D6285=\"AGI externes\",'Relevés de  commissions'!M6285,0)*1","v":0},{"$f":"IF('Relevés de  commissions'!D6285=\"AGI externes\",'Relevés de  commissions'!N6285,0)*1","v":0},{"$f":"IF('Relevés de  commissions'!D6285=\"AGI externes\",'Relevés de  commissions'!O6285,0)*1","v":0},{"$f":"IF('Relevés de  commissions'!D6285=\"AGI externes\",'Relevés de  commissions'!P6285,0)*1","v":0},0,""]
[null,null,null,null,null,null,null,null,null,null,null,null,{"$f":"IF('Relevés de  commissions'!D6296=\"AGI externes\",'Relevés de  commissions'!M6296,0)*1","v":0},{"$f":"IF('Relevés de  commissions'!D6296=\"AGI externes\",'Relevés de  commissions'!N6296,0)*1","v":0},{"$f":"IF('Relevés de  commissions'!D6296=\"AGI externes\",'Relevés de  commissions'!O6296,0)*1","v":0},{"$f":"IF('Relevés de  commissions'!D6296=\"AGI externes\",'Relevés de  commissions'!P6296,0)*1","v":0},0,""]
[null,null,null,null,null,null,null,null,null,null,null,null,{"$f":"IF('Relevés de  commissions'!D6300=\"AGI externes\",'Relevés de  commissions'!M6300,0)*1","v":0},{"$f":"IF('Relevés de  commissions'!D6300=\"AGI externes\",'Relevés de  commissions'!N6300,0)*1","v":0},{"$f":"IF('Relevés de  commissions'!D6300=\"AGI externes\",'Relevés de  commissions'!O6300,0)*1","v":0},{"$f":"IF('Relevés de  commissions'!D6300=\"AGI externes\",'Relevés de  commissions'!P6300,0)*1","v":0},0,{"$f":"IF(N6302=10,O6302,\"\")","v":""}]
[null,null,null,null,null,null,null,null,null,null,null,null,{"$f":"IF('Relevés de  commissions'!D6310=\"AGI externes\",'Relevés de  commissions'!M6310,0)*1","v":0},{"$f":"IF('Relevés de  commissions'!D6310=\"AGI externes\",'Relevés de  commissions'!N6310,0)*1","v":0},{"$f":"IF('Relevés de  commissions'!D6310=\"AGI externes\",'Relevés de  commissions'!O6310,0)*1","v":0},{"$f":"IF('Relevés de  commissions'!D6310=\"AGI externes\",'Relevés de  commissions'!P6310,0)*1","v":0},0,""]
[null,null,null,null,null,null,null,null,null,null,null,null,{"$f":"IF('Relevés de  commissions'!D6327=\"AGI externes\",'Relevés de  commissions'!M6327,0)*1","v":0},{"$f":"IF('Relevés de  commissions'!D6327=\"AGI externes\",'Relevés de  commissions'!N6327,0)*1","v":0},{"$f":"IF('Relevés de  commissions'!D6327=\"AGI externes\",'Relevés de  commissions'!O6327,0)*1","v":0},{"$f":"IF('Relevés de  commissions'!D6327=\"AGI externes\",'Relevés de  commissions'!P6327,0)*1","v":0},0,""]
[null,null,null,null,null,null,null,null,null,null,null,null,{"$f":"IF('Relevés de  commissions'!D6333=\"AGI externes\",'Relevés de  commissions'!M6333,0)*1","v":0},{"$f":"IF('Relevés de  commissions'!D6333=\"AGI externes\",'Relevés de  commissions'!N6333,0)*1","v":0},{"$f":"IF('Relevés de  commissions'!D6333=\"AGI externes\",'Relevés de  commissions'!O6333,0)*1","v":0},{"$f":"IF('Relevés de  commissions'!D6333=\"AGI externes\",'Relevés de  commissions'!P6333,0)*1","v":0},0,""]
[null,null,null,null,null,null,null,null,null,null,null,null,{"$f":"IF('Relevés de  commissions'!D6343=\"AGI externes\",'Relevés de  commissions'!M6343,0)*1","v":0},{"$f":"IF('Relevés de  commissions'!D6343=\"AGI externes\",'Relevés de  commissions'!N6343,0)*1","v":0},{"$f":"IF('Relevés de  commissions'!D6343=\"AGI externes\",'Relevés de  commissions'!O6343,0)*1","v":0},{"$f":"IF('Relevés de  commissions'!D6343=\"AGI externes\",'Relevés de  commissions'!P6343,0)*1","v":0},0,""]
[null,null,null,null,null,null,null,null,null,null,null,null,{"$f":"IF('Relevés de  commissions'!D6363=\"AGI externes\",'Relevés de  commissions'!M6363,0)*1","v":0},{"$f":"IF('Relevés de  commissions'!D6363=\"AGI externes\",'Relevés de  commissions'!N6363,0)*1","v":0},{"$f":"IF('Relevés de  commissions'!D6363=\"AGI externes\",'Relevés de  commissions'!O6363,0)*1","v":0},{"$f":"IF('Relevés de  commissions'!D6363=\"AGI externes\",'Relevés de  commissions'!P6363,0)*1","v":0},0,""]
[null,null,null,null,null,null,null,null,null,null,null,null,{"$f":"IF('Relevés de  commissions'!D6365=\"AGI externes\",'Relevés de  commissions'!M6365,0)*1","v":0},{"$f":"IF('Relevés de  commissions'!D6365=\"AGI externes\",'Relevés de  commissions'!N6365,0)*1","v":0},{"$f":"IF('Relevés de  commissions'!D6365=\"AGI externes\",'Relevés de  commissions'!O6365,0)*1","v":0},{"$f":"IF('Relevés de  commissions'!D6365=\"AGI externes\",'Relevés de  commissions'!P6365,0)*1","v":0},0,""]
[null,null,null,null,null,null,null,null,null,null,null,null,{"$f":"IF('Relevés de  commissions'!D6375=\"AGI externes\",'Relevés de  commissions'!M6375,0)*1","v":0},{"$f":"IF('Relevés de  commissions'!D6375=\"AGI externes\",'Relevés de  commissions'!N6375,0)*1","v":0},{"$f":"IF('Relevés de  commissions'!D6375=\"AGI externes\",'Relevés de  commissions'!O6375,0)*1","v":0},{"$f":"IF('Relevés de  commissions'!D6375=\"AGI externes\",'Relevés de  commissions'!P6375,0)*1","v":0},0,""]
[null,null,null,null,null,null,null,null,null,null,null,null,{"$f":"IF('Relevés de  commissions'!D6392=\"AGI externes\",'Relevés de  commissions'!M6392,0)*1","v":0},{"$f":"IF('Relevés de  commissions'!D6392=\"AGI externes\",'Relevés de  commissions'!N6392,0)*1","v":0},{"$f":"IF('Relevés de  commissions'!D6392=\"AGI externes\",'Relevés de  commissions'!O6392,0)*1","v":0},{"$f":"IF('Relevés de  commissions'!D6392=\"AGI externes\",'Relevés de  commissions'!P6392,0)*1","v":0},0,""]
[null,null,null,null,null,null,null,null,null,null,null,null,{"$f":"IF('Relevés de  commissions'!D6402=\"AGI externes\",'Relevés de  commissions'!M6402,0)*1","v":0},{"$f":"IF('Relevés de  commissions'!D6402=\"AGI externes\",'Relevés de  commissions'!N6402,0)*1","v":0},{"$f":"IF('Relevés de  commissions'!D6402=\"AGI externes\",'Relevés de  commissions'!O6402,0)*1","v":0},{"$f":"IF('Relevés de  commissions'!D6402=\"AGI externes\",'Relevés de  commissions'!P6402,0)*1","v":0},0,""]
[null,null,null,null,null,null,null,null,null,null,null,null,{"$f":"IF('Relevés de  commissions'!D6408=\"AGI externes\",'Relevés de  commissions'!M6408,0)*1","v":0},{"$f":"IF('Relevés de  commissions'!D6408=\"AGI externes\",'Relevés de  commissions'!N6408,0)*1","v":0},{"$f":"IF('Relevés de  commissions'!D6408=\"AGI externes\",'Relevés de  commissions'!O6408,0)*1","v":0},{"$f":"IF('Relevés de  commissions'!D6408=\"AGI externes\",'Relevés de  commissions'!P6408,0)*1","v":0},0,""]
[null,null,null,null,null,null,null,null,null,null,null,null,{"$f":"IF('Relevés de  commissions'!D6420=\"AGI externes\",'Relevés de  commissions'!M6420,0)*1","v":0},{"$f":"IF('Relevés de  commissions'!D6420=\"AGI externes\",'Relevés de  commissions'!N6420,0)*1","v":0},{"$f":"IF('Relevés de  commissions'!D6420=\"AGI externes\",'Relevés de  commissions'!O6420,0)*1","v":0},{"$f":"IF('Relevés de  commissions'!D6420=\"AGI externes\",'Relevés de  commissions'!P6420,0)*1","v":0},0,""]
[null,null,null,null,null,null,null,null,null,null,null,null,{"$f":"IF('Relevés de  commissions'!D6434=\"AGI externes\",'Relevés de  commissions'!M6434,0)*1","v":0},{"$f":"IF('Relevés de  commissions'!D6434=\"AGI externes\",'Relevés de  commissions'!N6434,0)*1","v":0},{"$f":"IF('Relevés de  commissions'!D6434=\"AGI externes\",'Relevés de  commissions'!O6434,0)*1","v":0},{"$f":"IF('Relevés de  commissions'!D6434=\"AGI externes\",'Relevés de  commissions'!P6434,0)*1","v":0},0,""]
[null,null,null,null,null,null,null,null,null,null,null,null,{"$f":"IF('Relevés de  commissions'!D6440=\"AGI externes\",'Relevés de  commissions'!M6440,0)*1","v":0},{"$f":"IF('Relevés de  commissions'!D6440=\"AGI externes\",'Relevés de  commissions'!N6440,0)*1","v":0},{"$f":"IF('Relevés de  commissions'!D6440=\"AGI externes\",'Relevés de  commissions'!O6440,0)*1","v":0},{"$f":"IF('Relevés de  commissions'!D6440=\"AGI externes\",'Relevés de  commissions'!P6440,0)*1","v":0},0,""]
[null,null,null,null,null,null,null,null,null,null,null,null,{"$f":"IF('Relevés de  commissions'!D6457=\"AGI externes\",'Relevés de  commissions'!M6457,0)*1","v":0},{"$f":"IF('Relevés de  commissions'!D6457=\"AGI externes\",'Relevés de  commissions'!N6457,0)*1","v":0},{"$f":"IF('Relevés de  commissions'!D6457=\"AGI externes\",'Relevés de  commissions'!O6457,0)*1","v":0},{"$f":"IF('Relevés de  commissions'!D6457=\"AGI externes\",'Relevés de  commissions'!P6457,0)*1","v":0},0,""]
[null,null,null,null,null,null,null,null,null,null,null,null,{"$f":"IF('Relevés de  commissions'!D6467=\"AGI externes\",'Relevés de  commissions'!M6467,0)*1","v":0},{"$f":"IF('Relevés de  commissions'!D6467=\"AGI externes\",'Relevés de  commissions'!N6467,0)*1","v":0},{"$f":"IF('Relevés de  commissions'!D6467=\"AGI externes\",'Relevés de  commissions'!O6467,0)*1","v":0},{"$f":"IF('Relevés de  commissions'!D6467=\"AGI externes\",'Relevés de  commissions'!P6467,0)*1","v":0},{"$f":"IF(N6469=0,O6469,\"\")","v":0},""]
[null,null,null,null,null,null,null,null,null,null,null,null,{"$f":"IF('Relevés de  commissions'!D6473=\"AGI externes\",'Relevés de  commissions'!M6473,0)*1","v":0},{"$f":"IF('Relevés de  commissions'!D6473=\"AGI externes\",'Relevés de  commissions'!N6473,0)*1","v":0},{"$f":"IF('Relevés de  commissions'!D6473=\"AGI externes\",'Relevés de  commissions'!O6473,0)*1","v":0},{"$f":"IF('Relevés de  commissions'!D6473=\"AGI externes\",'Relevés de  commissions'!P6473,0)*1","v":0},0,""]
[null,null,null,null,null,null,null,null,null,null,null,null,{"$f":"IF('Relevés de  commissions'!D6493=\"AGI externes\",'Relevés de  commissions'!M6493,0)*1","v":0},{"$f":"IF('Relevés de  commissions'!D6493=\"AGI externes\",'Relevés de  commissions'!N6493,0)*1","v":0},{"$f":"IF('Relevés de  commissions'!D6493=\"AGI externes\",'Relevés de  commissions'!O6493,0)*1","v":0},{"$f":"IF('Relevés de  commissions'!D6493=\"AGI externes\",'Relevés de  commissions'!P6493,0)*1","v":0},0,""]
[null,null,null,null,null,null,null,null,null,null,null,null,{"$f":"IF('Relevés de  commissions'!D6499=\"AGI externes\",'Relevés de  commissions'!M6499,0)*1","v":0},{"$f":"IF('Relevés de  commissions'!D6499=\"AGI externes\",'Relevés de  commissions'!N6499,0)*1","v":0},{"$f":"IF('Relevés de  commissions'!D6499=\"AGI externes\",'Relevés de  commissions'!O6499,0)*1","v":0},{"$f":"IF('Relevés de  commissions'!D6499=\"AGI externes\",'Relevés de  commissions'!P6499,0)*1","v":0},0,""]
[null,null,null,null,null,null,null,null,null,null,null,null,{"$f":"IF('Relevés de  commissions'!D6505=\"AGI externes\",'Relevés de  commissions'!M6505,0)*1","v":0},{"$f":"IF('Relevés de  commissions'!D6505=\"AGI externes\",'Relevés de  commissions'!N6505,0)*1","v":0},{"$f":"IF('Relevés de  commissions'!D6505=\"AGI externes\",'Relevés de  commissions'!O6505,0)*1","v":0},{"$f":"IF('Relevés de  commissions'!D6505=\"AGI externes\",'Relevés de  commissions'!P6505,0)*1","v":0},0,""]
[null,null,null,null,null,null,null,null,null,null,null,null,{"$f":"IF('Relevés de  commissions'!D6526=\"AGI externes\",'Relevés de  commissions'!M6526,0)*1","v":0},{"$f":"IF('Relevés de  commissions'!D6526=\"AGI externes\",'Relevés de  commissions'!N6526,0)*1","v":0},{"$f":"IF('Relevés de  commissions'!D6526=\"AGI externes\",'Relevés de  commissions'!O6526,0)*1","v":0},{"$f":"IF('Relevés de  commissions'!D6526=\"AGI externes\",'Relevés de  commissions'!P6526,0)*1","v":0},0,""]
[null,null,null,null,null,null,null,null,null,null,null,null,{"$f":"IF('Relevés de  commissions'!D6532=\"AGI externes\",'Relevés de  commissions'!M6532,0)*1","v":0},{"$f":"IF('Relevés de  commissions'!D6532=\"AGI externes\",'Relevés de  commissions'!N6532,0)*1","v":0},{"$f":"IF('Relevés de  commissions'!D6532=\"AGI externes\",'Relevés de  commissions'!O6532,0)*1","v":0},{"$f":"IF('Relevés de  commissions'!D6532=\"AGI externes\",'Relevés de  commissions'!P6532,0)*1","v":0},0,""]
[null,null,null,null,null,null,null,null,null,null,null,null,{"$f":"IF('Relevés de  commissions'!D6542=\"AGI externes\",'Relevés de  commissions'!M6542,0)*1","v":0},{"$f":"IF('Relevés de  commissions'!D6542=\"AGI externes\",'Relevés de  commissions'!N6542,0)*1","v":0},{"$f":"IF('Relevés de  commissions'!D6542=\"AGI externes\",'Relevés de  commissions'!O6542,0)*1","v":0},{"$f":"IF('Relevés de  commissions'!D6542=\"AGI externes\",'Relevés de  commissions'!P6542,0)*1","v":0},0,""]
[null,null,null,null,null,null,null,null,null,null,null,null,{"$f":"IF('Relevés de  commissions'!D6550=\"AGI externes\",'Relevés de  commissions'!M6550,0)*1","v":0},{"$f":"IF('Relevés de  commissions'!D6550=\"AGI externes\",'Relevés de  commissions'!N6550,0)*1","v":0},{"$f":"IF('Relevés de  commissions'!D6550=\"AGI externes\",'Relevés de  commissions'!O6550,0)*1","v":0},{"$f":"IF('Relevés de  commissions'!D6550=\"AGI externes\",'Relevés de  commissions'!P6550,0)*1","v":0},0,""]
[null,null,null,null,null,null,null,null,null,null,null,null,{"$f":"IF('Relevés de  commissions'!D6564=\"AGI externes\",'Relevés de  commissions'!M6564,0)*1","v":0},{"$f":"IF('Relevés de  commissions'!D6564=\"AGI externes\",'Relevés de  commissions'!N6564,0)*1","v":0},{"$f":"IF('Relevés de  commissions'!D6564=\"AGI externes\",'Relevés de  commissions'!O6564,0)*1","v":0},{"$f":"IF('Relevés de  commissions'!D6564=\"AGI externes\",'Relevés de  commissions'!P6564,0)*1","v":0},0,""]
[null,null,null,null,null,null,null,null,null,null,null,null,{"$f":"IF('Relevés de  commissions'!D6574=\"AGI externes\",'Relevés de  commissions'!M6574,0)*1","v":0},{"$f":"IF('Relevés de  commissions'!D6574=\"AGI externes\",'Relevés de  commissions'!N6574,0)*1","v":0},{"$f":"IF('Relevés de  commissions'!D6574=\"AGI externes\",'Relevés de  commissions'!O6574,0)*1","v":0},{"$f":"IF('Relevés de  commissions'!D6574=\"AGI externes\",'Relevés de  commissions'!P6574,0)*1","v":0},0,""]
[null,null,null,null,null,null,null,null,null,null,null,null,{"$f":"IF('Relevés de  commissions'!D6591=\"AGI externes\",'Relevés de  commissions'!M6591,0)*1","v":0},{"$f":"IF('Relevés de  commissions'!D6591=\"AGI externes\",'Relevés de  commissions'!N6591,0)*1","v":0},{"$f":"IF('Relevés de  commissions'!D6591=\"AGI externes\",'Relevés de  commissions'!O6591,0)*1","v":0},{"$f":"IF('Relevés de  commissions'!D6591=\"AGI externes\",'Relevés de  commissions'!P6591,0)*1","v":0},0,""]
[null,null,null,null,null,null,null,null,null,null,null,null,{"$f":"IF('Relevés de  commissions'!D6597=\"AGI externes\",'Relevés de  commissions'!M6597,0)*1","v":0},{"$f":"IF('Relevés de  commissions'!D6597=\"AGI externes\",'Relevés de  commissions'!N6597,0)*1","v":0},{"$f":"IF('Relevés de  commissions'!D6597=\"AGI externes\",'Relevés de  commissions'!O6597,0)*1","v":0},{"$f":"IF('Relevés de  commissions'!D6597=\"AGI externes\",'Relevés de  commissions'!P6597,0)*1","v":0},0,""]
[null,null,null,null,null,null,null,null,null,null,null,null,{"$f":"IF('Relevés de  commissions'!D6607=\"AGI externes\",'Relevés de  commissions'!M6607,0)*1","v":0},{"$f":"IF('Relevés de  commissions'!D6607=\"AGI externes\",'Relevés de  commissions'!N6607,0)*1","v":0},{"$f":"IF('Relevés de  commissions'!D6607=\"AGI externes\",'Relevés de  commissions'!O6607,0)*1","v":0},{"$f":"IF('Relevés de  commissions'!D6607=\"AGI externes\",'Relevés de  commissions'!P6607,0)*1","v":0},0,""]
[null,null,null,null,null,null,null,null,null,null,null,null,{"$f":"IF('Relevés de  commissions'!D6617=\"AGI externes\",'Relevés de  commissions'!M6617,0)*1","v":0},{"$f":"IF('Relevés de  commissions'!D6617=\"AGI externes\",'Relevés de  commissions'!N6617,0)*1","v":0},{"$f":"IF('Relevés de  commissions'!D6617=\"AGI externes\",'Relevés de  commissions'!O6617,0)*1","v":0},{"$f":"IF('Relevés de  commissions'!D6617=\"AGI externes\",'Relevés de  commissions'!P6617,0)*1","v":0},0,""]
[null,null,null,null,null,null,null,null,null,null,null,null,{"$f":"IF('Relevés de  commissions'!D6633=\"AGI externes\",'Relevés de  commissions'!M6633,0)*1","v":0},{"$f":"IF('Relevés de  commissions'!D6633=\"AGI externes\",'Relevés de  commissions'!N6633,0)*1","v":0},{"$f":"IF('Relevés de  commissions'!D6633=\"AGI externes\",'Relevés de  commissions'!O6633,0)*1","v":0},{"$f":"IF('Relevés de  commissions'!D6633=\"AGI externes\",'Relevés de  commissions'!P6633,0)*1","v":0},0,""]
[null,null,null,null,null,null,null,null,null,null,null,null,{"$f":"IF('Relevés de  commissions'!D6639=\"AGI externes\",'Relevés de  commissions'!M6639,0)*1","v":0},{"$f":"IF('Relevés de  commissions'!D6639=\"AGI externes\",'Relevés de  commissions'!N6639,0)*1","v":0},{"$f":"IF('Relevés de  commissions'!D6639=\"AGI externes\",'Relevés de  commissions'!O6639,0)*1","v":0},{"$f":"IF('Relevés de  commissions'!D6639=\"AGI externes\",'Relevés de  commissions'!P6639,0)*1","v":0},0,""]
[null,null,null,null,null,null,null,null,null,null,null,null,{"$f":"IF('Relevés de  commissions'!D6656=\"AGI externes\",'Relevés de  commissions'!M6656,0)*1","v":0},{"$f":"IF('Relevés de  commissions'!D6656=\"AGI externes\",'Relevés de  commissions'!N6656,0)*1","v":0},{"$f":"IF('Relevés de  commissions'!D6656=\"AGI externes\",'Relevés de  commissions'!O6656,0)*1","v":0},{"$f":"IF('Relevés de  commissions'!D6656=\"AGI externes\",'Relevés de  commissions'!P6656,0)*1","v":0},0,""]
[null,null,null,null,null,null,null,null,null,null,null,null,{"$f":"IF('Relevés de  commissions'!D6666=\"AGI externes\",'Relevés de  commissions'!M6666,0)*1","v":0},{"$f":"IF('Relevés de  commissions'!D6666=\"AGI externes\",'Relevés de  commissions'!N6666,0)*1","v":0},{"$f":"IF('Relevés de  commissions'!D6666=\"AGI externes\",'Relevés de  commissions'!O6666,0)*1","v":0},{"$f":"IF('Relevés de  commissions'!D6666=\"AGI externes\",'Relevés de  commissions'!P6666,0)*1","v":0},0,""]
[null,null,null,null,null,null,null,null,null,null,null,null,{"$f":"IF('Relevés de  commissions'!D6672=\"AGI externes\",'Relevés de  commissions'!M6672,0)*1","v":0},{"$f":"IF('Relevés de  commissions'!D6672=\"AGI externes\",'Relevés de  commissions'!N6672,0)*1","v":0},{"$f":"IF('Relevés de  commissions'!D6672=\"AGI externes\",'Relevés de  commissions'!O6672,0)*1","v":0},{"$f":"IF('Relevés de  commissions'!D6672=\"AGI externes\",'Relevés de  commissions'!P6672,0)*1","v":0},0,""]
[null,null,null,null,null,null,null,null,null,null,null,null,{"$f":"IF('Relevés de  commissions'!D6680=\"AGI externes\",'Relevés de  commissions'!M6680,0)*1","v":0},{"$f":"IF('Relevés de  commissions'!D6680=\"AGI externes\",'Relevés de  commissions'!N6680,0)*1","v":0},{"$f":"IF('Relevés de  commissions'!D6680=\"AGI externes\",'Relevés de  commissions'!O6680,0)*1","v":0},{"$f":"IF('Relevés de  commissions'!D6680=\"AGI externes\",'Relevés de  commissions'!P6680,0)*1","v":0},0,""]
[null,null,null,null,null,null,null,null,null,null,null,null,{"$f":"IF('Relevés de  commissions'!D6698=\"AGI externes\",'Relevés de  commissions'!M6698,0)*1","v":0},{"$f":"IF('Relevés de  commissions'!D6698=\"AGI externes\",'Relevés de  commissions'!N6698,0)*1","v":0},{"$f":"IF('Relevés de  commissions'!D6698=\"AGI externes\",'Relevés de  commissions'!O6698,0)*1","v":0},{"$f":"IF('Relevés de  commissions'!D6698=\"AGI externes\",'Relevés de  commissions'!P6698,0)*1","v":0},0,""]
[null,null,null,null,null,null,null,null,null,null,null,null,{"$f":"IF('Relevés de  commissions'!D6704=\"AGI externes\",'Relevés de  commissions'!M6704,0)*1","v":0},{"$f":"IF('Relevés de  commissions'!D6704=\"AGI externes\",'Relevés de  commissions'!N6704,0)*1","v":0},{"$f":"IF('Relevés de  commissions'!D6704=\"AGI externes\",'Relevés de  commissions'!O6704,0)*1","v":0},{"$f":"IF('Relevés de  commissions'!D6704=\"AGI externes\",'Relevés de  commissions'!P6704,0)*1","v":0},0,""]
[null,null,null,null,null,null,null,null,null,null,null,null,{"$f":"IF('Relevés de  commissions'!D6714=\"AGI externes\",'Relevés de  commissions'!M6714,0)*1","v":0},{"$f":"IF('Relevés de  commissions'!D6714=\"AGI externes\",'Relevés de  commissions'!N6714,0)*1","v":0},{"$f":"IF('Relevés de  commissions'!D6714=\"AGI externes\",'Relevés de  commissions'!O6714,0)*1","v":0},{"$f":"IF('Relevés de  commissions'!D6714=\"AGI externes\",'Relevés de  commissions'!P6714,0)*1","v":0},0,""]
[null,null,null,null,null,null,null,null,null,null,null,null,{"$f":"IF('Relevés de  commissions'!D6731=\"AGI externes\",'Relevés de  commissions'!M6731,0)*1","v":0},{"$f":"IF('Relevés de  commissions'!D6731=\"AGI externes\",'Relevés de  commissions'!N6731,0)*1","v":0},{"$f":"IF('Relevés de  commissions'!D6731=\"AGI externes\",'Relevés de  commissions'!O6731,0)*1","v":0},{"$f":"IF('Relevés de  commissions'!D6731=\"AGI externes\",'Relevés de  commissions'!P6731,0)*1","v":0},0,""]
[null,null,null,null,null,null,null,null,null,null,null,null,{"$f":"IF('Relevés de  commissions'!D6737=\"AGI externes\",'Relevés de  commissions'!M6737,0)*1","v":0},{"$f":"IF('Relevés de  commissions'!D6737=\"AGI externes\",'Relevés de  commissions'!N6737,0)*1","v":0},{"$f":"IF('Relevés de  commissions'!D6737=\"AGI externes\",'Relevés de  commissions'!O6737,0)*1","v":0},{"$f":"IF('Relevés de  commissions'!D6737=\"AGI externes\",'Relevés de  commissions'!P6737,0)*1","v":0},0,""]
[null,null,null,null,null,null,null,null,null,null,null,null,{"$f":"IF('Relevés de  commissions'!D6747=\"AGI externes\",'Relevés de  commissions'!M6747,0)*1","v":0},{"$f":"IF('Relevés de  commissions'!D6747=\"AGI externes\",'Relevés de  commissions'!N6747,0)*1","v":0},{"$f":"IF('Relevés de  commissions'!D6747=\"AGI externes\",'Relevés de  commissions'!O6747,0)*1","v":0},{"$f":"IF('Relevés de  commissions'!D6747=\"AGI externes\",'Relevés de  commissions'!P6747,0)*1","v":0},0,""]
[null,null,null,null,null,null,null,null,null,null,null,null,{"$f":"IF('Relevés de  commissions'!D6763=\"AGI externes\",'Relevés de  commissions'!M6763,0)*1","v":0},{"$f":"IF('Relevés de  commissions'!D6763=\"AGI externes\",'Relevés de  commissions'!N6763,0)*1","v":0},{"$f":"IF('Relevés de  commissions'!D6763=\"AGI externes\",'Relevés de  commissions'!O6763,0)*1","v":0},{"$f":"IF('Relevés de  commissions'!D6763=\"AGI externes\",'Relevés de  commissions'!P6763,0)*1","v":0},0,""]
[null,null,null,null,null,null,null,null,null,null,null,null,{"$f":"IF('Relevés de  commissions'!D6773=\"AGI externes\",'Relevés de  commissions'!M6773,0)*1","v":0},{"$f":"IF('Relevés de  commissions'!D6773=\"AGI externes\",'Relevés de  commissions'!N6773,0)*1","v":0},{"$f":"IF('Relevés de  commissions'!D6773=\"AGI externes\",'Relevés de  commissions'!O6773,0)*1","v":0},{"$f":"IF('Relevés de  commissions'!D6773=\"AGI externes\",'Relevés de  commissions'!P6773,0)*1","v":0},0,""]
[null,null,null,null,null,null,null,null,null,null,null,null,{"$f":"IF('Relevés de  commissions'!D6779=\"AGI externes\",'Relevés de  commissions'!M6779,0)*1","v":0},{"$f":"IF('Relevés de  commissions'!D6779=\"AGI externes\",'Relevés de  commissions'!N6779,0)*1","v":0},{"$f":"IF('Relevés de  commissions'!D6779=\"AGI externes\",'Relevés de  commissions'!O6779,0)*1","v":0},{"$f":"IF('Relevés de  commissions'!D6779=\"AGI externes\",'Relevés de  commissions'!P6779,0)*1","v":0},0,""]
[null,null,null,null,null,null,null,null,null,null,null,null,{"$f":"IF('Relevés de  commissions'!D6796=\"AGI externes\",'Relevés de  commissions'!M6796,0)*1","v":0},{"$f":"IF('Relevés de  commissions'!D6796=\"AGI externes\",'Relevés de  commissions'!N6796,0)*1","v":0},{"$f":"IF('Relevés de  commissions'!D6796=\"AGI externes\",'Relevés de  commissions'!O6796,0)*1","v":0},{"$f":"IF('Relevés de  commissions'!D6796=\"AGI externes\",'Relevés de  commissions'!P6796,0)*1","v":0},0,""]
[null,null,null,null,null,null,null,null,null,null,null,null,{"$f":"IF('Relevés de  commissions'!D6806=\"AGI externes\",'Relevés de  commissions'!M6806,0)*1","v":0},{"$f":"IF('Relevés de  commissions'!D6806=\"AGI externes\",'Relevés de  commissions'!N6806,0)*1","v":0},{"$f":"IF('Relevés de  commissions'!D6806=\"AGI externes\",'Relevés de  commissions'!O6806,0)*1","v":0},{"$f":"IF('Relevés de  commissions'!D6806=\"AGI externes\",'Relevés de  commissions'!P6806,0)*1","v":0},0,""]
[null,null,null,null,null,null,null,null,null,null,null,null,{"$f":"IF('Relevés de  commissions'!D6814=\"AGI externes\",'Relevés de  commissions'!M6814,0)*1","v":0},{"$f":"IF('Relevés de  commissions'!D6814=\"AGI externes\",'Relevés de  commissions'!N6814,0)*1","v":0},{"$f":"IF('Relevés de  commissions'!D6814=\"AGI externes\",'Relevés de  commissions'!O6814,0)*1","v":0},{"$f":"IF('Relevés de  commissions'!D6814=\"AGI externes\",'Relevés de  commissions'!P6814,0)*1","v":0},0,""]
[null,null,null,null,null,null,null,null,null,null,null,null,{"$f":"IF('Relevés de  commissions'!D6828=\"AGI externes\",'Relevés de  commissions'!M6828,0)*1","v":0},{"$f":"IF('Relevés de  commissions'!D6828=\"AGI externes\",'Relevés de  commissions'!N6828,0)*1","v":0},{"$f":"IF('Relevés de  commissions'!D6828=\"AGI externes\",'Relevés de  commissions'!O6828,0)*1","v":0},{"$f":"IF('Relevés de  commissions'!D6828=\"AGI externes\",'Relevés de  commissions'!P6828,0)*1","v":0},0,""]
[null,null,null,null,null,null,null,null,null,null,null,null,{"$f":"IF('Relevés de  commissions'!D6838=\"AGI externes\",'Relevés de  commissions'!M6838,0)*1","v":0},{"$f":"IF('Relevés de  commissions'!D6838=\"AGI externes\",'Relevés de  commissions'!N6838,0)*1","v":0},{"$f":"IF('Relevés de  commissions'!D6838=\"AGI externes\",'Relevés de  commissions'!O6838,0)*1","v":0},{"$f":"IF('Relevés de  commissions'!D6838=\"AGI externes\",'Relevés de  commissions'!P6838,0)*1","v":0},0,""]
[null,null,null,null,null,null,null,null,null,null,null,null,{"$f":"IF('Relevés de  commissions'!D6844=\"AGI externes\",'Relevés de  commissions'!M6844,0)*1","v":0},{"$f":"IF('Relevés de  commissions'!D6844=\"AGI externes\",'Relevés de  commissions'!N6844,0)*1","v":0},{"$f":"IF('Relevés de  commissions'!D6844=\"AGI externes\",'Relevés de  commissions'!O6844,0)*1","v":0},{"$f":"IF('Relevés de  commissions'!D6844=\"AGI externes\",'Relevés de  commissions'!P6844,0)*1","v":0},0,""]
[null,null,null,null,null,null,null,null,null,null,null,null,{"$f":"IF('Relevés de  commissions'!D6854=\"AGI externes\",'Relevés de  commissions'!M6854,0)*1","v":0},{"$f":"IF('Relevés de  commissions'!D6854=\"AGI externes\",'Relevés de  commissions'!N6854,0)*1","v":0},{"$f":"IF('Relevés de  commissions'!D6854=\"AGI externes\",'Relevés de  commissions'!O6854,0)*1","v":0},{"$f":"IF('Relevés de  commissions'!D6854=\"AGI externes\",'Relevés de  commissions'!P6854,0)*1","v":0},0,""]
[null,null,null,null,null,null,null,null,null,null,null,null,{"$f":"IF('Relevés de  commissions'!D6871=\"AGI externes\",'Relevés de  commissions'!M6871,0)*1","v":0},{"$f":"IF('Relevés de  commissions'!D6871=\"AGI externes\",'Relevés de  commissions'!N6871,0)*1","v":0},{"$f":"IF('Relevés de  commissions'!D6871=\"AGI externes\",'Relevés de  commissions'!O6871,0)*1","v":0},{"$f":"IF('Relevés de  commissions'!D6871=\"AGI externes\",'Relevés de  commissions'!P6871,0)*1","v":0},0,""]
[null,null,null,null,null,null,null,null,null,null,null,null,{"$f":"IF('Relevés de  commissions'!D6881=\"AGI externes\",'Relevés de  commissions'!M6881,0)*1","v":0},{"$f":"IF('Relevés de  commissions'!D6881=\"AGI externes\",'Relevés de  commissions'!N6881,0)*1","v":0},{"$f":"IF('Relevés de  commissions'!D6881=\"AGI externes\",'Relevés de  commissions'!O6881,0)*1","v":0},{"$f":"IF('Relevés de  commissions'!D6881=\"AGI externes\",'Relevés de  commissions'!P6881,0)*1","v":0},0,""]
[null,null,null,null,null,null,null,null,null,null,null,null,{"$f":"IF('Relevés de  commissions'!D6886=\"AGI externes\",'Relevés de  commissions'!M6886,0)*1","v":0},{"$f":"IF('Relevés de  commissions'!D6886=\"AGI externes\",'Relevés de  commissions'!N6886,0)*1","v":0},{"$f":"IF('Relevés de  commissions'!D6886=\"AGI externes\",'Relevés de  commissions'!O6886,0)*1","v":0},{"$f":"IF('Relevés de  commissions'!D6886=\"AGI externes\",'Relevés de  commissions'!P6886,0)*1","v":0},0,""]
[null,null,null,null,null,null,null,null,null,null,null,null,{"$f":"IF('Relevés de  commissions'!D6903=\"AGI externes\",'Relevés de  commissions'!M6903,0)*1","v":0},{"$f":"IF('Relevés de  commissions'!D6903=\"AGI externes\",'Relevés de  commissions'!N6903,0)*1","v":0},{"$f":"IF('Relevés de  commissions'!D6903=\"AGI externes\",'Relevés de  commissions'!O6903,0)*1","v":0},{"$f":"IF('Relevés de  commissions'!D6903=\"AGI externes\",'Relevés de  commissions'!P6903,0)*1","v":0},0,""]
[null,null,null,null,null,null,null,null,null,null,null,null,{"$f":"IF('Relevés de  commissions'!D6913=\"AGI externes\",'Relevés de  commissions'!M6913,0)*1","v":0},{"$f":"IF('Relevés de  commissions'!D6913=\"AGI externes\",'Relevés de  commissions'!N6913,0)*1","v":0},{"$f":"IF('Relevés de  commissions'!D6913=\"AGI externes\",'Relevés de  commissions'!O6913,0)*1","v":0},{"$f":"IF('Relevés de  commissions'!D6913=\"AGI externes\",'Relevés de  commissions'!P6913,0)*1","v":0},0,""]
[null,null,null,null,null,null,null,null,null,null,null,null,{"$f":"IF('Relevés de  commissions'!D6919=\"AGI externes\",'Relevés de  commissions'!M6919,0)*1","v":0},{"$f":"IF('Relevés de  commissions'!D6919=\"AGI externes\",'Relevés de  commissions'!N6919,0)*1","v":0},{"$f":"IF('Relevés de  commissions'!D6919=\"AGI externes\",'Relevés de  commissions'!O6919,0)*1","v":0},{"$f":"IF('Relevés de  commissions'!D6919=\"AGI externes\",'Relevés de  commissions'!P6919,0)*1","v":0},0,""]
[null,null,null,null,null,null,null,null,null,null,null,null,{"$f":"IF('Relevés de  commissions'!D6936=\"AGI externes\",'Relevés de  commissions'!M6936,0)*1","v":0},{"$f":"IF('Relevés de  commissions'!D6936=\"AGI externes\",'Relevés de  commissions'!N6936,0)*1","v":0},{"$f":"IF('Relevés de  commissions'!D6936=\"AGI externes\",'Relevés de  commissions'!O6936,0)*1","v":0},{"$f":"IF('Relevés de  commissions'!D6936=\"AGI externes\",'Relevés de  commissions'!P6936,0)*1","v":0},0,""]
[null,null,null,null,null,null,null,null,null,null,null,null,{"$f":"IF('Relevés de  commissions'!D6944=\"AGI externes\",'Relevés de  commissions'!M6944,0)*1","v":0},{"$f":"IF('Relevés de  commissions'!D6944=\"AGI externes\",'Relevés de  commissions'!N6944,0)*1","v":0},{"$f":"IF('Relevés de  commissions'!D6944=\"AGI externes\",'Relevés de  commissions'!O6944,0)*1","v":0},{"$f":"IF('Relevés de  commissions'!D6944=\"AGI externes\",'Relevés de  commissions'!P6944,0)*1","v":0},0,""]
[null,null,null,null,null,null,null,null,null,null,null,null,{"$f":"IF('Relevés de  commissions'!D6951=\"AGI externes\",'Relevés de  commissions'!M6951,0)*1","v":0},{"$f":"IF('Relevés de  commissions'!D6951=\"AGI externes\",'Relevés de  commissions'!N6951,0)*1","v":0},{"$f":"IF('Relevés de  commissions'!D6951=\"AGI externes\",'Relevés de  commissions'!O6951,0)*1","v":0},{"$f":"IF('Relevés de  commissions'!D6951=\"AGI externes\",'Relevés de  commissions'!P6951,0)*1","v":0},0,""]
[null,null,null,null,null,null,null,null,null,null,null,null,{"$f":"IF('Relevés de  commissions'!D6968=\"AGI externes\",'Relevés de  commissions'!M6968,0)*1","v":0},{"$f":"IF('Relevés de  commissions'!D6968=\"AGI externes\",'Relevés de  commissions'!N6968,0)*1","v":0},{"$f":"IF('Relevés de  commissions'!D6968=\"AGI externes\",'Relevés de  commissions'!O6968,0)*1","v":0},{"$f":"IF('Relevés de  commissions'!D6968=\"AGI externes\",'Relevés de  commissions'!P6968,0)*1","v":0},0,""]
[null,null,null,null,null,null,null,null,null,null,null,null,{"$f":"IF('Relevés de  commissions'!D6978=\"AGI externes\",'Relevés de  commissions'!M6978,0)*1","v":0},{"$f":"IF('Relevés de  commissions'!D6978=\"AGI externes\",'Relevés de  commissions'!N6978,0)*1","v":0},{"$f":"IF('Relevés de  commissions'!D6978=\"AGI externes\",'Relevés de  commissions'!O6978,0)*1","v":0},{"$f":"IF('Relevés de  commissions'!D6978=\"AGI externes\",'Relevés de  commissions'!P6978,0)*1","v":0},0,""]
[null,null,null,null,null,null,null,null,null,null,null,null,{"$f":"IF('Relevés de  commissions'!D6984=\"AGI externes\",'Relevés de  commissions'!M6984,0)*1","v":0},{"$f":"IF('Relevés de  commissions'!D6984=\"AGI externes\",'Relevés de  commissions'!N6984,0)*1","v":0},{"$f":"IF('Relevés de  commissions'!D6984=\"AGI externes\",'Relevés de  commissions'!O6984,0)*1","v":0},{"$f":"IF('Relevés de  commissions'!D6984=\"AGI externes\",'Relevés de  commissions'!P6984,0)*1","v":0},0,""]
[null,null,null,null,null,null,null,null,null,null,null,null,{"$f":"IF('Relevés de  commissions'!D6994=\"AGI externes\",'Relevés de  commissions'!M6994,0)*1","v":0},{"$f":"IF('Relevés de  commissions'!D6994=\"AGI externes\",'Relevés de  commissions'!N6994,0)*1","v":0},{"$f":"IF('Relevés de  commissions'!D6994=\"AGI externes\",'Relevés de  commissions'!O6994,0)*1","v":0},{"$f":"IF('Relevés de  commissions'!D6994=\"AGI externes\",'Relevés de  commissions'!P6994,0)*1","v":0},0,""]
[null,null,null,null,null,null,null,null,null,null,null,null,{"$f":"IF('Relevés de  commissions'!D7011=\"AGI externes\",'Relevés de  commissions'!M7011,0)*1","v":0},{"$f":"IF('Relevés de  commissions'!D7011=\"AGI externes\",'Relevés de  commissions'!N7011,0)*1","v":0},{"$f":"IF('Relevés de  commissions'!D7011=\"AGI externes\",'Relevés de  commissions'!O7011,0)*1","v":0},{"$f":"IF('Relevés de  commissions'!D7011=\"AGI externes\",'Relevés de  commissions'!P7011,0)*1","v":0},0,""]
[null,null,null,null,null,null,null,null,null,null,null,null,{"$f":"IF('Relevés de  commissions'!D7016=\"AGI externes\",'Relevés de  commissions'!M7016,0)*1","v":0},{"$f":"IF('Relevés de  commissions'!D7016=\"AGI externes\",'Relevés de  commissions'!N7016,0)*1","v":0},{"$f":"IF('Relevés de  commissions'!D7016=\"AGI externes\",'Relevés de  commissions'!O7016,0)*1","v":0},{"$f":"IF('Relevés de  commissions'!D7016=\"AGI externes\",'Relevés de  commissions'!P7016,0)*1","v":0},0,""]
[null,null,null,null,null,null,null,null,null,null,null,null,{"$f":"IF('Relevés de  commissions'!D7026=\"AGI externes\",'Relevés de  commissions'!M7026,0)*1","v":0},{"$f":"IF('Relevés de  commissions'!D7026=\"AGI externes\",'Relevés de  commissions'!N7026,0)*1","v":0},{"$f":"IF('Relevés de  commissions'!D7026=\"AGI externes\",'Relevés de  commissions'!O7026,0)*1","v":0},{"$f":"IF('Relevés de  commissions'!D7026=\"AGI externes\",'Relevés de  commissions'!P7026,0)*1","v":0},0,""]
[null,null,null,null,null,null,null,null,null,null,null,null,{"$f":"IF('Relevés de  commissions'!D7043=\"AGI externes\",'Relevés de  commissions'!M7043,0)*1","v":0},{"$f":"IF('Relevés de  commissions'!D7043=\"AGI externes\",'Relevés de  commissions'!N7043,0)*1","v":0},{"$f":"IF('Relevés de  commissions'!D7043=\"AGI externes\",'Relevés de  commissions'!O7043,0)*1","v":0},{"$f":"IF('Relevés de  commissions'!D7043=\"AGI externes\",'Relevés de  commissions'!P7043,0)*1","v":0},{"$f":"IF(N7045=0,O7045,\"\")","v":0},""]
[null,null,null,null,null,null,null,null,null,null,null,null,{"$f":"IF('Relevés de  commissions'!D7049=\"AGI externes\",'Relevés de  commissions'!M7049,0)*1","v":0},{"$f":"IF('Relevés de  commissions'!D7049=\"AGI externes\",'Relevés de  commissions'!N7049,0)*1","v":0},{"$f":"IF('Relevés de  commissions'!D7049=\"AGI externes\",'Relevés de  commissions'!O7049,0)*1","v":0},{"$f":"IF('Relevés de  commissions'!D7049=\"AGI externes\",'Relevés de  commissions'!P7049,0)*1","v":0},0,""]
[null,null,null,null,null,null,null,null,null,null,null,null,{"$f":"IF('Relevés de  commissions'!D7059=\"AGI externes\",'Relevés de  commissions'!M7059,0)*1","v":0},{"$f":"IF('Relevés de  commissions'!D7059=\"AGI externes\",'Relevés de  commissions'!N7059,0)*1","v":0},{"$f":"IF('Relevés de  commissions'!D7059=\"AGI externes\",'Relevés de  commissions'!O7059,0)*1","v":0},{"$f":"IF('Relevés de  commissions'!D7059=\"AGI externes\",'Relevés de  commissions'!P7059,0)*1","v":0},0,""]
[null,null,null,null,null,null,null,null,null,null,null,null,{"$f":"IF('Relevés de  commissions'!D7078=\"AGI externes\",'Relevés de  commissions'!M7078,0)*1","v":0},{"$f":"IF('Relevés de  commissions'!D7078=\"AGI externes\",'Relevés de  commissions'!N7078,0)*1","v":0},{"$f":"IF('Relevés de  commissions'!D7078=\"AGI externes\",'Relevés de  commissions'!O7078,0)*1","v":0},{"$f":"IF('Relevés de  commissions'!D7078=\"AGI externes\",'Relevés de  commissions'!P7078,0)*1","v":0},0,""]
[null,null,null,null,null,null,null,null,null,null,null,null,{"$f":"IF('Relevés de  commissions'!D7085=\"AGI externes\",'Relevés de  commissions'!M7085,0)*1","v":0},{"$f":"IF('Relevés de  commissions'!D7085=\"AGI externes\",'Relevés de  commissions'!N7085,0)*1","v":0},{"$f":"IF('Relevés de  commissions'!D7085=\"AGI externes\",'Relevés de  commissions'!O7085,0)*1","v":0},{"$f":"IF('Relevés de  commissions'!D7085=\"AGI externes\",'Relevés de  commissions'!P7085,0)*1","v":0},0,""]
[null,null,null,null,null,null,null,null,null,null,null,null,{"$f":"IF('Relevés de  commissions'!D7091=\"AGI externes\",'Relevés de  commissions'!M7091,0)*1","v":0},{"$f":"IF('Relevés de  commissions'!D7091=\"AGI externes\",'Relevés de  commissions'!N7091,0)*1","v":0},{"$f":"IF('Relevés de  commissions'!D7091=\"AGI externes\",'Relevés de  commissions'!O7091,0)*1","v":0},{"$f":"IF('Relevés de  commissions'!D7091=\"AGI externes\",'Relevés de  commissions'!P7091,0)*1","v":0},0,""]
[null,null,null,null,null,null,null,null,null,null,null,null,{"$f":"IF('Relevés de  commissions'!D7108=\"AGI externes\",'Relevés de  commissions'!M7108,0)*1","v":0},{"$f":"IF('Relevés de  commissions'!D7108=\"AGI externes\",'Relevés de  commissions'!N7108,0)*1","v":0},{"$f":"IF('Relevés de  commissions'!D7108=\"AGI externes\",'Relevés de  commissions'!O7108,0)*1","v":0},{"$f":"IF('Relevés de  commissions'!D7108=\"AGI externes\",'Relevés de  commissions'!P7108,0)*1","v":0},0,""]
[null,null,null,null,null,null,null,null,null,null,null,null,{"$f":"IF('Relevés de  commissions'!D7118=\"AGI externes\",'Relevés de  commissions'!M7118,0)*1","v":0},{"$f":"IF('Relevés de  commissions'!D7118=\"AGI externes\",'Relevés de  commissions'!N7118,0)*1","v":0},{"$f":"IF('Relevés de  commissions'!D7118=\"AGI externes\",'Relevés de  commissions'!O7118,0)*1","v":0},{"$f":"IF('Relevés de  commissions'!D7118=\"AGI externes\",'Relevés de  commissions'!P7118,0)*1","v":0},0,""]
[null,null,null,null,null,null,null,null,null,null,null,null,{"$f":"IF('Relevés de  commissions'!D7124=\"AGI externes\",'Relevés de  commissions'!M7124,0)*1","v":0},{"$f":"IF('Relevés de  commissions'!D7124=\"AGI externes\",'Relevés de  commissions'!N7124,0)*1","v":0},{"$f":"IF('Relevés de  commissions'!D7124=\"AGI externes\",'Relevés de  commissions'!O7124,0)*1","v":0},{"$f":"IF('Relevés de  commissions'!D7124=\"AGI externes\",'Relevés de  commissions'!P7124,0)*1","v":0},0,""]
[null,null,null,null,null,null,null,null,null,null,null,null,{"$f":"IF('Relevés de  commissions'!D7141=\"AGI externes\",'Relevés de  commissions'!M7141,0)*1","v":0},{"$f":"IF('Relevés de  commissions'!D7141=\"AGI externes\",'Relevés de  commissions'!N7141,0)*1","v":0},{"$f":"IF('Relevés de  commissions'!D7141=\"AGI externes\",'Relevés de  commissions'!O7141,0)*1","v":0},{"$f":"IF('Relevés de  commissions'!D7141=\"AGI externes\",'Relevés de  commissions'!P7141,0)*1","v":0},0,""]
[null,null,null,null,null,null,null,null,null,null,null,null,{"$f":"IF('Relevés de  commissions'!D7150=\"AGI externes\",'Relevés de  commissions'!M7150,0)*1","v":0},{"$f":"IF('Relevés de  commissions'!D7150=\"AGI externes\",'Relevés de  commissions'!N7150,0)*1","v":0},{"$f":"IF('Relevés de  commissions'!D7150=\"AGI externes\",'Relevés de  commissions'!O7150,0)*1","v":0},{"$f":"IF('Relevés de  commissions'!D7150=\"AGI externes\",'Relevés de  commissions'!P7150,0)*1","v":0},0,""]
[null,null,null,null,null,null,null,null,null,null,null,null,{"$f":"IF('Relevés de  commissions'!D7156=\"AGI externes\",'Relevés de  commissions'!M7156,0)*1","v":0},{"$f":"IF('Relevés de  commissions'!D7156=\"AGI externes\",'Relevés de  commissions'!N7156,0)*1","v":0},{"$f":"IF('Relevés de  commissions'!D7156=\"AGI externes\",'Relevés de  commissions'!O7156,0)*1","v":0},{"$f":"IF('Relevés de  commissions'!D7156=\"AGI externes\",'Relevés de  commissions'!P7156,0)*1","v":0},0,""]
[null,null,null,null,null,null,null,null,null,null,null,null,{"$f":"IF('Relevés de  commissions'!D7166=\"AGI externes\",'Relevés de  commissions'!M7166,0)*1","v":0},{"$f":"IF('Relevés de  commissions'!D7166=\"AGI externes\",'Relevés de  commissions'!N7166,0)*1","v":0},{"$f":"IF('Relevés de  commissions'!D7166=\"AGI externes\",'Relevés de  commissions'!O7166,0)*1","v":0},{"$f":"IF('Relevés de  commissions'!D7166=\"AGI externes\",'Relevés de  commissions'!P7166,0)*1","v":0},0,""]
[null,null,null,null,null,null,null,null,null,null,null,null,{"$f":"IF('Relevés de  commissions'!D7183=\"AGI externes\",'Relevés de  commissions'!M7183,0)*1","v":0},{"$f":"IF('Relevés de  commissions'!D7183=\"AGI externes\",'Relevés de  commissions'!N7183,0)*1","v":0},{"$f":"IF('Relevés de  commissions'!D7183=\"AGI externes\",'Relevés de  commissions'!O7183,0)*1","v":0},{"$f":"IF('Relevés de  commissions'!D7183=\"AGI externes\",'Relevés de  commissions'!P7183,0)*1","v":0},0,""]
[null,null,null,null,null,null,null,null,null,null,null,null,{"$f":"IF('Relevés de  commissions'!D7189=\"AGI externes\",'Relevés de  commissions'!M7189,0)*1","v":0},{"$f":"IF('Relevés de  commissions'!D7189=\"AGI externes\",'Relevés de  commissions'!N7189,0)*1","v":0},{"$f":"IF('Relevés de  commissions'!D7189=\"AGI externes\",'Relevés de  commissions'!O7189,0)*1","v":0},{"$f":"IF('Relevés de  commissions'!D7189=\"AGI externes\",'Relevés de  commissions'!P7189,0)*1","v":0},0,""]
[null,null,null,null,null,null,null,null,null,null,null,null,{"$f":"IF('Relevés de  commissions'!D7208=\"AGI externes\",'Relevés de  commissions'!M7208,0)*1","v":0},{"$f":"IF('Relevés de  commissions'!D7208=\"AGI externes\",'Relevés de  commissions'!N7208,0)*1","v":0},{"$f":"IF('Relevés de  commissions'!D7208=\"AGI externes\",'Relevés de  commissions'!O7208,0)*1","v":0},{"$f":"IF('Relevés de  commissions'!D7208=\"AGI externes\",'Relevés de  commissions'!P7208,0)*1","v":0},0,""]
[null,null,null,null,null,null,null,null,null,null,null,null,{"$f":"IF('Relevés de  commissions'!D7215=\"AGI externes\",'Relevés de  commissions'!M7215,0)*1","v":0},{"$f":"IF('Relevés de  commissions'!D7215=\"AGI externes\",'Relevés de  commissions'!N7215,0)*1","v":0},{"$f":"IF('Relevés de  commissions'!D7215=\"AGI externes\",'Relevés de  commissions'!O7215,0)*1","v":0},{"$f":"IF('Relevés de  commissions'!D7215=\"AGI externes\",'Relevés de  commissions'!P7215,0)*1","v":0},0,""]
[null,null,null,null,null,null,null,null,null,null,null,null,{"$f":"IF('Relevés de  commissions'!D7225=\"AGI externes\",'Relevés de  commissions'!M7225,0)*1","v":0},{"$f":"IF('Relevés de  commissions'!D7225=\"AGI externes\",'Relevés de  commissions'!N7225,0)*1","v":0},{"$f":"IF('Relevés de  commissions'!D7225=\"AGI externes\",'Relevés de  commissions'!O7225,0)*1","v":0},{"$f":"IF('Relevés de  commissions'!D7225=\"AGI externes\",'Relevés de  commissions'!P7225,0)*1","v":0},0,""]
[null,null,null,null,null,null,null,null,null,null,null,null,{"$f":"IF('Relevés de  commissions'!D7231=\"AGI externes\",'Relevés de  commissions'!M7231,0)*1","v":0},{"$f":"IF('Relevés de  commissions'!D7231=\"AGI externes\",'Relevés de  commissions'!N7231,0)*1","v":0},{"$f":"IF('Relevés de  commissions'!D7231=\"AGI externes\",'Relevés de  commissions'!O7231,0)*1","v":0},{"$f":"IF('Relevés de  commissions'!D7231=\"AGI externes\",'Relevés de  commissions'!P7231,0)*1","v":0},0,""]
[null,null,null,null,null,null,null,null,null,null,null,null,{"$f":"IF('Relevés de  commissions'!D7248=\"AGI externes\",'Relevés de  commissions'!M7248,0)*1","v":0},{"$f":"IF('Relevés de  commissions'!D7248=\"AGI externes\",'Relevés de  commissions'!N7248,0)*1","v":0},{"$f":"IF('Relevés de  commissions'!D7248=\"AGI externes\",'Relevés de  commissions'!O7248,0)*1","v":0},{"$f":"IF('Relevés de  commissions'!D7248=\"AGI externes\",'Relevés de  commissions'!P7248,0)*1","v":0},0,""]
[null,null,null,null,null,null,null,null,null,null,null,null,{"$f":"IF('Relevés de  commissions'!D7258=\"AGI externes\",'Relevés de  commissions'!M7258,0)*1","v":0},{"$f":"IF('Relevés de  commissions'!D7258=\"AGI externes\",'Relevés de  commissions'!N7258,0)*1","v":0},{"$f":"IF('Relevés de  commissions'!D7258=\"AGI externes\",'Relevés de  commissions'!O7258,0)*1","v":0},{"$f":"IF('Relevés de  commissions'!D7258=\"AGI externes\",'Relevés de  commissions'!P7258,0)*1","v":0},0,""]
[null,null,null,null,null,null,null,null,null,null,null,null,{"$f":"IF('Relevés de  commissions'!D7265=\"AGI externes\",'Relevés de  commissions'!M7265,0)*1","v":0},{"$f":"IF('Relevés de  commissions'!D7265=\"AGI externes\",'Relevés de  commissions'!N7265,0)*1","v":0},{"$f":"IF('Relevés de  commissions'!D7265=\"AGI externes\",'Relevés de  commissions'!O7265,0)*1","v":0},{"$f":"IF('Relevés de  commissions'!D7265=\"AGI externes\",'Relevés de  commissions'!P7265,0)*1","v":0},0,""]
[null,null,null,null,null,null,null,null,null,null,null,null,{"$f":"IF('Relevés de  commissions'!D7284=\"AGI externes\",'Relevés de  commissions'!M7284,0)*1","v":0},{"$f":"IF('Relevés de  commissions'!D7284=\"AGI externes\",'Relevés de  commissions'!N7284,0)*1","v":0},{"$f":"IF('Relevés de  commissions'!D7284=\"AGI externes\",'Relevés de  commissions'!O7284,0)*1","v":0},{"$f":"IF('Relevés de  commissions'!D7284=\"AGI externes\",'Relevés de  commissions'!P7284,0)*1","v":0},0,""]
[null,null,null,null,null,null,null,null,null,null,null,null,{"$f":"IF('Relevés de  commissions'!D7290=\"AGI externes\",'Relevés de  commissions'!M7290,0)*1","v":0},{"$f":"IF('Relevés de  commissions'!D7290=\"AGI externes\",'Relevés de  commissions'!N7290,0)*1","v":0},{"$f":"IF('Relevés de  commissions'!D7290=\"AGI externes\",'Relevés de  commissions'!O7290,0)*1","v":0},{"$f":"IF('Relevés de  commissions'!D7290=\"AGI externes\",'Relevés de  commissions'!P7290,0)*1","v":0},0,""]
[null,null,null,null,null,null,null,null,null,null,null,null,{"$f":"IF('Relevés de  commissions'!D7296=\"AGI externes\",'Relevés de  commissions'!M7296,0)*1","v":0},{"$f":"IF('Relevés de  commissions'!D7296=\"AGI externes\",'Relevés de  commissions'!N7296,0)*1","v":0},{"$f":"IF('Relevés de  commissions'!D7296=\"AGI externes\",'Relevés de  commissions'!O7296,0)*1","v":0},{"$f":"IF('Relevés de  commissions'!D7296=\"AGI externes\",'Relevés de  commissions'!P7296,0)*1","v":0},0,""]
[null,null,null,null,null,null,null,null,null,null,null,null,{"$f":"IF('Relevés de  commissions'!D7317=\"AGI externes\",'Relevés de  commissions'!M7317,0)*1","v":0},{"$f":"IF('Relevés de  commissions'!D7317=\"AGI externes\",'Relevés de  commissions'!N7317,0)*1","v":0},{"$f":"IF('Relevés de  commissions'!D7317=\"AGI externes\",'Relevés de  commissions'!O7317,0)*1","v":0},{"$f":"IF('Relevés de  commissions'!D7317=\"AGI externes\",'Relevés de  commissions'!P7317,0)*1","v":0},0,""]
[null,null,null,null,null,null,null,null,null,null,null,null,{"$f":"IF('Relevés de  commissions'!D7323=\"AGI externes\",'Relevés de  commissions'!M7323,0)*1","v":0},{"$f":"IF('Relevés de  commissions'!D7323=\"AGI externes\",'Relevés de  commissions'!N7323,0)*1","v":0},{"$f":"IF('Relevés de  commissions'!D7323=\"AGI externes\",'Relevés de  commissions'!O7323,0)*1","v":0},{"$f":"IF('Relevés de  commissions'!D7323=\"AGI externes\",'Relevés de  commissions'!P7323,0)*1","v":0},0,""]
[null,null,null,null,null,null,null,null,null,null,null,null,{"$f":"IF('Relevés de  commissions'!D7332=\"AGI externes\",'Relevés de  commissions'!M7332,0)*1","v":0},{"$f":"IF('Relevés de  commissions'!D7332=\"AGI externes\",'Relevés de  commissions'!N7332,0)*1","v":0},{"$f":"IF('Relevés de  commissions'!D7332=\"AGI externes\",'Relevés de  commissions'!O7332,0)*1","v":0},{"$f":"IF('Relevés de  commissions'!D7332=\"AGI externes\",'Relevés de  commissions'!P7332,0)*1","v":0},0,""]
[null,null,null,null,null,null,null,null,null,null,null,null,{"$f":"IF('Relevés de  commissions'!D7349=\"AGI externes\",'Relevés de  commissions'!M7349,0)*1","v":0},{"$f":"IF('Relevés de  commissions'!D7349=\"AGI externes\",'Relevés de  commissions'!N7349,0)*1","v":0},{"$f":"IF('Relevés de  commissions'!D7349=\"AGI externes\",'Relevés de  commissions'!O7349,0)*1","v":0},{"$f":"IF('Relevés de  commissions'!D7349=\"AGI externes\",'Relevés de  commissions'!P7349,0)*1","v":0},0,""]
[null,null,null,null,null,null,null,null,null,null,null,null,{"$f":"IF('Relevés de  commissions'!D7355=\"AGI externes\",'Relevés de  commissions'!M7355,0)*1","v":0},{"$f":"IF('Relevés de  commissions'!D7355=\"AGI externes\",'Relevés de  commissions'!N7355,0)*1","v":0},{"$f":"IF('Relevés de  commissions'!D7355=\"AGI externes\",'Relevés de  commissions'!O7355,0)*1","v":0},{"$f":"IF('Relevés de  commissions'!D7355=\"AGI externes\",'Relevés de  commissions'!P7355,0)*1","v":0},0,""]
[null,null,null,null,null,null,null,null,null,null,null,null,{"$f":"IF('Relevés de  commissions'!D7365=\"AGI externes\",'Relevés de  commissions'!M7365,0)*1","v":0},{"$f":"IF('Relevés de  commissions'!D7365=\"AGI externes\",'Relevés de  commissions'!N7365,0)*1","v":0},{"$f":"IF('Relevés de  commissions'!D7365=\"AGI externes\",'Relevés de  commissions'!O7365,0)*1","v":0},{"$f":"IF('Relevés de  commissions'!D7365=\"AGI externes\",'Relevés de  commissions'!P7365,0)*1","v":0},0,""]
[null,null,null,null,null,null,null,null,null,null,null,null,{"$f":"IF('Relevés de  commissions'!D7382=\"AGI externes\",'Relevés de  commissions'!M7382,0)*1","v":0},{"$f":"IF('Relevés de  commissions'!D7382=\"AGI externes\",'Relevés de  commissions'!N7382,0)*1","v":0},{"$f":"IF('Relevés de  commissions'!D7382=\"AGI externes\",'Relevés de  commissions'!O7382,0)*1","v":0},{"$f":"IF('Relevés de  commissions'!D7382=\"AGI externes\",'Relevés de  commissions'!P7382,0)*1","v":0},0,""]
[null,null,null,null,null,null,null,null,null,null,null,null,{"$f":"IF('Relevés de  commissions'!D7388=\"AGI externes\",'Relevés de  commissions'!M7388,0)*1","v":0},{"$f":"IF('Relevés de  commissions'!D7388=\"AGI externes\",'Relevés de  commissions'!N7388,0)*1","v":0},{"$f":"IF('Relevés de  commissions'!D7388=\"AGI externes\",'Relevés de  commissions'!O7388,0)*1","v":0},{"$f":"IF('Relevés de  commissions'!D7388=\"AGI externes\",'Relevés de  commissions'!P7388,0)*1","v":0},0,{"$f":"IF(N7390=10,O7390,\"\")","v":""}]
[null,null,null,null,null,null,null,null,null,null,null,null,{"$f":"IF('Relevés de  commissions'!D7395=\"AGI externes\",'Relevés de  commissions'!M7395,0)*1","v":0},{"$f":"IF('Relevés de  commissions'!D7395=\"AGI externes\",'Relevés de  commissions'!N7395,0)*1","v":0},{"$f":"IF('Relevés de  commissions'!D7395=\"AGI externes\",'Relevés de  commissions'!O7395,0)*1","v":0},{"$f":"IF('Relevés de  commissions'!D7395=\"AGI externes\",'Relevés de  commissions'!P7395,0)*1","v":0},0,""]
[null,null,null,null,null,null,null,null,null,null,null,null,{"$f":"IF('Relevés de  commissions'!D7414=\"AGI externes\",'Relevés de  commissions'!M7414,0)*1","v":0},{"$f":"IF('Relevés de  commissions'!D7414=\"AGI externes\",'Relevés de  commissions'!N7414,0)*1","v":0},{"$f":"IF('Relevés de  commissions'!D7414=\"AGI externes\",'Relevés de  commissions'!O7414,0)*1","v":0},{"$f":"IF('Relevés de  commissions'!D7414=\"AGI externes\",'Relevés de  commissions'!P7414,0)*1","v":0},0,""]
[null,null,null,null,null,null,null,null,null,null,null,null,{"$f":"IF('Relevés de  commissions'!D7420=\"AGI externes\",'Relevés de  commissions'!M7420,0)*1","v":0},{"$f":"IF('Relevés de  commissions'!D7420=\"AGI externes\",'Relevés de  commissions'!N7420,0)*1","v":0},{"$f":"IF('Relevés de  commissions'!D7420=\"AGI externes\",'Relevés de  commissions'!O7420,0)*1","v":0},{"$f":"IF('Relevés de  commissions'!D7420=\"AGI externes\",'Relevés de  commissions'!P7420,0)*1","v":0},0,""]
[null,null,null,null,null,null,null,null,null,null,null,null,{"$f":"IF('Relevés de  commissions'!D7430=\"AGI externes\",'Relevés de  commissions'!M7430,0)*1","v":0},{"$f":"IF('Relevés de  commissions'!D7430=\"AGI externes\",'Relevés de  commissions'!N7430,0)*1","v":0},{"$f":"IF('Relevés de  commissions'!D7430=\"AGI externes\",'Relevés de  commissions'!O7430,0)*1","v":0},{"$f":"IF('Relevés de  commissions'!D7430=\"AGI externes\",'Relevés de  commissions'!P7430,0)*1","v":0},0,""]
[null,null,null,null,null,null,null,null,null,null,null,null,{"$f":"IF('Relevés de  commissions'!D7447=\"AGI externes\",'Relevés de  commissions'!M7447,0)*1","v":0},{"$f":"IF('Relevés de  commissions'!D7447=\"AGI externes\",'Relevés de  commissions'!N7447,0)*1","v":0},{"$f":"IF('Relevés de  commissions'!D7447=\"AGI externes\",'Relevés de  commissions'!O7447,0)*1","v":0},{"$f":"IF('Relevés de  commissions'!D7447=\"AGI externes\",'Relevés de  commissions'!P7447,0)*1","v":0},0,""]
[null,null,null,null,null,null,null,null,null,null,null,null,{"$f":"IF('Relevés de  commissions'!D7457=\"AGI externes\",'Relevés de  commissions'!M7457,0)*1","v":0},{"$f":"IF('Relevés de  commissions'!D7457=\"AGI externes\",'Relevés de  commissions'!N7457,0)*1","v":0},{"$f":"IF('Relevés de  commissions'!D7457=\"AGI externes\",'Relevés de  commissions'!O7457,0)*1","v":0},{"$f":"IF('Relevés de  commissions'!D7457=\"AGI externes\",'Relevés de  commissions'!P7457,0)*1","v":0},0,""]
[null,null,null,null,null,null,null,null,null,null,null,null,{"$f":"IF('Relevés de  commissions'!D7462=\"AGI externes\",'Relevés de  commissions'!M7462,0)*1","v":0},{"$f":"IF('Relevés de  commissions'!D7462=\"AGI externes\",'Relevés de  commissions'!N7462,0)*1","v":0},{"$f":"IF('Relevés de  commissions'!D7462=\"AGI externes\",'Relevés de  commissions'!O7462,0)*1","v":0},{"$f":"IF('Relevés de  commissions'!D7462=\"AGI externes\",'Relevés de  commissions'!P7462,0)*1","v":0},0,""]
[null,null,null,null,null,null,null,null,null,null,null,null,{"$f":"IF('Relevés de  commissions'!D7479=\"AGI externes\",'Relevés de  commissions'!M7479,0)*1","v":0},{"$f":"IF('Relevés de  commissions'!D7479=\"AGI externes\",'Relevés de  commissions'!N7479,0)*1","v":0},{"$f":"IF('Relevés de  commissions'!D7479=\"AGI externes\",'Relevés de  commissions'!O7479,0)*1","v":0},{"$f":"IF('Relevés de  commissions'!D7479=\"AGI externes\",'Relevés de  commissions'!P7479,0)*1","v":0},0,""]
[null,null,null,null,null,null,null,null,null,null,null,null,{"$f":"IF('Relevés de  commissions'!D7489=\"AGI externes\",'Relevés de  commissions'!M7489,0)*1","v":0},{"$f":"IF('Relevés de  commissions'!D7489=\"AGI externes\",'Relevés de  commissions'!N7489,0)*1","v":0},{"$f":"IF('Relevés de  commissions'!D7489=\"AGI externes\",'Relevés de  commissions'!O7489,0)*1","v":0},{"$f":"IF('Relevés de  commissions'!D7489=\"AGI externes\",'Relevés de  commissions'!P7489,0)*1","v":0},0,""]
[null,null,null,null,null,null,null,null,null,null,null,null,{"$f":"IF('Relevés de  commissions'!D7495=\"AGI externes\",'Relevés de  commissions'!M7495,0)*1","v":0},{"$f":"IF('Relevés de  commissions'!D7495=\"AGI externes\",'Relevés de  commissions'!N7495,0)*1","v":0},{"$f":"IF('Relevés de  commissions'!D7495=\"AGI externes\",'Relevés de  commissions'!O7495,0)*1","v":0},{"$f":"IF('Relevés de  commissions'!D7495=\"AGI externes\",'Relevés de  commissions'!P7495,0)*1","v":0},0,""]
[null,null,null,null,null,null,null,null,null,null,null,null,{"$f":"IF('Relevés de  commissions'!D7505=\"AGI externes\",'Relevés de  commissions'!M7505,0)*1","v":0},{"$f":"IF('Relevés de  commissions'!D7505=\"AGI externes\",'Relevés de  commissions'!N7505,0)*1","v":0},{"$f":"IF('Relevés de  commissions'!D7505=\"AGI externes\",'Relevés de  commissions'!O7505,0)*1","v":0},{"$f":"IF('Relevés de  commissions'!D7505=\"AGI externes\",'Relevés de  commissions'!P7505,0)*1","v":0},0,""]
[null,null,null,null,null,null,null,null,null,null,null,null,{"$f":"IF('Relevés de  commissions'!D7522=\"AGI externes\",'Relevés de  commissions'!M7522,0)*1","v":0},{"$f":"IF('Relevés de  commissions'!D7522=\"AGI externes\",'Relevés de  commissions'!N7522,0)*1","v":0},{"$f":"IF('Relevés de  commissions'!D7522=\"AGI externes\",'Relevés de  commissions'!O7522,0)*1","v":0},{"$f":"IF('Relevés de  commissions'!D7522=\"AGI externes\",'Relevés de  commissions'!P7522,0)*1","v":0},0,""]
[null,null,null,null,null,null,null,null,null,null,null,null,{"$f":"IF('Relevés de  commissions'!D7529=\"AGI externes\",'Relevés de  commissions'!M7529,0)*1","v":0},{"$f":"IF('Relevés de  commissions'!D7529=\"AGI externes\",'Relevés de  commissions'!N7529,0)*1","v":0},{"$f":"IF('Relevés de  commissions'!D7529=\"AGI externes\",'Relevés de  commissions'!O7529,0)*1","v":0},{"$f":"IF('Relevés de  commissions'!D7529=\"AGI externes\",'Relevés de  commissions'!P7529,0)*1","v":0},0,""]
[null,null,null,null,null,null,null,null,null,null,null,null,{"$f":"IF('Relevés de  commissions'!D7537=\"AGI externes\",'Relevés de  commissions'!M7537,0)*1","v":0},{"$f":"IF('Relevés de  commissions'!D7537=\"AGI externes\",'Relevés de  commissions'!N7537,0)*1","v":0},{"$f":"IF('Relevés de  commissions'!D7537=\"AGI externes\",'Relevés de  commissions'!O7537,0)*1","v":0},{"$f":"IF('Relevés de  commissions'!D7537=\"AGI externes\",'Relevés de  commissions'!P7537,0)*1","v":0},0,""]
[null,null,null,null,null,null,null,null,null,null,null,null,{"$f":"IF('Relevés de  commissions'!D7554=\"AGI externes\",'Relevés de  commissions'!M7554,0)*1","v":0},{"$f":"IF('Relevés de  commissions'!D7554=\"AGI externes\",'Relevés de  commissions'!N7554,0)*1","v":0},{"$f":"IF('Relevés de  commissions'!D7554=\"AGI externes\",'Relevés de  commissions'!O7554,0)*1","v":0},{"$f":"IF('Relevés de  commissions'!D7554=\"AGI externes\",'Relevés de  commissions'!P7554,0)*1","v":0},0,""]
[null,null,null,null,null,null,null,null,null,null,null,null,{"$f":"IF('Relevés de  commissions'!D7560=\"AGI externes\",'Relevés de  commissions'!M7560,0)*1","v":0},{"$f":"IF('Relevés de  commissions'!D7560=\"AGI externes\",'Relevés de  commissions'!N7560,0)*1","v":0},{"$f":"IF('Relevés de  commissions'!D7560=\"AGI externes\",'Relevés de  commissions'!O7560,0)*1","v":0},{"$f":"IF('Relevés de  commissions'!D7560=\"AGI externes\",'Relevés de  commissions'!P7560,0)*1","v":0},0,""]
[null,null,null,null,null,null,null,null,null,null,null,null,{"$f":"IF('Relevés de  commissions'!D7570=\"AGI externes\",'Relevés de  commissions'!M7570,0)*1","v":0},{"$f":"IF('Relevés de  commissions'!D7570=\"AGI externes\",'Relevés de  commissions'!N7570,0)*1","v":0},{"$f":"IF('Relevés de  commissions'!D7570=\"AGI externes\",'Relevés de  commissions'!O7570,0)*1","v":0},{"$f":"IF('Relevés de  commissions'!D7570=\"AGI externes\",'Relevés de  commissions'!P7570,0)*1","v":0},0,""]
[null,null,null,null,null,null,null,null,null,null,null,null,{"$f":"IF('Relevés de  commissions'!D7587=\"AGI externes\",'Relevés de  commissions'!M7587,0)*1","v":0},{"$f":"IF('Relevés de  commissions'!D7587=\"AGI externes\",'Relevés de  commissions'!N7587,0)*1","v":0},{"$f":"IF('Relevés de  commissions'!D7587=\"AGI externes\",'Relevés de  commissions'!O7587,0)*1","v":0},{"$f":"IF('Relevés de  commissions'!D7587=\"AGI externes\",'Relevés de  commissions'!P7587,0)*1","v":0},0,""]
[null,null,null,null,null,null,null,null,null,null,null,null,{"$f":"IF('Relevés de  commissions'!D7592=\"AGI externes\",'Relevés de  commissions'!M7592,0)*1","v":0},{"$f":"IF('Relevés de  commissions'!D7592=\"AGI externes\",'Relevés de  commissions'!N7592,0)*1","v":0},{"$f":"IF('Relevés de  commissions'!D7592=\"AGI externes\",'Relevés de  commissions'!O7592,0)*1","v":0},{"$f":"IF('Relevés de  commissions'!D7592=\"AGI externes\",'Relevés de  commissions'!P7592,0)*1","v":0},0,""]
[null,null,null,null,null,null,null,null,null,null,null,null,{"$f":"IF('Relevés de  commissions'!D7602=\"AGI externes\",'Relevés de  commissions'!M7602,0)*1","v":0},{"$f":"IF('Relevés de  commissions'!D7602=\"AGI externes\",'Relevés de  commissions'!N7602,0)*1","v":0},{"$f":"IF('Relevés de  commissions'!D7602=\"AGI externes\",'Relevés de  commissions'!O7602,0)*1","v":0},{"$f":"IF('Relevés de  commissions'!D7602=\"AGI externes\",'Relevés de  commissions'!P7602,0)*1","v":0},0,""]
[null,null,null,null,null,null,null,null,null,null,null,null,{"$f":"IF('Relevés de  commissions'!D7619=\"AGI externes\",'Relevés de  commissions'!M7619,0)*1","v":0},{"$f":"IF('Relevés de  commissions'!D7619=\"AGI externes\",'Relevés de  commissions'!N7619,0)*1","v":0},{"$f":"IF('Relevés de  commissions'!D7619=\"AGI externes\",'Relevés de  commissions'!O7619,0)*1","v":0},{"$f":"IF('Relevés de  commissions'!D7619=\"AGI externes\",'Relevés de  commissions'!P7619,0)*1","v":0},{"$f":"IF(N7621=0,O7621,\"\")","v":0},""]
[null,null,null,null,null,null,null,null,null,null,null,null,{"$f":"IF('Relevés de  commissions'!D7629=\"AGI externes\",'Relevés de  commissions'!M7629,0)*1","v":0},{"$f":"IF('Relevés de  commissions'!D7629=\"AGI externes\",'Relevés de  commissions'!N7629,0)*1","v":0},{"$f":"IF('Relevés de  commissions'!D7629=\"AGI externes\",'Relevés de  commissions'!O7629,0)*1","v":0},{"$f":"IF('Relevés de  commissions'!D7629=\"AGI externes\",'Relevés de  commissions'!P7629,0)*1","v":0},0,""]
[null,null,null,null,null,null,null,null,null,null,null,null,{"$f":"IF('Relevés de  commissions'!D7635=\"AGI externes\",'Relevés de  commissions'!M7635,0)*1","v":0},{"$f":"IF('Relevés de  commissions'!D7635=\"AGI externes\",'Relevés de  commissions'!N7635,0)*1","v":0},{"$f":"IF('Relevés de  commissions'!D7635=\"AGI externes\",'Relevés de  commissions'!O7635,0)*1","v":0},{"$f":"IF('Relevés de  commissions'!D7635=\"AGI externes\",'Relevés de  commissions'!P7635,0)*1","v":0},0,""]
[null,null,null,null,null,null,null,null,null,null,null,null,{"$f":"IF('Relevés de  commissions'!D7645=\"AGI externes\",'Relevés de  commissions'!M7645,0)*1","v":0},{"$f":"IF('Relevés de  commissions'!D7645=\"AGI externes\",'Relevés de  commissions'!N7645,0)*1","v":0},{"$f":"IF('Relevés de  commissions'!D7645=\"AGI externes\",'Relevés de  commissions'!O7645,0)*1","v":0},{"$f":"IF('Relevés de  commissions'!D7645=\"AGI externes\",'Relevés de  commissions'!P7645,0)*1","v":0},0,""]
[null,null,null,null,null,null,null,null,null,null,null,null,{"$f":"IF('Relevés de  commissions'!D7659=\"AGI externes\",'Relevés de  commissions'!M7659,0)*1","v":0},{"$f":"IF('Relevés de  commissions'!D7659=\"AGI externes\",'Relevés de  commissions'!N7659,0)*1","v":0},{"$f":"IF('Relevés de  commissions'!D7659=\"AGI externes\",'Relevés de  commissions'!O7659,0)*1","v":0},{"$f":"IF('Relevés de  commissions'!D7659=\"AGI externes\",'Relevés de  commissions'!P7659,0)*1","v":0},0,""]
[null,null,null,null,null,null,null,null,null,null,null,null,{"$f":"IF('Relevés de  commissions'!D7667=\"AGI externes\",'Relevés de  commissions'!M7667,0)*1","v":0},{"$f":"IF('Relevés de  commissions'!D7667=\"AGI externes\",'Relevés de  commissions'!N7667,0)*1","v":0},{"$f":"IF('Relevés de  commissions'!D7667=\"AGI externes\",'Relevés de  commissions'!O7667,0)*1","v":0},{"$f":"IF('Relevés de  commissions'!D7667=\"AGI externes\",'Relevés de  commissions'!P7667,0)*1","v":0},0,""]
[null,null,null,null,null,null,null,null,null,null,null,null,{"$f":"IF('Relevés de  commissions'!D7677=\"AGI externes\",'Relevés de  commissions'!M7677,0)*1","v":0},{"$f":"IF('Relevés de  commissions'!D7677=\"AGI externes\",'Relevés de  commissions'!N7677,0)*1","v":0},{"$f":"IF('Relevés de  commissions'!D7677=\"AGI externes\",'Relevés de  commissions'!O7677,0)*1","v":0},{"$f":"IF('Relevés de  commissions'!D7677=\"AGI externes\",'Relevés de  commissions'!P7677,0)*1","v":0},0,""]
[null,null,null,null,null,null,null,null,null,null,null,null,{"$f":"IF('Relevés de  commissions'!D7694=\"AGI externes\",'Relevés de  commissions'!M7694,0)*1","v":0},{"$f":"IF('Relevés de  commissions'!D7694=\"AGI externes\",'Relevés de  commissions'!N7694,0)*1","v":0},{"$f":"IF('Relevés de  commissions'!D7694=\"AGI externes\",'Relevés de  commissions'!O7694,0)*1","v":0},{"$f":"IF('Relevés de  commissions'!D7694=\"AGI externes\",'Relevés de  commissions'!P7694,0)*1","v":0},0,""]
[null,null,null,null,null,null,null,null,null,null,null,null,{"$f":"IF('Relevés de  commissions'!D7700=\"AGI externes\",'Relevés de  commissions'!M7700,0)*1","v":0},{"$f":"IF('Relevés de  commissions'!D7700=\"AGI externes\",'Relevés de  commissions'!N7700,0)*1","v":0},{"$f":"IF('Relevés de  commissions'!D7700=\"AGI externes\",'Relevés de  commissions'!O7700,0)*1","v":0},{"$f":"IF('Relevés de  commissions'!D7700=\"AGI externes\",'Relevés de  commissions'!P7700,0)*1","v":0},0,""]
[null,null,null,null,null,null,null,null,null,null,null,null,{"$f":"IF('Relevés de  commissions'!D7710=\"AGI externes\",'Relevés de  commissions'!M7710,0)*1","v":0},{"$f":"IF('Relevés de  commissions'!D7710=\"AGI externes\",'Relevés de  commissions'!N7710,0)*1","v":0},{"$f":"IF('Relevés de  commissions'!D7710=\"AGI externes\",'Relevés de  commissions'!O7710,0)*1","v":0},{"$f":"IF('Relevés de  commissions'!D7710=\"AGI externes\",'Relevés de  commissions'!P7710,0)*1","v":0},0,""]
[null,null,null,null,null,null,null,null,null,null,null,null,{"$f":"IF('Relevés de  commissions'!D7726=\"AGI externes\",'Relevés de  commissions'!M7726,0)*1","v":0},{"$f":"IF('Relevés de  commissions'!D7726=\"AGI externes\",'Relevés de  commissions'!N7726,0)*1","v":0},{"$f":"IF('Relevés de  commissions'!D7726=\"AGI externes\",'Relevés de  commissions'!O7726,0)*1","v":0},{"$f":"IF('Relevés de  commissions'!D7726=\"AGI externes\",'Relevés de  commissions'!P7726,0)*1","v":0},0,""]
[null,null,null,null,null,null,null,null,null,null,null,null,{"$f":"IF('Relevés de  commissions'!D7736=\"AGI externes\",'Relevés de  commissions'!M7736,0)*1","v":0},{"$f":"IF('Relevés de  commissions'!D7736=\"AGI externes\",'Relevés de  commissions'!N7736,0)*1","v":0},{"$f":"IF('Relevés de  commissions'!D7736=\"AGI externes\",'Relevés de  commissions'!O7736,0)*1","v":0},{"$f":"IF('Relevés de  commissions'!D7736=\"AGI externes\",'Relevés de  commissions'!P7736,0)*1","v":0},0,""]
[null,null,null,null,null,null,null,null,null,null,null,null,{"$f":"IF('Relevés de  commissions'!D7742=\"AGI externes\",'Relevés de  commissions'!M7742,0)*1","v":0},{"$f":"IF('Relevés de  commissions'!D7742=\"AGI externes\",'Relevés de  commissions'!N7742,0)*1","v":0},{"$f":"IF('Relevés de  commissions'!D7742=\"AGI externes\",'Relevés de  commissions'!O7742,0)*1","v":0},{"$f":"IF('Relevés de  commissions'!D7742=\"AGI externes\",'Relevés de  commissions'!P7742,0)*1","v":0},0,""]
[null,null,null,null,null,null,null,null,null,null,null,null,{"$f":"IF('Relevés de  commissions'!D7759=\"AGI externes\",'Relevés de  commissions'!M7759,0)*1","v":0},{"$f":"IF('Relevés de  commissions'!D7759=\"AGI externes\",'Relevés de  commissions'!N7759,0)*1","v":0},{"$f":"IF('Relevés de  commissions'!D7759=\"AGI externes\",'Relevés de  commissions'!O7759,0)*1","v":0},{"$f":"IF('Relevés de  commissions'!D7759=\"AGI externes\",'Relevés de  commissions'!P7759,0)*1","v":0},0,""]
[null,null,null,null,null,null,null,null,null,null,null,null,{"$f":"IF('Relevés de  commissions'!D7769=\"AGI externes\",'Relevés de  commissions'!M7769,0)*1","v":0},{"$f":"IF('Relevés de  commissions'!D7769=\"AGI externes\",'Relevés de  commissions'!N7769,0)*1","v":0},{"$f":"IF('Relevés de  commissions'!D7769=\"AGI externes\",'Relevés de  commissions'!O7769,0)*1","v":0},{"$f":"IF('Relevés de  commissions'!D7769=\"AGI externes\",'Relevés de  commissions'!P7769,0)*1","v":0},0,""]
[null,null,null,null,null,null,null,null,null,null,null,null,{"$f":"IF('Relevés de  commissions'!D7775=\"AGI externes\",'Relevés de  commissions'!M7775,0)*1","v":0},{"$f":"IF('Relevés de  commissions'!D7775=\"AGI externes\",'Relevés de  commissions'!N7775,0)*1","v":0},{"$f":"IF('Relevés de  commissions'!D7775=\"AGI externes\",'Relevés de  commissions'!O7775,0)*1","v":0},{"$f":"IF('Relevés de  commissions'!D7775=\"AGI externes\",'Relevés de  commissions'!P7775,0)*1","v":0},0,""]
[null,null,null,null,null,null,null,null,null,null,null,null,{"$f":"IF('Relevés de  commissions'!D7793=\"AGI externes\",'Relevés de  commissions'!M7793,0)*1","v":0},{"$f":"IF('Relevés de  commissions'!D7793=\"AGI externes\",'Relevés de  commissions'!N7793,0)*1","v":0},{"$f":"IF('Relevés de  commissions'!D7793=\"AGI externes\",'Relevés de  commissions'!O7793,0)*1","v":0},{"$f":"IF('Relevés de  commissions'!D7793=\"AGI externes\",'Relevés de  commissions'!P7793,0)*1","v":0},0,""]
[null,null,null,null,null,null,null,null,null,null,null,null,{"$f":"IF('Relevés de  commissions'!D7801=\"AGI externes\",'Relevés de  commissions'!M7801,0)*1","v":0},{"$f":"IF('Relevés de  commissions'!D7801=\"AGI externes\",'Relevés de  commissions'!N7801,0)*1","v":0},{"$f":"IF('Relevés de  commissions'!D7801=\"AGI externes\",'Relevés de  commissions'!O7801,0)*1","v":0},{"$f":"IF('Relevés de  commissions'!D7801=\"AGI externes\",'Relevés de  commissions'!P7801,0)*1","v":0},0,""]
[null,null,null,null,null,null,null,null,null,null,null,null,{"$f":"IF('Relevés de  commissions'!D7807=\"AGI externes\",'Relevés de  commissions'!M7807,0)*1","v":0},{"$f":"IF('Relevés de  commissions'!D7807=\"AGI externes\",'Relevés de  commissions'!N7807,0)*1","v":0},{"$f":"IF('Relevés de  commissions'!D7807=\"AGI externes\",'Relevés de  commissions'!O7807,0)*1","v":0},{"$f":"IF('Relevés de  commissions'!D7807=\"AGI externes\",'Relevés de  commissions'!P7807,0)*1","v":0},0,""]
[null,null,null,null,null,null,null,null,null,null,null,null,{"$f":"IF('Relevés de  commissions'!D7817=\"AGI externes\",'Relevés de  commissions'!M7817,0)*1","v":0},{"$f":"IF('Relevés de  commissions'!D7817=\"AGI externes\",'Relevés de  commissions'!N7817,0)*1","v":0},{"$f":"IF('Relevés de  commissions'!D7817=\"AGI externes\",'Relevés de  commissions'!O7817,0)*1","v":0},{"$f":"IF('Relevés de  commissions'!D7817=\"AGI externes\",'Relevés de  commissions'!P7817,0)*1","v":0},0,""]
[null,null,null,null,null,null,null,null,null,null,null,null,{"$f":"IF('Relevés de  commissions'!D7834=\"AGI externes\",'Relevés de  commissions'!M7834,0)*1","v":0},{"$f":"IF('Relevés de  commissions'!D7834=\"AGI externes\",'Relevés de  commissions'!N7834,0)*1","v":0},{"$f":"IF('Relevés de  commissions'!D7834=\"AGI externes\",'Relevés de  commissions'!O7834,0)*1","v":0},{"$f":"IF('Relevés de  commissions'!D7834=\"AGI externes\",'Relevés de  commissions'!P7834,0)*1","v":0},0,""]
[null,null,null,null,null,null,null,null,null,null,null,null,{"$f":"IF('Relevés de  commissions'!D7840=\"AGI externes\",'Relevés de  commissions'!M7840,0)*1","v":0},{"$f":"IF('Relevés de  commissions'!D7840=\"AGI externes\",'Relevés de  commissions'!N7840,0)*1","v":0},{"$f":"IF('Relevés de  commissions'!D7840=\"AGI externes\",'Relevés de  commissions'!O7840,0)*1","v":0},{"$f":"IF('Relevés de  commissions'!D7840=\"AGI externes\",'Relevés de  commissions'!P7840,0)*1","v":0},0,""]
[null,null,null,null,null,null,null,null,null,null,null,null,{"$f":"IF('Relevés de  commissions'!D7856=\"AGI externes\",'Relevés de  commissions'!M7856,0)*1","v":0},{"$f":"IF('Relevés de  commissions'!D7856=\"AGI externes\",'Relevés de  commissions'!N7856,0)*1","v":0},{"$f":"IF('Relevés de  commissions'!D7856=\"AGI externes\",'Relevés de  commissions'!O7856,0)*1","v":0},{"$f":"IF('Relevés de  commissions'!D7856=\"AGI externes\",'Relevés de  commissions'!P7856,0)*1","v":0},0,""]
[null,null,null,null,null,null,null,null,null,null,null,null,{"$f":"IF('Relevés de  commissions'!D7866=\"AGI externes\",'Relevés de  commissions'!M7866,0)*1","v":0},{"$f":"IF('Relevés de  commissions'!D7866=\"AGI externes\",'Relevés de  commissions'!N7866,0)*1","v":0},{"$f":"IF('Relevés de  commissions'!D7866=\"AGI externes\",'Relevés de  commissions'!O7866,0)*1","v":0},{"$f":"IF('Relevés de  commissions'!D7866=\"AGI externes\",'Relevés de  commissions'!P7866,0)*1","v":0},0,""]
[null,null,null,null,null,null,null,null,null,null,null,null,{"$f":"IF('Relevés de  commissions'!D7876=\"AGI externes\",'Relevés de  commissions'!M7876,0)*1","v":0},{"$f":"IF('Relevés de  commissions'!D7876=\"AGI externes\",'Relevés de  commissions'!N7876,0)*1","v":0},{"$f":"IF('Relevés de  commissions'!D7876=\"AGI externes\",'Relevés de  commissions'!O7876,0)*1","v":0},{"$f":"IF('Relevés de  commissions'!D7876=\"AGI externes\",'Relevés de  commissions'!P7876,0)*1","v":0},0,""]
[null,null,null,null,null,null,null,null,null,null,null,null,{"$f":"IF('Relevés de  commissions'!D7882=\"AGI externes\",'Relevés de  commissions'!M7882,0)*1","v":0},{"$f":"IF('Relevés de  commissions'!D7882=\"AGI externes\",'Relevés de  commissions'!N7882,0)*1","v":0},{"$f":"IF('Relevés de  commissions'!D7882=\"AGI externes\",'Relevés de  commissions'!O7882,0)*1","v":0},{"$f":"IF('Relevés de  commissions'!D7882=\"AGI externes\",'Relevés de  commissions'!P7882,0)*1","v":0},0,""]
[null,null,null,null,null,null,null,null,null,null,null,null,{"$f":"IF('Relevés de  commissions'!D7899=\"AGI externes\",'Relevés de  commissions'!M7899,0)*1","v":0},{"$f":"IF('Relevés de  commissions'!D7899=\"AGI externes\",'Relevés de  commissions'!N7899,0)*1","v":0},{"$f":"IF('Relevés de  commissions'!D7899=\"AGI externes\",'Relevés de  commissions'!O7899,0)*1","v":0},{"$f":"IF('Relevés de  commissions'!D7899=\"AGI externes\",'Relevés de  commissions'!P7899,0)*1","v":0},0,""]
[null,null,null,null,null,null,null,null,null,null,null,null,{"$f":"IF('Relevés de  commissions'!D7909=\"AGI externes\",'Relevés de  commissions'!M7909,0)*1","v":0},{"$f":"IF('Relevés de  commissions'!D7909=\"AGI externes\",'Relevés de  commissions'!N7909,0)*1","v":0},{"$f":"IF('Relevés de  commissions'!D7909=\"AGI externes\",'Relevés de  commissions'!O7909,0)*1","v":0},{"$f":"IF('Relevés de  commissions'!D7909=\"AGI externes\",'Relevés de  commissions'!P7909,0)*1","v":0},0,""]
[null,null,null,null,null,null,null,null,null,null,null,null,{"$f":"IF('Relevés de  commissions'!D7923=\"AGI externes\",'Relevés de  commissions'!M7923,0)*1","v":0},{"$f":"IF('Relevés de  commissions'!D7923=\"AGI externes\",'Relevés de  commissions'!N7923,0)*1","v":0},{"$f":"IF('Relevés de  commissions'!D7923=\"AGI externes\",'Relevés de  commissions'!O7923,0)*1","v":0},{"$f":"IF('Relevés de  commissions'!D7923=\"AGI externes\",'Relevés de  commissions'!P7923,0)*1","v":0},0,""]
[null,null,null,null,null,null,null,null,null,null,null,null,{"$f":"IF('Relevés de  commissions'!D7931=\"AGI externes\",'Relevés de  commissions'!M7931,0)*1","v":0},{"$f":"IF('Relevés de  commissions'!D7931=\"AGI externes\",'Relevés de  commissions'!N7931,0)*1","v":0},{"$f":"IF('Relevés de  commissions'!D7931=\"AGI externes\",'Relevés de  commissions'!O7931,0)*1","v":0},{"$f":"IF('Relevés de  commissions'!D7931=\"AGI externes\",'Relevés de  commissions'!P7931,0)*1","v":0},0,""]
[null,null,null,null,null,null,null,null,null,null,null,null,{"$f":"IF('Relevés de  commissions'!D7941=\"AGI externes\",'Relevés de  commissions'!M7941,0)*1","v":0},{"$f":"IF('Relevés de  commissions'!D7941=\"AGI externes\",'Relevés de  commissions'!N7941,0)*1","v":0},{"$f":"IF('Relevés de  commissions'!D7941=\"AGI externes\",'Relevés de  commissions'!O7941,0)*1","v":0},{"$f":"IF('Relevés de  commissions'!D7941=\"AGI externes\",'Relevés de  commissions'!P7941,0)*1","v":0},0,""]
[null,null,null,null,null,null,null,null,null,null,null,null,{"$f":"IF('Relevés de  commissions'!D7947=\"AGI externes\",'Relevés de  commissions'!M7947,0)*1","v":0},{"$f":"IF('Relevés de  commissions'!D7947=\"AGI externes\",'Relevés de  commissions'!N7947,0)*1","v":0},{"$f":"IF('Relevés de  commissions'!D7947=\"AGI externes\",'Relevés de  commissions'!O7947,0)*1","v":0},{"$f":"IF('Relevés de  commissions'!D7947=\"AGI externes\",'Relevés de  commissions'!P7947,0)*1","v":0},0,""]
[null,null,null,null,null,null,null,null,null,null,null,null,{"$f":"IF('Relevés de  commissions'!D7957=\"AGI externes\",'Relevés de  commissions'!M7957,0)*1","v":0},{"$f":"IF('Relevés de  commissions'!D7957=\"AGI externes\",'Relevés de  commissions'!N7957,0)*1","v":0},{"$f":"IF('Relevés de  commissions'!D7957=\"AGI externes\",'Relevés de  commissions'!O7957,0)*1","v":0},{"$f":"IF('Relevés de  commissions'!D7957=\"AGI externes\",'Relevés de  commissions'!P7957,0)*1","v":0},0,""]
[null,null,null,null,null,null,null,null,null,null,null,null,{"$f":"IF('Relevés de  commissions'!D7974=\"AGI externes\",'Relevés de  commissions'!M7974,0)*1","v":0},{"$f":"IF('Relevés de  commissions'!D7974=\"AGI externes\",'Relevés de  commissions'!N7974,0)*1","v":0},{"$f":"IF('Relevés de  commissions'!D7974=\"AGI externes\",'Relevés de  commissions'!O7974,0)*1","v":0},{"$f":"IF('Relevés de  commissions'!D7974=\"AGI externes\",'Relevés de  commissions'!P7974,0)*1","v":0},0,""]
[null,null,null,null,null,null,null,null,null,null,null,null,{"$f":"IF('Relevés de  commissions'!D7980=\"AGI externes\",'Relevés de  commissions'!M7980,0)*1","v":0},{"$f":"IF('Relevés de  commissions'!D7980=\"AGI externes\",'Relevés de  commissions'!N7980,0)*1","v":0},{"$f":"IF('Relevés de  commissions'!D7980=\"AGI externes\",'Relevés de  commissions'!O7980,0)*1","v":0},{"$f":"IF('Relevés de  commissions'!D7980=\"AGI externes\",'Relevés de  commissions'!P7980,0)*1","v":0},0,""]
[null,null,null,null,null,null,null,null,null,null,null,null,{"$f":"IF('Relevés de  commissions'!D7989=\"AGI externes\",'Relevés de  commissions'!M7989,0)*1","v":0},{"$f":"IF('Relevés de  commissions'!D7989=\"AGI externes\",'Relevés de  commissions'!N7989,0)*1","v":0},{"$f":"IF('Relevés de  commissions'!D7989=\"AGI externes\",'Relevés de  commissions'!O7989,0)*1","v":0},{"$f":"IF('Relevés de  commissions'!D7989=\"AGI externes\",'Relevés de  commissions'!P7989,0)*1","v":0},0,""]
[null,null,null,null,null,null,null,null,null,null,null,null,{"$f":"IF('Relevés de  commissions'!D8006=\"AGI externes\",'Relevés de  commissions'!M8006,0)*1","v":0},{"$f":"IF('Relevés de  commissions'!D8006=\"AGI externes\",'Relevés de  commissions'!N8006,0)*1","v":0},{"$f":"IF('Relevés de  commissions'!D8006=\"AGI externes\",'Relevés de  commissions'!O8006,0)*1","v":0},{"$f":"IF('Relevés de  commissions'!D8006=\"AGI externes\",'Relevés de  commissions'!P8006,0)*1","v":0},0,""]
[null,null,null,null,null,null,null,null,null,null,null,null,{"$f":"IF('Relevés de  commissions'!D8012=\"AGI externes\",'Relevés de  commissions'!M8012,0)*1","v":0},{"$f":"IF('Relevés de  commissions'!D8012=\"AGI externes\",'Relevés de  commissions'!N8012,0)*1","v":0},{"$f":"IF('Relevés de  commissions'!D8012=\"AGI externes\",'Relevés de  commissions'!O8012,0)*1","v":0},{"$f":"IF('Relevés de  commissions'!D8012=\"AGI externes\",'Relevés de  commissions'!P8012,0)*1","v":0},0,""]
[null,null,null,null,null,null,null,null,null,null,null,null,{"$f":"IF('Relevés de  commissions'!D8022=\"AGI externes\",'Relevés de  commissions'!M8022,0)*1","v":0},{"$f":"IF('Relevés de  commissions'!D8022=\"AGI externes\",'Relevés de  commissions'!N8022,0)*1","v":0},{"$f":"IF('Relevés de  commissions'!D8022=\"AGI externes\",'Relevés de  commissions'!O8022,0)*1","v":0},{"$f":"IF('Relevés de  commissions'!D8022=\"AGI externes\",'Relevés de  commissions'!P8022,0)*1","v":0},0,""]
[null,null,null,null,null,null,null,null,null,null,null,null,{"$f":"IF('Relevés de  commissions'!D8039=\"AGI externes\",'Relevés de  commissions'!M8039,0)*1","v":0},{"$f":"IF('Relevés de  commissions'!D8039=\"AGI externes\",'Relevés de  commissions'!N8039,0)*1","v":0},{"$f":"IF('Relevés de  commissions'!D8039=\"AGI externes\",'Relevés de  commissions'!O8039,0)*1","v":0},{"$f":"IF('Relevés de  commissions'!D8039=\"AGI externes\",'Relevés de  commissions'!P8039,0)*1","v":0},0,""]
[null,null,null,null,null,null,null,null,null,null,null,null,{"$f":"IF('Relevés de  commissions'!D8053=\"AGI externes\",'Relevés de  commissions'!M8053,0)*1","v":0},{"$f":"IF('Relevés de  commissions'!D8053=\"AGI externes\",'Relevés de  commissions'!N8053,0)*1","v":0},{"$f":"IF('Relevés de  commissions'!D8053=\"AGI externes\",'Relevés de  commissions'!O8053,0)*1","v":0},{"$f":"IF('Relevés de  commissions'!D8053=\"AGI externes\",'Relevés de  commissions'!P8053,0)*1","v":0},0,""]
[null,null,null,null,null,null,null,null,null,null,null,null,{"$f":"IF('Relevés de  commissions'!D8054=\"AGI externes\",'Relevés de  commissions'!M8054,0)*1","v":0},{"$f":"IF('Relevés de  commissions'!D8054=\"AGI externes\",'Relevés de  commissions'!N8054,0)*1","v":0},{"$f":"IF('Relevés de  commissions'!D8054=\"AGI externes\",'Relevés de  commissions'!O8054,0)*1","v":0},{"$f":"IF('Relevés de  commissions'!D8054=\"AGI externes\",'Relevés de  commissions'!P8054,0)*1","v":0},0,""]
[null,null,null,null,null,null,null,null,null,null,null,null,{"$f":"IF('Relevés de  commissions'!D8071=\"AGI externes\",'Relevés de  commissions'!M8071,0)*1","v":0},{"$f":"IF('Relevés de  commissions'!D8071=\"AGI externes\",'Relevés de  commissions'!N8071,0)*1","v":0},{"$f":"IF('Relevés de  commissions'!D8071=\"AGI externes\",'Relevés de  commissions'!O8071,0)*1","v":0},{"$f":"IF('Relevés de  commissions'!D8071=\"AGI externes\",'Relevés de  commissions'!P8071,0)*1","v":0},0,""]
[null,null,null,null,null,null,null,null,null,null,null,null,{"$f":"IF('Relevés de  commissions'!D8081=\"AGI externes\",'Relevés de  commissions'!M8081,0)*1","v":0},{"$f":"IF('Relevés de  commissions'!D8081=\"AGI externes\",'Relevés de  commissions'!N8081,0)*1","v":0},{"$f":"IF('Relevés de  commissions'!D8081=\"AGI externes\",'Relevés de  commissions'!O8081,0)*1","v":0},{"$f":"IF('Relevés de  commissions'!D8081=\"AGI externes\",'Relevés de  commissions'!P8081,0)*1","v":0},0,""]
[null,null,null,null,null,null,null,null,null,null,null,null,{"$f":"IF('Relevés de  commissions'!D8087=\"AGI externes\",'Relevés de  commissions'!M8087,0)*1","v":0},{"$f":"IF('Relevés de  commissions'!D8087=\"AGI externes\",'Relevés de  commissions'!N8087,0)*1","v":0},{"$f":"IF('Relevés de  commissions'!D8087=\"AGI externes\",'Relevés de  commissions'!O8087,0)*1","v":0},{"$f":"IF('Relevés de  commissions'!D8087=\"AGI externes\",'Relevés de  commissions'!P8087,0)*1","v":0},0,""]
[null,null,null,null,null,null,null,null,null,null,null,null,{"$f":"IF('Relevés de  commissions'!D8108=\"AGI externes\",'Relevés de  commissions'!M8108,0)*1","v":0},{"$f":"IF('Relevés de  commissions'!D8108=\"AGI externes\",'Relevés de  commissions'!N8108,0)*1","v":0},{"$f":"IF('Relevés de  commissions'!D8108=\"AGI externes\",'Relevés de  commissions'!O8108,0)*1","v":0},{"$f":"IF('Relevés de  commissions'!D8108=\"AGI externes\",'Relevés de  commissions'!P8108,0)*1","v":0},0,""]
[null,null,null,null,null,null,null,null,null,null,null,null,{"$f":"IF('Relevés de  commissions'!D8110=\"AGI externes\",'Relevés de  commissions'!M8110,0)*1","v":0},{"$f":"IF('Relevés de  commissions'!D8110=\"AGI externes\",'Relevés de  commissions'!N8110,0)*1","v":0},{"$f":"IF('Relevés de  commissions'!D8110=\"AGI externes\",'Relevés de  commissions'!O8110,0)*1","v":0},{"$f":"IF('Relevés de  commissions'!D8110=\"AGI externes\",'Relevés de  commissions'!P8110,0)*1","v":0},0,""]
[null,null,null,null,null,null,null,null,null,null,null,null,{"$f":"IF('Relevés de  commissions'!D8119=\"AGI externes\",'Relevés de  commissions'!M8119,0)*1","v":0},{"$f":"IF('Relevés de  commissions'!D8119=\"AGI externes\",'Relevés de  commissions'!N8119,0)*1","v":0},{"$f":"IF('Relevés de  commissions'!D8119=\"AGI externes\",'Relevés de  commissions'!O8119,0)*1","v":0},{"$f":"IF('Relevés de  commissions'!D8119=\"AGI externes\",'Relevés de  commissions'!P8119,0)*1","v":0},0,""]
[null,null,null,null,null,null,null,null,null,null,null,null,{"$f":"IF('Relevés de  commissions'!D8140=\"AGI externes\",'Relevés de  commissions'!M8140,0)*1","v":0},{"$f":"IF('Relevés de  commissions'!D8140=\"AGI externes\",'Relevés de  commissions'!N8140,0)*1","v":0},{"$f":"IF('Relevés de  commissions'!D8140=\"AGI externes\",'Relevés de  commissions'!O8140,0)*1","v":0},{"$f":"IF('Relevés de  commissions'!D8140=\"AGI externes\",'Relevés de  commissions'!P8140,0)*1","v":0},0,""]
[null,null,null,null,null,null,null,null,null,null,null,null,{"$f":"IF('Relevés de  commissions'!D8146=\"AGI externes\",'Relevés de  commissions'!M8146,0)*1","v":0},{"$f":"IF('Relevés de  commissions'!D8146=\"AGI externes\",'Relevés de  commissions'!N8146,0)*1","v":0},{"$f":"IF('Relevés de  commissions'!D8146=\"AGI externes\",'Relevés de  commissions'!O8146,0)*1","v":0},{"$f":"IF('Relevés de  commissions'!D8146=\"AGI externes\",'Relevés de  commissions'!P8146,0)*1","v":0},0,""]
[null,null,null,null,null,null,null,null,null,null,null,null,{"$f":"IF('Relevés de  commissions'!D8152=\"AGI externes\",'Relevés de  commissions'!M8152,0)*1","v":0},{"$f":"IF('Relevés de  commissions'!D8152=\"AGI externes\",'Relevés de  commissions'!N8152,0)*1","v":0},{"$f":"IF('Relevés de  commissions'!D8152=\"AGI externes\",'Relevés de  commissions'!O8152,0)*1","v":0},{"$f":"IF('Relevés de  commissions'!D8152=\"AGI externes\",'Relevés de  commissions'!P8152,0)*1","v":0},0,""]
[null,null,null,null,null,null,null,null,null,null,null,null,{"$f":"IF('Relevés de  commissions'!D8173=\"AGI externes\",'Relevés de  commissions'!M8173,0)*1","v":0},{"$f":"IF('Relevés de  commissions'!D8173=\"AGI externes\",'Relevés de  commissions'!N8173,0)*1","v":0},{"$f":"IF('Relevés de  commissions'!D8173=\"AGI externes\",'Relevés de  commissions'!O8173,0)*1","v":0},{"$f":"IF('Relevés de  commissions'!D8173=\"AGI externes\",'Relevés de  commissions'!P8173,0)*1","v":0},0,""]
[null,null,null,null,null,null,null,null,null,null,null,null,{"$f":"IF('Relevés de  commissions'!D8177=\"AGI externes\",'Relevés de  commissions'!M8177,0)*1","v":0},{"$f":"IF('Relevés de  commissions'!D8177=\"AGI externes\",'Relevés de  commissions'!N8177,0)*1","v":0},{"$f":"IF('Relevés de  commissions'!D8177=\"AGI externes\",'Relevés de  commissions'!O8177,0)*1","v":0},{"$f":"IF('Relevés de  commissions'!D8177=\"AGI externes\",'Relevés de  commissions'!P8177,0)*1","v":0},0,""]
[null,null,null,null,null,null,null,null,null,null,null,null,{"$f":"IF('Relevés de  commissions'!D8188=\"AGI externes\",'Relevés de  commissions'!M8188,0)*1","v":0},{"$f":"IF('Relevés de  commissions'!D8188=\"AGI externes\",'Relevés de  commissions'!N8188,0)*1","v":0},{"$f":"IF('Relevés de  commissions'!D8188=\"AGI externes\",'Relevés de  commissions'!O8188,0)*1","v":0},{"$f":"IF('Relevés de  commissions'!D8188=\"AGI externes\",'Relevés de  commissions'!P8188,0)*1","v":0},0,""]
[null,null,null,null,null,null,null,null,null,null,null,null,{"$f":"IF('Relevés de  commissions'!D8205=\"AGI externes\",'Relevés de  commissions'!M8205,0)*1","v":0},{"$f":"IF('Relevés de  commissions'!D8205=\"AGI externes\",'Relevés de  commissions'!N8205,0)*1","v":0},{"$f":"IF('Relevés de  commissions'!D8205=\"AGI externes\",'Relevés de  commissions'!O8205,0)*1","v":0},{"$f":"IF('Relevés de  commissions'!D8205=\"AGI externes\",'Relevés de  commissions'!P8205,0)*1","v":0},0,""]
[null,null,null,null,null,null,null,null,null,null,null,null,{"$f":"IF('Relevés de  commissions'!D8211=\"AGI externes\",'Relevés de  commissions'!M8211,0)*1","v":0},{"$f":"IF('Relevés de  commissions'!D8211=\"AGI externes\",'Relevés de  commissions'!N8211,0)*1","v":0},{"$f":"IF('Relevés de  commissions'!D8211=\"AGI externes\",'Relevés de  commissions'!O8211,0)*1","v":0},{"$f":"IF('Relevés de  commissions'!D8211=\"AGI externes\",'Relevés de  commissions'!P8211,0)*1","v":0},0,""]
[null,null,null,null,null,null,null,null,null,null,null,null,{"$f":"IF('Relevés de  commissions'!D8221=\"AGI externes\",'Relevés de  commissions'!M8221,0)*1","v":0},{"$f":"IF('Relevés de  commissions'!D8221=\"AGI externes\",'Relevés de  commissions'!N8221,0)*1","v":0},{"$f":"IF('Relevés de  commissions'!D8221=\"AGI externes\",'Relevés de  commissions'!O8221,0)*1","v":0},{"$f":"IF('Relevés de  commissions'!D8221=\"AGI externes\",'Relevés de  commissions'!P8221,0)*1","v":0},0,""]
[null,null,null,null,null,null,null,null,null,null,null,null,{"$f":"IF('Relevés de  commissions'!D8238=\"AGI externes\",'Relevés de  commissions'!M8238,0)*1","v":0},{"$f":"IF('Relevés de  commissions'!D8238=\"AGI externes\",'Relevés de  commissions'!N8238,0)*1","v":0},{"$f":"IF('Relevés de  commissions'!D8238=\"AGI externes\",'Relevés de  commissions'!O8238,0)*1","v":0},{"$f":"IF('Relevés de  commissions'!D8238=\"AGI externes\",'Relevés de  commissions'!P8238,0)*1","v":0},0,""]
[null,null,null,null,null,null,null,null,null,null,null,null,{"$f":"IF('Relevés de  commissions'!D8240=\"AGI externes\",'Relevés de  commissions'!M8240,0)*1","v":0},{"$f":"IF('Relevés de  commissions'!D8240=\"AGI externes\",'Relevés de  commissions'!N8240,0)*1","v":0},{"$f":"IF('Relevés de  commissions'!D8240=\"AGI externes\",'Relevés de  commissions'!O8240,0)*1","v":0},{"$f":"IF('Relevés de  commissions'!D8240=\"AGI externes\",'Relevés de  commissions'!P8240,0)*1","v":0},0,""]
[null,null,null,null,null,null,null,null,null,null,null,null,{"$f":"IF('Relevés de  commissions'!D8253=\"AGI externes\",'Relevés de  commissions'!M8253,0)*1","v":0},{"$f":"IF('Relevés de  commissions'!D8253=\"AGI externes\",'Relevés de  commissions'!N8253,0)*1","v":0},{"$f":"IF('Relevés de  commissions'!D8253=\"AGI externes\",'Relevés de  commissions'!O8253,0)*1","v":0},{"$f":"IF('Relevés de  commissions'!D8253=\"AGI externes\",'Relevés de  commissions'!P8253,0)*1","v":0},0,""]
[null,null,null,null,null,null,null,null,null,null,null,null,{"$f":"IF('Relevés de  commissions'!D8270=\"AGI externes\",'Relevés de  commissions'!M8270,0)*1","v":0},{"$f":"IF('Relevés de  commissions'!D8270=\"AGI externes\",'Relevés de  commissions'!N8270,0)*1","v":0},{"$f":"IF('Relevés de  commissions'!D8270=\"AGI externes\",'Relevés de  commissions'!O8270,0)*1","v":0},{"$f":"IF('Relevés de  commissions'!D8270=\"AGI externes\",'Relevés de  commissions'!P8270,0)*1","v":0},0,""]
[null,null,null,null,null,null,null,null,null,null,null,null,{"$f":"IF('Relevés de  commissions'!D8280=\"AGI externes\",'Relevés de  commissions'!M8280,0)*1","v":0},{"$f":"IF('Relevés de  commissions'!D8280=\"AGI externes\",'Relevés de  commissions'!N8280,0)*1","v":0},{"$f":"IF('Relevés de  commissions'!D8280=\"AGI externes\",'Relevés de  commissions'!O8280,0)*1","v":0},{"$f":"IF('Relevés de  commissions'!D8280=\"AGI externes\",'Relevés de  commissions'!P8280,0)*1","v":0},0,""]
[null,null,null,null,null,null,null,null,null,null,null,null,{"$f":"IF('Relevés de  commissions'!D8286=\"AGI externes\",'Relevés de  commissions'!M8286,0)*1","v":0},{"$f":"IF('Relevés de  commissions'!D8286=\"AGI externes\",'Relevés de  commissions'!N8286,0)*1","v":0},{"$f":"IF('Relevés de  commissions'!D8286=\"AGI externes\",'Relevés de  commissions'!O8286,0)*1","v":0},{"$f":"IF('Relevés de  commissions'!D8286=\"AGI externes\",'Relevés de  commissions'!P8286,0)*1","v":0},0,""]
[null,null,null,null,null,null,null,null,null,null,null,null,{"$f":"IF('Relevés de  commissions'!D8303=\"AGI externes\",'Relevés de  commissions'!M8303,0)*1","v":0},{"$f":"IF('Relevés de  commissions'!D8303=\"AGI externes\",'Relevés de  commissions'!N8303,0)*1","v":0},{"$f":"IF('Relevés de  commissions'!D8303=\"AGI externes\",'Relevés de  commissions'!O8303,0)*1","v":0},{"$f":"IF('Relevés de  commissions'!D8303=\"AGI externes\",'Relevés de  commissions'!P8303,0)*1","v":0},0,""]
[null,null,null,null,null,null,null,null,null,null,null,null,{"$f":"IF('Relevés de  commissions'!D8307=\"AGI externes\",'Relevés de  commissions'!M8307,0)*1","v":0},{"$f":"IF('Relevés de  commissions'!D8307=\"AGI externes\",'Relevés de  commissions'!N8307,0)*1","v":0},{"$f":"IF('Relevés de  commissions'!D8307=\"AGI externes\",'Relevés de  commissions'!O8307,0)*1","v":0},{"$f":"IF('Relevés de  commissions'!D8307=\"AGI externes\",'Relevés de  commissions'!P8307,0)*1","v":0},0,""]
[null,null,null,null,null,null,null,null,null,null,null,null,{"$f":"IF('Relevés de  commissions'!D8318=\"AGI externes\",'Relevés de  commissions'!M8318,0)*1","v":0},{"$f":"IF('Relevés de  commissions'!D8318=\"AGI externes\",'Relevés de  commissions'!N8318,0)*1","v":0},{"$f":"IF('Relevés de  commissions'!D8318=\"AGI externes\",'Relevés de  commissions'!O8318,0)*1","v":0},{"$f":"IF('Relevés de  commissions'!D8318=\"AGI externes\",'Relevés de  commissions'!P8318,0)*1","v":0},0,""]
[null,null,null,null,null,null,null,null,null,null,null,null,{"$f":"IF('Relevés de  commissions'!D8328=\"AGI externes\",'Relevés de  commissions'!M8328,0)*1","v":0},{"$f":"IF('Relevés de  commissions'!D8328=\"AGI externes\",'Relevés de  commissions'!N8328,0)*1","v":0},{"$f":"IF('Relevés de  commissions'!D8328=\"AGI externes\",'Relevés de  commissions'!O8328,0)*1","v":0},{"$f":"IF('Relevés de  commissions'!D8328=\"AGI externes\",'Relevés de  commissions'!P8328,0)*1","v":0},0,""]
[null,null,null,null,null,null,null,null,null,null,null,null,{"$f":"IF('Relevés de  commissions'!D8345=\"AGI externes\",'Relevés de  commissions'!M8345,0)*1","v":0},{"$f":"IF('Relevés de  commissions'!D8345=\"AGI externes\",'Relevés de  commissions'!N8345,0)*1","v":0},{"$f":"IF('Relevés de  commissions'!D8345=\"AGI externes\",'Relevés de  commissions'!O8345,0)*1","v":0},{"$f":"IF('Relevés de  commissions'!D8345=\"AGI externes\",'Relevés de  commissions'!P8345,0)*1","v":0},0,""]
[null,null,null,null,null,null,null,null,null,null,null,null,{"$f":"IF('Relevés de  commissions'!D8351=\"AGI externes\",'Relevés de  commissions'!M8351,0)*1","v":0},{"$f":"IF('Relevés de  commissions'!D8351=\"AGI externes\",'Relevés de  commissions'!N8351,0)*1","v":0},{"$f":"IF('Relevés de  commissions'!D8351=\"AGI externes\",'Relevés de  commissions'!O8351,0)*1","v":0},{"$f":"IF('Relevés de  commissions'!D8351=\"AGI externes\",'Relevés de  commissions'!P8351,0)*1","v":0},0,""]
[null,null,null,null,null,null,null,null,null,null,null,null,{"$f":"IF('Relevés de  commissions'!D8361=\"AGI externes\",'Relevés de  commissions'!M8361,0)*1","v":0},{"$f":"IF('Relevés de  commissions'!D8361=\"AGI externes\",'Relevés de  commissions'!N8361,0)*1","v":0},{"$f":"IF('Relevés de  commissions'!D8361=\"AGI externes\",'Relevés de  commissions'!O8361,0)*1","v":0},{"$f":"IF('Relevés de  commissions'!D8361=\"AGI externes\",'Relevés de  commissions'!P8361,0)*1","v":0},0,""]
[null,null,null,null,null,null,null,null,null,null,null,null,{"$f":"IF('Relevés de  commissions'!D8374=\"AGI externes\",'Relevés de  commissions'!M8374,0)*1","v":0},{"$f":"IF('Relevés de  commissions'!D8374=\"AGI externes\",'Relevés de  commissions'!N8374,0)*1","v":0},{"$f":"IF('Relevés de  commissions'!D8374=\"AGI externes\",'Relevés de  commissions'!O8374,0)*1","v":0},{"$f":"IF('Relevés de  commissions'!D8374=\"AGI externes\",'Relevés de  commissions'!P8374,0)*1","v":0},0,""]
[null,null,null,null,null,null,null,null,null,null,null,null,{"$f":"IF('Relevés de  commissions'!D8383=\"AGI externes\",'Relevés de  commissions'!M8383,0)*1","v":0},{"$f":"IF('Relevés de  commissions'!D8383=\"AGI externes\",'Relevés de  commissions'!N8383,0)*1","v":0},{"$f":"IF('Relevés de  commissions'!D8383=\"AGI externes\",'Relevés de  commissions'!O8383,0)*1","v":0},{"$f":"IF('Relevés de  commissions'!D8383=\"AGI externes\",'Relevés de  commissions'!P8383,0)*1","v":0},0,""]
[null,null,null,null,null,null,null,null,null,null,null,null,{"$f":"IF('Relevés de  commissions'!D8393=\"AGI externes\",'Relevés de  commissions'!M8393,0)*1","v":0},{"$f":"IF('Relevés de  commissions'!D8393=\"AGI externes\",'Relevés de  commissions'!N8393,0)*1","v":0},{"$f":"IF('Relevés de  commissions'!D8393=\"AGI externes\",'Relevés de  commissions'!O8393,0)*1","v":0},{"$f":"IF('Relevés de  commissions'!D8393=\"AGI externes\",'Relevés de  commissions'!P8393,0)*1","v":0},0,""]
[null,null,null,null,null,null,null,null,null,null,null,null,{"$f":"IF('Relevés de  commissions'!D8410=\"AGI externes\",'Relevés de  commissions'!M8410,0)*1","v":0},{"$f":"IF('Relevés de  commissions'!D8410=\"AGI externes\",'Relevés de  commissions'!N8410,0)*1","v":0},{"$f":"IF('Relevés de  commissions'!D8410=\"AGI externes\",'Relevés de  commissions'!O8410,0)*1","v":0},{"$f":"IF('Relevés de  commissions'!D8410=\"AGI externes\",'Relevés de  commissions'!P8410,0)*1","v":0},0,""]
[null,null,null,null,null,null,null,null,null,null,null,null,{"$f":"IF('Relevés de  commissions'!D8420=\"AGI externes\",'Relevés de  commissions'!M8420,0)*1","v":0},{"$f":"IF('Relevés de  commissions'!D8420=\"AGI externes\",'Relevés de  commissions'!N8420,0)*1","v":0},{"$f":"IF('Relevés de  commissions'!D8420=\"AGI externes\",'Relevés de  commissions'!O8420,0)*1","v":0},{"$f":"IF('Relevés de  commissions'!D8420=\"AGI externes\",'Relevés de  commissions'!P8420,0)*1","v":0},0,""]
[null,null,null,null,null,null,null,null,null,null,null,null,{"$f":"IF('Relevés de  commissions'!D8426=\"AGI externes\",'Relevés de  commissions'!M8426,0)*1","v":0},{"$f":"IF('Relevés de  commissions'!D8426=\"AGI externes\",'Relevés de  commissions'!N8426,0)*1","v":0},{"$f":"IF('Relevés de  commissions'!D8426=\"AGI externes\",'Relevés de  commissions'!O8426,0)*1","v":0},{"$f":"IF('Relevés de  commissions'!D8426=\"AGI externes\",'Relevés de  commissions'!P8426,0)*1","v":0},0,""]
[null,null,null,null,null,null,null,null,null,null,null,null,{"$f":"IF('Relevés de  commissions'!D8441=\"AGI externes\",'Relevés de  commissions'!M8441,0)*1","v":0},{"$f":"IF('Relevés de  commissions'!D8441=\"AGI externes\",'Relevés de  commissions'!N8441,0)*1","v":0},{"$f":"IF('Relevés de  commissions'!D8441=\"AGI externes\",'Relevés de  commissions'!O8441,0)*1","v":0},{"$f":"IF('Relevés de  commissions'!D8441=\"AGI externes\",'Relevés de  commissions'!P8441,0)*1","v":0},0,""]
[null,null,null,null,null,null,null,null,null,null,null,null,{"$f":"IF('Relevés de  commissions'!D8452=\"AGI externes\",'Relevés de  commissions'!M8452,0)*1","v":0},{"$f":"IF('Relevés de  commissions'!D8452=\"AGI externes\",'Relevés de  commissions'!N8452,0)*1","v":0},{"$f":"IF('Relevés de  commissions'!D8452=\"AGI externes\",'Relevés de  commissions'!O8452,0)*1","v":0},{"$f":"IF('Relevés de  commissions'!D8452=\"AGI externes\",'Relevés de  commissions'!P8452,0)*1","v":0},0,""]
[null,null,null,null,null,null,null,null,null,null,null,null,{"$f":"IF('Relevés de  commissions'!D8458=\"AGI externes\",'Relevés de  commissions'!M8458,0)*1","v":0},{"$f":"IF('Relevés de  commissions'!D8458=\"AGI externes\",'Relevés de  commissions'!N8458,0)*1","v":0},{"$f":"IF('Relevés de  commissions'!D8458=\"AGI externes\",'Relevés de  commissions'!O8458,0)*1","v":0},{"$f":"IF('Relevés de  commissions'!D8458=\"AGI externes\",'Relevés de  commissions'!P8458,0)*1","v":0},0,""]
[null,null,null,null,null,null,null,null,null,null,null,null,{"$f":"IF('Relevés de  commissions'!D8468=\"AGI externes\",'Relevés de  commissions'!M8468,0)*1","v":0},{"$f":"IF('Relevés de  commissions'!D8468=\"AGI externes\",'Relevés de  commissions'!N8468,0)*1","v":0},{"$f":"IF('Relevés de  commissions'!D8468=\"AGI externes\",'Relevés de  commissions'!O8468,0)*1","v":0},{"$f":"IF('Relevés de  commissions'!D8468=\"AGI externes\",'Relevés de  commissions'!P8468,0)*1","v":0},0,""]
[null,null,null,null,null,null,null,null,null,null,null,null,{"$f":"IF('Relevés de  commissions'!D8485=\"AGI externes\",'Relevés de  commissions'!M8485,0)*1","v":0},{"$f":"IF('Relevés de  commissions'!D8485=\"AGI externes\",'Relevés de  commissions'!N8485,0)*1","v":0},{"$f":"IF('Relevés de  commissions'!D8485=\"AGI externes\",'Relevés de  commissions'!O8485,0)*1","v":0},{"$f":"IF('Relevés de  commissions'!D8485=\"AGI externes\",'Relevés de  commissions'!P8485,0)*1","v":0},0,""]
[null,null,null,null,null,null,null,null,null,null,null,null,{"$f":"IF('Relevés de  commissions'!D8491=\"AGI externes\",'Relevés de  commissions'!M8491,0)*1","v":0},{"$f":"IF('Relevés de  commissions'!D8491=\"AGI externes\",'Relevés de  commissions'!N8491,0)*1","v":0},{"$f":"IF('Relevés de  commissions'!D8491=\"AGI externes\",'Relevés de  commissions'!O8491,0)*1","v":0},{"$f":"IF('Relevés de  commissions'!D8491=\"AGI externes\",'Relevés de  commissions'!P8491,0)*1","v":0},0,""]
[null,null,null,null,null,null,null,null,null,null,null,null,{"$f":"IF('Relevés de  commissions'!D8504=\"AGI externes\",'Relevés de  commissions'!M8504,0)*1","v":0},{"$f":"IF('Relevés de  commissions'!D8504=\"AGI externes\",'Relevés de  commissions'!N8504,0)*1","v":0},{"$f":"IF('Relevés de  commissions'!D8504=\"AGI externes\",'Relevés de  commissions'!O8504,0)*1","v":0},{"$f":"IF('Relevés de  commissions'!D8504=\"AGI externes\",'Relevés de  commissions'!P8504,0)*1","v":0},0,""]
[null,null,null,null,null,null,null,null,null,null,null,null,{"$f":"IF('Relevés de  commissions'!D8517=\"AGI externes\",'Relevés de  commissions'!M8517,0)*1","v":0},{"$f":"IF('Relevés de  commissions'!D8517=\"AGI externes\",'Relevés de  commissions'!N8517,0)*1","v":0},{"$f":"IF('Relevés de  commissions'!D8517=\"AGI externes\",'Relevés de  commissions'!O8517,0)*1","v":0},{"$f":"IF('Relevés de  commissions'!D8517=\"AGI externes\",'Relevés de  commissions'!P8517,0)*1","v":0},0,""]
[null,null,null,null,null,null,null,null,null,null,null,null,{"$f":"IF('Relevés de  commissions'!D8523=\"AGI externes\",'Relevés de  commissions'!M8523,0)*1","v":0},{"$f":"IF('Relevés de  commissions'!D8523=\"AGI externes\",'Relevés de  commissions'!N8523,0)*1","v":0},{"$f":"IF('Relevés de  commissions'!D8523=\"AGI externes\",'Relevés de  commissions'!O8523,0)*1","v":0},{"$f":"IF('Relevés de  commissions'!D8523=\"AGI externes\",'Relevés de  commissions'!P8523,0)*1","v":0},0,""]
[null,null,null,null,null,null,null,null,null,null,null,null,{"$f":"IF('Relevés de  commissions'!D8533=\"AGI externes\",'Relevés de  commissions'!M8533,0)*1","v":0},{"$f":"IF('Relevés de  commissions'!D8533=\"AGI externes\",'Relevés de  commissions'!N8533,0)*1","v":0},{"$f":"IF('Relevés de  commissions'!D8533=\"AGI externes\",'Relevés de  commissions'!O8533,0)*1","v":0},{"$f":"IF('Relevés de  commissions'!D8533=\"AGI externes\",'Relevés de  commissions'!P8533,0)*1","v":0},0,""]
[null,null,null,null,null,null,null,null,null,null,null,null,{"$f":"IF('Relevés de  commissions'!D8550=\"AGI externes\",'Relevés de  commissions'!M8550,0)*1","v":0},{"$f":"IF('Relevés de  commissions'!D8550=\"AGI externes\",'Relevés de  commissions'!N8550,0)*1","v":0},{"$f":"IF('Relevés de  commissions'!D8550=\"AGI externes\",'Relevés de  commissions'!O8550,0)*1","v":0},{"$f":"IF('Relevés de  commissions'!D8550=\"AGI externes\",'Relevés de  commissions'!P8550,0)*1","v":0},0,""]
[null,null,null,null,null,null,null,null,null,null,null,null,{"$f":"IF('Relevés de  commissions'!D8560=\"AGI externes\",'Relevés de  commissions'!M8560,0)*1","v":0},{"$f":"IF('Relevés de  commissions'!D8560=\"AGI externes\",'Relevés de  commissions'!N8560,0)*1","v":0},{"$f":"IF('Relevés de  commissions'!D8560=\"AGI externes\",'Relevés de  commissions'!O8560,0)*1","v":0},{"$f":"IF('Relevés de  commissions'!D8560=\"AGI externes\",'Relevés de  commissions'!P8560,0)*1","v":0},0,""]
[null,null,null,null,null,null,null,null,null,null,null,null,{"$f":"IF('Relevés de  commissions'!D8571=\"AGI externes\",'Relevés de  commissions'!M8571,0)*1","v":0},{"$f":"IF('Relevés de  commissions'!D8571=\"AGI externes\",'Relevés de  commissions'!N8571,0)*1","v":0},{"$f":"IF('Relevés de  commissions'!D8571=\"AGI externes\",'Relevés de  commissions'!O8571,0)*1","v":0},{"$f":"IF('Relevés de  commissions'!D8571=\"AGI externes\",'Relevés de  commissions'!P8571,0)*1","v":0},0,""]
[null,null,null,null,null,null,null,null,null,null,null,null,{"$f":"IF('Relevés de  commissions'!D8582=\"AGI externes\",'Relevés de  commissions'!M8582,0)*1","v":0},{"$f":"IF('Relevés de  commissions'!D8582=\"AGI externes\",'Relevés de  commissions'!N8582,0)*1","v":0},{"$f":"IF('Relevés de  commissions'!D8582=\"AGI externes\",'Relevés de  commissions'!O8582,0)*1","v":0},{"$f":"IF('Relevés de  commissions'!D8582=\"AGI externes\",'Relevés de  commissions'!P8582,0)*1","v":0},0,""]
[null,null,null,null,null,null,null,null,null,null,null,null,{"$f":"IF('Relevés de  commissions'!D8592=\"AGI externes\",'Relevés de  commissions'!M8592,0)*1","v":0},{"$f":"IF('Relevés de  commissions'!D8592=\"AGI externes\",'Relevés de  commissions'!N8592,0)*1","v":0},{"$f":"IF('Relevés de  commissions'!D8592=\"AGI externes\",'Relevés de  commissions'!O8592,0)*1","v":0},{"$f":"IF('Relevés de  commissions'!D8592=\"AGI externes\",'Relevés de  commissions'!P8592,0)*1","v":0},0,""]
[null,null,null,null,null,null,null,null,null,null,null,null,{"$f":"IF('Relevés de  commissions'!D8598=\"AGI externes\",'Relevés de  commissions'!M8598,0)*1","v":0},{"$f":"IF('Relevés de  commissions'!D8598=\"AGI externes\",'Relevés de  commissions'!N8598,0)*1","v":0},{"$f":"IF('Relevés de  commissions'!D8598=\"AGI externes\",'Relevés de  commissions'!O8598,0)*1","v":0},{"$f":"IF('Relevés de  commissions'!D8598=\"AGI externes\",'Relevés de  commissions'!P8598,0)*1","v":0},0,""]
[null,null,null,null,null,null,null,null,null,null,null,null,{"$f":"IF('Relevés de  commissions'!D8615=\"AGI externes\",'Relevés de  commissions'!M8615,0)*1","v":0},{"$f":"IF('Relevés de  commissions'!D8615=\"AGI externes\",'Relevés de  commissions'!N8615,0)*1","v":0},{"$f":"IF('Relevés de  commissions'!D8615=\"AGI externes\",'Relevés de  commissions'!O8615,0)*1","v":0},{"$f":"IF('Relevés de  commissions'!D8615=\"AGI externes\",'Relevés de  commissions'!P8615,0)*1","v":0},0,""]
[null,null,null,null,null,null,null,null,null,null,null,null,{"$f":"IF('Relevés de  commissions'!D8625=\"AGI externes\",'Relevés de  commissions'!M8625,0)*1","v":0},{"$f":"IF('Relevés de  commissions'!D8625=\"AGI externes\",'Relevés de  commissions'!N8625,0)*1","v":0},{"$f":"IF('Relevés de  commissions'!D8625=\"AGI externes\",'Relevés de  commissions'!O8625,0)*1","v":0},{"$f":"IF('Relevés de  commissions'!D8625=\"AGI externes\",'Relevés de  commissions'!P8625,0)*1","v":0},0,""]
[null,null,null,null,null,null,null,null,null,null,null,null,{"$f":"IF('Relevés de  commissions'!D8638=\"AGI externes\",'Relevés de  commissions'!M8638,0)*1","v":0},{"$f":"IF('Relevés de  commissions'!D8638=\"AGI externes\",'Relevés de  commissions'!N8638,0)*1","v":0},{"$f":"IF('Relevés de  commissions'!D8638=\"AGI externes\",'Relevés de  commissions'!O8638,0)*1","v":0},{"$f":"IF('Relevés de  commissions'!D8638=\"AGI externes\",'Relevés de  commissions'!P8638,0)*1","v":0},0,""]
[null,null,null,null,null,null,null,null,null,null,null,null,{"$f":"IF('Relevés de  commissions'!D8640=\"AGI externes\",'Relevés de  commissions'!M8640,0)*1","v":0},{"$f":"IF('Relevés de  commissions'!D8640=\"AGI externes\",'Relevés de  commissions'!N8640,0)*1","v":0},{"$f":"IF('Relevés de  commissions'!D8640=\"AGI externes\",'Relevés de  commissions'!O8640,0)*1","v":0},{"$f":"IF('Relevés de  commissions'!D8640=\"AGI externes\",'Relevés de  commissions'!P8640,0)*1","v":0},0,""]
[null,null,null,null,null,null,null,null,null,null,null,null,{"$f":"IF('Relevés de  commissions'!D8657=\"AGI externes\",'Relevés de  commissions'!M8657,0)*1","v":0},{"$f":"IF('Relevés de  commissions'!D8657=\"AGI externes\",'Relevés de  commissions'!N8657,0)*1","v":0},{"$f":"IF('Relevés de  commissions'!D8657=\"AGI externes\",'Relevés de  commissions'!O8657,0)*1","v":0},{"$f":"IF('Relevés de  commissions'!D8657=\"AGI externes\",'Relevés de  commissions'!P8657,0)*1","v":0},0,""]
[null,null,null,null,null,null,null,null,null,null,null,null,{"$f":"IF('Relevés de  commissions'!D8663=\"AGI externes\",'Relevés de  commissions'!M8663,0)*1","v":0},{"$f":"IF('Relevés de  commissions'!D8663=\"AGI externes\",'Relevés de  commissions'!N8663,0)*1","v":0},{"$f":"IF('Relevés de  commissions'!D8663=\"AGI externes\",'Relevés de  commissions'!O8663,0)*1","v":0},{"$f":"IF('Relevés de  commissions'!D8663=\"AGI externes\",'Relevés de  commissions'!P8663,0)*1","v":0},0,""]
[null,null,null,null,null,null,null,null,null,null,null,null,{"$f":"IF('Relevés de  commissions'!D8673=\"AGI externes\",'Relevés de  commissions'!M8673,0)*1","v":0},{"$f":"IF('Relevés de  commissions'!D8673=\"AGI externes\",'Relevés de  commissions'!N8673,0)*1","v":0},{"$f":"IF('Relevés de  commissions'!D8673=\"AGI externes\",'Relevés de  commissions'!O8673,0)*1","v":0},{"$f":"IF('Relevés de  commissions'!D8673=\"AGI externes\",'Relevés de  commissions'!P8673,0)*1","v":0},0,""]
[null,null,null,null,null,null,null,null,null,null,null,null,{"$f":"IF('Relevés de  commissions'!D8690=\"AGI externes\",'Relevés de  commissions'!M8690,0)*1","v":0},{"$f":"IF('Relevés de  commissions'!D8690=\"AGI externes\",'Relevés de  commissions'!N8690,0)*1","v":0},{"$f":"IF('Relevés de  commissions'!D8690=\"AGI externes\",'Relevés de  commissions'!O8690,0)*1","v":0},{"$f":"IF('Relevés de  commissions'!D8690=\"AGI externes\",'Relevés de  commissions'!P8690,0)*1","v":0},0,""]
[null,null,null,null,null,null,null,null,null,null,null,null,{"$f":"IF('Relevés de  commissions'!D8701=\"AGI externes\",'Relevés de  commissions'!M8701,0)*1","v":0},{"$f":"IF('Relevés de  commissions'!D8701=\"AGI externes\",'Relevés de  commissions'!N8701,0)*1","v":0},{"$f":"IF('Relevés de  commissions'!D8701=\"AGI externes\",'Relevés de  commissions'!O8701,0)*1","v":0},{"$f":"IF('Relevés de  commissions'!D8701=\"AGI externes\",'Relevés de  commissions'!P8701,0)*1","v":0},0,""]
[null,null,null,null,null,null,null,null,null,null,null,null,{"$f":"IF('Relevés de  commissions'!D8705=\"AGI externes\",'Relevés de  commissions'!M8705,0)*1","v":0},{"$f":"IF('Relevés de  commissions'!D8705=\"AGI externes\",'Relevés de  commissions'!N8705,0)*1","v":0},{"$f":"IF('Relevés de  commissions'!D8705=\"AGI externes\",'Relevés de  commissions'!O8705,0)*1","v":0},{"$f":"IF('Relevés de  commissions'!D8705=\"AGI externes\",'Relevés de  commissions'!P8705,0)*1","v":0},0,""]
[null,null,null,null,null,null,null,null,null,null,null,null,{"$f":"IF('Relevés de  commissions'!D8722=\"AGI externes\",'Relevés de  commissions'!M8722,0)*1","v":0},{"$f":"IF('Relevés de  commissions'!D8722=\"AGI externes\",'Relevés de  commissions'!N8722,0)*1","v":0},{"$f":"IF('Relevés de  commissions'!D8722=\"AGI externes\",'Relevés de  commissions'!O8722,0)*1","v":0},{"$f":"IF('Relevés de  commissions'!D8722=\"AGI externes\",'Relevés de  commissions'!P8722,0)*1","v":0},0,""]
[null,null,null,null,null,null,null,null,null,null,null,null,{"$f":"IF('Relevés de  commissions'!D8732=\"AGI externes\",'Relevés de  commissions'!M8732,0)*1","v":0},{"$f":"IF('Relevés de  commissions'!D8732=\"AGI externes\",'Relevés de  commissions'!N8732,0)*1","v":0},{"$f":"IF('Relevés de  commissions'!D8732=\"AGI externes\",'Relevés de  commissions'!O8732,0)*1","v":0},{"$f":"IF('Relevés de  commissions'!D8732=\"AGI externes\",'Relevés de  commissions'!P8732,0)*1","v":0},0,{"$f":"IF(N8734=10,O8734,\"\")","v":""}]
[null,null,null,null,null,null,null,null,null,null,null,null,{"$f":"IF('Relevés de  commissions'!D8738=\"AGI externes\",'Relevés de  commissions'!M8738,0)*1","v":0},{"$f":"IF('Relevés de  commissions'!D8738=\"AGI externes\",'Relevés de  commissions'!N8738,0)*1","v":0},{"$f":"IF('Relevés de  commissions'!D8738=\"AGI externes\",'Relevés de  commissions'!O8738,0)*1","v":0},{"$f":"IF('Relevés de  commissions'!D8738=\"AGI externes\",'Relevés de  commissions'!P8738,0)*1","v":0},0,""]
[null,null,null,null,null,null,null,null,null,null,null,null,{"$f":"IF('Relevés de  commissions'!D8755=\"AGI externes\",'Relevés de  commissions'!M8755,0)*1","v":0},{"$f":"IF('Relevés de  commissions'!D8755=\"AGI externes\",'Relevés de  commissions'!N8755,0)*1","v":0},{"$f":"IF('Relevés de  commissions'!D8755=\"AGI externes\",'Relevés de  commissions'!O8755,0)*1","v":0},{"$f":"IF('Relevés de  commissions'!D8755=\"AGI externes\",'Relevés de  commissions'!P8755,0)*1","v":0},0,""]
[null,null,null,null,null,null,null,null,null,null,null,null,{"$f":"IF('Relevés de  commissions'!D8768=\"AGI externes\",'Relevés de  commissions'!M8768,0)*1","v":0},{"$f":"IF('Relevés de  commissions'!D8768=\"AGI externes\",'Relevés de  commissions'!N8768,0)*1","v":0},{"$f":"IF('Relevés de  commissions'!D8768=\"AGI externes\",'Relevés de  commissions'!O8768,0)*1","v":0},{"$f":"IF('Relevés de  commissions'!D8768=\"AGI externes\",'Relevés de  commissions'!P8768,0)*1","v":0},0,""]
[null,null,null,null,null,null,null,null,null,null,null,null,{"$f":"IF('Relevés de  commissions'!D8770=\"AGI externes\",'Relevés de  commissions'!M8770,0)*1","v":0},{"$f":"IF('Relevés de  commissions'!D8770=\"AGI externes\",'Relevés de  commissions'!N8770,0)*1","v":0},{"$f":"IF('Relevés de  commissions'!D8770=\"AGI externes\",'Relevés de  commissions'!O8770,0)*1","v":0},{"$f":"IF('Relevés de  commissions'!D8770=\"AGI externes\",'Relevés de  commissions'!P8770,0)*1","v":0},0,""]
[null,null,null,null,null,null,null,null,null,null,null,null,{"$f":"IF('Relevés de  commissions'!D8780=\"AGI externes\",'Relevés de  commissions'!M8780,0)*1","v":0},{"$f":"IF('Relevés de  commissions'!D8780=\"AGI externes\",'Relevés de  commissions'!N8780,0)*1","v":0},{"$f":"IF('Relevés de  commissions'!D8780=\"AGI externes\",'Relevés de  commissions'!O8780,0)*1","v":0},{"$f":"IF('Relevés de  commissions'!D8780=\"AGI externes\",'Relevés de  commissions'!P8780,0)*1","v":0},0,""]
[null,null,null,null,null,null,null,null,null,null,null,null,{"$f":"IF('Relevés de  commissions'!D8797=\"AGI externes\",'Relevés de  commissions'!M8797,0)*1","v":0},{"$f":"IF('Relevés de  commissions'!D8797=\"AGI externes\",'Relevés de  commissions'!N8797,0)*1","v":0},{"$f":"IF('Relevés de  commissions'!D8797=\"AGI externes\",'Relevés de  commissions'!O8797,0)*1","v":0},{"$f":"IF('Relevés de  commissions'!D8797=\"AGI externes\",'Relevés de  commissions'!P8797,0)*1","v":0},0,""]
[null,null,null,null,null,null,null,null,null,null,null,null,{"$f":"IF('Relevés de  commissions'!D8803=\"AGI externes\",'Relevés de  commissions'!M8803,0)*1","v":0},{"$f":"IF('Relevés de  commissions'!D8803=\"AGI externes\",'Relevés de  commissions'!N8803,0)*1","v":0},{"$f":"IF('Relevés de  commissions'!D8803=\"AGI externes\",'Relevés de  commissions'!O8803,0)*1","v":0},{"$f":"IF('Relevés de  commissions'!D8803=\"AGI externes\",'Relevés de  commissions'!P8803,0)*1","v":0},0,""]
[null,null,null,null,null,null,null,null,null,null,null,null,{"$f":"IF('Relevés de  commissions'!D8813=\"AGI externes\",'Relevés de  commissions'!M8813,0)*1","v":0},{"$f":"IF('Relevés de  commissions'!D8813=\"AGI externes\",'Relevés de  commissions'!N8813,0)*1","v":0},{"$f":"IF('Relevés de  commissions'!D8813=\"AGI externes\",'Relevés de  commissions'!O8813,0)*1","v":0},{"$f":"IF('Relevés de  commissions'!D8813=\"AGI externes\",'Relevés de  commissions'!P8813,0)*1","v":0},0,""]
[null,null,null,null,null,null,null,null,null,null,null,null,{"$f":"IF('Relevés de  commissions'!D8825=\"AGI externes\",'Relevés de  commissions'!M8825,0)*1","v":0},{"$f":"IF('Relevés de  commissions'!D8825=\"AGI externes\",'Relevés de  commissions'!N8825,0)*1","v":0},{"$f":"IF('Relevés de  commissions'!D8825=\"AGI externes\",'Relevés de  commissions'!O8825,0)*1","v":0},{"$f":"IF('Relevés de  commissions'!D8825=\"AGI externes\",'Relevés de  commissions'!P8825,0)*1","v":0},0,""]
[null,null,null,null,null,null,null,null,null,null,null,null,{"$f":"IF('Relevés de  commissions'!D8839=\"AGI externes\",'Relevés de  commissions'!M8839,0)*1","v":0},{"$f":"IF('Relevés de  commissions'!D8839=\"AGI externes\",'Relevés de  commissions'!N8839,0)*1","v":0},{"$f":"IF('Relevés de  commissions'!D8839=\"AGI externes\",'Relevés de  commissions'!O8839,0)*1","v":0},{"$f":"IF('Relevés de  commissions'!D8839=\"AGI externes\",'Relevés de  commissions'!P8839,0)*1","v":0},0,""]
[null,null,null,null,null,null,null,null,null,null,null,null,{"$f":"IF('Relevés de  commissions'!D8845=\"AGI externes\",'Relevés de  commissions'!M8845,0)*1","v":0},{"$f":"IF('Relevés de  commissions'!D8845=\"AGI externes\",'Relevés de  commissions'!N8845,0)*1","v":0},{"$f":"IF('Relevés de  commissions'!D8845=\"AGI externes\",'Relevés de  commissions'!O8845,0)*1","v":0},{"$f":"IF('Relevés de  commissions'!D8845=\"AGI externes\",'Relevés de  commissions'!P8845,0)*1","v":0},0,""]
[null,null,null,null,null,null,null,null,null,null,null,null,{"$f":"IF('Relevés de  commissions'!D8862=\"AGI externes\",'Relevés de  commissions'!M8862,0)*1","v":0},{"$f":"IF('Relevés de  commissions'!D8862=\"AGI externes\",'Relevés de  commissions'!N8862,0)*1","v":0},{"$f":"IF('Relevés de  commissions'!D8862=\"AGI externes\",'Relevés de  commissions'!O8862,0)*1","v":0},{"$f":"IF('Relevés de  commissions'!D8862=\"AGI externes\",'Relevés de  commissions'!P8862,0)*1","v":0},0,""]
[null,null,null,null,null,null,null,null,null,null,null,null,{"$f":"IF('Relevés de  commissions'!D8872=\"AGI externes\",'Relevés de  commissions'!M8872,0)*1","v":0},{"$f":"IF('Relevés de  commissions'!D8872=\"AGI externes\",'Relevés de  commissions'!N8872,0)*1","v":0},{"$f":"IF('Relevés de  commissions'!D8872=\"AGI externes\",'Relevés de  commissions'!O8872,0)*1","v":0},{"$f":"IF('Relevés de  commissions'!D8872=\"AGI externes\",'Relevés de  commissions'!P8872,0)*1","v":0},0,""]
[null,null,null,null,null,null,null,null,null,null,null,null,{"$f":"IF('Relevés de  commissions'!D8878=\"AGI externes\",'Relevés de  commissions'!M8878,0)*1","v":0},{"$f":"IF('Relevés de  commissions'!D8878=\"AGI externes\",'Relevés de  commissions'!N8878,0)*1","v":0},{"$f":"IF('Relevés de  commissions'!D8878=\"AGI externes\",'Relevés de  commissions'!O8878,0)*1","v":0},{"$f":"IF('Relevés de  commissions'!D8878=\"AGI externes\",'Relevés de  commissions'!P8878,0)*1","v":0},0,""]
[null,null,null,null,null,null,null,null,null,null,null,null,{"$f":"IF('Relevés de  commissions'!D8892=\"AGI externes\",'Relevés de  commissions'!M8892,0)*1","v":0},{"$f":"IF('Relevés de  commissions'!D8892=\"AGI externes\",'Relevés de  commissions'!N8892,0)*1","v":0},{"$f":"IF('Relevés de  commissions'!D8892=\"AGI externes\",'Relevés de  commissions'!O8892,0)*1","v":0},{"$f":"IF('Relevés de  commissions'!D8892=\"AGI externes\",'Relevés de  commissions'!P8892,0)*1","v":0},0,""]
[null,null,null,null,null,null,null,null,null,null,null,null,{"$f":"IF('Relevés de  commissions'!D8904=\"AGI externes\",'Relevés de  commissions'!M8904,0)*1","v":0},{"$f":"IF('Relevés de  commissions'!D8904=\"AGI externes\",'Relevés de  commissions'!N8904,0)*1","v":0},{"$f":"IF('Relevés de  commissions'!D8904=\"AGI externes\",'Relevés de  commissions'!O8904,0)*1","v":0},{"$f":"IF('Relevés de  commissions'!D8904=\"AGI externes\",'Relevés de  commissions'!P8904,0)*1","v":0},0,""]
[null,null,null,null,null,null,null,null,null,null,null,null,{"$f":"IF('Relevés de  commissions'!D8910=\"AGI externes\",'Relevés de  commissions'!M8910,0)*1","v":0},{"$f":"IF('Relevés de  commissions'!D8910=\"AGI externes\",'Relevés de  commissions'!N8910,0)*1","v":0},{"$f":"IF('Relevés de  commissions'!D8910=\"AGI externes\",'Relevés de  commissions'!O8910,0)*1","v":0},{"$f":"IF('Relevés de  commissions'!D8910=\"AGI externes\",'Relevés de  commissions'!P8910,0)*1","v":0},0,""]
[null,null,null,null,null,null,null,null,null,null,null,null,{"$f":"IF('Relevés de  commissions'!D8931=\"AGI externes\",'Relevés de  commissions'!M8931,0)*1","v":0},{"$f":"IF('Relevés de  commissions'!D8931=\"AGI externes\",'Relevés de  commissions'!N8931,0)*1","v":0},{"$f":"IF('Relevés de  commissions'!D8931=\"AGI externes\",'Relevés de  commissions'!O8931,0)*1","v":0},{"$f":"IF('Relevés de  commissions'!D8931=\"AGI externes\",'Relevés de  commissions'!P8931,0)*1","v":0},0,""]
[null,null,null,null,null,null,null,null,null,null,null,null,{"$f":"IF('Relevés de  commissions'!D8937=\"AGI externes\",'Relevés de  commissions'!M8937,0)*1","v":0},{"$f":"IF('Relevés de  commissions'!D8937=\"AGI externes\",'Relevés de  commissions'!N8937,0)*1","v":0},{"$f":"IF('Relevés de  commissions'!D8937=\"AGI externes\",'Relevés de  commissions'!O8937,0)*1","v":0},{"$f":"IF('Relevés de  commissions'!D8937=\"AGI externes\",'Relevés de  commissions'!P8937,0)*1","v":0},0,""]
[null,null,null,null,null,null,null,null,null,null,null,null,{"$f":"IF('Relevés de  commissions'!D8943=\"AGI externes\",'Relevés de  commissions'!M8943,0)*1","v":0},{"$f":"IF('Relevés de  commissions'!D8943=\"AGI externes\",'Relevés de  commissions'!N8943,0)*1","v":0},{"$f":"IF('Relevés de  commissions'!D8943=\"AGI externes\",'Relevés de  commissions'!O8943,0)*1","v":0},{"$f":"IF('Relevés de  commissions'!D8943=\"AGI externes\",'Relevés de  commissions'!P8943,0)*1","v":0},0,""]
[null,null,null,null,null,null,null,null,null,null,null,null,{"$f":"IF('Relevés de  commissions'!D8955=\"AGI externes\",'Relevés de  commissions'!M8955,0)*1","v":0},{"$f":"IF('Relevés de  commissions'!D8955=\"AGI externes\",'Relevés de  commissions'!N8955,0)*1","v":0},{"$f":"IF('Relevés de  commissions'!D8955=\"AGI externes\",'Relevés de  commissions'!O8955,0)*1","v":0},{"$f":"IF('Relevés de  commissions'!D8955=\"AGI externes\",'Relevés de  commissions'!P8955,0)*1","v":0},0,""]
[null,null,null,null,null,null,null,null,null,null,null,null,{"$f":"IF('Relevés de  commissions'!D8969=\"AGI externes\",'Relevés de  commissions'!M8969,0)*1","v":0},{"$f":"IF('Relevés de  commissions'!D8969=\"AGI externes\",'Relevés de  commissions'!N8969,0)*1","v":0},{"$f":"IF('Relevés de  commissions'!D8969=\"AGI externes\",'Relevés de  commissions'!O8969,0)*1","v":0},{"$f":"IF('Relevés de  commissions'!D8969=\"AGI externes\",'Relevés de  commissions'!P8969,0)*1","v":0},0,""]
[null,null,null,null,null,null,null,null,null,null,null,null,{"$f":"IF('Relevés de  commissions'!D8975=\"AGI externes\",'Relevés de  commissions'!M8975,0)*1","v":0},{"$f":"IF('Relevés de  commissions'!D8975=\"AGI externes\",'Relevés de  commissions'!N8975,0)*1","v":0},{"$f":"IF('Relevés de  commissions'!D8975=\"AGI externes\",'Relevés de  commissions'!O8975,0)*1","v":0},{"$f":"IF('Relevés de  commissions'!D8975=\"AGI externes\",'Relevés de  commissions'!P8975,0)*1","v":0},0,""]
[null,null,null,null,null,null,null,null,null,null,null,null,{"$f":"IF('Relevés de  commissions'!D8996=\"AGI externes\",'Relevés de  commissions'!M8996,0)*1","v":0},{"$f":"IF('Relevés de  commissions'!D8996=\"AGI externes\",'Relevés de  commissions'!N8996,0)*1","v":0},{"$f":"IF('Relevés de  commissions'!D8996=\"AGI externes\",'Relevés de  commissions'!O8996,0)*1","v":0},{"$f":"IF('Relevés de  commissions'!D8996=\"AGI externes\",'Relevés de  commissions'!P8996,0)*1","v":0},0,""]
[null,null,null,null,null,null,null,null,null,null,null,null,{"$f":"IF('Relevés de  commissions'!D9002=\"AGI externes\",'Relevés de  commissions'!M9002,0)*1","v":0},{"$f":"IF('Relevés de  commissions'!D9002=\"AGI externes\",'Relevés de  commissions'!N9002,0)*1","v":0},{"$f":"IF('Relevés de  commissions'!D9002=\"AGI externes\",'Relevés de  commissions'!O9002,0)*1","v":0},{"$f":"IF('Relevés de  commissions'!D9002=\"AGI externes\",'Relevés de  commissions'!P9002,0)*1","v":0},0,""]
[null,null,null,null,null,null,null,null,null,null,null,null,{"$f":"IF('Relevés de  commissions'!D9012=\"AGI externes\",'Relevés de  commissions'!M9012,0)*1","v":0},{"$f":"IF('Relevés de  commissions'!D9012=\"AGI externes\",'Relevés de  commissions'!N9012,0)*1","v":0},{"$f":"IF('Relevés de  commissions'!D9012=\"AGI externes\",'Relevés de  commissions'!O9012,0)*1","v":0},{"$f":"IF('Relevés de  commissions'!D9012=\"AGI externes\",'Relevés de  commissions'!P9012,0)*1","v":0},0,""]
[null,null,null,null,null,null,null,null,null,null,null,null,{"$f":"IF('Relevés de  commissions'!D9022=\"AGI externes\",'Relevés de  commissions'!M9022,0)*1","v":0},{"$f":"IF('Relevés de  commissions'!D9022=\"AGI externes\",'Relevés de  commissions'!N9022,0)*1","v":0},{"$f":"IF('Relevés de  commissions'!D9022=\"AGI externes\",'Relevés de  commissions'!O9022,0)*1","v":0},{"$f":"IF('Relevés de  commissions'!D9022=\"AGI externes\",'Relevés de  commissions'!P9022,0)*1","v":0},0,""]
[null,null,null,null,null,null,null,null,null,null,null,null,{"$f":"IF('Relevés de  commissions'!D9034=\"AGI externes\",'Relevés de  commissions'!M9034,0)*1","v":0},{"$f":"IF('Relevés de  commissions'!D9034=\"AGI externes\",'Relevés de  commissions'!N9034,0)*1","v":0},{"$f":"IF('Relevés de  commissions'!D9034=\"AGI externes\",'Relevés de  commissions'!O9034,0)*1","v":0},{"$f":"IF('Relevés de  commissions'!D9034=\"AGI externes\",'Relevés de  commissions'!P9034,0)*1","v":0},0,""]
[null,null,null,null,null,null,null,null,null,null,null,null,{"$f":"IF('Relevés de  commissions'!D9044=\"AGI externes\",'Relevés de  commissions'!M9044,0)*1","v":0},{"$f":"IF('Relevés de  commissions'!D9044=\"AGI externes\",'Relevés de  commissions'!N9044,0)*1","v":0},{"$f":"IF('Relevés de  commissions'!D9044=\"AGI externes\",'Relevés de  commissions'!O9044,0)*1","v":0},{"$f":"IF('Relevés de  commissions'!D9044=\"AGI externes\",'Relevés de  commissions'!P9044,0)*1","v":0},0,""]
[null,null,null,null,null,null,null,null,null,null,null,null,{"$f":"IF('Relevés de  commissions'!D9061=\"AGI externes\",'Relevés de  commissions'!M9061,0)*1","v":0},{"$f":"IF('Relevés de  commissions'!D9061=\"AGI externes\",'Relevés de  commissions'!N9061,0)*1","v":0},{"$f":"IF('Relevés de  commissions'!D9061=\"AGI externes\",'Relevés de  commissions'!O9061,0)*1","v":0},{"$f":"IF('Relevés de  commissions'!D9061=\"AGI externes\",'Relevés de  commissions'!P9061,0)*1","v":0},0,""]
[null,null,null,null,null,null,null,null,null,null,null,null,{"$f":"IF('Relevés de  commissions'!D9071=\"AGI externes\",'Relevés de  commissions'!M9071,0)*1","v":0},{"$f":"IF('Relevés de  commissions'!D9071=\"AGI externes\",'Relevés de  commissions'!N9071,0)*1","v":0},{"$f":"IF('Relevés de  commissions'!D9071=\"AGI externes\",'Relevés de  commissions'!O9071,0)*1","v":0},{"$f":"IF('Relevés de  commissions'!D9071=\"AGI externes\",'Relevés de  commissions'!P9071,0)*1","v":0},0,""]
[null,null,null,null,null,null,null,null,null,null,null,null,{"$f":"IF('Relevés de  commissions'!D9077=\"AGI externes\",'Relevés de  commissions'!M9077,0)*1","v":0},{"$f":"IF('Relevés de  commissions'!D9077=\"AGI externes\",'Relevés de  commissions'!N9077,0)*1","v":0},{"$f":"IF('Relevés de  commissions'!D9077=\"AGI externes\",'Relevés de  commissions'!O9077,0)*1","v":0},{"$f":"IF('Relevés de  commissions'!D9077=\"AGI externes\",'Relevés de  commissions'!P9077,0)*1","v":0},0,""]
[null,null,null,null,null,null,null,null,null,null,null,null,{"$f":"IF('Relevés de  commissions'!D9089=\"AGI externes\",'Relevés de  commissions'!M9089,0)*1","v":0},{"$f":"IF('Relevés de  commissions'!D9089=\"AGI externes\",'Relevés de  commissions'!N9089,0)*1","v":0},{"$f":"IF('Relevés de  commissions'!D9089=\"AGI externes\",'Relevés de  commissions'!O9089,0)*1","v":0},{"$f":"IF('Relevés de  commissions'!D9089=\"AGI externes\",'Relevés de  commissions'!P9089,0)*1","v":0},0,""]
[null,null,null,null,null,null,null,null,null,null,null,null,{"$f":"IF('Relevés de  commissions'!D9103=\"AGI externes\",'Relevés de  commissions'!M9103,0)*1","v":0},{"$f":"IF('Relevés de  commissions'!D9103=\"AGI externes\",'Relevés de  commissions'!N9103,0)*1","v":0},{"$f":"IF('Relevés de  commissions'!D9103=\"AGI externes\",'Relevés de  commissions'!O9103,0)*1","v":0},{"$f":"IF('Relevés de  commissions'!D9103=\"AGI externes\",'Relevés de  commissions'!P9103,0)*1","v":0},0,""]
[null,null,null,null,null,null,null,null,null,null,null,null,{"$f":"IF('Relevés de  commissions'!D9109=\"AGI externes\",'Relevés de  commissions'!M9109,0)*1","v":0},{"$f":"IF('Relevés de  commissions'!D9109=\"AGI externes\",'Relevés de  commissions'!N9109,0)*1","v":0},{"$f":"IF('Relevés de  commissions'!D9109=\"AGI externes\",'Relevés de  commissions'!O9109,0)*1","v":0},{"$f":"IF('Relevés de  commissions'!D9109=\"AGI externes\",'Relevés de  commissions'!P9109,0)*1","v":0},0,""]
[null,null,null,null,null,null,null,null,null,null,null,null,{"$f":"IF('Relevés de  commissions'!D9126=\"AGI externes\",'Relevés de  commissions'!M9126,0)*1","v":0},{"$f":"IF('Relevés de  commissions'!D9126=\"AGI externes\",'Relevés de  commissions'!N9126,0)*1","v":0},{"$f":"IF('Relevés de  commissions'!D9126=\"AGI externes\",'Relevés de  commissions'!O9126,0)*1","v":0},{"$f":"IF('Relevés de  commissions'!D9126=\"AGI externes\",'Relevés de  commissions'!P9126,0)*1","v":0},0,""]
[null,null,null,null,null,null,null,null,null,null,null,null,{"$f":"IF('Relevés de  commissions'!D9136=\"AGI externes\",'Relevés de  commissions'!M9136,0)*1","v":0},{"$f":"IF('Relevés de  commissions'!D9136=\"AGI externes\",'Relevés de  commissions'!N9136,0)*1","v":0},{"$f":"IF('Relevés de  commissions'!D9136=\"AGI externes\",'Relevés de  commissions'!O9136,0)*1","v":0},{"$f":"IF('Relevés de  commissions'!D9136=\"AGI externes\",'Relevés de  commissions'!P9136,0)*1","v":0},0,""]
[null,null,null,null,null,null,null,null,null,null,null,null,{"$f":"IF('Relevés de  commissions'!D9142=\"AGI externes\",'Relevés de  commissions'!M9142,0)*1","v":0},{"$f":"IF('Relevés de  commissions'!D9142=\"AGI externes\",'Relevés de  commissions'!N9142,0)*1","v":0},{"$f":"IF('Relevés de  commissions'!D9142=\"AGI externes\",'Relevés de  commissions'!O9142,0)*1","v":0},{"$f":"IF('Relevés de  commissions'!D9142=\"AGI externes\",'Relevés de  commissions'!P9142,0)*1","v":0},0,""]
[null,null,null,null,null,null,null,null,null,null,null,null,{"$f":"IF('Relevés de  commissions'!D9152=\"AGI externes\",'Relevés de  commissions'!M9152,0)*1","v":0},{"$f":"IF('Relevés de  commissions'!D9152=\"AGI externes\",'Relevés de  commissions'!N9152,0)*1","v":0},{"$f":"IF('Relevés de  commissions'!D9152=\"AGI externes\",'Relevés de  commissions'!O9152,0)*1","v":0},{"$f":"IF('Relevés de  commissions'!D9152=\"AGI externes\",'Relevés de  commissions'!P9152,0)*1","v":0},0,""]
[null,null,null,null,null,null,null,null,null,null,null,null,{"$f":"IF('Relevés de  commissions'!D9168=\"AGI externes\",'Relevés de  commissions'!M9168,0)*1","v":0},{"$f":"IF('Relevés de  commissions'!D9168=\"AGI externes\",'Relevés de  commissions'!N9168,0)*1","v":0},{"$f":"IF('Relevés de  commissions'!D9168=\"AGI externes\",'Relevés de  commissions'!O9168,0)*1","v":0},{"$f":"IF('Relevés de  commissions'!D9168=\"AGI externes\",'Relevés de  commissions'!P9168,0)*1","v":0},0,""]
[null,null,null,null,null,null,null,null,null,null,null,null,{"$f":"IF('Relevés de  commissions'!D9174=\"AGI externes\",'Relevés de  commissions'!M9174,0)*1","v":0},{"$f":"IF('Relevés de  commissions'!D9174=\"AGI externes\",'Relevés de  commissions'!N9174,0)*1","v":0},{"$f":"IF('Relevés de  commissions'!D9174=\"AGI externes\",'Relevés de  commissions'!O9174,0)*1","v":0},{"$f":"IF('Relevés de  commissions'!D9174=\"AGI externes\",'Relevés de  commissions'!P9174,0)*1","v":0},0,""]
[null,null,null,null,null,null,null,null,null,null,null,null,{"$f":"IF('Relevés de  commissions'!D9184=\"AGI externes\",'Relevés de  commissions'!M9184,0)*1","v":0},{"$f":"IF('Relevés de  commissions'!D9184=\"AGI externes\",'Relevés de  commissions'!N9184,0)*1","v":0},{"$f":"IF('Relevés de  commissions'!D9184=\"AGI externes\",'Relevés de  commissions'!O9184,0)*1","v":0},{"$f":"IF('Relevés de  commissions'!D9184=\"AGI externes\",'Relevés de  commissions'!P9184,0)*1","v":0},0,""]
[null,null,null,null,null,null,null,null,null,null,null,null,{"$f":"IF('Relevés de  commissions'!D9201=\"AGI externes\",'Relevés de  commissions'!M9201,0)*1","v":0},{"$f":"IF('Relevés de  commissions'!D9201=\"AGI externes\",'Relevés de  commissions'!N9201,0)*1","v":0},{"$f":"IF('Relevés de  commissions'!D9201=\"AGI externes\",'Relevés de  commissions'!O9201,0)*1","v":0},{"$f":"IF('Relevés de  commissions'!D9201=\"AGI externes\",'Relevés de  commissions'!P9201,0)*1","v":0},0,""]
[null,null,null,null,null,null,null,null,null,null,null,null,{"$f":"IF('Relevés de  commissions'!D9211=\"AGI externes\",'Relevés de  commissions'!M9211,0)*1","v":0},{"$f":"IF('Relevés de  commissions'!D9211=\"AGI externes\",'Relevés de  commissions'!N9211,0)*1","v":0},{"$f":"IF('Relevés de  commissions'!D9211=\"AGI externes\",'Relevés de  commissions'!O9211,0)*1","v":0},{"$f":"IF('Relevés de  commissions'!D9211=\"AGI externes\",'Relevés de  commissions'!P9211,0)*1","v":0},0,""]
[null,null,null,null,null,null,null,null,null,null,null,null,{"$f":"IF('Relevés de  commissions'!D9219=\"AGI externes\",'Relevés de  commissions'!M9219,0)*1","v":0},{"$f":"IF('Relevés de  commissions'!D9219=\"AGI externes\",'Relevés de  commissions'!N9219,0)*1","v":0},{"$f":"IF('Relevés de  commissions'!D9219=\"AGI externes\",'Relevés de  commissions'!O9219,0)*1","v":0},{"$f":"IF('Relevés de  commissions'!D9219=\"AGI externes\",'Relevés de  commissions'!P9219,0)*1","v":0},{"$f":"IF(N9221=0,O9221,\"\")","v":0},""]
[null,null,null,null,null,null,null,null,null,null,null,null,{"$f":"IF('Relevés de  commissions'!D9233=\"AGI externes\",'Relevés de  commissions'!M9233,0)*1","v":0},{"$f":"IF('Relevés de  commissions'!D9233=\"AGI externes\",'Relevés de  commissions'!N9233,0)*1","v":0},{"$f":"IF('Relevés de  commissions'!D9233=\"AGI externes\",'Relevés de  commissions'!O9233,0)*1","v":0},{"$f":"IF('Relevés de  commissions'!D9233=\"AGI externes\",'Relevés de  commissions'!P9233,0)*1","v":0},0,""]
[null,null,null,null,null,null,null,null,null,null,null,null,{"$f":"IF('Relevés de  commissions'!D9243=\"AGI externes\",'Relevés de  commissions'!M9243,0)*1","v":0},{"$f":"IF('Relevés de  commissions'!D9243=\"AGI externes\",'Relevés de  commissions'!N9243,0)*1","v":0},{"$f":"IF('Relevés de  commissions'!D9243=\"AGI externes\",'Relevés de  commissions'!O9243,0)*1","v":0},{"$f":"IF('Relevés de  commissions'!D9243=\"AGI externes\",'Relevés de  commissions'!P9243,0)*1","v":0},0,""]
[null,null,null,null,null,null,null,null,null,null,null,null,{"$f":"IF('Relevés de  commissions'!D9249=\"AGI externes\",'Relevés de  commissions'!M9249,0)*1","v":0},{"$f":"IF('Relevés de  commissions'!D9249=\"AGI externes\",'Relevés de  commissions'!N9249,0)*1","v":0},{"$f":"IF('Relevés de  commissions'!D9249=\"AGI externes\",'Relevés de  commissions'!O9249,0)*1","v":0},{"$f":"IF('Relevés de  commissions'!D9249=\"AGI externes\",'Relevés de  commissions'!P9249,0)*1","v":0},0,""]
[null,null,null,null,null,null,null,null,null,null,null,null,{"$f":"IF('Relevés de  commissions'!D9266=\"AGI externes\",'Relevés de  commissions'!M9266,0)*1","v":0},{"$f":"IF('Relevés de  commissions'!D9266=\"AGI externes\",'Relevés de  commissions'!N9266,0)*1","v":0},{"$f":"IF('Relevés de  commissions'!D9266=\"AGI externes\",'Relevés de  commissions'!O9266,0)*1","v":0},{"$f":"IF('Relevés de  commissions'!D9266=\"AGI externes\",'Relevés de  commissions'!P9266,0)*1","v":0},0,""]
[null,null,null,null,null,null,null,null,null,null,null,null,{"$f":"IF('Relevés de  commissions'!D9276=\"AGI externes\",'Relevés de  commissions'!M9276,0)*1","v":0},{"$f":"IF('Relevés de  commissions'!D9276=\"AGI externes\",'Relevés de  commissions'!N9276,0)*1","v":0},{"$f":"IF('Relevés de  commissions'!D9276=\"AGI externes\",'Relevés de  commissions'!O9276,0)*1","v":0},{"$f":"IF('Relevés de  commissions'!D9276=\"AGI externes\",'Relevés de  commissions'!P9276,0)*1","v":0},0,""]
[null,null,null,null,null,null,null,null,null,null,null,null,{"$f":"IF('Relevés de  commissions'!D9286=\"AGI externes\",'Relevés de  commissions'!M9286,0)*1","v":0},{"$f":"IF('Relevés de  commissions'!D9286=\"AGI externes\",'Relevés de  commissions'!N9286,0)*1","v":0},{"$f":"IF('Relevés de  commissions'!D9286=\"AGI externes\",'Relevés de  commissions'!O9286,0)*1","v":0},{"$f":"IF('Relevés de  commissions'!D9286=\"AGI externes\",'Relevés de  commissions'!P9286,0)*1","v":0},0,""]
[null,null,null,null,null,null,null,null,null,null,null,null,{"$f":"IF('Relevés de  commissions'!D9291=\"AGI externes\",'Relevés de  commissions'!M9291,0)*1","v":0},{"$f":"IF('Relevés de  commissions'!D9291=\"AGI externes\",'Relevés de  commissions'!N9291,0)*1","v":0},{"$f":"IF('Relevés de  commissions'!D9291=\"AGI externes\",'Relevés de  commissions'!O9291,0)*1","v":0},{"$f":"IF('Relevés de  commissions'!D9291=\"AGI externes\",'Relevés de  commissions'!P9291,0)*1","v":0},0,""]
[null,null,null,null,null,null,null,null,null,null,null,null,{"$f":"IF('Relevés de  commissions'!D9308=\"AGI externes\",'Relevés de  commissions'!M9308,0)*1","v":0},{"$f":"IF('Relevés de  commissions'!D9308=\"AGI externes\",'Relevés de  commissions'!N9308,0)*1","v":0},{"$f":"IF('Relevés de  commissions'!D9308=\"AGI externes\",'Relevés de  commissions'!O9308,0)*1","v":0},{"$f":"IF('Relevés de  commissions'!D9308=\"AGI externes\",'Relevés de  commissions'!P9308,0)*1","v":0},0,{"$f":"IF(N9310=10,O9310,\"\")","v":""}]
[null,null,null,null,null,null,null,null,null,null,null,null,{"$f":"IF('Relevés de  commissions'!D9314=\"AGI externes\",'Relevés de  commissions'!M9314,0)*1","v":0},{"$f":"IF('Relevés de  commissions'!D9314=\"AGI externes\",'Relevés de  commissions'!N9314,0)*1","v":0},{"$f":"IF('Relevés de  commissions'!D9314=\"AGI externes\",'Relevés de  commissions'!O9314,0)*1","v":0},{"$f":"IF('Relevés de  commissions'!D9314=\"AGI externes\",'Relevés de  commissions'!P9314,0)*1","v":0},0,""]
[null,null,null,null,null,null,null,null,null,null,null,null,{"$f":"IF('Relevés de  commissions'!D9324=\"AGI externes\",'Relevés de  commissions'!M9324,0)*1","v":0},{"$f":"IF('Relevés de  commissions'!D9324=\"AGI externes\",'Relevés de  commissions'!N9324,0)*1","v":0},{"$f":"IF('Relevés de  commissions'!D9324=\"AGI externes\",'Relevés de  commissions'!O9324,0)*1","v":0},{"$f":"IF('Relevés de  commissions'!D9324=\"AGI externes\",'Relevés de  commissions'!P9324,0)*1","v":0},0,""]
[null,null,null,null,null,null,null,null,null,null,null,null,{"$f":"IF('Relevés de  commissions'!D9341=\"AGI externes\",'Relevés de  commissions'!M9341,0)*1","v":0},{"$f":"IF('Relevés de  commissions'!D9341=\"AGI externes\",'Relevés de  commissions'!N9341,0)*1","v":0},{"$f":"IF('Relevés de  commissions'!D9341=\"AGI externes\",'Relevés de  commissions'!O9341,0)*1","v":0},{"$f":"IF('Relevés de  commissions'!D9341=\"AGI externes\",'Relevés de  commissions'!P9341,0)*1","v":0},0,""]
[null,null,null,null,null,null,null,null,null,null,null,null,{"$f":"IF('Relevés de  commissions'!D9353=\"AGI externes\",'Relevés de  commissions'!M9353,0)*1","v":0},{"$f":"IF('Relevés de  commissions'!D9353=\"AGI externes\",'Relevés de  commissions'!N9353,0)*1","v":0},{"$f":"IF('Relevés de  commissions'!D9353=\"AGI externes\",'Relevés de  commissions'!O9353,0)*1","v":0},{"$f":"IF('Relevés de  commissions'!D9353=\"AGI externes\",'Relevés de  commissions'!P9353,0)*1","v":0},0,""]
[null,null,null,null,null,null,null,null,null,null,null,null,{"$f":"IF('Relevés de  commissions'!D9356=\"AGI externes\",'Relevés de  commissions'!M9356,0)*1","v":0},{"$f":"IF('Relevés de  commissions'!D9356=\"AGI externes\",'Relevés de  commissions'!N9356,0)*1","v":0},{"$f":"IF('Relevés de  commissions'!D9356=\"AGI externes\",'Relevés de  commissions'!O9356,0)*1","v":0},{"$f":"IF('Relevés de  commissions'!D9356=\"AGI externes\",'Relevés de  commissions'!P9356,0)*1","v":0},0,""]
[null,null,null,null,null,null,null,null,null,null,null,null,{"$f":"IF('Relevés de  commissions'!D9373=\"AGI externes\",'Relevés de  commissions'!M9373,0)*1","v":0},{"$f":"IF('Relevés de  commissions'!D9373=\"AGI externes\",'Relevés de  commissions'!N9373,0)*1","v":0},{"$f":"IF('Relevés de  commissions'!D9373=\"AGI externes\",'Relevés de  commissions'!O9373,0)*1","v":0},{"$f":"IF('Relevés de  commissions'!D9373=\"AGI externes\",'Relevés de  commissions'!P9373,0)*1","v":0},0,""]
[null,null,null,null,null,null,null,null,null,null,null,null,{"$f":"IF('Relevés de  commissions'!D9383=\"AGI externes\",'Relevés de  commissions'!M9383,0)*1","v":0},{"$f":"IF('Relevés de  commissions'!D9383=\"AGI externes\",'Relevés de  commissions'!N9383,0)*1","v":0},{"$f":"IF('Relevés de  commissions'!D9383=\"AGI externes\",'Relevés de  commissions'!O9383,0)*1","v":0},{"$f":"IF('Relevés de  commissions'!D9383=\"AGI externes\",'Relevés de  commissions'!P9383,0)*1","v":0},0,""]
[null,null,null,null,null,null,null,null,null,null,null,null,{"$f":"IF('Relevés de  commissions'!D9389=\"AGI externes\",'Relevés de  commissions'!M9389,0)*1","v":0},{"$f":"IF('Relevés de  commissions'!D9389=\"AGI externes\",'Relevés de  commissions'!N9389,0)*1","v":0},{"$f":"IF('Relevés de  commissions'!D9389=\"AGI externes\",'Relevés de  commissions'!O9389,0)*1","v":0},{"$f":"IF('Relevés de  commissions'!D9389=\"AGI externes\",'Relevés de  commissions'!P9389,0)*1","v":0},0,""]
[null,null,null,null,null,null,null,null,null,null,null,null,{"$f":"IF('Relevés de  commissions'!D9406=\"AGI externes\",'Relevés de  commissions'!M9406,0)*1","v":0},{"$f":"IF('Relevés de  commissions'!D9406=\"AGI externes\",'Relevés de  commissions'!N9406,0)*1","v":0},{"$f":"IF('Relevés de  commissions'!D9406=\"AGI externes\",'Relevés de  commissions'!O9406,0)*1","v":0},{"$f":"IF('Relevés de  commissions'!D9406=\"AGI externes\",'Relevés de  commissions'!P9406,0)*1","v":0},0,""]
[null,null,null,null,null,null,null,null,null,null,null,null,{"$f":"IF('Relevés de  commissions'!D9416=\"AGI externes\",'Relevés de  commissions'!M9416,0)*1","v":0},{"$f":"IF('Relevés de  commissions'!D9416=\"AGI externes\",'Relevés de  commissions'!N9416,0)*1","v":0},{"$f":"IF('Relevés de  commissions'!D9416=\"AGI externes\",'Relevés de  commissions'!O9416,0)*1","v":0},{"$f":"IF('Relevés de  commissions'!D9416=\"AGI externes\",'Relevés de  commissions'!P9416,0)*1","v":0},0,""]
[null,null,null,null,null,null,null,null,null,null,null,null,{"$f":"IF('Relevés de  commissions'!D9421=\"AGI externes\",'Relevés de  commissions'!M9421,0)*1","v":0},{"$f":"IF('Relevés de  commissions'!D9421=\"AGI externes\",'Relevés de  commissions'!N9421,0)*1","v":0},{"$f":"IF('Relevés de  commissions'!D9421=\"AGI externes\",'Relevés de  commissions'!O9421,0)*1","v":0},{"$f":"IF('Relevés de  commissions'!D9421=\"AGI externes\",'Relevés de  commissions'!P9421,0)*1","v":0},0,""]
[null,null,null,null,null,null,null,null,null,null,null,null,{"$f":"IF('Relevés de  commissions'!D9431=\"AGI externes\",'Relevés de  commissions'!M9431,0)*1","v":0},{"$f":"IF('Relevés de  commissions'!D9431=\"AGI externes\",'Relevés de  commissions'!N9431,0)*1","v":0},{"$f":"IF('Relevés de  commissions'!D9431=\"AGI externes\",'Relevés de  commissions'!O9431,0)*1","v":0},{"$f":"IF('Relevés de  commissions'!D9431=\"AGI externes\",'Relevés de  commissions'!P9431,0)*1","v":0},0,""]
[null,null,null,null,null,null,null,null,null,null,null,null,{"$f":"IF('Relevés de  commissions'!D9448=\"AGI externes\",'Relevés de  commissions'!M9448,0)*1","v":0},{"$f":"IF('Relevés de  commissions'!D9448=\"AGI externes\",'Relevés de  commissions'!N9448,0)*1","v":0},{"$f":"IF('Relevés de  commissions'!D9448=\"AGI externes\",'Relevés de  commissions'!O9448,0)*1","v":0},{"$f":"IF('Relevés de  commissions'!D9448=\"AGI externes\",'Relevés de  commissions'!P9448,0)*1","v":0},0,""]
[null,null,null,null,null,null,null,null,null,null,null,null,{"$f":"IF('Relevés de  commissions'!D9454=\"AGI externes\",'Relevés de  commissions'!M9454,0)*1","v":0},{"$f":"IF('Relevés de  commissions'!D9454=\"AGI externes\",'Relevés de  commissions'!N9454,0)*1","v":0},{"$f":"IF('Relevés de  commissions'!D9454=\"AGI externes\",'Relevés de  commissions'!O9454,0)*1","v":0},{"$f":"IF('Relevés de  commissions'!D9454=\"AGI externes\",'Relevés de  commissions'!P9454,0)*1","v":0},0,""]
[null,null,null,null,null,null,null,null,null,null,null,null,{"$f":"IF('Relevés de  commissions'!D9464=\"AGI externes\",'Relevés de  commissions'!M9464,0)*1","v":0},{"$f":"IF('Relevés de  commissions'!D9464=\"AGI externes\",'Relevés de  commissions'!N9464,0)*1","v":0},{"$f":"IF('Relevés de  commissions'!D9464=\"AGI externes\",'Relevés de  commissions'!O9464,0)*1","v":0},{"$f":"IF('Relevés de  commissions'!D9464=\"AGI externes\",'Relevés de  commissions'!P9464,0)*1","v":0},0,""]
[null,null,null,null,null,null,null,null,null,null,null,null,{"$f":"IF('Relevés de  commissions'!D9483=\"AGI externes\",'Relevés de  commissions'!M9483,0)*1","v":0},{"$f":"IF('Relevés de  commissions'!D9483=\"AGI externes\",'Relevés de  commissions'!N9483,0)*1","v":0},{"$f":"IF('Relevés de  commissions'!D9483=\"AGI externes\",'Relevés de  commissions'!O9483,0)*1","v":0},{"$f":"IF('Relevés de  commissions'!D9483=\"AGI externes\",'Relevés de  commissions'!P9483,0)*1","v":0},0,""]
[null,null,null,null,null,null,null,null,null,null,null,null,{"$f":"IF('Relevés de  commissions'!D9486=\"AGI externes\",'Relevés de  commissions'!M9486,0)*1","v":0},{"$f":"IF('Relevés de  commissions'!D9486=\"AGI externes\",'Relevés de  commissions'!N9486,0)*1","v":0},{"$f":"IF('Relevés de  commissions'!D9486=\"AGI externes\",'Relevés de  commissions'!O9486,0)*1","v":0},{"$f":"IF('Relevés de  commissions'!D9486=\"AGI externes\",'Relevés de  commissions'!P9486,0)*1","v":0},0,""]
[null,null,null,null,null,null,null,null,null,null,null,null,{"$f":"IF('Relevés de  commissions'!D9496=\"AGI externes\",'Relevés de  commissions'!M9496,0)*1","v":0},{"$f":"IF('Relevés de  commissions'!D9496=\"AGI externes\",'Relevés de  commissions'!N9496,0)*1","v":0},{"$f":"IF('Relevés de  commissions'!D9496=\"AGI externes\",'Relevés de  commissions'!O9496,0)*1","v":0},{"$f":"IF('Relevés de  commissions'!D9496=\"AGI externes\",'Relevés de  commissions'!P9496,0)*1","v":0},0,""]
[null,null,null,null,null,null,null,null,null,null,null,null,{"$f":"IF('Relevés de  commissions'!D9513=\"AGI externes\",'Relevés de  commissions'!M9513,0)*1","v":0},{"$f":"IF('Relevés de  commissions'!D9513=\"AGI externes\",'Relevés de  commissions'!N9513,0)*1","v":0},{"$f":"IF('Relevés de  commissions'!D9513=\"AGI externes\",'Relevés de  commissions'!O9513,0)*1","v":0},{"$f":"IF('Relevés de  commissions'!D9513=\"AGI externes\",'Relevés de  commissions'!P9513,0)*1","v":0},0,""]
[null,null,null,null,null,null,null,null,null,null,null,null,{"$f":"IF('Relevés de  commissions'!D9523=\"AGI externes\",'Relevés de  commissions'!M9523,0)*1","v":0},{"$f":"IF('Relevés de  commissions'!D9523=\"AGI externes\",'Relevés de  commissions'!N9523,0)*1","v":0},{"$f":"IF('Relevés de  commissions'!D9523=\"AGI externes\",'Relevés de  commissions'!O9523,0)*1","v":0},{"$f":"IF('Relevés de  commissions'!D9523=\"AGI externes\",'Relevés de  commissions'!P9523,0)*1","v":0},0,""]
[null,null,null,null,null,null,null,null,null,null,null,null,{"$f":"IF('Relevés de  commissions'!D9529=\"AGI externes\",'Relevés de  commissions'!M9529,0)*1","v":0},{"$f":"IF('Relevés de  commissions'!D9529=\"AGI externes\",'Relevés de  commissions'!N9529,0)*1","v":0},{"$f":"IF('Relevés de  commissions'!D9529=\"AGI externes\",'Relevés de  commissions'!O9529,0)*1","v":0},{"$f":"IF('Relevés de  commissions'!D9529=\"AGI externes\",'Relevés de  commissions'!P9529,0)*1","v":0},0,""]
[null,null,null,null,null,null,null,null,null,null,null,null,{"$f":"IF('Relevés de  commissions'!D9540=\"AGI externes\",'Relevés de  commissions'!M9540,0)*1","v":0},{"$f":"IF('Relevés de  commissions'!D9540=\"AGI externes\",'Relevés de  commissions'!N9540,0)*1","v":0},{"$f":"IF('Relevés de  commissions'!D9540=\"AGI externes\",'Relevés de  commissions'!O9540,0)*1","v":0},{"$f":"IF('Relevés de  commissions'!D9540=\"AGI externes\",'Relevés de  commissions'!P9540,0)*1","v":0},0,""]
[null,null,null,null,null,null,null,null,null,null,null,null,{"$f":"IF('Relevés de  commissions'!D9555=\"AGI externes\",'Relevés de  commissions'!M9555,0)*1","v":0},{"$f":"IF('Relevés de  commissions'!D9555=\"AGI externes\",'Relevés de  commissions'!N9555,0)*1","v":0},{"$f":"IF('Relevés de  commissions'!D9555=\"AGI externes\",'Relevés de  commissions'!O9555,0)*1","v":0},{"$f":"IF('Relevés de  commissions'!D9555=\"AGI externes\",'Relevés de  commissions'!P9555,0)*1","v":0},0,""]
[null,null,null,null,null,null,null,null,null,null,null,null,{"$f":"IF('Relevés de  commissions'!D9561=\"AGI externes\",'Relevés de  commissions'!M9561,0)*1","v":0},{"$f":"IF('Relevés de  commissions'!D9561=\"AGI externes\",'Relevés de  commissions'!N9561,0)*1","v":0},{"$f":"IF('Relevés de  commissions'!D9561=\"AGI externes\",'Relevés de  commissions'!O9561,0)*1","v":0},{"$f":"IF('Relevés de  commissions'!D9561=\"AGI externes\",'Relevés de  commissions'!P9561,0)*1","v":0},0,""]
[null,null,null,null,null,null,null,null,null,null,null,null,{"$f":"IF('Relevés de  commissions'!D9578=\"AGI externes\",'Relevés de  commissions'!M9578,0)*1","v":0},{"$f":"IF('Relevés de  commissions'!D9578=\"AGI externes\",'Relevés de  commissions'!N9578,0)*1","v":0},{"$f":"IF('Relevés de  commissions'!D9578=\"AGI externes\",'Relevés de  commissions'!O9578,0)*1","v":0},{"$f":"IF('Relevés de  commissions'!D9578=\"AGI externes\",'Relevés de  commissions'!P9578,0)*1","v":0},0,""]
[null,null,null,null,null,null,null,null,null,null,null,null,{"$f":"IF('Relevés de  commissions'!D9588=\"AGI externes\",'Relevés de  commissions'!M9588,0)*1","v":0},{"$f":"IF('Relevés de  commissions'!D9588=\"AGI externes\",'Relevés de  commissions'!N9588,0)*1","v":0},{"$f":"IF('Relevés de  commissions'!D9588=\"AGI externes\",'Relevés de  commissions'!O9588,0)*1","v":0},{"$f":"IF('Relevés de  commissions'!D9588=\"AGI externes\",'Relevés de  commissions'!P9588,0)*1","v":0},0,""]
[null,null,null,null,null,null,null,null,null,null,null,null,{"$f":"IF('Relevés de  commissions'!D9594=\"AGI externes\",'Relevés de  commissions'!M9594,0)*1","v":0},{"$f":"IF('Relevés de  commissions'!D9594=\"AGI externes\",'Relevés de  commissions'!N9594,0)*1","v":0},{"$f":"IF('Relevés de  commissions'!D9594=\"AGI externes\",'Relevés de  commissions'!O9594,0)*1","v":0},{"$f":"IF('Relevés de  commissions'!D9594=\"AGI externes\",'Relevés de  commissions'!P9594,0)*1","v":0},0,""]
[null,null,null,null,null,null,null,null,null,null,null,null,{"$f":"IF('Relevés de  commissions'!D9613=\"AGI externes\",'Relevés de  commissions'!M9613,0)*1","v":0},{"$f":"IF('Relevés de  commissions'!D9613=\"AGI externes\",'Relevés de  commissions'!N9613,0)*1","v":0},{"$f":"IF('Relevés de  commissions'!D9613=\"AGI externes\",'Relevés de  commissions'!O9613,0)*1","v":0},{"$f":"IF('Relevés de  commissions'!D9613=\"AGI externes\",'Relevés de  commissions'!P9613,0)*1","v":0},0,""]
[null,null,null,null,null,null,null,null,null,null,null,null,{"$f":"IF('Relevés de  commissions'!D9620=\"AGI externes\",'Relevés de  commissions'!M9620,0)*1","v":0},{"$f":"IF('Relevés de  commissions'!D9620=\"AGI externes\",'Relevés de  commissions'!N9620,0)*1","v":0},{"$f":"IF('Relevés de  commissions'!D9620=\"AGI externes\",'Relevés de  commissions'!O9620,0)*1","v":0},{"$f":"IF('Relevés de  commissions'!D9620=\"AGI externes\",'Relevés de  commissions'!P9620,0)*1","v":0},0,""]
[null,null,null,null,null,null,null,null,null,null,null,null,{"$f":"IF('Relevés de  commissions'!D9626=\"AGI externes\",'Relevés de  commissions'!M9626,0)*1","v":0},{"$f":"IF('Relevés de  commissions'!D9626=\"AGI externes\",'Relevés de  commissions'!N9626,0)*1","v":0},{"$f":"IF('Relevés de  commissions'!D9626=\"AGI externes\",'Relevés de  commissions'!O9626,0)*1","v":0},{"$f":"IF('Relevés de  commissions'!D9626=\"AGI externes\",'Relevés de  commissions'!P9626,0)*1","v":0},0,""]
[null,null,null,null,null,null,null,null,null,null,null,null,{"$f":"IF('Relevés de  commissions'!D9636=\"AGI externes\",'Relevés de  commissions'!M9636,0)*1","v":0},{"$f":"IF('Relevés de  commissions'!D9636=\"AGI externes\",'Relevés de  commissions'!N9636,0)*1","v":0},{"$f":"IF('Relevés de  commissions'!D9636=\"AGI externes\",'Relevés de  commissions'!O9636,0)*1","v":0},{"$f":"IF('Relevés de  commissions'!D9636=\"AGI externes\",'Relevés de  commissions'!P9636,0)*1","v":0},0,""]
[null,null,null,null,null,null,null,null,null,null,null,null,{"$f":"IF('Relevés de  commissions'!D9653=\"AGI externes\",'Relevés de  commissions'!M9653,0)*1","v":0},{"$f":"IF('Relevés de  commissions'!D9653=\"AGI externes\",'Relevés de  commissions'!N9653,0)*1","v":0},{"$f":"IF('Relevés de  commissions'!D9653=\"AGI externes\",'Relevés de  commissions'!O9653,0)*1","v":0},{"$f":"IF('Relevés de  commissions'!D9653=\"AGI externes\",'Relevés de  commissions'!P9653,0)*1","v":0},0,""]
[null,null,null,null,null,null,null,null,null,null,null,null,{"$f":"IF('Relevés de  commissions'!D9663=\"AGI externes\",'Relevés de  commissions'!M9663,0)*1","v":0},{"$f":"IF('Relevés de  commissions'!D9663=\"AGI externes\",'Relevés de  commissions'!N9663,0)*1","v":0},{"$f":"IF('Relevés de  commissions'!D9663=\"AGI externes\",'Relevés de  commissions'!O9663,0)*1","v":0},{"$f":"IF('Relevés de  commissions'!D9663=\"AGI externes\",'Relevés de  commissions'!P9663,0)*1","v":0},0,""]
[null,null,null,null,null,null,null,null,null,null,null,null,{"$f":"IF('Relevés de  commissions'!D9670=\"AGI externes\",'Relevés de  commissions'!M9670,0)*1","v":0},{"$f":"IF('Relevés de  commissions'!D9670=\"AGI externes\",'Relevés de  commissions'!N9670,0)*1","v":0},{"$f":"IF('Relevés de  commissions'!D9670=\"AGI externes\",'Relevés de  commissions'!O9670,0)*1","v":0},{"$f":"IF('Relevés de  commissions'!D9670=\"AGI externes\",'Relevés de  commissions'!P9670,0)*1","v":0},0,""]
[null,null,null,null,null,null,null,null,null,null,null,null,{"$f":"IF('Relevés de  commissions'!D9685=\"AGI externes\",'Relevés de  commissions'!M9685,0)*1","v":0},{"$f":"IF('Relevés de  commissions'!D9685=\"AGI externes\",'Relevés de  commissions'!N9685,0)*1","v":0},{"$f":"IF('Relevés de  commissions'!D9685=\"AGI externes\",'Relevés de  commissions'!O9685,0)*1","v":0},{"$f":"IF('Relevés de  commissions'!D9685=\"AGI externes\",'Relevés de  commissions'!P9685,0)*1","v":0},0,""]
[null,null,null,null,null,null,null,null,null,null,null,null,{"$f":"IF('Relevés de  commissions'!D9695=\"AGI externes\",'Relevés de  commissions'!M9695,0)*1","v":0},{"$f":"IF('Relevés de  commissions'!D9695=\"AGI externes\",'Relevés de  commissions'!N9695,0)*1","v":0},{"$f":"IF('Relevés de  commissions'!D9695=\"AGI externes\",'Relevés de  commissions'!O9695,0)*1","v":0},{"$f":"IF('Relevés de  commissions'!D9695=\"AGI externes\",'Relevés de  commissions'!P9695,0)*1","v":0},0,""]
[null,null,null,null,null,null,null,null,null,null,null,null,{"$f":"IF('Relevés de  commissions'!D9701=\"AGI externes\",'Relevés de  commissions'!M9701,0)*1","v":0},{"$f":"IF('Relevés de  commissions'!D9701=\"AGI externes\",'Relevés de  commissions'!N9701,0)*1","v":0},{"$f":"IF('Relevés de  commissions'!D9701=\"AGI externes\",'Relevés de  commissions'!O9701,0)*1","v":0},{"$f":"IF('Relevés de  commissions'!D9701=\"AGI externes\",'Relevés de  commissions'!P9701,0)*1","v":0},0,""]
[null,null,null,null,null,null,null,null,null,null,null,null,{"$f":"IF('Relevés de  commissions'!D9718=\"AGI externes\",'Relevés de  commissions'!M9718,0)*1","v":0},{"$f":"IF('Relevés de  commissions'!D9718=\"AGI externes\",'Relevés de  commissions'!N9718,0)*1","v":0},{"$f":"IF('Relevés de  commissions'!D9718=\"AGI externes\",'Relevés de  commissions'!O9718,0)*1","v":0},{"$f":"IF('Relevés de  commissions'!D9718=\"AGI externes\",'Relevés de  commissions'!P9718,0)*1","v":0},0,""]
[null,null,null,null,null,null,null,null,null,null,null,null,{"$f":"IF('Relevés de  commissions'!D9728=\"AGI externes\",'Relevés de  commissions'!M9728,0)*1","v":0},{"$f":"IF('Relevés de  commissions'!D9728=\"AGI externes\",'Relevés de  commissions'!N9728,0)*1","v":0},{"$f":"IF('Relevés de  commissions'!D9728=\"AGI externes\",'Relevés de  commissions'!O9728,0)*1","v":0},{"$f":"IF('Relevés de  commissions'!D9728=\"AGI externes\",'Relevés de  commissions'!P9728,0)*1","v":0},0,""]
[null,null,null,null,null,null,null,null,null,null,null,null,{"$f":"IF('Relevés de  commissions'!D9737=\"AGI externes\",'Relevés de  commissions'!M9737,0)*1","v":0},{"$f":"IF('Relevés de  commissions'!D9737=\"AGI externes\",'Relevés de  commissions'!N9737,0)*1","v":0},{"$f":"IF('Relevés de  commissions'!D9737=\"AGI externes\",'Relevés de  commissions'!O9737,0)*1","v":0},{"$f":"IF('Relevés de  commissions'!D9737=\"AGI externes\",'Relevés de  commissions'!P9737,0)*1","v":0},0,""]
[null,null,null,null,null,null,null,null,null,null,null,null,{"$f":"IF('Relevés de  commissions'!D9754=\"AGI externes\",'Relevés de  commissions'!M9754,0)*1","v":0},{"$f":"IF('Relevés de  commissions'!D9754=\"AGI externes\",'Relevés de  commissions'!N9754,0)*1","v":0},{"$f":"IF('Relevés de  commissions'!D9754=\"AGI externes\",'Relevés de  commissions'!O9754,0)*1","v":0},{"$f":"IF('Relevés de  commissions'!D9754=\"AGI externes\",'Relevés de  commissions'!P9754,0)*1","v":0},0,""]
[null,null,null,null,null,null,null,null,null,null,null,null,{"$f":"IF('Relevés de  commissions'!D9760=\"AGI externes\",'Relevés de  commissions'!M9760,0)*1","v":0},{"$f":"IF('Relevés de  commissions'!D9760=\"AGI externes\",'Relevés de  commissions'!N9760,0)*1","v":0},{"$f":"IF('Relevés de  commissions'!D9760=\"AGI externes\",'Relevés de  commissions'!O9760,0)*1","v":0},{"$f":"IF('Relevés de  commissions'!D9760=\"AGI externes\",'Relevés de  commissions'!P9760,0)*1","v":0},0,""]
[null,null,null,null,null,null,null,null,null,null,null,null,{"$f":"IF('Relevés de  commissions'!D9766=\"AGI externes\",'Relevés de  commissions'!M9766,0)*1","v":0},{"$f":"IF('Relevés de  commissions'!D9766=\"AGI externes\",'Relevés de  commissions'!N9766,0)*1","v":0},{"$f":"IF('Relevés de  commissions'!D9766=\"AGI externes\",'Relevés de  commissions'!O9766,0)*1","v":0},{"$f":"IF('Relevés de  commissions'!D9766=\"AGI externes\",'Relevés de  commissions'!P9766,0)*1","v":0},0,""]
[null,null,null,null,null,null,null,null,null,null,null,null,{"$f":"IF('Relevés de  commissions'!D9787=\"AGI externes\",'Relevés de  commissions'!M9787,0)*1","v":0},{"$f":"IF('Relevés de  commissions'!D9787=\"AGI externes\",'Relevés de  commissions'!N9787,0)*1","v":0},{"$f":"IF('Relevés de  commissions'!D9787=\"AGI externes\",'Relevés de  commissions'!O9787,0)*1","v":0},{"$f":"IF('Relevés de  commissions'!D9787=\"AGI externes\",'Relevés de  commissions'!P9787,0)*1","v":0},0,""]
[null,null,null,null,null,null,null,null,null,null,null,null,{"$f":"IF('Relevés de  commissions'!D9793=\"AGI externes\",'Relevés de  commissions'!M9793,0)*1","v":0},{"$f":"IF('Relevés de  commissions'!D9793=\"AGI externes\",'Relevés de  commissions'!N9793,0)*1","v":0},{"$f":"IF('Relevés de  commissions'!D9793=\"AGI externes\",'Relevés de  commissions'!O9793,0)*1","v":0},{"$f":"IF('Relevés de  commissions'!D9793=\"AGI externes\",'Relevés de  commissions'!P9793,0)*1","v":0},0,""]
[null,null,null,null,null,null,null,null,null,null,null,null,{"$f":"IF('Relevés de  commissions'!D9800=\"AGI externes\",'Relevés de  commissions'!M9800,0)*1","v":0},{"$f":"IF('Relevés de  commissions'!D9800=\"AGI externes\",'Relevés de  commissions'!N9800,0)*1","v":0},{"$f":"IF('Relevés de  commissions'!D9800=\"AGI externes\",'Relevés de  commissions'!O9800,0)*1","v":0},{"$f":"IF('Relevés de  commissions'!D9800=\"AGI externes\",'Relevés de  commissions'!P9800,0)*1","v":0},0,""]
[null,null,null,null,null,null,null,null,null,null,null,null,{"$f":"IF('Relevés de  commissions'!D9819=\"AGI externes\",'Relevés de  commissions'!M9819,0)*1","v":0},{"$f":"IF('Relevés de  commissions'!D9819=\"AGI externes\",'Relevés de  commissions'!N9819,0)*1","v":0},{"$f":"IF('Relevés de  commissions'!D9819=\"AGI externes\",'Relevés de  commissions'!O9819,0)*1","v":0},{"$f":"IF('Relevés de  commissions'!D9819=\"AGI externes\",'Relevés de  commissions'!P9819,0)*1","v":0},0,""]
[null,null,null,null,null,null,null,null,null,null,null,null,{"$f":"IF('Relevés de  commissions'!D9825=\"AGI externes\",'Relevés de  commissions'!M9825,0)*1","v":0},{"$f":"IF('Relevés de  commissions'!D9825=\"AGI externes\",'Relevés de  commissions'!N9825,0)*1","v":0},{"$f":"IF('Relevés de  commissions'!D9825=\"AGI externes\",'Relevés de  commissions'!O9825,0)*1","v":0},{"$f":"IF('Relevés de  commissions'!D9825=\"AGI externes\",'Relevés de  commissions'!P9825,0)*1","v":0},0,""]
[null,null,null,null,null,null,null,null,null,null,null,null,{"$f":"IF('Relevés de  commissions'!D9835=\"AGI externes\",'Relevés de  commissions'!M9835,0)*1","v":0},{"$f":"IF('Relevés de  commissions'!D9835=\"AGI externes\",'Relevés de  commissions'!N9835,0)*1","v":0},{"$f":"IF('Relevés de  commissions'!D9835=\"AGI externes\",'Relevés de  commissions'!O9835,0)*1","v":0},{"$f":"IF('Relevés de  commissions'!D9835=\"AGI externes\",'Relevés de  commissions'!P9835,0)*1","v":0},0,""]
[null,null,null,null,null,null,null,null,null,null,null,null,{"$f":"IF('Relevés de  commissions'!D9852=\"AGI externes\",'Relevés de  commissions'!M9852,0)*1","v":0},{"$f":"IF('Relevés de  commissions'!D9852=\"AGI externes\",'Relevés de  commissions'!N9852,0)*1","v":0},{"$f":"IF('Relevés de  commissions'!D9852=\"AGI externes\",'Relevés de  commissions'!O9852,0)*1","v":0},{"$f":"IF('Relevés de  commissions'!D9852=\"AGI externes\",'Relevés de  commissions'!P9852,0)*1","v":0},0,""]
[null,null,null,null,null,null,null,null,null,null,null,null,{"$f":"IF('Relevés de  commissions'!D9858=\"AGI externes\",'Relevés de  commissions'!M9858,0)*1","v":0},{"$f":"IF('Relevés de  commissions'!D9858=\"AGI externes\",'Relevés de  commissions'!N9858,0)*1","v":0},{"$f":"IF('Relevés de  commissions'!D9858=\"AGI externes\",'Relevés de  commissions'!O9858,0)*1","v":0},{"$f":"IF('Relevés de  commissions'!D9858=\"AGI externes\",'Relevés de  commissions'!P9858,0)*1","v":0},0,""]
[null,null,null,null,null,null,null,null,null,null,null,null,{"$f":"IF('Relevés de  commissions'!D9867=\"AGI externes\",'Relevés de  commissions'!M9867,0)*1","v":0},{"$f":"IF('Relevés de  commissions'!D9867=\"AGI externes\",'Relevés de  commissions'!N9867,0)*1","v":0},{"$f":"IF('Relevés de  commissions'!D9867=\"AGI externes\",'Relevés de  commissions'!O9867,0)*1","v":0},{"$f":"IF('Relevés de  commissions'!D9867=\"AGI externes\",'Relevés de  commissions'!P9867,0)*1","v":0},0,""]
[null,null,null,null,null,null,null,null,null,null,null,null,{"$f":"IF('Relevés de  commissions'!D9884=\"AGI externes\",'Relevés de  commissions'!M9884,0)*1","v":0},{"$f":"IF('Relevés de  commissions'!D9884=\"AGI externes\",'Relevés de  commissions'!N9884,0)*1","v":0},{"$f":"IF('Relevés de  commissions'!D9884=\"AGI externes\",'Relevés de  commissions'!O9884,0)*1","v":0},{"$f":"IF('Relevés de  commissions'!D9884=\"AGI externes\",'Relevés de  commissions'!P9884,0)*1","v":0},0,{"$f":"IF(N9886=10,O9886,\"\")","v":""}]
[null,null,null,null,null,null,null,null,null,null,null,null,{"$f":"IF('Relevés de  commissions'!D9894=\"AGI externes\",'Relevés de  commissions'!M9894,0)*1","v":0},{"$f":"IF('Relevés de  commissions'!D9894=\"AGI externes\",'Relevés de  commissions'!N9894,0)*1","v":0},{"$f":"IF('Relevés de  commissions'!D9894=\"AGI externes\",'Relevés de  commissions'!O9894,0)*1","v":0},{"$f":"IF('Relevés de  commissions'!D9894=\"AGI externes\",'Relevés de  commissions'!P9894,0)*1","v":0},0,""]
[null,null,null,null,null,null,null,null,null,null,null,null,{"$f":"IF('Relevés de  commissions'!D9900=\"AGI externes\",'Relevés de  commissions'!M9900,0)*1","v":0},{"$f":"IF('Relevés de  commissions'!D9900=\"AGI externes\",'Relevés de  commissions'!N9900,0)*1","v":0},{"$f":"IF('Relevés de  commissions'!D9900=\"AGI externes\",'Relevés de  commissions'!O9900,0)*1","v":0},{"$f":"IF('Relevés de  commissions'!D9900=\"AGI externes\",'Relevés de  commissions'!P9900,0)*1","v":0},0,""]
[null,null,null,null,null,null,null,null,null,null,null,null,{"$f":"IF('Relevés de  commissions'!D9917=\"AGI externes\",'Relevés de  commissions'!M9917,0)*1","v":0},{"$f":"IF('Relevés de  commissions'!D9917=\"AGI externes\",'Relevés de  commissions'!N9917,0)*1","v":0},{"$f":"IF('Relevés de  commissions'!D9917=\"AGI externes\",'Relevés de  commissions'!O9917,0)*1","v":0},{"$f":"IF('Relevés de  commissions'!D9917=\"AGI externes\",'Relevés de  commissions'!P9917,0)*1","v":0},0,""]
[null,null,null,null,null,null,null,null,null,null,null,null,{"$f":"IF('Relevés de  commissions'!D9927=\"AGI externes\",'Relevés de  commissions'!M9927,0)*1","v":0},{"$f":"IF('Relevés de  commissions'!D9927=\"AGI externes\",'Relevés de  commissions'!N9927,0)*1","v":0},{"$f":"IF('Relevés de  commissions'!D9927=\"AGI externes\",'Relevés de  commissions'!O9927,0)*1","v":0},{"$f":"IF('Relevés de  commissions'!D9927=\"AGI externes\",'Relevés de  commissions'!P9927,0)*1","v":0},0,""]
[null,null,null,null,null,null,null,null,null,null,null,null,{"$f":"IF('Relevés de  commissions'!D9934=\"AGI externes\",'Relevés de  commissions'!M9934,0)*1","v":0},{"$f":"IF('Relevés de  commissions'!D9934=\"AGI externes\",'Relevés de  commissions'!N9934,0)*1","v":0},{"$f":"IF('Relevés de  commissions'!D9934=\"AGI externes\",'Relevés de  commissions'!O9934,0)*1","v":0},{"$f":"IF('Relevés de  commissions'!D9934=\"AGI externes\",'Relevés de  commissions'!P9934,0)*1","v":0},0,""]
[null,null,null,null,null,null,null,null,null,null,null,null,{"$f":"IF('Relevés de  commissions'!D9949=\"AGI externes\",'Relevés de  commissions'!M9949,0)*1","v":0},{"$f":"IF('Relevés de  commissions'!D9949=\"AGI externes\",'Relevés de  commissions'!N9949,0)*1","v":0},{"$f":"IF('Relevés de  commissions'!D9949=\"AGI externes\",'Relevés de  commissions'!O9949,0)*1","v":0},{"$f":"IF('Relevés de  commissions'!D9949=\"AGI externes\",'Relevés de  commissions'!P9949,0)*1","v":0},0,""]
[null,null,null,null,null,null,null,null,null,null,null,null,{"$f":"IF('Relevés de  commissions'!D9959=\"AGI externes\",'Relevés de  commissions'!M9959,0)*1","v":0},{"$f":"IF('Relevés de  commissions'!D9959=\"AGI externes\",'Relevés de  commissions'!N9959,0)*1","v":0},{"$f":"IF('Relevés de  commissions'!D9959=\"AGI externes\",'Relevés de  commissions'!O9959,0)*1","v":0},{"$f":"IF('Relevés de  commissions'!D9959=\"AGI externes\",'Relevés de  commissions'!P9959,0)*1","v":0},0,""]
[null,null,null,null,null,null,null,null,null,null,null,null,{"$f":"IF('Relevés de  commissions'!D9965=\"AGI externes\",'Relevés de  commissions'!M9965,0)*1","v":0},{"$f":"IF('Relevés de  commissions'!D9965=\"AGI externes\",'Relevés de  commissions'!N9965,0)*1","v":0},{"$f":"IF('Relevés de  commissions'!D9965=\"AGI externes\",'Relevés de  commissions'!O9965,0)*1","v":0},{"$f":"IF('Relevés de  commissions'!D9965=\"AGI externes\",'Relevés de  commissions'!P9965,0)*1","v":0},0,""]
[null,null,null,null,null,null,null,null,null,null,null,null,{"$f":"IF('Relevés de  commissions'!D9975=\"AGI externes\",'Relevés de  commissions'!M9975,0)*1","v":0},{"$f":"IF('Relevés de  commissions'!D9975=\"AGI externes\",'Relevés de  commissions'!N9975,0)*1","v":0},{"$f":"IF('Relevés de  commissions'!D9975=\"AGI externes\",'Relevés de  commissions'!O9975,0)*1","v":0},{"$f":"IF('Relevés de  commissions'!D9975=\"AGI externes\",'Relevés de  commissions'!P9975,0)*1","v":0},0,""]
[null,null,null,null,null,null,null,null,null,null,null,null,{"$f":"IF('Relevés de  commissions'!D9992=\"AGI externes\",'Relevés de  commissions'!M9992,0)*1","v":0},{"$f":"IF('Relevés de  commissions'!D9992=\"AGI externes\",'Relevés de  commissions'!N9992,0)*1","v":0},{"$f":"IF('Relevés de  commissions'!D9992=\"AGI externes\",'Relevés de  commissions'!O9992,0)*1","v":0},{"$f":"IF('Relevés de  commissions'!D9992=\"AGI externes\",'Relevés de  commissions'!P9992,0)*1","v":0},0,""]
[null,null,null,null,null,null,null,null,null,null,null,null,{"$f":"IF('Relevés de  commissions'!D10001=\"AGI externes\",'Relevés de  commissions'!M10001,0)*1","v":0},{"$f":"IF('Relevés de  commissions'!D10001=\"AGI externes\",'Relevés de  commissions'!N10001,0)*1","v":0},{"$f":"IF('Relevés de  commissions'!D10001=\"AGI externes\",'Relevés de  commissions'!O10001,0)*1","v":0},{"$f":"IF('Relevés de  commissions'!D10001=\"AGI externes\",'Relevés de  commissions'!P10001,0)*1","v":0},0,""]
[null,null,null,null,null,null,null,null,null,null,null,null,{"$f":"IF('Relevés de  commissions'!D10007=\"AGI externes\",'Relevés de  commissions'!M10007,0)*1","v":0},{"$f":"IF('Relevés de  commissions'!D10007=\"AGI externes\",'Relevés de  commissions'!N10007,0)*1","v":0},{"$f":"IF('Relevés de  commissions'!D10007=\"AGI externes\",'Relevés de  commissions'!O10007,0)*1","v":0},{"$f":"IF('Relevés de  commissions'!D10007=\"AGI externes\",'Relevés de  commissions'!P10007,0)*1","v":0},0,""]
[null,null,null,null,null,null,null,null,null,null,null,null,{"$f":"IF('Relevés de  commissions'!D10024=\"AGI externes\",'Relevés de  commissions'!M10024,0)*1","v":0},{"$f":"IF('Relevés de  commissions'!D10024=\"AGI externes\",'Relevés de  commissions'!N10024,0)*1","v":0},{"$f":"IF('Relevés de  commissions'!D10024=\"AGI externes\",'Relevés de  commissions'!O10024,0)*1","v":0},{"$f":"IF('Relevés de  commissions'!D10024=\"AGI externes\",'Relevés de  commissions'!P10024,0)*1","v":0},0,""]
[null,null,null,null,null,null,null,null,null,null,null,null,{"$f":"IF('Relevés de  commissions'!D10034=\"AGI externes\",'Relevés de  commissions'!M10034,0)*1","v":0},{"$f":"IF('Relevés de  commissions'!D10034=\"AGI externes\",'Relevés de  commissions'!N10034,0)*1","v":0},{"$f":"IF('Relevés de  commissions'!D10034=\"AGI externes\",'Relevés de  commissions'!O10034,0)*1","v":0},{"$f":"IF('Relevés de  commissions'!D10034=\"AGI externes\",'Relevés de  commissions'!P10034,0)*1","v":0},0,""]
[null,null,null,null,null,null,null,null,null,null,null,null,{"$f":"IF('Relevés de  commissions'!D10040=\"AGI externes\",'Relevés de  commissions'!M10040,0)*1","v":0},{"$f":"IF('Relevés de  commissions'!D10040=\"AGI externes\",'Relevés de  commissions'!N10040,0)*1","v":0},{"$f":"IF('Relevés de  commissions'!D10040=\"AGI externes\",'Relevés de  commissions'!O10040,0)*1","v":0},{"$f":"IF('Relevés de  commissions'!D10040=\"AGI externes\",'Relevés de  commissions'!P10040,0)*1","v":0},0,""]
[null,null,null,null,null,null,null,null,null,null,null,null,{"$f":"IF('Relevés de  commissions'!D10057=\"AGI externes\",'Relevés de  commissions'!M10057,0)*1","v":0},{"$f":"IF('Relevés de  commissions'!D10057=\"AGI externes\",'Relevés de  commissions'!N10057,0)*1","v":0},{"$f":"IF('Relevés de  commissions'!D10057=\"AGI externes\",'Relevés de  commissions'!O10057,0)*1","v":0},{"$f":"IF('Relevés de  commissions'!D10057=\"AGI externes\",'Relevés de  commissions'!P10057,0)*1","v":0},0,""]
[null,null,null,null,null,null,null,null,null,null,null,null,{"$f":"IF('Relevés de  commissions'!D10064=\"AGI externes\",'Relevés de  commissions'!M10064,0)*1","v":0},{"$f":"IF('Relevés de  commissions'!D10064=\"AGI externes\",'Relevés de  commissions'!N10064,0)*1","v":0},{"$f":"IF('Relevés de  commissions'!D10064=\"AGI externes\",'Relevés de  commissions'!O10064,0)*1","v":0},{"$f":"IF('Relevés de  commissions'!D10064=\"AGI externes\",'Relevés de  commissions'!P10064,0)*1","v":0},0,""]
[null,null,null,null,null,null,null,null,null,null,null,null,{"$f":"IF('Relevés de  commissions'!D10072=\"AGI externes\",'Relevés de  commissions'!M10072,0)*1","v":0},{"$f":"IF('Relevés de  commissions'!D10072=\"AGI externes\",'Relevés de  commissions'!N10072,0)*1","v":0},{"$f":"IF('Relevés de  commissions'!D10072=\"AGI externes\",'Relevés de  commissions'!O10072,0)*1","v":0},{"$f":"IF('Relevés de  commissions'!D10072=\"AGI externes\",'Relevés de  commissions'!P10072,0)*1","v":0},0,""]
[null,null,null,null,null,null,null,null,null,null,null,null,{"$f":"IF('Relevés de  commissions'!D10089=\"AGI externes\",'Relevés de  commissions'!M10089,0)*1","v":0},{"$f":"IF('Relevés de  commissions'!D10089=\"AGI externes\",'Relevés de  commissions'!N10089,0)*1","v":0},{"$f":"IF('Relevés de  commissions'!D10089=\"AGI externes\",'Relevés de  commissions'!O10089,0)*1","v":0},{"$f":"IF('Relevés de  commissions'!D10089=\"AGI externes\",'Relevés de  commissions'!P10089,0)*1","v":0},0,""]
[null,null,null,null,null,null,null,null,null,null,null,null,{"$f":"IF('Relevés de  commissions'!D10099=\"AGI externes\",'Relevés de  commissions'!M10099,0)*1","v":0},{"$f":"IF('Relevés de  commissions'!D10099=\"AGI externes\",'Relevés de  commissions'!N10099,0)*1","v":0},{"$f":"IF('Relevés de  commissions'!D10099=\"AGI externes\",'Relevés de  commissions'!O10099,0)*1","v":0},{"$f":"IF('Relevés de  commissions'!D10099=\"AGI externes\",'Relevés de  commissions'!P10099,0)*1","v":0},0,""]
[null,null,null,null,null,null,null,null,null,null,null,null,{"$f":"IF('Relevés de  commissions'!D10105=\"AGI externes\",'Relevés de  commissions'!M10105,0)*1","v":0},{"$f":"IF('Relevés de  commissions'!D10105=\"AGI externes\",'Relevés de  commissions'!N10105,0)*1","v":0},{"$f":"IF('Relevés de  commissions'!D10105=\"AGI externes\",'Relevés de  commissions'!O10105,0)*1","v":0},{"$f":"IF('Relevés de  commissions'!D10105=\"AGI externes\",'Relevés de  commissions'!P10105,0)*1","v":0},0,""]
[null,null,null,null,null,null,null,null,null,null,null,null,{"$f":"IF('Relevés de  commissions'!D10115=\"AGI externes\",'Relevés de  commissions'!M10115,0)*1","v":0},{"$f":"IF('Relevés de  commissions'!D10115=\"AGI externes\",'Relevés de  commissions'!N10115,0)*1","v":0},{"$f":"IF('Relevés de  commissions'!D10115=\"AGI externes\",'Relevés de  commissions'!O10115,0)*1","v":0},{"$f":"IF('Relevés de  commissions'!D10115=\"AGI externes\",'Relevés de  commissions'!P10115,0)*1","v":0},{"$f":"IF(N10117=0,O10117,\"\")","v":0},""]
[null,null,null,null,null,null,null,null,null,null,null,null,{"$f":"IF('Relevés de  commissions'!D10131=\"AGI externes\",'Relevés de  commissions'!M10131,0)*1","v":0},{"$f":"IF('Relevés de  commissions'!D10131=\"AGI externes\",'Relevés de  commissions'!N10131,0)*1","v":0},{"$f":"IF('Relevés de  commissions'!D10131=\"AGI externes\",'Relevés de  commissions'!O10131,0)*1","v":0},{"$f":"IF('Relevés de  commissions'!D10131=\"AGI externes\",'Relevés de  commissions'!P10131,0)*1","v":0},0,""]
[null,null,null,null,null,null,null,null,null,null,null,null,{"$f":"IF('Relevés de  commissions'!D10137=\"AGI externes\",'Relevés de  commissions'!M10137,0)*1","v":0},{"$f":"IF('Relevés de  commissions'!D10137=\"AGI externes\",'Relevés de  commissions'!N10137,0)*1","v":0},{"$f":"IF('Relevés de  commissions'!D10137=\"AGI externes\",'Relevés de  commissions'!O10137,0)*1","v":0},{"$f":"IF('Relevés de  commissions'!D10137=\"AGI externes\",'Relevés de  commissions'!P10137,0)*1","v":0},0,""]
[null,null,null,null,null,null,null,null,null,null,null,null,{"$f":"IF('Relevés de  commissions'!D10147=\"AGI externes\",'Relevés de  commissions'!M10147,0)*1","v":0},{"$f":"IF('Relevés de  commissions'!D10147=\"AGI externes\",'Relevés de  commissions'!N10147,0)*1","v":0},{"$f":"IF('Relevés de  commissions'!D10147=\"AGI externes\",'Relevés de  commissions'!O10147,0)*1","v":0},{"$f":"IF('Relevés de  commissions'!D10147=\"AGI externes\",'Relevés de  commissions'!P10147,0)*1","v":0},0,""]
[null,null,null,null,null,null,null,null,null,null,null,null,{"$f":"IF('Relevés de  commissions'!D10164=\"AGI externes\",'Relevés de  commissions'!M10164,0)*1","v":0},{"$f":"IF('Relevés de  commissions'!D10164=\"AGI externes\",'Relevés de  commissions'!N10164,0)*1","v":0},{"$f":"IF('Relevés de  commissions'!D10164=\"AGI externes\",'Relevés de  commissions'!O10164,0)*1","v":0},{"$f":"IF('Relevés de  commissions'!D10164=\"AGI externes\",'Relevés de  commissions'!P10164,0)*1","v":0},0,""]
[null,null,null,null,null,null,null,null,null,null,null,null,{"$f":"IF('Relevés de  commissions'!D10174=\"AGI externes\",'Relevés de  commissions'!M10174,0)*1","v":0},{"$f":"IF('Relevés de  commissions'!D10174=\"AGI externes\",'Relevés de  commissions'!N10174,0)*1","v":0},{"$f":"IF('Relevés de  commissions'!D10174=\"AGI externes\",'Relevés de  commissions'!O10174,0)*1","v":0},{"$f":"IF('Relevés de  commissions'!D10174=\"AGI externes\",'Relevés de  commissions'!P10174,0)*1","v":0},0,""]
[null,null,null,null,null,null,null,null,null,null,null,null,{"$f":"IF('Relevés de  commissions'!D10180=\"AGI externes\",'Relevés de  commissions'!M10180,0)*1","v":0},{"$f":"IF('Relevés de  commissions'!D10180=\"AGI externes\",'Relevés de  commissions'!N10180,0)*1","v":0},{"$f":"IF('Relevés de  commissions'!D10180=\"AGI externes\",'Relevés de  commissions'!O10180,0)*1","v":0},{"$f":"IF('Relevés de  commissions'!D10180=\"AGI externes\",'Relevés de  commissions'!P10180,0)*1","v":0},0,""]
[null,null,null,null,null,null,null,null,null,null,null,null,{"$f":"IF('Relevés de  commissions'!D10198=\"AGI externes\",'Relevés de  commissions'!M10198,0)*1","v":0},{"$f":"IF('Relevés de  commissions'!D10198=\"AGI externes\",'Relevés de  commissions'!N10198,0)*1","v":0},{"$f":"IF('Relevés de  commissions'!D10198=\"AGI externes\",'Relevés de  commissions'!O10198,0)*1","v":0},{"$f":"IF('Relevés de  commissions'!D10198=\"AGI externes\",'Relevés de  commissions'!P10198,0)*1","v":0},0,""]
[null,null,null,null,null,null,null,null,null,null,null,null,{"$f":"IF('Relevés de  commissions'!D10206=\"AGI externes\",'Relevés de  commissions'!M10206,0)*1","v":0},{"$f":"IF('Relevés de  commissions'!D10206=\"AGI externes\",'Relevés de  commissions'!N10206,0)*1","v":0},{"$f":"IF('Relevés de  commissions'!D10206=\"AGI externes\",'Relevés de  commissions'!O10206,0)*1","v":0},{"$f":"IF('Relevés de  commissions'!D10206=\"AGI externes\",'Relevés de  commissions'!P10206,0)*1","v":0},0,""]
[null,null,null,null,null,null,null,null,null,null,null,null,{"$f":"IF('Relevés de  commissions'!D10212=\"AGI externes\",'Relevés de  commissions'!M10212,0)*1","v":0},{"$f":"IF('Relevés de  commissions'!D10212=\"AGI externes\",'Relevés de  commissions'!N10212,0)*1","v":0},{"$f":"IF('Relevés de  commissions'!D10212=\"AGI externes\",'Relevés de  commissions'!O10212,0)*1","v":0},{"$f":"IF('Relevés de  commissions'!D10212=\"AGI externes\",'Relevés de  commissions'!P10212,0)*1","v":0},0,""]
[null,null,null,null,null,null,null,null,null,null,null,null,{"$f":"IF('Relevés de  commissions'!D10229=\"AGI externes\",'Relevés de  commissions'!M10229,0)*1","v":0},{"$f":"IF('Relevés de  commissions'!D10229=\"AGI externes\",'Relevés de  commissions'!N10229,0)*1","v":0},{"$f":"IF('Relevés de  commissions'!D10229=\"AGI externes\",'Relevés de  commissions'!O10229,0)*1","v":0},{"$f":"IF('Relevés de  commissions'!D10229=\"AGI externes\",'Relevés de  commissions'!P10229,0)*1","v":0},0,""]
[null,null,null,null,null,null,null,null,null,null,null,null,{"$f":"IF('Relevés de  commissions'!D10239=\"AGI externes\",'Relevés de  commissions'!M10239,0)*1","v":0},{"$f":"IF('Relevés de  commissions'!D10239=\"AGI externes\",'Relevés de  commissions'!N10239,0)*1","v":0},{"$f":"IF('Relevés de  commissions'!D10239=\"AGI externes\",'Relevés de  commissions'!O10239,0)*1","v":0},{"$f":"IF('Relevés de  commissions'!D10239=\"AGI externes\",'Relevés de  commissions'!P10239,0)*1","v":0},0,""]
[null,null,null,null,null,null,null,null,null,null,null,null,{"$f":"IF('Relevés de  commissions'!D10245=\"AGI externes\",'Relevés de  commissions'!M10245,0)*1","v":0},{"$f":"IF('Relevés de  commissions'!D10245=\"AGI externes\",'Relevés de  commissions'!N10245,0)*1","v":0},{"$f":"IF('Relevés de  commissions'!D10245=\"AGI externes\",'Relevés de  commissions'!O10245,0)*1","v":0},{"$f":"IF('Relevés de  commissions'!D10245=\"AGI externes\",'Relevés de  commissions'!P10245,0)*1","v":0},0,""]
[null,null,null,null,null,null,null,null,null,null,null,null,{"$f":"IF('Relevés de  commissions'!D10261=\"AGI externes\",'Relevés de  commissions'!M10261,0)*1","v":0},{"$f":"IF('Relevés de  commissions'!D10261=\"AGI externes\",'Relevés de  commissions'!N10261,0)*1","v":0},{"$f":"IF('Relevés de  commissions'!D10261=\"AGI externes\",'Relevés de  commissions'!O10261,0)*1","v":0},{"$f":"IF('Relevés de  commissions'!D10261=\"AGI externes\",'Relevés de  commissions'!P10261,0)*1","v":0},0,""]
[null,null,null,null,null,null,null,null,null,null,null,null,{"$f":"IF('Relevés de  commissions'!D10271=\"AGI externes\",'Relevés de  commissions'!M10271,0)*1","v":0},{"$f":"IF('Relevés de  commissions'!D10271=\"AGI externes\",'Relevés de  commissions'!N10271,0)*1","v":0},{"$f":"IF('Relevés de  commissions'!D10271=\"AGI externes\",'Relevés de  commissions'!O10271,0)*1","v":0},{"$f":"IF('Relevés de  commissions'!D10271=\"AGI externes\",'Relevés de  commissions'!P10271,0)*1","v":0},0,""]
[null,null,null,null,null,null,null,null,null,null,null,null,{"$f":"IF('Relevés de  commissions'!D10277=\"AGI externes\",'Relevés de  commissions'!M10277,0)*1","v":0},{"$f":"IF('Relevés de  commissions'!D10277=\"AGI externes\",'Relevés de  commissions'!N10277,0)*1","v":0},{"$f":"IF('Relevés de  commissions'!D10277=\"AGI externes\",'Relevés de  commissions'!O10277,0)*1","v":0},{"$f":"IF('Relevés de  commissions'!D10277=\"AGI externes\",'Relevés de  commissions'!P10277,0)*1","v":0},0,""]
[null,null,null,null,null,null,null,null,null,null,null,null,{"$f":"IF('Relevés de  commissions'!D10287=\"AGI externes\",'Relevés de  commissions'!M10287,0)*1","v":0},{"$f":"IF('Relevés de  commissions'!D10287=\"AGI externes\",'Relevés de  commissions'!N10287,0)*1","v":0},{"$f":"IF('Relevés de  commissions'!D10287=\"AGI externes\",'Relevés de  commissions'!O10287,0)*1","v":0},{"$f":"IF('Relevés de  commissions'!D10287=\"AGI externes\",'Relevés de  commissions'!P10287,0)*1","v":0},0,""]
[null,null,null,null,null,null,null,null,null,null,null,null,{"$f":"IF('Relevés de  commissions'!D10304=\"AGI externes\",'Relevés de  commissions'!M10304,0)*1","v":0},{"$f":"IF('Relevés de  commissions'!D10304=\"AGI externes\",'Relevés de  commissions'!N10304,0)*1","v":0},{"$f":"IF('Relevés de  commissions'!D10304=\"AGI externes\",'Relevés de  commissions'!O10304,0)*1","v":0},{"$f":"IF('Relevés de  commissions'!D10304=\"AGI externes\",'Relevés de  commissions'!P10304,0)*1","v":0},0,""]
[null,null,null,null,null,null,null,null,null,null,null,null,{"$f":"IF('Relevés de  commissions'!D10310=\"AGI externes\",'Relevés de  commissions'!M10310,0)*1","v":0},{"$f":"IF('Relevés de  commissions'!D10310=\"AGI externes\",'Relevés de  commissions'!N10310,0)*1","v":0},{"$f":"IF('Relevés de  commissions'!D10310=\"AGI externes\",'Relevés de  commissions'!O10310,0)*1","v":0},{"$f":"IF('Relevés de  commissions'!D10310=\"AGI externes\",'Relevés de  commissions'!P10310,0)*1","v":0},0,""]
[null,null,null,null,null,null,null,null,null,null,null,null,{"$f":"IF('Relevés de  commissions'!D10328=\"AGI externes\",'Relevés de  commissions'!M10328,0)*1","v":0},{"$f":"IF('Relevés de  commissions'!D10328=\"AGI externes\",'Relevés de  commissions'!N10328,0)*1","v":0},{"$f":"IF('Relevés de  commissions'!D10328=\"AGI externes\",'Relevés de  commissions'!O10328,0)*1","v":0},{"$f":"IF('Relevés de  commissions'!D10328=\"AGI externes\",'Relevés de  commissions'!P10328,0)*1","v":0},0,""]
[null,null,null,null,null,null,null,null,null,null,null,null,{"$f":"IF('Relevés de  commissions'!D10336=\"AGI externes\",'Relevés de  commissions'!M10336,0)*1","v":0},{"$f":"IF('Relevés de  commissions'!D10336=\"AGI externes\",'Relevés de  commissions'!N10336,0)*1","v":0},{"$f":"IF('Relevés de  commissions'!D10336=\"AGI externes\",'Relevés de  commissions'!O10336,0)*1","v":0},{"$f":"IF('Relevés de  commissions'!D10336=\"AGI externes\",'Relevés de  commissions'!P10336,0)*1","v":0},0,""]
[null,null,null,null,null,null,null,null,null,null,null,null,{"$f":"IF('Relevés de  commissions'!D10346=\"AGI externes\",'Relevés de  commissions'!M10346,0)*1","v":0},{"$f":"IF('Relevés de  commissions'!D10346=\"AGI externes\",'Relevés de  commissions'!N10346,0)*1","v":0},{"$f":"IF('Relevés de  commissions'!D10346=\"AGI externes\",'Relevés de  commissions'!O10346,0)*1","v":0},{"$f":"IF('Relevés de  commissions'!D10346=\"AGI externes\",'Relevés de  commissions'!P10346,0)*1","v":0},0,""]
[null,null,null,null,null,null,null,null,null,null,null,null,{"$f":"IF('Relevés de  commissions'!D10352=\"AGI externes\",'Relevés de  commissions'!M10352,0)*1","v":0},{"$f":"IF('Relevés de  commissions'!D10352=\"AGI externes\",'Relevés de  commissions'!N10352,0)*1","v":0},{"$f":"IF('Relevés de  commissions'!D10352=\"AGI externes\",'Relevés de  commissions'!O10352,0)*1","v":0},{"$f":"IF('Relevés de  commissions'!D10352=\"AGI externes\",'Relevés de  commissions'!P10352,0)*1","v":0},0,""]
[null,null,null,null,null,null,null,null,null,null,null,null,{"$f":"IF('Relevés de  commissions'!D10369=\"AGI externes\",'Relevés de  commissions'!M10369,0)*1","v":0},{"$f":"IF('Relevés de  commissions'!D10369=\"AGI externes\",'Relevés de  commissions'!N10369,0)*1","v":0},{"$f":"IF('Relevés de  commissions'!D10369=\"AGI externes\",'Relevés de  commissions'!O10369,0)*1","v":0},{"$f":"IF('Relevés de  commissions'!D10369=\"AGI externes\",'Relevés de  commissions'!P10369,0)*1","v":0},0,""]
[null,null,null,null,null,null,null,null,null,null,null,null,{"$f":"IF('Relevés de  commissions'!D10379=\"AGI externes\",'Relevés de  commissions'!M10379,0)*1","v":0},{"$f":"IF('Relevés de  commissions'!D10379=\"AGI externes\",'Relevés de  commissions'!N10379,0)*1","v":0},{"$f":"IF('Relevés de  commissions'!D10379=\"AGI externes\",'Relevés de  commissions'!O10379,0)*1","v":0},{"$f":"IF('Relevés de  commissions'!D10379=\"AGI externes\",'Relevés de  commissions'!P10379,0)*1","v":0},0,""]
[null,null,null,null,null,null,null,null,null,null,null,null,{"$f":"IF('Relevés de  commissions'!D10385=\"AGI externes\",'Relevés de  commissions'!M10385,0)*1","v":0},{"$f":"IF('Relevés de  commissions'!D10385=\"AGI externes\",'Relevés de  commissions'!N10385,0)*1","v":0},{"$f":"IF('Relevés de  commissions'!D10385=\"AGI externes\",'Relevés de  commissions'!O10385,0)*1","v":0},{"$f":"IF('Relevés de  commissions'!D10385=\"AGI externes\",'Relevés de  commissions'!P10385,0)*1","v":0},0,""]
[null,null,null,null,null,null,null,null,null,null,null,null,{"$f":"IF('Relevés de  commissions'!D10394=\"AGI externes\",'Relevés de  commissions'!M10394,0)*1","v":0},{"$f":"IF('Relevés de  commissions'!D10394=\"AGI externes\",'Relevés de  commissions'!N10394,0)*1","v":0},{"$f":"IF('Relevés de  commissions'!D10394=\"AGI externes\",'Relevés de  commissions'!O10394,0)*1","v":0},{"$f":"IF('Relevés de  commissions'!D10394=\"AGI externes\",'Relevés de  commissions'!P10394,0)*1","v":0},0,""]
[null,null,null,null,null,null,null,null,null,null,null,null,{"$f":"IF('Relevés de  commissions'!D10411=\"AGI externes\",'Relevés de  commissions'!M10411,0)*1","v":0},{"$f":"IF('Relevés de  commissions'!D10411=\"AGI externes\",'Relevés de  commissions'!N10411,0)*1","v":0},{"$f":"IF('Relevés de  commissions'!D10411=\"AGI externes\",'Relevés de  commissions'!O10411,0)*1","v":0},{"$f":"IF('Relevés de  commissions'!D10411=\"AGI externes\",'Relevés de  commissions'!P10411,0)*1","v":0},0,""]
[null,null,null,null,null,null,null,null,null,null,null,null,{"$f":"IF('Relevés de  commissions'!D10417=\"AGI externes\",'Relevés de  commissions'!M10417,0)*1","v":0},{"$f":"IF('Relevés de  commissions'!D10417=\"AGI externes\",'Relevés de  commissions'!N10417,0)*1","v":0},{"$f":"IF('Relevés de  commissions'!D10417=\"AGI externes\",'Relevés de  commissions'!O10417,0)*1","v":0},{"$f":"IF('Relevés de  commissions'!D10417=\"AGI externes\",'Relevés de  commissions'!P10417,0)*1","v":0},0,""]
[null,null,null,null,null,null,null,null,null,null,null,null,{"$f":"IF('Relevés de  commissions'!D10427=\"AGI externes\",'Relevés de  commissions'!M10427,0)*1","v":0},{"$f":"IF('Relevés de  commissions'!D10427=\"AGI externes\",'Relevés de  commissions'!N10427,0)*1","v":0},{"$f":"IF('Relevés de  commissions'!D10427=\"AGI externes\",'Relevés de  commissions'!O10427,0)*1","v":0},{"$f":"IF('Relevés de  commissions'!D10427=\"AGI externes\",'Relevés de  commissions'!P10427,0)*1","v":0},0,""]
[null,null,null,null,null,null,null,null,null,null,null,null,{"$f":"IF('Relevés de  commissions'!D10444=\"AGI externes\",'Relevés de  commissions'!M10444,0)*1","v":0},{"$f":"IF('Relevés de  commissions'!D10444=\"AGI externes\",'Relevés de  commissions'!N10444,0)*1","v":0},{"$f":"IF('Relevés de  commissions'!D10444=\"AGI externes\",'Relevés de  commissions'!O10444,0)*1","v":0},{"$f":"IF('Relevés de  commissions'!D10444=\"AGI externes\",'Relevés de  commissions'!P10444,0)*1","v":0},0,""]
[null,null,null,null,null,null,null,null,null,null,null,null,{"$f":"IF('Relevés de  commissions'!D10452=\"AGI externes\",'Relevés de  commissions'!M10452,0)*1","v":0},{"$f":"IF('Relevés de  commissions'!D10452=\"AGI externes\",'Relevés de  commissions'!N10452,0)*1","v":0},{"$f":"IF('Relevés de  commissions'!D10452=\"AGI externes\",'Relevés de  commissions'!O10452,0)*1","v":0},{"$f":"IF('Relevés de  commissions'!D10452=\"AGI externes\",'Relevés de  commissions'!P10452,0)*1","v":0},0,""]
[null,null,null,null,null,null,null,null,null,null,null,null,{"$f":"IF('Relevés de  commissions'!D10459=\"AGI externes\",'Relevés de  commissions'!M10459,0)*1","v":0},{"$f":"IF('Relevés de  commissions'!D10459=\"AGI externes\",'Relevés de  commissions'!N10459,0)*1","v":0},{"$f":"IF('Relevés de  commissions'!D10459=\"AGI externes\",'Relevés de  commissions'!O10459,0)*1","v":0},{"$f":"IF('Relevés de  commissions'!D10459=\"AGI externes\",'Relevés de  commissions'!P10459,0)*1","v":0},0,""]
[null,null,null,null,null,null,null,null,null,null,null,null,{"$f":"IF('Relevés de  commissions'!D10476=\"AGI externes\",'Relevés de  commissions'!M10476,0)*1","v":0},{"$f":"IF('Relevés de  commissions'!D10476=\"AGI externes\",'Relevés de  commissions'!N10476,0)*1","v":0},{"$f":"IF('Relevés de  commissions'!D10476=\"AGI externes\",'Relevés de  commissions'!O10476,0)*1","v":0},{"$f":"IF('Relevés de  commissions'!D10476=\"AGI externes\",'Relevés de  commissions'!P10476,0)*1","v":0},0,""]
[null,null,null,null,null,null,null,null,null,null,null,null,{"$f":"IF('Relevés de  commissions'!D10486=\"AGI externes\",'Relevés de  commissions'!M10486,0)*1","v":0},{"$f":"IF('Relevés de  commissions'!D10486=\"AGI externes\",'Relevés de  commissions'!N10486,0)*1","v":0},{"$f":"IF('Relevés de  commissions'!D10486=\"AGI externes\",'Relevés de  commissions'!O10486,0)*1","v":0},{"$f":"IF('Relevés de  commissions'!D10486=\"AGI externes\",'Relevés de  commissions'!P10486,0)*1","v":0},0,""]
[null,null,null,null,null,null,null,null,null,null,null,null,{"$f":"IF('Relevés de  commissions'!D10492=\"AGI externes\",'Relevés de  commissions'!M10492,0)*1","v":0},{"$f":"IF('Relevés de  commissions'!D10492=\"AGI externes\",'Relevés de  commissions'!N10492,0)*1","v":0},{"$f":"IF('Relevés de  commissions'!D10492=\"AGI externes\",'Relevés de  commissions'!O10492,0)*1","v":0},{"$f":"IF('Relevés de  commissions'!D10492=\"AGI externes\",'Relevés de  commissions'!P10492,0)*1","v":0},0,""]
[null,null,null,null,null,null,null,null,null,null,null,null,{"$f":"IF('Relevés de  commissions'!D10509=\"AGI externes\",'Relevés de  commissions'!M10509,0)*1","v":0},{"$f":"IF('Relevés de  commissions'!D10509=\"AGI externes\",'Relevés de  commissions'!N10509,0)*1","v":0},{"$f":"IF('Relevés de  commissions'!D10509=\"AGI externes\",'Relevés de  commissions'!O10509,0)*1","v":0},{"$f":"IF('Relevés de  commissions'!D10509=\"AGI externes\",'Relevés de  commissions'!P10509,0)*1","v":0},0,""]
[null,null,null,null,null,null,null,null,null,null,null,null,{"$f":"IF('Relevés de  commissions'!D10515=\"AGI externes\",'Relevés de  commissions'!M10515,0)*1","v":0},{"$f":"IF('Relevés de  commissions'!D10515=\"AGI externes\",'Relevés de  commissions'!N10515,0)*1","v":0},{"$f":"IF('Relevés de  commissions'!D10515=\"AGI externes\",'Relevés de  commissions'!O10515,0)*1","v":0},{"$f":"IF('Relevés de  commissions'!D10515=\"AGI externes\",'Relevés de  commissions'!P10515,0)*1","v":0},0,""]
[null,null,null,null,null,null,null,null,null,null,null,null,{"$f":"IF('Relevés de  commissions'!D10524=\"AGI externes\",'Relevés de  commissions'!M10524,0)*1","v":0},{"$f":"IF('Relevés de  commissions'!D10524=\"AGI externes\",'Relevés de  commissions'!N10524,0)*1","v":0},{"$f":"IF('Relevés de  commissions'!D10524=\"AGI externes\",'Relevés de  commissions'!O10524,0)*1","v":0},{"$f":"IF('Relevés de  commissions'!D10524=\"AGI externes\",'Relevés de  commissions'!P10524,0)*1","v":0},0,{"$f":"IF(N10526=10,O10526,\"\")","v":""}]
[null,null,null,null,null,null,null,null,null,null,null,null,{"$f":"IF('Relevés de  commissions'!D10541=\"AGI externes\",'Relevés de  commissions'!M10541,0)*1","v":0},{"$f":"IF('Relevés de  commissions'!D10541=\"AGI externes\",'Relevés de  commissions'!N10541,0)*1","v":0},{"$f":"IF('Relevés de  commissions'!D10541=\"AGI externes\",'Relevés de  commissions'!O10541,0)*1","v":0},{"$f":"IF('Relevés de  commissions'!D10541=\"AGI externes\",'Relevés de  commissions'!P10541,0)*1","v":0},0,""]
[null,null,null,null,null,null,null,null,null,null,null,null,{"$f":"IF('Relevés de  commissions'!D10551=\"AGI externes\",'Relevés de  commissions'!M10551,0)*1","v":0},{"$f":"IF('Relevés de  commissions'!D10551=\"AGI externes\",'Relevés de  commissions'!N10551,0)*1","v":0},{"$f":"IF('Relevés de  commissions'!D10551=\"AGI externes\",'Relevés de  commissions'!O10551,0)*1","v":0},{"$f":"IF('Relevés de  commissions'!D10551=\"AGI externes\",'Relevés de  commissions'!P10551,0)*1","v":0},0,""]
[null,null,null,null,null,null,null,null,null,null,null,null,{"$f":"IF('Relevés de  commissions'!D10557=\"AGI externes\",'Relevés de  commissions'!M10557,0)*1","v":0},{"$f":"IF('Relevés de  commissions'!D10557=\"AGI externes\",'Relevés de  commissions'!N10557,0)*1","v":0},{"$f":"IF('Relevés de  commissions'!D10557=\"AGI externes\",'Relevés de  commissions'!O10557,0)*1","v":0},{"$f":"IF('Relevés de  commissions'!D10557=\"AGI externes\",'Relevés de  commissions'!P10557,0)*1","v":0},0,""]
[null,null,null,null,null,null,null,null,null,null,null,null,{"$f":"IF('Relevés de  commissions'!D10578=\"AGI externes\",'Relevés de  commissions'!M10578,0)*1","v":0},{"$f":"IF('Relevés de  commissions'!D10578=\"AGI externes\",'Relevés de  commissions'!N10578,0)*1","v":0},{"$f":"IF('Relevés de  commissions'!D10578=\"AGI externes\",'Relevés de  commissions'!O10578,0)*1","v":0},{"$f":"IF('Relevés de  commissions'!D10578=\"AGI externes\",'Relevés de  commissions'!P10578,0)*1","v":0},0,""]
[null,null,null,null,null,null,null,null,null,null,null,null,{"$f":"IF('Relevés de  commissions'!D10582=\"AGI externes\",'Relevés de  commissions'!M10582,0)*1","v":0},{"$f":"IF('Relevés de  commissions'!D10582=\"AGI externes\",'Relevés de  commissions'!N10582,0)*1","v":0},{"$f":"IF('Relevés de  commissions'!D10582=\"AGI externes\",'Relevés de  commissions'!O10582,0)*1","v":0},{"$f":"IF('Relevés de  commissions'!D10582=\"AGI externes\",'Relevés de  commissions'!P10582,0)*1","v":0},0,""]
[null,null,null,null,null,null,null,null,null,null,null,null,{"$f":"IF('Relevés de  commissions'!D10589=\"AGI externes\",'Relevés de  commissions'!M10589,0)*1","v":0},{"$f":"IF('Relevés de  commissions'!D10589=\"AGI externes\",'Relevés de  commissions'!N10589,0)*1","v":0},{"$f":"IF('Relevés de  commissions'!D10589=\"AGI externes\",'Relevés de  commissions'!O10589,0)*1","v":0},{"$f":"IF('Relevés de  commissions'!D10589=\"AGI externes\",'Relevés de  commissions'!P10589,0)*1","v":0},0,""]
[null,null,null,null,null,null,null,null,null,null,null,null,{"$f":"IF('Relevés de  commissions'!D10610=\"AGI externes\",'Relevés de  commissions'!M10610,0)*1","v":0},{"$f":"IF('Relevés de  commissions'!D10610=\"AGI externes\",'Relevés de  commissions'!N10610,0)*1","v":0},{"$f":"IF('Relevés de  commissions'!D10610=\"AGI externes\",'Relevés de  commissions'!O10610,0)*1","v":0},{"$f":"IF('Relevés de  commissions'!D10610=\"AGI externes\",'Relevés de  commissions'!P10610,0)*1","v":0},0,""]
[null,null,null,null,null,null,null,null,null,null,null,null,{"$f":"IF('Relevés de  commissions'!D10616=\"AGI externes\",'Relevés de  commissions'!M10616,0)*1","v":0},{"$f":"IF('Relevés de  commissions'!D10616=\"AGI externes\",'Relevés de  commissions'!N10616,0)*1","v":0},{"$f":"IF('Relevés de  commissions'!D10616=\"AGI externes\",'Relevés de  commissions'!O10616,0)*1","v":0},{"$f":"IF('Relevés de  commissions'!D10616=\"AGI externes\",'Relevés de  commissions'!P10616,0)*1","v":0},0,""]
[null,null,null,null,null,null,null,null,null,null,null,null,{"$f":"IF('Relevés de  commissions'!D10626=\"AGI externes\",'Relevés de  commissions'!M10626,0)*1","v":0},{"$f":"IF('Relevés de  commissions'!D10626=\"AGI externes\",'Relevés de  commissions'!N10626,0)*1","v":0},{"$f":"IF('Relevés de  commissions'!D10626=\"AGI externes\",'Relevés de  commissions'!O10626,0)*1","v":0},{"$f":"IF('Relevés de  commissions'!D10626=\"AGI externes\",'Relevés de  commissions'!P10626,0)*1","v":0},0,""]
[null,null,null,null,null,null,null,null,null,null,null,null,{"$f":"IF('Relevés de  commissions'!D10643=\"AGI externes\",'Relevés de  commissions'!M10643,0)*1","v":0},{"$f":"IF('Relevés de  commissions'!D10643=\"AGI externes\",'Relevés de  commissions'!N10643,0)*1","v":0},{"$f":"IF('Relevés de  commissions'!D10643=\"AGI externes\",'Relevés de  commissions'!O10643,0)*1","v":0},{"$f":"IF('Relevés de  commissions'!D10643=\"AGI externes\",'Relevés de  commissions'!P10643,0)*1","v":0},0,""]
[null,null,null,null,null,null,null,null,null,null,null,null,{"$f":"IF('Relevés de  commissions'!D10649=\"AGI externes\",'Relevés de  commissions'!M10649,0)*1","v":0},{"$f":"IF('Relevés de  commissions'!D10649=\"AGI externes\",'Relevés de  commissions'!N10649,0)*1","v":0},{"$f":"IF('Relevés de  commissions'!D10649=\"AGI externes\",'Relevés de  commissions'!O10649,0)*1","v":0},{"$f":"IF('Relevés de  commissions'!D10649=\"AGI externes\",'Relevés de  commissions'!P10649,0)*1","v":0},0,""]
[null,null,null,null,null,null,null,null,null,null,null,null,{"$f":"IF('Relevés de  commissions'!D10658=\"AGI externes\",'Relevés de  commissions'!M10658,0)*1","v":0},{"$f":"IF('Relevés de  commissions'!D10658=\"AGI externes\",'Relevés de  commissions'!N10658,0)*1","v":0},{"$f":"IF('Relevés de  commissions'!D10658=\"AGI externes\",'Relevés de  commissions'!O10658,0)*1","v":0},{"$f":"IF('Relevés de  commissions'!D10658=\"AGI externes\",'Relevés de  commissions'!P10658,0)*1","v":0},0,""]
[null,null,null,null,null,null,null,null,null,null,null,null,{"$f":"IF('Relevés de  commissions'!D10675=\"AGI externes\",'Relevés de  commissions'!M10675,0)*1","v":0},{"$f":"IF('Relevés de  commissions'!D10675=\"AGI externes\",'Relevés de  commissions'!N10675,0)*1","v":0},{"$f":"IF('Relevés de  commissions'!D10675=\"AGI externes\",'Relevés de  commissions'!O10675,0)*1","v":0},{"$f":"IF('Relevés de  commissions'!D10675=\"AGI externes\",'Relevés de  commissions'!P10675,0)*1","v":0},0,""]
[null,null,null,null,null,null,null,null,null,null,null,null,{"$f":"IF('Relevés de  commissions'!D10681=\"AGI externes\",'Relevés de  commissions'!M10681,0)*1","v":0},{"$f":"IF('Relevés de  commissions'!D10681=\"AGI externes\",'Relevés de  commissions'!N10681,0)*1","v":0},{"$f":"IF('Relevés de  commissions'!D10681=\"AGI externes\",'Relevés de  commissions'!O10681,0)*1","v":0},{"$f":"IF('Relevés de  commissions'!D10681=\"AGI externes\",'Relevés de  commissions'!P10681,0)*1","v":0},0,""]
[null,null,null,null,null,null,null,null,null,null,null,null,{"$f":"IF('Relevés de  commissions'!D10691=\"AGI externes\",'Relevés de  commissions'!M10691,0)*1","v":0},{"$f":"IF('Relevés de  commissions'!D10691=\"AGI externes\",'Relevés de  commissions'!N10691,0)*1","v":0},{"$f":"IF('Relevés de  commissions'!D10691=\"AGI externes\",'Relevés de  commissions'!O10691,0)*1","v":0},{"$f":"IF('Relevés de  commissions'!D10691=\"AGI externes\",'Relevés de  commissions'!P10691,0)*1","v":0},{"$f":"IF(N10693=0,O10693,\"\")","v":0},""]
[null,null,null,null,null,null,null,null,null,null,null,null,{"$f":"IF('Relevés de  commissions'!D10708=\"AGI externes\",'Relevés de  commissions'!M10708,0)*1","v":0},{"$f":"IF('Relevés de  commissions'!D10708=\"AGI externes\",'Relevés de  commissions'!N10708,0)*1","v":0},{"$f":"IF('Relevés de  commissions'!D10708=\"AGI externes\",'Relevés de  commissions'!O10708,0)*1","v":0},{"$f":"IF('Relevés de  commissions'!D10708=\"AGI externes\",'Relevés de  commissions'!P10708,0)*1","v":0},0,""]
[null,null,null,null,null,null,null,null,null,null,null,null,{"$f":"IF('Relevés de  commissions'!D10712=\"AGI externes\",'Relevés de  commissions'!M10712,0)*1","v":0},{"$f":"IF('Relevés de  commissions'!D10712=\"AGI externes\",'Relevés de  commissions'!N10712,0)*1","v":0},{"$f":"IF('Relevés de  commissions'!D10712=\"AGI externes\",'Relevés de  commissions'!O10712,0)*1","v":0},{"$f":"IF('Relevés de  commissions'!D10712=\"AGI externes\",'Relevés de  commissions'!P10712,0)*1","v":0},0,""]
[null,null,null,null,null,null,null,null,null,null,null,null,{"$f":"IF('Relevés de  commissions'!D10723=\"AGI externes\",'Relevés de  commissions'!M10723,0)*1","v":0},{"$f":"IF('Relevés de  commissions'!D10723=\"AGI externes\",'Relevés de  commissions'!N10723,0)*1","v":0},{"$f":"IF('Relevés de  commissions'!D10723=\"AGI externes\",'Relevés de  commissions'!O10723,0)*1","v":0},{"$f":"IF('Relevés de  commissions'!D10723=\"AGI externes\",'Relevés de  commissions'!P10723,0)*1","v":0},0,""]
[null,null,null,null,null,null,null,null,null,null,null,null,{"$f":"IF('Relevés de  commissions'!D10740=\"AGI externes\",'Relevés de  commissions'!M10740,0)*1","v":0},{"$f":"IF('Relevés de  commissions'!D10740=\"AGI externes\",'Relevés de  commissions'!N10740,0)*1","v":0},{"$f":"IF('Relevés de  commissions'!D10740=\"AGI externes\",'Relevés de  commissions'!O10740,0)*1","v":0},{"$f":"IF('Relevés de  commissions'!D10740=\"AGI externes\",'Relevés de  commissions'!P10740,0)*1","v":0},0,""]
[null,null,null,null,null,null,null,null,null,null,null,null,{"$f":"IF('Relevés de  commissions'!D10750=\"AGI externes\",'Relevés de  commissions'!M10750,0)*1","v":0},{"$f":"IF('Relevés de  commissions'!D10750=\"AGI externes\",'Relevés de  commissions'!N10750,0)*1","v":0},{"$f":"IF('Relevés de  commissions'!D10750=\"AGI externes\",'Relevés de  commissions'!O10750,0)*1","v":0},{"$f":"IF('Relevés de  commissions'!D10750=\"AGI externes\",'Relevés de  commissions'!P10750,0)*1","v":0},0,""]
[null,null,null,null,null,null,null,null,null,null,null,null,{"$f":"IF('Relevés de  commissions'!D10756=\"AGI externes\",'Relevés de  commissions'!M10756,0)*1","v":0},{"$f":"IF('Relevés de  commissions'!D10756=\"AGI externes\",'Relevés de  commissions'!N10756,0)*1","v":0},{"$f":"IF('Relevés de  commissions'!D10756=\"AGI externes\",'Relevés de  commissions'!O10756,0)*1","v":0},{"$f":"IF('Relevés de  commissions'!D10756=\"AGI externes\",'Relevés de  commissions'!P10756,0)*1","v":0},0,""]
[null,null,null,null,null,null,null,null,null,null,null,null,{"$f":"IF('Relevés de  commissions'!D10766=\"AGI externes\",'Relevés de  commissions'!M10766,0)*1","v":0},{"$f":"IF('Relevés de  commissions'!D10766=\"AGI externes\",'Relevés de  commissions'!N10766,0)*1","v":0},{"$f":"IF('Relevés de  commissions'!D10766=\"AGI externes\",'Relevés de  commissions'!O10766,0)*1","v":0},{"$f":"IF('Relevés de  commissions'!D10766=\"AGI externes\",'Relevés de  commissions'!P10766,0)*1","v":0},0,""]
[null,null,null,null,null,null,null,null,null,null,null,null,{"$f":"IF('Relevés de  commissions'!D10779=\"AGI externes\",'Relevés de  commissions'!M10779,0)*1","v":0},{"$f":"IF('Relevés de  commissions'!D10779=\"AGI externes\",'Relevés de  commissions'!N10779,0)*1","v":0},{"$f":"IF('Relevés de  commissions'!D10779=\"AGI externes\",'Relevés de  commissions'!O10779,0)*1","v":0},{"$f":"IF('Relevés de  commissions'!D10779=\"AGI externes\",'Relevés de  commissions'!P10779,0)*1","v":0},0,""]
[null,null,null,null,null,null,null,null,null,null,null,null,{"$f":"IF('Relevés de  commissions'!D10788=\"AGI externes\",'Relevés de  commissions'!M10788,0)*1","v":0},{"$f":"IF('Relevés de  commissions'!D10788=\"AGI externes\",'Relevés de  commissions'!N10788,0)*1","v":0},{"$f":"IF('Relevés de  commissions'!D10788=\"AGI externes\",'Relevés de  commissions'!O10788,0)*1","v":0},{"$f":"IF('Relevés de  commissions'!D10788=\"AGI externes\",'Relevés de  commissions'!P10788,0)*1","v":0},0,""]
[null,null,null,null,null,null,null,null,null,null,null,null,{"$f":"IF('Relevés de  commissions'!D10798=\"AGI externes\",'Relevés de  commissions'!M10798,0)*1","v":0},{"$f":"IF('Relevés de  commissions'!D10798=\"AGI externes\",'Relevés de  commissions'!N10798,0)*1","v":0},{"$f":"IF('Relevés de  commissions'!D10798=\"AGI externes\",'Relevés de  commissions'!O10798,0)*1","v":0},{"$f":"IF('Relevés de  commissions'!D10798=\"AGI externes\",'Relevés de  commissions'!P10798,0)*1","v":0},0,""]
[null,null,null,null,null,null,null,null,null,null,null,null,{"$f":"IF('Relevés de  commissions'!D10815=\"AGI externes\",'Relevés de  commissions'!M10815,0)*1","v":0},{"$f":"IF('Relevés de  commissions'!D10815=\"AGI externes\",'Relevés de  commissions'!N10815,0)*1","v":0},{"$f":"IF('Relevés de  commissions'!D10815=\"AGI externes\",'Relevés de  commissions'!O10815,0)*1","v":0},{"$f":"IF('Relevés de  commissions'!D10815=\"AGI externes\",'Relevés de  commissions'!P10815,0)*1","v":0},0,""]
[null,null,null,null,null,null,null,null,null,null,null,null,{"$f":"IF('Relevés de  commissions'!D10821=\"AGI externes\",'Relevés de  commissions'!M10821,0)*1","v":0},{"$f":"IF('Relevés de  commissions'!D10821=\"AGI externes\",'Relevés de  commissions'!N10821,0)*1","v":0},{"$f":"IF('Relevés de  commissions'!D10821=\"AGI externes\",'Relevés de  commissions'!O10821,0)*1","v":0},{"$f":"IF('Relevés de  commissions'!D10821=\"AGI externes\",'Relevés de  commissions'!P10821,0)*1","v":0},0,""]
[null,null,null,null,null,null,null,null,null,null,null,null,{"$f":"IF('Relevés de  commissions'!D10831=\"AGI externes\",'Relevés de  commissions'!M10831,0)*1","v":0},{"$f":"IF('Relevés de  commissions'!D10831=\"AGI externes\",'Relevés de  commissions'!N10831,0)*1","v":0},{"$f":"IF('Relevés de  commissions'!D10831=\"AGI externes\",'Relevés de  commissions'!O10831,0)*1","v":0},{"$f":"IF('Relevés de  commissions'!D10831=\"AGI externes\",'Relevés de  commissions'!P10831,0)*1","v":0},0,""]
[null,null,null,null,null,null,null,null,null,null,null,null,{"$f":"IF('Relevés de  commissions'!D10846=\"AGI externes\",'Relevés de  commissions'!M10846,0)*1","v":0},{"$f":"IF('Relevés de  commissions'!D10846=\"AGI externes\",'Relevés de  commissions'!N10846,0)*1","v":0},{"$f":"IF('Relevés de  commissions'!D10846=\"AGI externes\",'Relevés de  commissions'!O10846,0)*1","v":0},{"$f":"IF('Relevés de  commissions'!D10846=\"AGI externes\",'Relevés de  commissions'!P10846,0)*1","v":0},0,""]
[null,null,null,null,null,null,null,null,null,null,null,null,{"$f":"IF('Relevés de  commissions'!D10857=\"AGI externes\",'Relevés de  commissions'!M10857,0)*1","v":0},{"$f":"IF('Relevés de  commissions'!D10857=\"AGI externes\",'Relevés de  commissions'!N10857,0)*1","v":0},{"$f":"IF('Relevés de  commissions'!D10857=\"AGI externes\",'Relevés de  commissions'!O10857,0)*1","v":0},{"$f":"IF('Relevés de  commissions'!D10857=\"AGI externes\",'Relevés de  commissions'!P10857,0)*1","v":0},0,""]
[null,null,null,null,null,null,null,null,null,null,null,null,{"$f":"IF('Relevés de  commissions'!D10863=\"AGI externes\",'Relevés de  commissions'!M10863,0)*1","v":0},{"$f":"IF('Relevés de  commissions'!D10863=\"AGI externes\",'Relevés de  commissions'!N10863,0)*1","v":0},{"$f":"IF('Relevés de  commissions'!D10863=\"AGI externes\",'Relevés de  commissions'!O10863,0)*1","v":0},{"$f":"IF('Relevés de  commissions'!D10863=\"AGI externes\",'Relevés de  commissions'!P10863,0)*1","v":0},0,""]
[null,null,null,null,null,null,null,null,null,null,null,null,{"$f":"IF('Relevés de  commissions'!D10880=\"AGI externes\",'Relevés de  commissions'!M10880,0)*1","v":0},{"$f":"IF('Relevés de  commissions'!D10880=\"AGI externes\",'Relevés de  commissions'!N10880,0)*1","v":0},{"$f":"IF('Relevés de  commissions'!D10880=\"AGI externes\",'Relevés de  commissions'!O10880,0)*1","v":0},{"$f":"IF('Relevés de  commissions'!D10880=\"AGI externes\",'Relevés de  commissions'!P10880,0)*1","v":0},0,""]
[null,null,null,null,null,null,null,null,null,null,null,null,{"$f":"IF('Relevés de  commissions'!D10890=\"AGI externes\",'Relevés de  commissions'!M10890,0)*1","v":0},{"$f":"IF('Relevés de  commissions'!D10890=\"AGI externes\",'Relevés de  commissions'!N10890,0)*1","v":0},{"$f":"IF('Relevés de  commissions'!D10890=\"AGI externes\",'Relevés de  commissions'!O10890,0)*1","v":0},{"$f":"IF('Relevés de  commissions'!D10890=\"AGI externes\",'Relevés de  commissions'!P10890,0)*1","v":0},0,""]
[null,null,null,null,null,null,null,null,null,null,null,null,{"$f":"IF('Relevés de  commissions'!D10896=\"AGI externes\",'Relevés de  commissions'!M10896,0)*1","v":0},{"$f":"IF('Relevés de  commissions'!D10896=\"AGI externes\",'Relevés de  commissions'!N10896,0)*1","v":0},{"$f":"IF('Relevés de  commissions'!D10896=\"AGI externes\",'Relevés de  commissions'!O10896,0)*1","v":0},{"$f":"IF('Relevés de  commissions'!D10896=\"AGI externes\",'Relevés de  commissions'!P10896,0)*1","v":0},0,""]
[null,null,null,null,null,null,null,null,null,null,null,null,{"$f":"IF('Relevés de  commissions'!D10913=\"AGI externes\",'Relevés de  commissions'!M10913,0)*1","v":0},{"$f":"IF('Relevés de  commissions'!D10913=\"AGI externes\",'Relevés de  commissions'!N10913,0)*1","v":0},{"$f":"IF('Relevés de  commissions'!D10913=\"AGI externes\",'Relevés de  commissions'!O10913,0)*1","v":0},{"$f":"IF('Relevés de  commissions'!D10913=\"AGI externes\",'Relevés de  commissions'!P10913,0)*1","v":0},0,""]
[null,null,null,null,null,null,null,null,null,null,null,null,{"$f":"IF('Relevés de  commissions'!D10922=\"AGI externes\",'Relevés de  commissions'!M10922,0)*1","v":0},{"$f":"IF('Relevés de  commissions'!D10922=\"AGI externes\",'Relevés de  commissions'!N10922,0)*1","v":0},{"$f":"IF('Relevés de  commissions'!D10922=\"AGI externes\",'Relevés de  commissions'!O10922,0)*1","v":0},{"$f":"IF('Relevés de  commissions'!D10922=\"AGI externes\",'Relevés de  commissions'!P10922,0)*1","v":0},0,""]
[null,null,null,null,null,null,null,null,null,null,null,null,{"$f":"IF('Relevés de  commissions'!D10928=\"AGI externes\",'Relevés de  commissions'!M10928,0)*1","v":0},{"$f":"IF('Relevés de  commissions'!D10928=\"AGI externes\",'Relevés de  commissions'!N10928,0)*1","v":0},{"$f":"IF('Relevés de  commissions'!D10928=\"AGI externes\",'Relevés de  commissions'!O10928,0)*1","v":0},{"$f":"IF('Relevés de  commissions'!D10928=\"AGI externes\",'Relevés de  commissions'!P10928,0)*1","v":0},0,""]
[null,null,null,null,null,null,null,null,null,null,null,null,{"$f":"IF('Relevés de  commissions'!D10938=\"AGI externes\",'Relevés de  commissions'!M10938,0)*1","v":0},{"$f":"IF('Relevés de  commissions'!D10938=\"AGI externes\",'Relevés de  commissions'!N10938,0)*1","v":0},{"$f":"IF('Relevés de  commissions'!D10938=\"AGI externes\",'Relevés de  commissions'!O10938,0)*1","v":0},{"$f":"IF('Relevés de  commissions'!D10938=\"AGI externes\",'Relevés de  commissions'!P10938,0)*1","v":0},0,""]
[null,null,null,null,null,null,null,null,null,null,null,null,{"$f":"IF('Relevés de  commissions'!D10955=\"AGI externes\",'Relevés de  commissions'!M10955,0)*1","v":0},{"$f":"IF('Relevés de  commissions'!D10955=\"AGI externes\",'Relevés de  commissions'!N10955,0)*1","v":0},{"$f":"IF('Relevés de  commissions'!D10955=\"AGI externes\",'Relevés de  commissions'!O10955,0)*1","v":0},{"$f":"IF('Relevés de  commissions'!D10955=\"AGI externes\",'Relevés de  commissions'!P10955,0)*1","v":0},0,""]
[null,null,null,null,null,null,null,null,null,null,null,null,{"$f":"IF('Relevés de  commissions'!D10961=\"AGI externes\",'Relevés de  commissions'!M10961,0)*1","v":0},{"$f":"IF('Relevés de  commissions'!D10961=\"AGI externes\",'Relevés de  commissions'!N10961,0)*1","v":0},{"$f":"IF('Relevés de  commissions'!D10961=\"AGI externes\",'Relevés de  commissions'!O10961,0)*1","v":0},{"$f":"IF('Relevés de  commissions'!D10961=\"AGI externes\",'Relevés de  commissions'!P10961,0)*1","v":0},0,""]
[null,null,null,null,null,null,null,null,null,null,null,null,{"$f":"IF('Relevés de  commissions'!D10976=\"AGI externes\",'Relevés de  commissions'!M10976,0)*1","v":0},{"$f":"IF('Relevés de  commissions'!D10976=\"AGI externes\",'Relevés de  commissions'!N10976,0)*1","v":0},{"$f":"IF('Relevés de  commissions'!D10976=\"AGI externes\",'Relevés de  commissions'!O10976,0)*1","v":0},{"$f":"IF('Relevés de  commissions'!D10976=\"AGI externes\",'Relevés de  commissions'!P10976,0)*1","v":0},0,""]
[null,null,null,null,null,null,null,null,null,null,null,null,{"$f":"IF('Relevés de  commissions'!D10987=\"AGI externes\",'Relevés de  commissions'!M10987,0)*1","v":0},{"$f":"IF('Relevés de  commissions'!D10987=\"AGI externes\",'Relevés de  commissions'!N10987,0)*1","v":0},{"$f":"IF('Relevés de  commissions'!D10987=\"AGI externes\",'Relevés de  commissions'!O10987,0)*1","v":0},{"$f":"IF('Relevés de  commissions'!D10987=\"AGI externes\",'Relevés de  commissions'!P10987,0)*1","v":0},0,""]
[null,null,null,null,null,null,null,null,null,null,null,null,{"$f":"IF('Relevés de  commissions'!D10997=\"AGI externes\",'Relevés de  commissions'!M10997,0)*1","v":0},{"$f":"IF('Relevés de  commissions'!D10997=\"AGI externes\",'Relevés de  commissions'!N10997,0)*1","v":0},{"$f":"IF('Relevés de  commissions'!D10997=\"AGI externes\",'Relevés de  commissions'!O10997,0)*1","v":0},{"$f":"IF('Relevés de  commissions'!D10997=\"AGI externes\",'Relevés de  commissions'!P10997,0)*1","v":0},0,""]
[null,null,null,null,null,null,null,null,null,null,null,null,{"$f":"IF('Relevés de  commissions'!D11003=\"AGI externes\",'Relevés de  commissions'!M11003,0)*1","v":0},{"$f":"IF('Relevés de  commissions'!D11003=\"AGI externes\",'Relevés de  commissions'!N11003,0)*1","v":0},{"$f":"IF('Relevés de  commissions'!D11003=\"AGI externes\",'Relevés de  commissions'!O11003,0)*1","v":0},{"$f":"IF('Relevés de  commissions'!D11003=\"AGI externes\",'Relevés de  commissions'!P11003,0)*1","v":0},0,""]
[null,null,null,null,null,null,null,null,null,null,null,null,{"$f":"IF('Relevés de  commissions'!D11020=\"AGI externes\",'Relevés de  commissions'!M11020,0)*1","v":0},{"$f":"IF('Relevés de  commissions'!D11020=\"AGI externes\",'Relevés de  commissions'!N11020,0)*1","v":0},{"$f":"IF('Relevés de  commissions'!D11020=\"AGI externes\",'Relevés de  commissions'!O11020,0)*1","v":0},{"$f":"IF('Relevés de  commissions'!D11020=\"AGI externes\",'Relevés de  commissions'!P11020,0)*1","v":0},0,""]
[null,null,null,null,null,null,null,null,null,null,null,null,{"$f":"IF('Relevés de  commissions'!D11030=\"AGI externes\",'Relevés de  commissions'!M11030,0)*1","v":0},{"$f":"IF('Relevés de  commissions'!D11030=\"AGI externes\",'Relevés de  commissions'!N11030,0)*1","v":0},{"$f":"IF('Relevés de  commissions'!D11030=\"AGI externes\",'Relevés de  commissions'!O11030,0)*1","v":0},{"$f":"IF('Relevés de  commissions'!D11030=\"AGI externes\",'Relevés de  commissions'!P11030,0)*1","v":0},0,""]
[null,null,null,null,null,null,null,null,null,null,null,null,{"$f":"IF('Relevés de  commissions'!D11043=\"AGI externes\",'Relevés de  commissions'!M11043,0)*1","v":0},{"$f":"IF('Relevés de  commissions'!D11043=\"AGI externes\",'Relevés de  commissions'!N11043,0)*1","v":0},{"$f":"IF('Relevés de  commissions'!D11043=\"AGI externes\",'Relevés de  commissions'!O11043,0)*1","v":0},{"$f":"IF('Relevés de  commissions'!D11043=\"AGI externes\",'Relevés de  commissions'!P11043,0)*1","v":0},0,""]
[null,null,null,null,null,null,null,null,null,null,null,null,{"$f":"IF('Relevés de  commissions'!D11052=\"AGI externes\",'Relevés de  commissions'!M11052,0)*1","v":0},{"$f":"IF('Relevés de  commissions'!D11052=\"AGI externes\",'Relevés de  commissions'!N11052,0)*1","v":0},{"$f":"IF('Relevés de  commissions'!D11052=\"AGI externes\",'Relevés de  commissions'!O11052,0)*1","v":0},{"$f":"IF('Relevés de  commissions'!D11052=\"AGI externes\",'Relevés de  commissions'!P11052,0)*1","v":0},0,""]
[null,null,null,null,null,null,null,null,null,null,null,null,{"$f":"IF('Relevés de  commissions'!D11062=\"AGI externes\",'Relevés de  commissions'!M11062,0)*1","v":0},{"$f":"IF('Relevés de  commissions'!D11062=\"AGI externes\",'Relevés de  commissions'!N11062,0)*1","v":0},{"$f":"IF('Relevés de  commissions'!D11062=\"AGI externes\",'Relevés de  commissions'!O11062,0)*1","v":0},{"$f":"IF('Relevés de  commissions'!D11062=\"AGI externes\",'Relevés de  commissions'!P11062,0)*1","v":0},0,""]
[null,null,null,null,null,null,null,null,null,null,null,null,{"$f":"IF('Relevés de  commissions'!D11068=\"AGI externes\",'Relevés de  commissions'!M11068,0)*1","v":0},{"$f":"IF('Relevés de  commissions'!D11068=\"AGI externes\",'Relevés de  commissions'!N11068,0)*1","v":0},{"$f":"IF('Relevés de  commissions'!D11068=\"AGI externes\",'Relevés de  commissions'!O11068,0)*1","v":0},{"$f":"IF('Relevés de  commissions'!D11068=\"AGI externes\",'Relevés de  commissions'!P11068,0)*1","v":0},0,""]
[null,null,null,null,null,null,null,null,null,null,null,null,{"$f":"IF('Relevés de  commissions'!D11078=\"AGI externes\",'Relevés de  commissions'!M11078,0)*1","v":0},{"$f":"IF('Relevés de  commissions'!D11078=\"AGI externes\",'Relevés de  commissions'!N11078,0)*1","v":0},{"$f":"IF('Relevés de  commissions'!D11078=\"AGI externes\",'Relevés de  commissions'!O11078,0)*1","v":0},{"$f":"IF('Relevés de  commissions'!D11078=\"AGI externes\",'Relevés de  commissions'!P11078,0)*1","v":0},0,""]
[null,null,null,null,null,null,null,null,null,null,null,null,{"$f":"IF('Relevés de  commissions'!D11095=\"AGI externes\",'Relevés de  commissions'!M11095,0)*1","v":0},{"$f":"IF('Relevés de  commissions'!D11095=\"AGI externes\",'Relevés de  commissions'!N11095,0)*1","v":0},{"$f":"IF('Relevés de  commissions'!D11095=\"AGI externes\",'Relevés de  commissions'!O11095,0)*1","v":0},{"$f":"IF('Relevés de  commissions'!D11095=\"AGI externes\",'Relevés de  commissions'!P11095,0)*1","v":0},0,""]
[null,null,null,null,null,null,null,null,null,null,null,null,{"$f":"IF('Relevés de  commissions'!D11100=\"AGI externes\",'Relevés de  commissions'!M11100,0)*1","v":0},{"$f":"IF('Relevés de  commissions'!D11100=\"AGI externes\",'Relevés de  commissions'!N11100,0)*1","v":0},{"$f":"IF('Relevés de  commissions'!D11100=\"AGI externes\",'Relevés de  commissions'!O11100,0)*1","v":0},{"$f":"IF('Relevés de  commissions'!D11100=\"AGI externes\",'Relevés de  commissions'!P11100,0)*1","v":0},0,{"$f":"IF(N11102=10,O11102,\"\")","v":""}]
[null,null,null,null,null,null,null,null,null,null,null,null,{"$f":"IF('Relevés de  commissions'!D11110=\"AGI externes\",'Relevés de  commissions'!M11110,0)*1","v":0},{"$f":"IF('Relevés de  commissions'!D11110=\"AGI externes\",'Relevés de  commissions'!N11110,0)*1","v":0},{"$f":"IF('Relevés de  commissions'!D11110=\"AGI externes\",'Relevés de  commissions'!O11110,0)*1","v":0},{"$f":"IF('Relevés de  commissions'!D11110=\"AGI externes\",'Relevés de  commissions'!P11110,0)*1","v":0},0,""]
[null,null,null,null,null,null,null,null,null,null,null,null,{"$f":"IF('Relevés de  commissions'!D11127=\"AGI externes\",'Relevés de  commissions'!M11127,0)*1","v":0},{"$f":"IF('Relevés de  commissions'!D11127=\"AGI externes\",'Relevés de  commissions'!N11127,0)*1","v":0},{"$f":"IF('Relevés de  commissions'!D11127=\"AGI externes\",'Relevés de  commissions'!O11127,0)*1","v":0},{"$f":"IF('Relevés de  commissions'!D11127=\"AGI externes\",'Relevés de  commissions'!P11127,0)*1","v":0},0,""]
[null,null,null,null,null,null,null,null,null,null,null,null,{"$f":"IF('Relevés de  commissions'!D11133=\"AGI externes\",'Relevés de  commissions'!M11133,0)*1","v":0},{"$f":"IF('Relevés de  commissions'!D11133=\"AGI externes\",'Relevés de  commissions'!N11133,0)*1","v":0},{"$f":"IF('Relevés de  commissions'!D11133=\"AGI externes\",'Relevés de  commissions'!O11133,0)*1","v":0},{"$f":"IF('Relevés de  commissions'!D11133=\"AGI externes\",'Relevés de  commissions'!P11133,0)*1","v":0},0,""]
[null,null,null,null,null,null,null,null,null,null,null,null,{"$f":"IF('Relevés de  commissions'!D11143=\"AGI externes\",'Relevés de  commissions'!M11143,0)*1","v":0},{"$f":"IF('Relevés de  commissions'!D11143=\"AGI externes\",'Relevés de  commissions'!N11143,0)*1","v":0},{"$f":"IF('Relevés de  commissions'!D11143=\"AGI externes\",'Relevés de  commissions'!O11143,0)*1","v":0},{"$f":"IF('Relevés de  commissions'!D11143=\"AGI externes\",'Relevés de  commissions'!P11143,0)*1","v":0},0,""]
[null,null,null,null,null,null,null,null,null,null,null,null,{"$f":"IF('Relevés de  commissions'!D11160=\"AGI externes\",'Relevés de  commissions'!M11160,0)*1","v":0},{"$f":"IF('Relevés de  commissions'!D11160=\"AGI externes\",'Relevés de  commissions'!N11160,0)*1","v":0},{"$f":"IF('Relevés de  commissions'!D11160=\"AGI externes\",'Relevés de  commissions'!O11160,0)*1","v":0},{"$f":"IF('Relevés de  commissions'!D11160=\"AGI externes\",'Relevés de  commissions'!P11160,0)*1","v":0},0,""]
[null,null,null,null,null,null,null,null,null,null,null,null,{"$f":"IF('Relevés de  commissions'!D11173=\"AGI externes\",'Relevés de  commissions'!M11173,0)*1","v":0},{"$f":"IF('Relevés de  commissions'!D11173=\"AGI externes\",'Relevés de  commissions'!N11173,0)*1","v":0},{"$f":"IF('Relevés de  commissions'!D11173=\"AGI externes\",'Relevés de  commissions'!O11173,0)*1","v":0},{"$f":"IF('Relevés de  commissions'!D11173=\"AGI externes\",'Relevés de  commissions'!P11173,0)*1","v":0},0,""]
[null,null,null,null,null,null,null,null,null,null,null,null,{"$f":"IF('Relevés de  commissions'!D11175=\"AGI externes\",'Relevés de  commissions'!M11175,0)*1","v":0},{"$f":"IF('Relevés de  commissions'!D11175=\"AGI externes\",'Relevés de  commissions'!N11175,0)*1","v":0},{"$f":"IF('Relevés de  commissions'!D11175=\"AGI externes\",'Relevés de  commissions'!O11175,0)*1","v":0},{"$f":"IF('Relevés de  commissions'!D11175=\"AGI externes\",'Relevés de  commissions'!P11175,0)*1","v":0},0,""]
[null,null,null,null,null,null,null,null,null,null,null,null,{"$f":"IF('Relevés de  commissions'!D11192=\"AGI externes\",'Relevés de  commissions'!M11192,0)*1","v":0},{"$f":"IF('Relevés de  commissions'!D11192=\"AGI externes\",'Relevés de  commissions'!N11192,0)*1","v":0},{"$f":"IF('Relevés de  commissions'!D11192=\"AGI externes\",'Relevés de  commissions'!O11192,0)*1","v":0},{"$f":"IF('Relevés de  commissions'!D11192=\"AGI externes\",'Relevés de  commissions'!P11192,0)*1","v":0},0,""]
[null,null,null,null,null,null,null,null,null,null,null,null,{"$f":"IF('Relevés de  commissions'!D11202=\"AGI externes\",'Relevés de  commissions'!M11202,0)*1","v":0},{"$f":"IF('Relevés de  commissions'!D11202=\"AGI externes\",'Relevés de  commissions'!N11202,0)*1","v":0},{"$f":"IF('Relevés de  commissions'!D11202=\"AGI externes\",'Relevés de  commissions'!O11202,0)*1","v":0},{"$f":"IF('Relevés de  commissions'!D11202=\"AGI externes\",'Relevés de  commissions'!P11202,0)*1","v":0},0,""]
[null,null,null,null,null,null,null,null,null,null,null,null,{"$f":"IF('Relevés de  commissions'!D11208=\"AGI externes\",'Relevés de  commissions'!M11208,0)*1","v":0},{"$f":"IF('Relevés de  commissions'!D11208=\"AGI externes\",'Relevés de  commissions'!N11208,0)*1","v":0},{"$f":"IF('Relevés de  commissions'!D11208=\"AGI externes\",'Relevés de  commissions'!O11208,0)*1","v":0},{"$f":"IF('Relevés de  commissions'!D11208=\"AGI externes\",'Relevés de  commissions'!P11208,0)*1","v":0},0,""]
[null,null,null,null,null,null,null,null,null,null,null,null,{"$f":"IF('Relevés de  commissions'!D11218=\"AGI externes\",'Relevés de  commissions'!M11218,0)*1","v":0},{"$f":"IF('Relevés de  commissions'!D11218=\"AGI externes\",'Relevés de  commissions'!N11218,0)*1","v":0},{"$f":"IF('Relevés de  commissions'!D11218=\"AGI externes\",'Relevés de  commissions'!O11218,0)*1","v":0},{"$f":"IF('Relevés de  commissions'!D11218=\"AGI externes\",'Relevés de  commissions'!P11218,0)*1","v":0},0,""]
[null,null,null,null,null,null,null,null,null,null,null,null,{"$f":"IF('Relevés de  commissions'!D11230=\"AGI externes\",'Relevés de  commissions'!M11230,0)*1","v":0},{"$f":"IF('Relevés de  commissions'!D11230=\"AGI externes\",'Relevés de  commissions'!N11230,0)*1","v":0},{"$f":"IF('Relevés de  commissions'!D11230=\"AGI externes\",'Relevés de  commissions'!O11230,0)*1","v":0},{"$f":"IF('Relevés de  commissions'!D11230=\"AGI externes\",'Relevés de  commissions'!P11230,0)*1","v":0},0,""]
[null,null,null,null,null,null,null,null,null,null,null,null,{"$f":"IF('Relevés de  commissions'!D11240=\"AGI externes\",'Relevés de  commissions'!M11240,0)*1","v":0},{"$f":"IF('Relevés de  commissions'!D11240=\"AGI externes\",'Relevés de  commissions'!N11240,0)*1","v":0},{"$f":"IF('Relevés de  commissions'!D11240=\"AGI externes\",'Relevés de  commissions'!O11240,0)*1","v":0},{"$f":"IF('Relevés de  commissions'!D11240=\"AGI externes\",'Relevés de  commissions'!P11240,0)*1","v":0},0,""]
[null,null,null,null,null,null,null,null,null,null,null,null,{"$f":"IF('Relevés de  commissions'!D11250=\"AGI externes\",'Relevés de  commissions'!M11250,0)*1","v":0},{"$f":"IF('Relevés de  commissions'!D11250=\"AGI externes\",'Relevés de  commissions'!N11250,0)*1","v":0},{"$f":"IF('Relevés de  commissions'!D11250=\"AGI externes\",'Relevés de  commissions'!O11250,0)*1","v":0},{"$f":"IF('Relevés de  commissions'!D11250=\"AGI externes\",'Relevés de  commissions'!P11250,0)*1","v":0},0,""]
[null,null,null,null,null,null,null,null,null,null,null,null,{"$f":"IF('Relevés de  commissions'!D11267=\"AGI externes\",'Relevés de  commissions'!M11267,0)*1","v":0},{"$f":"IF('Relevés de  commissions'!D11267=\"AGI externes\",'Relevés de  commissions'!N11267,0)*1","v":0},{"$f":"IF('Relevés de  commissions'!D11267=\"AGI externes\",'Relevés de  commissions'!O11267,0)*1","v":0},{"$f":"IF('Relevés de  commissions'!D11267=\"AGI externes\",'Relevés de  commissions'!P11267,0)*1","v":0},{"$f":"IF(N11269=0,O11269,\"\")","v":0},""]
[null,null,null,null,null,null,null,null,null,null,null,null,{"$f":"IF('Relevés de  commissions'!D11273=\"AGI externes\",'Relevés de  commissions'!M11273,0)*1","v":0},{"$f":"IF('Relevés de  commissions'!D11273=\"AGI externes\",'Relevés de  commissions'!N11273,0)*1","v":0},{"$f":"IF('Relevés de  commissions'!D11273=\"AGI externes\",'Relevés de  commissions'!O11273,0)*1","v":0},{"$f":"IF('Relevés de  commissions'!D11273=\"AGI externes\",'Relevés de  commissions'!P11273,0)*1","v":0},0,""]
[null,null,null,null,null,null,null,null,null,null,null,null,{"$f":"IF('Relevés de  commissions'!D11283=\"AGI externes\",'Relevés de  commissions'!M11283,0)*1","v":0},{"$f":"IF('Relevés de  commissions'!D11283=\"AGI externes\",'Relevés de  commissions'!N11283,0)*1","v":0},{"$f":"IF('Relevés de  commissions'!D11283=\"AGI externes\",'Relevés de  commissions'!O11283,0)*1","v":0},{"$f":"IF('Relevés de  commissions'!D11283=\"AGI externes\",'Relevés de  commissions'!P11283,0)*1","v":0},0,""]
[null,null,null,null,null,null,null,null,null,null,null,null,{"$f":"IF('Relevés de  commissions'!D11297=\"AGI externes\",'Relevés de  commissions'!M11297,0)*1","v":0},{"$f":"IF('Relevés de  commissions'!D11297=\"AGI externes\",'Relevés de  commissions'!N11297,0)*1","v":0},{"$f":"IF('Relevés de  commissions'!D11297=\"AGI externes\",'Relevés de  commissions'!O11297,0)*1","v":0},{"$f":"IF('Relevés de  commissions'!D11297=\"AGI externes\",'Relevés de  commissions'!P11297,0)*1","v":0},0,""]
[null,null,null,null,null,null,null,null,null,null,null,null,{"$f":"IF('Relevés de  commissions'!D11309=\"AGI externes\",'Relevés de  commissions'!M11309,0)*1","v":0},{"$f":"IF('Relevés de  commissions'!D11309=\"AGI externes\",'Relevés de  commissions'!N11309,0)*1","v":0},{"$f":"IF('Relevés de  commissions'!D11309=\"AGI externes\",'Relevés de  commissions'!O11309,0)*1","v":0},{"$f":"IF('Relevés de  commissions'!D11309=\"AGI externes\",'Relevés de  commissions'!P11309,0)*1","v":0},0,""]
[null,null,null,null,null,null,null,null,null,null,null,null,{"$f":"IF('Relevés de  commissions'!D11315=\"AGI externes\",'Relevés de  commissions'!M11315,0)*1","v":0},{"$f":"IF('Relevés de  commissions'!D11315=\"AGI externes\",'Relevés de  commissions'!N11315,0)*1","v":0},{"$f":"IF('Relevés de  commissions'!D11315=\"AGI externes\",'Relevés de  commissions'!O11315,0)*1","v":0},{"$f":"IF('Relevés de  commissions'!D11315=\"AGI externes\",'Relevés de  commissions'!P11315,0)*1","v":0},0,""]
[null,null,null,null,null,null,null,null,null,null,null,null,{"$f":"IF('Relevés de  commissions'!D11332=\"AGI externes\",'Relevés de  commissions'!M11332,0)*1","v":0},{"$f":"IF('Relevés de  commissions'!D11332=\"AGI externes\",'Relevés de  commissions'!N11332,0)*1","v":0},{"$f":"IF('Relevés de  commissions'!D11332=\"AGI externes\",'Relevés de  commissions'!O11332,0)*1","v":0},{"$f":"IF('Relevés de  commissions'!D11332=\"AGI externes\",'Relevés de  commissions'!P11332,0)*1","v":0},0,""]
[null,null,null,null,null,null,null,null,null,null,null,null,{"$f":"IF('Relevés de  commissions'!D11342=\"AGI externes\",'Relevés de  commissions'!M11342,0)*1","v":0},{"$f":"IF('Relevés de  commissions'!D11342=\"AGI externes\",'Relevés de  commissions'!N11342,0)*1","v":0},{"$f":"IF('Relevés de  commissions'!D11342=\"AGI externes\",'Relevés de  commissions'!O11342,0)*1","v":0},{"$f":"IF('Relevés de  commissions'!D11342=\"AGI externes\",'Relevés de  commissions'!P11342,0)*1","v":0},0,""]
[null,null,null,null,null,null,null,null,null,null,null,null,{"$f":"IF('Relevés de  commissions'!D11348=\"AGI externes\",'Relevés de  commissions'!M11348,0)*1","v":0},{"$f":"IF('Relevés de  commissions'!D11348=\"AGI externes\",'Relevés de  commissions'!N11348,0)*1","v":0},{"$f":"IF('Relevés de  commissions'!D11348=\"AGI externes\",'Relevés de  commissions'!O11348,0)*1","v":0},{"$f":"IF('Relevés de  commissions'!D11348=\"AGI externes\",'Relevés de  commissions'!P11348,0)*1","v":0},0,""]
[null,null,null,null,null,null,null,null,null,null,null,null,{"$f":"IF('Relevés de  commissions'!D11360=\"AGI externes\",'Relevés de  commissions'!M11360,0)*1","v":0},{"$f":"IF('Relevés de  commissions'!D11360=\"AGI externes\",'Relevés de  commissions'!N11360,0)*1","v":0},{"$f":"IF('Relevés de  commissions'!D11360=\"AGI externes\",'Relevés de  commissions'!O11360,0)*1","v":0},{"$f":"IF('Relevés de  commissions'!D11360=\"AGI externes\",'Relevés de  commissions'!P11360,0)*1","v":0},0,""]
[null,null,null,null,null,null,null,null,null,null,null,null,{"$f":"IF('Relevés de  commissions'!D11374=\"AGI externes\",'Relevés de  commissions'!M11374,0)*1","v":0},{"$f":"IF('Relevés de  commissions'!D11374=\"AGI externes\",'Relevés de  commissions'!N11374,0)*1","v":0},{"$f":"IF('Relevés de  commissions'!D11374=\"AGI externes\",'Relevés de  commissions'!O11374,0)*1","v":0},{"$f":"IF('Relevés de  commissions'!D11374=\"AGI externes\",'Relevés de  commissions'!P11374,0)*1","v":0},0,""]
[null,null,null,null,null,null,null,null,null,null,null,null,{"$f":"IF('Relevés de  commissions'!D11380=\"AGI externes\",'Relevés de  commissions'!M11380,0)*1","v":0},{"$f":"IF('Relevés de  commissions'!D11380=\"AGI externes\",'Relevés de  commissions'!N11380,0)*1","v":0},{"$f":"IF('Relevés de  commissions'!D11380=\"AGI externes\",'Relevés de  commissions'!O11380,0)*1","v":0},{"$f":"IF('Relevés de  commissions'!D11380=\"AGI externes\",'Relevés de  commissions'!P11380,0)*1","v":0},0,""]
[null,null,null,null,null,null,null,null,null,null,null,null,{"$f":"IF('Relevés de  commissions'!D11401=\"AGI externes\",'Relevés de  commissions'!M11401,0)*1","v":0},{"$f":"IF('Relevés de  commissions'!D11401=\"AGI externes\",'Relevés de  commissions'!N11401,0)*1","v":0},{"$f":"IF('Relevés de  commissions'!D11401=\"AGI externes\",'Relevés de  commissions'!O11401,0)*1","v":0},{"$f":"IF('Relevés de  commissions'!D11401=\"AGI externes\",'Relevés de  commissions'!P11401,0)*1","v":0},0,""]
[null,null,null,null,null,null,null,null,null,null,null,null,{"$f":"IF('Relevés de  commissions'!D11407=\"AGI externes\",'Relevés de  commissions'!M11407,0)*1","v":0},{"$f":"IF('Relevés de  commissions'!D11407=\"AGI externes\",'Relevés de  commissions'!N11407,0)*1","v":0},{"$f":"IF('Relevés de  commissions'!D11407=\"AGI externes\",'Relevés de  commissions'!O11407,0)*1","v":0},{"$f":"IF('Relevés de  commissions'!D11407=\"AGI externes\",'Relevés de  commissions'!P11407,0)*1","v":0},0,""]
[null,null,null,null,null,null,null,null,null,null,null,null,{"$f":"IF('Relevés de  commissions'!D11413=\"AGI externes\",'Relevés de  commissions'!M11413,0)*1","v":0},{"$f":"IF('Relevés de  commissions'!D11413=\"AGI externes\",'Relevés de  commissions'!N11413,0)*1","v":0},{"$f":"IF('Relevés de  commissions'!D11413=\"AGI externes\",'Relevés de  commissions'!O11413,0)*1","v":0},{"$f":"IF('Relevés de  commissions'!D11413=\"AGI externes\",'Relevés de  commissions'!P11413,0)*1","v":0},0,""]
[null,null,null,null,null,null,null,null,null,null,null,null,{"$f":"IF('Relevés de  commissions'!D11427=\"AGI externes\",'Relevés de  commissions'!M11427,0)*1","v":0},{"$f":"IF('Relevés de  commissions'!D11427=\"AGI externes\",'Relevés de  commissions'!N11427,0)*1","v":0},{"$f":"IF('Relevés de  commissions'!D11427=\"AGI externes\",'Relevés de  commissions'!O11427,0)*1","v":0},{"$f":"IF('Relevés de  commissions'!D11427=\"AGI externes\",'Relevés de  commissions'!P11427,0)*1","v":0},0,""]
[null,null,null,null,null,null,null,null,null,null,null,null,{"$f":"IF('Relevés de  commissions'!D11439=\"AGI externes\",'Relevés de  commissions'!M11439,0)*1","v":0},{"$f":"IF('Relevés de  commissions'!D11439=\"AGI externes\",'Relevés de  commissions'!N11439,0)*1","v":0},{"$f":"IF('Relevés de  commissions'!D11439=\"AGI externes\",'Relevés de  commissions'!O11439,0)*1","v":0},{"$f":"IF('Relevés de  commissions'!D11439=\"AGI externes\",'Relevés de  commissions'!P11439,0)*1","v":0},0,""]
[null,null,null,null,null,null,null,null,null,null,null,null,{"$f":"IF('Relevés de  commissions'!D11449=\"AGI externes\",'Relevés de  commissions'!M11449,0)*1","v":0},{"$f":"IF('Relevés de  commissions'!D11449=\"AGI externes\",'Relevés de  commissions'!N11449,0)*1","v":0},{"$f":"IF('Relevés de  commissions'!D11449=\"AGI externes\",'Relevés de  commissions'!O11449,0)*1","v":0},{"$f":"IF('Relevés de  commissions'!D11449=\"AGI externes\",'Relevés de  commissions'!P11449,0)*1","v":0},0,""]
[null,null,null,null,null,null,null,null,null,null,null,null,{"$f":"IF('Relevés de  commissions'!D11466=\"AGI externes\",'Relevés de  commissions'!M11466,0)*1","v":0},{"$f":"IF('Relevés de  commissions'!D11466=\"AGI externes\",'Relevés de  commissions'!N11466,0)*1","v":0},{"$f":"IF('Relevés de  commissions'!D11466=\"AGI externes\",'Relevés de  commissions'!O11466,0)*1","v":0},{"$f":"IF('Relevés de  commissions'!D11466=\"AGI externes\",'Relevés de  commissions'!P11466,0)*1","v":0},0,""]
[null,null,null,null,null,null,null,null,null,null,null,null,{"$f":"IF('Relevés de  commissions'!D11472=\"AGI externes\",'Relevés de  commissions'!M11472,0)*1","v":0},{"$f":"IF('Relevés de  commissions'!D11472=\"AGI externes\",'Relevés de  commissions'!N11472,0)*1","v":0},{"$f":"IF('Relevés de  commissions'!D11472=\"AGI externes\",'Relevés de  commissions'!O11472,0)*1","v":0},{"$f":"IF('Relevés de  commissions'!D11472=\"AGI externes\",'Relevés de  commissions'!P11472,0)*1","v":0},0,""]
[null,null,null,null,null,null,null,null,null,null,null,null,{"$f":"IF('Relevés de  commissions'!D11482=\"AGI externes\",'Relevés de  commissions'!M11482,0)*1","v":0},{"$f":"IF('Relevés de  commissions'!D11482=\"AGI externes\",'Relevés de  commissions'!N11482,0)*1","v":0},{"$f":"IF('Relevés de  commissions'!D11482=\"AGI externes\",'Relevés de  commissions'!O11482,0)*1","v":0},{"$f":"IF('Relevés de  commissions'!D11482=\"AGI externes\",'Relevés de  commissions'!P11482,0)*1","v":0},0,""]
[null,null,null,null,null,null,null,null,null,null,null,null,{"$f":"IF('Relevés de  commissions'!D11494=\"AGI externes\",'Relevés de  commissions'!M11494,0)*1","v":0},{"$f":"IF('Relevés de  commissions'!D11494=\"AGI externes\",'Relevés de  commissions'!N11494,0)*1","v":0},{"$f":"IF('Relevés de  commissions'!D11494=\"AGI externes\",'Relevés de  commissions'!O11494,0)*1","v":0},{"$f":"IF('Relevés de  commissions'!D11494=\"AGI externes\",'Relevés de  commissions'!P11494,0)*1","v":0},0,""]
[null,null,null,null,null,null,null,null,null,null,null,null,{"$f":"IF('Relevés de  commissions'!D11504=\"AGI externes\",'Relevés de  commissions'!M11504,0)*1","v":0},{"$f":"IF('Relevés de  commissions'!D11504=\"AGI externes\",'Relevés de  commissions'!N11504,0)*1","v":0},{"$f":"IF('Relevés de  commissions'!D11504=\"AGI externes\",'Relevés de  commissions'!O11504,0)*1","v":0},{"$f":"IF('Relevés de  commissions'!D11504=\"AGI externes\",'Relevés de  commissions'!P11504,0)*1","v":0},0,""]
[null,null,null,null,null,null,null,null,null,null,null,null,{"$f":"IF('Relevés de  commissions'!D11514=\"AGI externes\",'Relevés de  commissions'!M11514,0)*1","v":0},{"$f":"IF('Relevés de  commissions'!D11514=\"AGI externes\",'Relevés de  commissions'!N11514,0)*1","v":0},{"$f":"IF('Relevés de  commissions'!D11514=\"AGI externes\",'Relevés de  commissions'!O11514,0)*1","v":0},{"$f":"IF('Relevés de  commissions'!D11514=\"AGI externes\",'Relevés de  commissions'!P11514,0)*1","v":0},0,""]
[null,null,null,null,null,null,null,null,null,null,null,null,{"$f":"IF('Relevés de  commissions'!D11531=\"AGI externes\",'Relevés de  commissions'!M11531,0)*1","v":0},{"$f":"IF('Relevés de  commissions'!D11531=\"AGI externes\",'Relevés de  commissions'!N11531,0)*1","v":0},{"$f":"IF('Relevés de  commissions'!D11531=\"AGI externes\",'Relevés de  commissions'!O11531,0)*1","v":0},{"$f":"IF('Relevés de  commissions'!D11531=\"AGI externes\",'Relevés de  commissions'!P11531,0)*1","v":0},0,""]
[null,null,null,null,null,null,null,null,null,null,null,null,{"$f":"IF('Relevés de  commissions'!D11541=\"AGI externes\",'Relevés de  commissions'!M11541,0)*1","v":0},{"$f":"IF('Relevés de  commissions'!D11541=\"AGI externes\",'Relevés de  commissions'!N11541,0)*1","v":0},{"$f":"IF('Relevés de  commissions'!D11541=\"AGI externes\",'Relevés de  commissions'!O11541,0)*1","v":0},{"$f":"IF('Relevés de  commissions'!D11541=\"AGI externes\",'Relevés de  commissions'!P11541,0)*1","v":0},0,""]
[null,null,null,null,null,null,null,null,null,null,null,null,{"$f":"IF('Relevés de  commissions'!D11547=\"AGI externes\",'Relevés de  commissions'!M11547,0)*1","v":0},{"$f":"IF('Relevés de  commissions'!D11547=\"AGI externes\",'Relevés de  commissions'!N11547,0)*1","v":0},{"$f":"IF('Relevés de  commissions'!D11547=\"AGI externes\",'Relevés de  commissions'!O11547,0)*1","v":0},{"$f":"IF('Relevés de  commissions'!D11547=\"AGI externes\",'Relevés de  commissions'!P11547,0)*1","v":0},0,""]
[null,null,null,null,null,null,null,null,null,null,null,null,{"$f":"IF('Relevés de  commissions'!D11561=\"AGI externes\",'Relevés de  commissions'!M11561,0)*1","v":0},{"$f":"IF('Relevés de  commissions'!D11561=\"AGI externes\",'Relevés de  commissions'!N11561,0)*1","v":0},{"$f":"IF('Relevés de  commissions'!D11561=\"AGI externes\",'Relevés de  commissions'!O11561,0)*1","v":0},{"$f":"IF('Relevés de  commissions'!D11561=\"AGI externes\",'Relevés de  commissions'!P11561,0)*1","v":0},0,""]
[null,null,null,null,null,null,null,null,null,null,null,null,{"$f":"IF('Relevés de  commissions'!D11573=\"AGI externes\",'Relevés de  commissions'!M11573,0)*1","v":0},{"$f":"IF('Relevés de  commissions'!D11573=\"AGI externes\",'Relevés de  commissions'!N11573,0)*1","v":0},{"$f":"IF('Relevés de  commissions'!D11573=\"AGI externes\",'Relevés de  commissions'!O11573,0)*1","v":0},{"$f":"IF('Relevés de  commissions'!D11573=\"AGI externes\",'Relevés de  commissions'!P11573,0)*1","v":0},0,""]
[null,null,null,null,null,null,null,null,null,null,null,null,{"$f":"IF('Relevés de  commissions'!D11579=\"AGI externes\",'Relevés de  commissions'!M11579,0)*1","v":0},{"$f":"IF('Relevés de  commissions'!D11579=\"AGI externes\",'Relevés de  commissions'!N11579,0)*1","v":0},{"$f":"IF('Relevés de  commissions'!D11579=\"AGI externes\",'Relevés de  commissions'!O11579,0)*1","v":0},{"$f":"IF('Relevés de  commissions'!D11579=\"AGI externes\",'Relevés de  commissions'!P11579,0)*1","v":0},0,""]
[null,null,null,null,null,null,null,null,null,null,null,null,{"$f":"IF('Relevés de  commissions'!D11589=\"AGI externes\",'Relevés de  commissions'!M11589,0)*1","v":0},{"$f":"IF('Relevés de  commissions'!D11589=\"AGI externes\",'Relevés de  commissions'!N11589,0)*1","v":0},{"$f":"IF('Relevés de  commissions'!D11589=\"AGI externes\",'Relevés de  commissions'!O11589,0)*1","v":0},{"$f":"IF('Relevés de  commissions'!D11589=\"AGI externes\",'Relevés de  commissions'!P11589,0)*1","v":0},0,""]
[null,null,null,null,null,null,null,null,null,null,null,null,{"$f":"IF('Relevés de  commissions'!D11606=\"AGI externes\",'Relevés de  commissions'!M11606,0)*1","v":0},{"$f":"IF('Relevés de  commissions'!D11606=\"AGI externes\",'Relevés de  commissions'!N11606,0)*1","v":0},{"$f":"IF('Relevés de  commissions'!D11606=\"AGI externes\",'Relevés de  commissions'!O11606,0)*1","v":0},{"$f":"IF('Relevés de  commissions'!D11606=\"AGI externes\",'Relevés de  commissions'!P11606,0)*1","v":0},0,""]
[null,null,null,null,null,null,null,null,null,null,null,null,{"$f":"IF('Relevés de  commissions'!D11612=\"AGI externes\",'Relevés de  commissions'!M11612,0)*1","v":0},{"$f":"IF('Relevés de  commissions'!D11612=\"AGI externes\",'Relevés de  commissions'!N11612,0)*1","v":0},{"$f":"IF('Relevés de  commissions'!D11612=\"AGI externes\",'Relevés de  commissions'!O11612,0)*1","v":0},{"$f":"IF('Relevés de  commissions'!D11612=\"AGI externes\",'Relevés de  commissions'!P11612,0)*1","v":0},0,{"$f":"IF(N11614=10,O11614,\"\")","v":""}]
[null,null,null,null,null,null,null,null,null,null,null,null,{"$f":"IF('Relevés de  commissions'!D11624=\"AGI externes\",'Relevés de  commissions'!M11624,0)*1","v":0},{"$f":"IF('Relevés de  commissions'!D11624=\"AGI externes\",'Relevés de  commissions'!N11624,0)*1","v":0},{"$f":"IF('Relevés de  commissions'!D11624=\"AGI externes\",'Relevés de  commissions'!O11624,0)*1","v":0},{"$f":"IF('Relevés de  commissions'!D11624=\"AGI externes\",'Relevés de  commissions'!P11624,0)*1","v":0},0,""]
[null,null,null,null,null,null,null,null,null,null,null,null,{"$f":"IF('Relevés de  commissions'!D11638=\"AGI externes\",'Relevés de  commissions'!M11638,0)*1","v":0},{"$f":"IF('Relevés de  commissions'!D11638=\"AGI externes\",'Relevés de  commissions'!N11638,0)*1","v":0},{"$f":"IF('Relevés de  commissions'!D11638=\"AGI externes\",'Relevés de  commissions'!O11638,0)*1","v":0},{"$f":"IF('Relevés de  commissions'!D11638=\"AGI externes\",'Relevés de  commissions'!P11638,0)*1","v":0},0,""]
[null,null,null,null,null,null,null,null,null,null,null,null,{"$f":"IF('Relevés de  commissions'!D11644=\"AGI externes\",'Relevés de  commissions'!M11644,0)*1","v":0},{"$f":"IF('Relevés de  commissions'!D11644=\"AGI externes\",'Relevés de  commissions'!N11644,0)*1","v":0},{"$f":"IF('Relevés de  commissions'!D11644=\"AGI externes\",'Relevés de  commissions'!O11644,0)*1","v":0},{"$f":"IF('Relevés de  commissions'!D11644=\"AGI externes\",'Relevés de  commissions'!P11644,0)*1","v":0},0,""]
[null,null,null,null,null,null,null,null,null,null,null,null,{"$f":"IF('Relevés de  commissions'!D11654=\"AGI externes\",'Relevés de  commissions'!M11654,0)*1","v":0},{"$f":"IF('Relevés de  commissions'!D11654=\"AGI externes\",'Relevés de  commissions'!N11654,0)*1","v":0},{"$f":"IF('Relevés de  commissions'!D11654=\"AGI externes\",'Relevés de  commissions'!O11654,0)*1","v":0},{"$f":"IF('Relevés de  commissions'!D11654=\"AGI externes\",'Relevés de  commissions'!P11654,0)*1","v":0},0,""]
[null,null,null,null,null,null,null,null,null,null,null,null,{"$f":"IF('Relevés de  commissions'!D11671=\"AGI externes\",'Relevés de  commissions'!M11671,0)*1","v":0},{"$f":"IF('Relevés de  commissions'!D11671=\"AGI externes\",'Relevés de  commissions'!N11671,0)*1","v":0},{"$f":"IF('Relevés de  commissions'!D11671=\"AGI externes\",'Relevés de  commissions'!O11671,0)*1","v":0},{"$f":"IF('Relevés de  commissions'!D11671=\"AGI externes\",'Relevés de  commissions'!P11671,0)*1","v":0},0,""]
[null,null,null,null,null,null,null,null,null,null,null,null,{"$f":"IF('Relevés de  commissions'!D11681=\"AGI externes\",'Relevés de  commissions'!M11681,0)*1","v":0},{"$f":"IF('Relevés de  commissions'!D11681=\"AGI externes\",'Relevés de  commissions'!N11681,0)*1","v":0},{"$f":"IF('Relevés de  commissions'!D11681=\"AGI externes\",'Relevés de  commissions'!O11681,0)*1","v":0},{"$f":"IF('Relevés de  commissions'!D11681=\"AGI externes\",'Relevés de  commissions'!P11681,0)*1","v":0},0,""]
[null,null,null,null,null,null,null,null,null,null,null,null,{"$f":"IF('Relevés de  commissions'!D11691=\"AGI externes\",'Relevés de  commissions'!M11691,0)*1","v":0},{"$f":"IF('Relevés de  commissions'!D11691=\"AGI externes\",'Relevés de  commissions'!N11691,0)*1","v":0},{"$f":"IF('Relevés de  commissions'!D11691=\"AGI externes\",'Relevés de  commissions'!O11691,0)*1","v":0},{"$f":"IF('Relevés de  commissions'!D11691=\"AGI externes\",'Relevés de  commissions'!P11691,0)*1","v":0},0,""]
[null,null,null,null,null,null,null,null,null,null,null,null,{"$f":"IF('Relevés de  commissions'!D11703=\"AGI externes\",'Relevés de  commissions'!M11703,0)*1","v":0},{"$f":"IF('Relevés de  commissions'!D11703=\"AGI externes\",'Relevés de  commissions'!N11703,0)*1","v":0},{"$f":"IF('Relevés de  commissions'!D11703=\"AGI externes\",'Relevés de  commissions'!O11703,0)*1","v":0},{"$f":"IF('Relevés de  commissions'!D11703=\"AGI externes\",'Relevés de  commissions'!P11703,0)*1","v":0},0,""]
[null,null,null,null,null,null,null,null,null,null,null,null,{"$f":"IF('Relevés de  commissions'!D11713=\"AGI externes\",'Relevés de  commissions'!M11713,0)*1","v":0},{"$f":"IF('Relevés de  commissions'!D11713=\"AGI externes\",'Relevés de  commissions'!N11713,0)*1","v":0},{"$f":"IF('Relevés de  commissions'!D11713=\"AGI externes\",'Relevés de  commissions'!O11713,0)*1","v":0},{"$f":"IF('Relevés de  commissions'!D11713=\"AGI externes\",'Relevés de  commissions'!P11713,0)*1","v":0},0,""]
[null,null,null,null,null,null,null,null,null,null,null,null,{"$f":"IF('Relevés de  commissions'!D11719=\"AGI externes\",'Relevés de  commissions'!M11719,0)*1","v":0},{"$f":"IF('Relevés de  commissions'!D11719=\"AGI externes\",'Relevés de  commissions'!N11719,0)*1","v":0},{"$f":"IF('Relevés de  commissions'!D11719=\"AGI externes\",'Relevés de  commissions'!O11719,0)*1","v":0},{"$f":"IF('Relevés de  commissions'!D11719=\"AGI externes\",'Relevés de  commissions'!P11719,0)*1","v":0},0,""]
[null,null,null,null,null,null,null,null,null,null,null,null,{"$f":"IF('Relevés de  commissions'!D11729=\"AGI externes\",'Relevés de  commissions'!M11729,0)*1","v":0},{"$f":"IF('Relevés de  commissions'!D11729=\"AGI externes\",'Relevés de  commissions'!N11729,0)*1","v":0},{"$f":"IF('Relevés de  commissions'!D11729=\"AGI externes\",'Relevés de  commissions'!O11729,0)*1","v":0},{"$f":"IF('Relevés de  commissions'!D11729=\"AGI externes\",'Relevés de  commissions'!P11729,0)*1","v":0},0,""]
[null,null,null,null,null,null,null,null,null,null,null,null,{"$f":"IF('Relevés de  commissions'!D11746=\"AGI externes\",'Relevés de  commissions'!M11746,0)*1","v":0},{"$f":"IF('Relevés de  commissions'!D11746=\"AGI externes\",'Relevés de  commissions'!N11746,0)*1","v":0},{"$f":"IF('Relevés de  commissions'!D11746=\"AGI externes\",'Relevés de  commissions'!O11746,0)*1","v":0},{"$f":"IF('Relevés de  commissions'!D11746=\"AGI externes\",'Relevés de  commissions'!P11746,0)*1","v":0},0,""]
[null,null,null,null,null,null,null,null,null,null,null,null,{"$f":"IF('Relevés de  commissions'!D11758=\"AGI externes\",'Relevés de  commissions'!M11758,0)*1","v":0},{"$f":"IF('Relevés de  commissions'!D11758=\"AGI externes\",'Relevés de  commissions'!N11758,0)*1","v":0},{"$f":"IF('Relevés de  commissions'!D11758=\"AGI externes\",'Relevés de  commissions'!O11758,0)*1","v":0},{"$f":"IF('Relevés de  commissions'!D11758=\"AGI externes\",'Relevés de  commissions'!P11758,0)*1","v":0},0,""]
[null,null,null,null,null,null,null,null,null,null,null,null,{"$f":"IF('Relevés de  commissions'!D11761=\"AGI externes\",'Relevés de  commissions'!M11761,0)*1","v":0},{"$f":"IF('Relevés de  commissions'!D11761=\"AGI externes\",'Relevés de  commissions'!N11761,0)*1","v":0},{"$f":"IF('Relevés de  commissions'!D11761=\"AGI externes\",'Relevés de  commissions'!O11761,0)*1","v":0},{"$f":"IF('Relevés de  commissions'!D11761=\"AGI externes\",'Relevés de  commissions'!P11761,0)*1","v":0},0,""]
[null,null,null,null,null,null,null,null,null,null,null,null,{"$f":"IF('Relevés de  commissions'!D11778=\"AGI externes\",'Relevés de  commissions'!M11778,0)*1","v":0},{"$f":"IF('Relevés de  commissions'!D11778=\"AGI externes\",'Relevés de  commissions'!N11778,0)*1","v":0},{"$f":"IF('Relevés de  commissions'!D11778=\"AGI externes\",'Relevés de  commissions'!O11778,0)*1","v":0},{"$f":"IF('Relevés de  commissions'!D11778=\"AGI externes\",'Relevés de  commissions'!P11778,0)*1","v":0},0,""]
[null,null,null,null,null,null,null,null,null,null,null,null,{"$f":"IF('Relevés de  commissions'!D11784=\"AGI externes\",'Relevés de  commissions'!M11784,0)*1","v":0},{"$f":"IF('Relevés de  commissions'!D11784=\"AGI externes\",'Relevés de  commissions'!N11784,0)*1","v":0},{"$f":"IF('Relevés de  commissions'!D11784=\"AGI externes\",'Relevés de  commissions'!O11784,0)*1","v":0},{"$f":"IF('Relevés de  commissions'!D11784=\"AGI externes\",'Relevés de  commissions'!P11784,0)*1","v":0},0,""]
[null,null,null,null,null,null,null,null,null,null,null,null,{"$f":"IF('Relevés de  commissions'!D11794=\"AGI externes\",'Relevés de  commissions'!M11794,0)*1","v":0},{"$f":"IF('Relevés de  commissions'!D11794=\"AGI externes\",'Relevés de  commissions'!N11794,0)*1","v":0},{"$f":"IF('Relevés de  commissions'!D11794=\"AGI externes\",'Relevés de  commissions'!O11794,0)*1","v":0},{"$f":"IF('Relevés de  commissions'!D11794=\"AGI externes\",'Relevés de  commissions'!P11794,0)*1","v":0},0,""]
[null,null,null,null,null,null,null,null,null,null,null,null,{"$f":"IF('Relevés de  commissions'!D11811=\"AGI externes\",'Relevés de  commissions'!M11811,0)*1","v":0},{"$f":"IF('Relevés de  commissions'!D11811=\"AGI externes\",'Relevés de  commissions'!N11811,0)*1","v":0},{"$f":"IF('Relevés de  commissions'!D11811=\"AGI externes\",'Relevés de  commissions'!O11811,0)*1","v":0},{"$f":"IF('Relevés de  commissions'!D11811=\"AGI externes\",'Relevés de  commissions'!P11811,0)*1","v":0},0,""]
[null,null,null,null,null,null,null,null,null,null,null,null,{"$f":"IF('Relevés de  commissions'!D11821=\"AGI externes\",'Relevés de  commissions'!M11821,0)*1","v":0},{"$f":"IF('Relevés de  commissions'!D11821=\"AGI externes\",'Relevés de  commissions'!N11821,0)*1","v":0},{"$f":"IF('Relevés de  commissions'!D11821=\"AGI externes\",'Relevés de  commissions'!O11821,0)*1","v":0},{"$f":"IF('Relevés de  commissions'!D11821=\"AGI externes\",'Relevés de  commissions'!P11821,0)*1","v":0},0,""]
[null,null,null,null,null,null,null,null,null,null,null,null,{"$f":"IF('Relevés de  commissions'!D11826=\"AGI externes\",'Relevés de  commissions'!M11826,0)*1","v":0},{"$f":"IF('Relevés de  commissions'!D11826=\"AGI externes\",'Relevés de  commissions'!N11826,0)*1","v":0},{"$f":"IF('Relevés de  commissions'!D11826=\"AGI externes\",'Relevés de  commissions'!O11826,0)*1","v":0},{"$f":"IF('Relevés de  commissions'!D11826=\"AGI externes\",'Relevés de  commissions'!P11826,0)*1","v":0},0,""]
[null,null,null,null,null,null,null,null,null,null,null,null,{"$f":"IF('Relevés de  commissions'!D11843=\"AGI externes\",'Relevés de  commissions'!M11843,0)*1","v":0},{"$f":"IF('Relevés de  commissions'!D11843=\"AGI externes\",'Relevés de  commissions'!N11843,0)*1","v":0},{"$f":"IF('Relevés de  commissions'!D11843=\"AGI externes\",'Relevés de  commissions'!O11843,0)*1","v":0},{"$f":"IF('Relevés de  commissions'!D11843=\"AGI externes\",'Relevés de  commissions'!P11843,0)*1","v":0},{"$f":"IF(N11845=0,O11845,\"\")","v":0},""]
[null,null,null,null,null,null,null,null,null,null,null,null,{"$f":"IF('Relevés de  commissions'!D11853=\"AGI externes\",'Relevés de  commissions'!M11853,0)*1","v":0},{"$f":"IF('Relevés de  commissions'!D11853=\"AGI externes\",'Relevés de  commissions'!N11853,0)*1","v":0},{"$f":"IF('Relevés de  commissions'!D11853=\"AGI externes\",'Relevés de  commissions'!O11853,0)*1","v":0},{"$f":"IF('Relevés de  commissions'!D11853=\"AGI externes\",'Relevés de  commissions'!P11853,0)*1","v":0},0,""]
[null,null,null,null,null,null,null,null,null,null,null,null,{"$f":"IF('Relevés de  commissions'!D11859=\"AGI externes\",'Relevés de  commissions'!M11859,0)*1","v":0},{"$f":"IF('Relevés de  commissions'!D11859=\"AGI externes\",'Relevés de  commissions'!N11859,0)*1","v":0},{"$f":"IF('Relevés de  commissions'!D11859=\"AGI externes\",'Relevés de  commissions'!O11859,0)*1","v":0},{"$f":"IF('Relevés de  commissions'!D11859=\"AGI externes\",'Relevés de  commissions'!P11859,0)*1","v":0},0,""]
[null,null,null,null,null,null,null,null,null,null,null,null,{"$f":"IF('Relevés de  commissions'!D11876=\"AGI externes\",'Relevés de  commissions'!M11876,0)*1","v":0},{"$f":"IF('Relevés de  commissions'!D11876=\"AGI externes\",'Relevés de  commissions'!N11876,0)*1","v":0},{"$f":"IF('Relevés de  commissions'!D11876=\"AGI externes\",'Relevés de  commissions'!O11876,0)*1","v":0},{"$f":"IF('Relevés de  commissions'!D11876=\"AGI externes\",'Relevés de  commissions'!P11876,0)*1","v":0},0,""]
[null,null,null,null,null,null,null,null,null,null,null,null,{"$f":"IF('Relevés de  commissions'!D11888=\"AGI externes\",'Relevés de  commissions'!M11888,0)*1","v":0},{"$f":"IF('Relevés de  commissions'!D11888=\"AGI externes\",'Relevés de  commissions'!N11888,0)*1","v":0},{"$f":"IF('Relevés de  commissions'!D11888=\"AGI externes\",'Relevés de  commissions'!O11888,0)*1","v":0},{"$f":"IF('Relevés de  commissions'!D11888=\"AGI externes\",'Relevés de  commissions'!P11888,0)*1","v":0},0,""]
[null,null,null,null,null,null,null,null,null,null,null,null,{"$f":"IF('Relevés de  commissions'!D11891=\"AGI externes\",'Relevés de  commissions'!M11891,0)*1","v":0},{"$f":"IF('Relevés de  commissions'!D11891=\"AGI externes\",'Relevés de  commissions'!N11891,0)*1","v":0},{"$f":"IF('Relevés de  commissions'!D11891=\"AGI externes\",'Relevés de  commissions'!O11891,0)*1","v":0},{"$f":"IF('Relevés de  commissions'!D11891=\"AGI externes\",'Relevés de  commissions'!P11891,0)*1","v":0},0,""]
[null,null,null,null,null,null,null,null,null,null,null,null,{"$f":"IF('Relevés de  commissions'!D11901=\"AGI externes\",'Relevés de  commissions'!M11901,0)*1","v":0},{"$f":"IF('Relevés de  commissions'!D11901=\"AGI externes\",'Relevés de  commissions'!N11901,0)*1","v":0},{"$f":"IF('Relevés de  commissions'!D11901=\"AGI externes\",'Relevés de  commissions'!O11901,0)*1","v":0},{"$f":"IF('Relevés de  commissions'!D11901=\"AGI externes\",'Relevés de  commissions'!P11901,0)*1","v":0},0,""]
[null,null,null,null,null,null,null,null,null,null,null,null,{"$f":"IF('Relevés de  commissions'!D11918=\"AGI externes\",'Relevés de  commissions'!M11918,0)*1","v":0},{"$f":"IF('Relevés de  commissions'!D11918=\"AGI externes\",'Relevés de  commissions'!N11918,0)*1","v":0},{"$f":"IF('Relevés de  commissions'!D11918=\"AGI externes\",'Relevés de  commissions'!O11918,0)*1","v":0},{"$f":"IF('Relevés de  commissions'!D11918=\"AGI externes\",'Relevés de  commissions'!P11918,0)*1","v":0},0,""]
[null,null,null,null,null,null,null,null,null,null,null,null,{"$f":"IF('Relevés de  commissions'!D11924=\"AGI externes\",'Relevés de  commissions'!M11924,0)*1","v":0},{"$f":"IF('Relevés de  commissions'!D11924=\"AGI externes\",'Relevés de  commissions'!N11924,0)*1","v":0},{"$f":"IF('Relevés de  commissions'!D11924=\"AGI externes\",'Relevés de  commissions'!O11924,0)*1","v":0},{"$f":"IF('Relevés de  commissions'!D11924=\"AGI externes\",'Relevés de  commissions'!P11924,0)*1","v":0},0,""]
[null,null,null,null,null,null,null,null,null,null,null,null,{"$f":"IF('Relevés de  commissions'!D11934=\"AGI externes\",'Relevés de  commissions'!M11934,0)*1","v":0},{"$f":"IF('Relevés de  commissions'!D11934=\"AGI externes\",'Relevés de  commissions'!N11934,0)*1","v":0},{"$f":"IF('Relevés de  commissions'!D11934=\"AGI externes\",'Relevés de  commissions'!O11934,0)*1","v":0},{"$f":"IF('Relevés de  commissions'!D11934=\"AGI externes\",'Relevés de  commissions'!P11934,0)*1","v":0},0,""]
[null,null,null,null,null,null,null,null,null,null,null,null,{"$f":"IF('Relevés de  commissions'!D11945=\"AGI externes\",'Relevés de  commissions'!M11945,0)*1","v":0},{"$f":"IF('Relevés de  commissions'!D11945=\"AGI externes\",'Relevés de  commissions'!N11945,0)*1","v":0},{"$f":"IF('Relevés de  commissions'!D11945=\"AGI externes\",'Relevés de  commissions'!O11945,0)*1","v":0},{"$f":"IF('Relevés de  commissions'!D11945=\"AGI externes\",'Relevés de  commissions'!P11945,0)*1","v":0},0,""]
[null,null,null,null,null,null,null,null,null,null,null,null,{"$f":"IF('Relevés de  commissions'!D11960=\"AGI externes\",'Relevés de  commissions'!M11960,0)*1","v":0},{"$f":"IF('Relevés de  commissions'!D11960=\"AGI externes\",'Relevés de  commissions'!N11960,0)*1","v":0},{"$f":"IF('Relevés de  commissions'!D11960=\"AGI externes\",'Relevés de  commissions'!O11960,0)*1","v":0},{"$f":"IF('Relevés de  commissions'!D11960=\"AGI externes\",'Relevés de  commissions'!P11960,0)*1","v":0},0,""]
[null,null,null,null,null,null,null,null,null,null,null,null,{"$f":"IF('Relevés de  commissions'!D11966=\"AGI externes\",'Relevés de  commissions'!M11966,0)*1","v":0},{"$f":"IF('Relevés de  commissions'!D11966=\"AGI externes\",'Relevés de  commissions'!N11966,0)*1","v":0},{"$f":"IF('Relevés de  commissions'!D11966=\"AGI externes\",'Relevés de  commissions'!O11966,0)*1","v":0},{"$f":"IF('Relevés de  commissions'!D11966=\"AGI externes\",'Relevés de  commissions'!P11966,0)*1","v":0},0,""]
[null,null,null,null,null,null,null,null,null,null,null,null,{"$f":"IF('Relevés de  commissions'!D11983=\"AGI externes\",'Relevés de  commissions'!M11983,0)*1","v":0},{"$f":"IF('Relevés de  commissions'!D11983=\"AGI externes\",'Relevés de  commissions'!N11983,0)*1","v":0},{"$f":"IF('Relevés de  commissions'!D11983=\"AGI externes\",'Relevés de  commissions'!O11983,0)*1","v":0},{"$f":"IF('Relevés de  commissions'!D11983=\"AGI externes\",'Relevés de  commissions'!P11983,0)*1","v":0},0,""]
[null,null,null,null,null,null,null,null,null,null,null,null,{"$f":"IF('Relevés de  commissions'!D11993=\"AGI externes\",'Relevés de  commissions'!M11993,0)*1","v":0},{"$f":"IF('Relevés de  commissions'!D11993=\"AGI externes\",'Relevés de  commissions'!N11993,0)*1","v":0},{"$f":"IF('Relevés de  commissions'!D11993=\"AGI externes\",'Relevés de  commissions'!O11993,0)*1","v":0},{"$f":"IF('Relevés de  commissions'!D11993=\"AGI externes\",'Relevés de  commissions'!P11993,0)*1","v":0},0,""]
[null,null,null,null,null,null,null,null,null,null,null,null,{"$f":"IF('Relevés de  commissions'!D11999=\"AGI externes\",'Relevés de  commissions'!M11999,0)*1","v":0},{"$f":"IF('Relevés de  commissions'!D11999=\"AGI externes\",'Relevés de  commissions'!N11999,0)*1","v":0},{"$f":"IF('Relevés de  commissions'!D11999=\"AGI externes\",'Relevés de  commissions'!O11999,0)*1","v":0},{"$f":"IF('Relevés de  commissions'!D11999=\"AGI externes\",'Relevés de  commissions'!P11999,0)*1","v":0},0,""]
[null,null,null,null,null,null,null,null,null,null,null,null,{"$f":"IF('Relevés de  commissions'!D12012=\"AGI externes\",'Relevés de  commissions'!M12012,0)*1","v":0},{"$f":"IF('Relevés de  commissions'!D12012=\"AGI externes\",'Relevés de  commissions'!N12012,0)*1","v":0},{"$f":"IF('Relevés de  commissions'!D12012=\"AGI externes\",'Relevés de  commissions'!O12012,0)*1","v":0},{"$f":"IF('Relevés de  commissions'!D12012=\"AGI externes\",'Relevés de  commissions'!P12012,0)*1","v":0},0,""]
[null,null,null,null,null,null,null,null,null,null,null,null,{"$f":"IF('Relevés de  commissions'!D12025=\"AGI externes\",'Relevés de  commissions'!M12025,0)*1","v":0},{"$f":"IF('Relevés de  commissions'!D12025=\"AGI externes\",'Relevés de  commissions'!N12025,0)*1","v":0},{"$f":"IF('Relevés de  commissions'!D12025=\"AGI externes\",'Relevés de  commissions'!O12025,0)*1","v":0},{"$f":"IF('Relevés de  commissions'!D12025=\"AGI externes\",'Relevés de  commissions'!P12025,0)*1","v":0},0,""]
[null,null,null,null,null,null,null,null,null,null,null,null,{"$f":"IF('Relevés de  commissions'!D12031=\"AGI externes\",'Relevés de  commissions'!M12031,0)*1","v":0},{"$f":"IF('Relevés de  commissions'!D12031=\"AGI externes\",'Relevés de  commissions'!N12031,0)*1","v":0},{"$f":"IF('Relevés de  commissions'!D12031=\"AGI externes\",'Relevés de  commissions'!O12031,0)*1","v":0},{"$f":"IF('Relevés de  commissions'!D12031=\"AGI externes\",'Relevés de  commissions'!P12031,0)*1","v":0},0,""]
[null,null,null,null,null,null,null,null,null,null,null,null,{"$f":"IF('Relevés de  commissions'!D12041=\"AGI externes\",'Relevés de  commissions'!M12041,0)*1","v":0},{"$f":"IF('Relevés de  commissions'!D12041=\"AGI externes\",'Relevés de  commissions'!N12041,0)*1","v":0},{"$f":"IF('Relevés de  commissions'!D12041=\"AGI externes\",'Relevés de  commissions'!O12041,0)*1","v":0},{"$f":"IF('Relevés de  commissions'!D12041=\"AGI externes\",'Relevés de  commissions'!P12041,0)*1","v":0},0,""]
[null,null,null,null,null,null,null,null,null,null,null,null,{"$f":"IF('Relevés de  commissions'!D12058=\"AGI externes\",'Relevés de  commissions'!M12058,0)*1","v":0},{"$f":"IF('Relevés de  commissions'!D12058=\"AGI externes\",'Relevés de  commissions'!N12058,0)*1","v":0},{"$f":"IF('Relevés de  commissions'!D12058=\"AGI externes\",'Relevés de  commissions'!O12058,0)*1","v":0},{"$f":"IF('Relevés de  commissions'!D12058=\"AGI externes\",'Relevés de  commissions'!P12058,0)*1","v":0},0,""]
[null,null,null,null,null,null,null,null,null,null,null,null,{"$f":"IF('Relevés de  commissions'!D12064=\"AGI externes\",'Relevés de  commissions'!M12064,0)*1","v":0},{"$f":"IF('Relevés de  commissions'!D12064=\"AGI externes\",'Relevés de  commissions'!N12064,0)*1","v":0},{"$f":"IF('Relevés de  commissions'!D12064=\"AGI externes\",'Relevés de  commissions'!O12064,0)*1","v":0},{"$f":"IF('Relevés de  commissions'!D12064=\"AGI externes\",'Relevés de  commissions'!P12064,0)*1","v":0},0,""]
[null,null,null,null,null,null,null,null,null,null,null,null,{"$f":"IF('Relevés de  commissions'!D12075=\"AGI externes\",'Relevés de  commissions'!M12075,0)*1","v":0},{"$f":"IF('Relevés de  commissions'!D12075=\"AGI externes\",'Relevés de  commissions'!N12075,0)*1","v":0},{"$f":"IF('Relevés de  commissions'!D12075=\"AGI externes\",'Relevés de  commissions'!O12075,0)*1","v":0},{"$f":"IF('Relevés de  commissions'!D12075=\"AGI externes\",'Relevés de  commissions'!P12075,0)*1","v":0},0,""]
[null,null,null,null,null,null,null,null,null,null,null,null,{"$f":"IF('Relevés de  commissions'!D12090=\"AGI externes\",'Relevés de  commissions'!M12090,0)*1","v":0},{"$f":"IF('Relevés de  commissions'!D12090=\"AGI externes\",'Relevés de  commissions'!N12090,0)*1","v":0},{"$f":"IF('Relevés de  commissions'!D12090=\"AGI externes\",'Relevés de  commissions'!O12090,0)*1","v":0},{"$f":"IF('Relevés de  commissions'!D12090=\"AGI externes\",'Relevés de  commissions'!P12090,0)*1","v":0},0,""]
[null,null,null,null,null,null,null,null,null,null,null,null,{"$f":"IF('Relevés de  commissions'!D12096=\"AGI externes\",'Relevés de  commissions'!M12096,0)*1","v":0},{"$f":"IF('Relevés de  commissions'!D12096=\"AGI externes\",'Relevés de  commissions'!N12096,0)*1","v":0},{"$f":"IF('Relevés de  commissions'!D12096=\"AGI externes\",'Relevés de  commissions'!O12096,0)*1","v":0},{"$f":"IF('Relevés de  commissions'!D12096=\"AGI externes\",'Relevés de  commissions'!P12096,0)*1","v":0},0,""]
[null,null,null,null,null,null,null,null,null,null,null,null,{"$f":"IF('Relevés de  commissions'!D12106=\"AGI externes\",'Relevés de  commissions'!M12106,0)*1","v":0},{"$f":"IF('Relevés de  commissions'!D12106=\"AGI externes\",'Relevés de  commissions'!N12106,0)*1","v":0},{"$f":"IF('Relevés de  commissions'!D12106=\"AGI externes\",'Relevés de  commissions'!O12106,0)*1","v":0},{"$f":"IF('Relevés de  commissions'!D12106=\"AGI externes\",'Relevés de  commissions'!P12106,0)*1","v":0},0,""]
[null,null,null,null,null,null,null,null,null,null,null,null,{"$f":"IF('Relevés de  commissions'!D12123=\"AGI externes\",'Relevés de  commissions'!M12123,0)*1","v":0},{"$f":"IF('Relevés de  commissions'!D12123=\"AGI externes\",'Relevés de  commissions'!N12123,0)*1","v":0},{"$f":"IF('Relevés de  commissions'!D12123=\"AGI externes\",'Relevés de  commissions'!O12123,0)*1","v":0},{"$f":"IF('Relevés de  commissions'!D12123=\"AGI externes\",'Relevés de  commissions'!P12123,0)*1","v":0},0,""]
[null,null,null,null,null,null,null,null,null,null,null,null,{"$f":"IF('Relevés de  commissions'!D12133=\"AGI externes\",'Relevés de  commissions'!M12133,0)*1","v":0},{"$f":"IF('Relevés de  commissions'!D12133=\"AGI externes\",'Relevés de  commissions'!N12133,0)*1","v":0},{"$f":"IF('Relevés de  commissions'!D12133=\"AGI externes\",'Relevés de  commissions'!O12133,0)*1","v":0},{"$f":"IF('Relevés de  commissions'!D12133=\"AGI externes\",'Relevés de  commissions'!P12133,0)*1","v":0},0,""]
[null,null,null,null,null,null,null,null,null,null,null,null,{"$f":"IF('Relevés de  commissions'!D12142=\"AGI externes\",'Relevés de  commissions'!M12142,0)*1","v":0},{"$f":"IF('Relevés de  commissions'!D12142=\"AGI externes\",'Relevés de  commissions'!N12142,0)*1","v":0},{"$f":"IF('Relevés de  commissions'!D12142=\"AGI externes\",'Relevés de  commissions'!O12142,0)*1","v":0},{"$f":"IF('Relevés de  commissions'!D12142=\"AGI externes\",'Relevés de  commissions'!P12142,0)*1","v":0},0,""]
[null,null,null,null,null,null,null,null,null,null,null,null,{"$f":"IF('Relevés de  commissions'!D12155=\"AGI externes\",'Relevés de  commissions'!M12155,0)*1","v":0},{"$f":"IF('Relevés de  commissions'!D12155=\"AGI externes\",'Relevés de  commissions'!N12155,0)*1","v":0},{"$f":"IF('Relevés de  commissions'!D12155=\"AGI externes\",'Relevés de  commissions'!O12155,0)*1","v":0},{"$f":"IF('Relevés de  commissions'!D12155=\"AGI externes\",'Relevés de  commissions'!P12155,0)*1","v":0},0,""]
[null,null,null,null,null,null,null,null,null,null,null,null,{"$f":"IF('Relevés de  commissions'!D12165=\"AGI externes\",'Relevés de  commissions'!M12165,0)*1","v":0},{"$f":"IF('Relevés de  commissions'!D12165=\"AGI externes\",'Relevés de  commissions'!N12165,0)*1","v":0},{"$f":"IF('Relevés de  commissions'!D12165=\"AGI externes\",'Relevés de  commissions'!O12165,0)*1","v":0},{"$f":"IF('Relevés de  commissions'!D12165=\"AGI externes\",'Relevés de  commissions'!P12165,0)*1","v":0},0,""]
[null,null,null,null,null,null,null,null,null,null,null,null,{"$f":"IF('Relevés de  commissions'!D12171=\"AGI externes\",'Relevés de  commissions'!M12171,0)*1","v":0},{"$f":"IF('Relevés de  commissions'!D12171=\"AGI externes\",'Relevés de  commissions'!N12171,0)*1","v":0},{"$f":"IF('Relevés de  commissions'!D12171=\"AGI externes\",'Relevés de  commissions'!O12171,0)*1","v":0},{"$f":"IF('Relevés de  commissions'!D12171=\"AGI externes\",'Relevés de  commissions'!P12171,0)*1","v":0},0,""]
[null,null,null,null,null,null,null,null,null,null,null,null,{"$f":"IF('Relevés de  commissions'!D12192=\"AGI externes\",'Relevés de  commissions'!M12192,0)*1","v":0},{"$f":"IF('Relevés de  commissions'!D12192=\"AGI externes\",'Relevés de  commissions'!N12192,0)*1","v":0},{"$f":"IF('Relevés de  commissions'!D12192=\"AGI externes\",'Relevés de  commissions'!O12192,0)*1","v":0},{"$f":"IF('Relevés de  commissions'!D12192=\"AGI externes\",'Relevés de  commissions'!P12192,0)*1","v":0},0,""]
[null,null,null,null,null,null,null,null,null,null,null,null,{"$f":"IF('Relevés de  commissions'!D12198=\"AGI externes\",'Relevés de  commissions'!M12198,0)*1","v":0},{"$f":"IF('Relevés de  commissions'!D12198=\"AGI externes\",'Relevés de  commissions'!N12198,0)*1","v":0},{"$f":"IF('Relevés de  commissions'!D12198=\"AGI externes\",'Relevés de  commissions'!O12198,0)*1","v":0},{"$f":"IF('Relevés de  commissions'!D12198=\"AGI externes\",'Relevés de  commissions'!P12198,0)*1","v":0},0,""]
[null,null,null,null,null,null,null,null,null,null,null,null,{"$f":"IF('Relevés de  commissions'!D12209=\"AGI externes\",'Relevés de  commissions'!M12209,0)*1","v":0},{"$f":"IF('Relevés de  commissions'!D12209=\"AGI externes\",'Relevés de  commissions'!N12209,0)*1","v":0},{"$f":"IF('Relevés de  commissions'!D12209=\"AGI externes\",'Relevés de  commissions'!O12209,0)*1","v":0},{"$f":"IF('Relevés de  commissions'!D12209=\"AGI externes\",'Relevés de  commissions'!P12209,0)*1","v":0},0,""]
[null,null,null,null,null,null,null,null,null,null,null,null,{"$f":"IF('Relevés de  commissions'!D12224=\"AGI externes\",'Relevés de  commissions'!M12224,0)*1","v":0},{"$f":"IF('Relevés de  commissions'!D12224=\"AGI externes\",'Relevés de  commissions'!N12224,0)*1","v":0},{"$f":"IF('Relevés de  commissions'!D12224=\"AGI externes\",'Relevés de  commissions'!O12224,0)*1","v":0},{"$f":"IF('Relevés de  commissions'!D12224=\"AGI externes\",'Relevés de  commissions'!P12224,0)*1","v":0},0,""]
[null,null,null,null,null,null,null,null,null,null,null,null,{"$f":"IF('Relevés de  commissions'!D12230=\"AGI externes\",'Relevés de  commissions'!M12230,0)*1","v":0},{"$f":"IF('Relevés de  commissions'!D12230=\"AGI externes\",'Relevés de  commissions'!N12230,0)*1","v":0},{"$f":"IF('Relevés de  commissions'!D12230=\"AGI externes\",'Relevés de  commissions'!O12230,0)*1","v":0},{"$f":"IF('Relevés de  commissions'!D12230=\"AGI externes\",'Relevés de  commissions'!P12230,0)*1","v":0},0,""]
[null,null,null,null,null,null,null,null,null,null,null,null,{"$f":"IF('Relevés de  commissions'!D12236=\"AGI externes\",'Relevés de  commissions'!M12236,0)*1","v":0},{"$f":"IF('Relevés de  commissions'!D12236=\"AGI externes\",'Relevés de  commissions'!N12236,0)*1","v":0},{"$f":"IF('Relevés de  commissions'!D12236=\"AGI externes\",'Relevés de  commissions'!O12236,0)*1","v":0},{"$f":"IF('Relevés de  commissions'!D12236=\"AGI externes\",'Relevés de  commissions'!P12236,0)*1","v":0},0,""]
[null,null,null,null,null,null,null,null,null,null,null,null,{"$f":"IF('Relevés de  commissions'!D12257=\"AGI externes\",'Relevés de  commissions'!M12257,0)*1","v":0},{"$f":"IF('Relevés de  commissions'!D12257=\"AGI externes\",'Relevés de  commissions'!N12257,0)*1","v":0},{"$f":"IF('Relevés de  commissions'!D12257=\"AGI externes\",'Relevés de  commissions'!O12257,0)*1","v":0},{"$f":"IF('Relevés de  commissions'!D12257=\"AGI externes\",'Relevés de  commissions'!P12257,0)*1","v":0},0,""]
[null,null,null,null,null,null,null,null,null,null,null,null,{"$f":"IF('Relevés de  commissions'!D12263=\"AGI externes\",'Relevés de  commissions'!M12263,0)*1","v":0},{"$f":"IF('Relevés de  commissions'!D12263=\"AGI externes\",'Relevés de  commissions'!N12263,0)*1","v":0},{"$f":"IF('Relevés de  commissions'!D12263=\"AGI externes\",'Relevés de  commissions'!O12263,0)*1","v":0},{"$f":"IF('Relevés de  commissions'!D12263=\"AGI externes\",'Relevés de  commissions'!P12263,0)*1","v":0},0,""]
[null,null,null,null,null,null,null,null,null,null,null,null,{"$f":"IF('Relevés de  commissions'!D12272=\"AGI externes\",'Relevés de  commissions'!M12272,0)*1","v":0},{"$f":"IF('Relevés de  commissions'!D12272=\"AGI externes\",'Relevés de  commissions'!N12272,0)*1","v":0},{"$f":"IF('Relevés de  commissions'!D12272=\"AGI externes\",'Relevés de  commissions'!O12272,0)*1","v":0},{"$f":"IF('Relevés de  commissions'!D12272=\"AGI externes\",'Relevés de  commissions'!P12272,0)*1","v":0},0,""]
[null,null,null,null,null,null,null,null,null,null,null,null,{"$f":"IF('Relevés de  commissions'!D12289=\"AGI externes\",'Relevés de  commissions'!M12289,0)*1","v":0},{"$f":"IF('Relevés de  commissions'!D12289=\"AGI externes\",'Relevés de  commissions'!N12289,0)*1","v":0},{"$f":"IF('Relevés de  commissions'!D12289=\"AGI externes\",'Relevés de  commissions'!O12289,0)*1","v":0},{"$f":"IF('Relevés de  commissions'!D12289=\"AGI externes\",'Relevés de  commissions'!P12289,0)*1","v":0},0,""]
[null,null,null,null,null,null,null,null,null,null,null,null,{"$f":"IF('Relevés de  commissions'!D12295=\"AGI externes\",'Relevés de  commissions'!M12295,0)*1","v":0},{"$f":"IF('Relevés de  commissions'!D12295=\"AGI externes\",'Relevés de  commissions'!N12295,0)*1","v":0},{"$f":"IF('Relevés de  commissions'!D12295=\"AGI externes\",'Relevés de  commissions'!O12295,0)*1","v":0},{"$f":"IF('Relevés de  commissions'!D12295=\"AGI externes\",'Relevés de  commissions'!P12295,0)*1","v":0},0,""]
[null,null,null,null,null,null,null,null,null,null,null,null,{"$f":"IF('Relevés de  commissions'!D12305=\"AGI externes\",'Relevés de  commissions'!M12305,0)*1","v":0},{"$f":"IF('Relevés de  commissions'!D12305=\"AGI externes\",'Relevés de  commissions'!N12305,0)*1","v":0},{"$f":"IF('Relevés de  commissions'!D12305=\"AGI externes\",'Relevés de  commissions'!O12305,0)*1","v":0},{"$f":"IF('Relevés de  commissions'!D12305=\"AGI externes\",'Relevés de  commissions'!P12305,0)*1","v":0},0,""]
[null,null,null,null,null,null,null,null,null,null,null,null,{"$f":"IF('Relevés de  commissions'!D12322=\"AGI externes\",'Relevés de  commissions'!M12322,0)*1","v":0},{"$f":"IF('Relevés de  commissions'!D12322=\"AGI externes\",'Relevés de  commissions'!N12322,0)*1","v":0},{"$f":"IF('Relevés de  commissions'!D12322=\"AGI externes\",'Relevés de  commissions'!O12322,0)*1","v":0},{"$f":"IF('Relevés de  commissions'!D12322=\"AGI externes\",'Relevés de  commissions'!P12322,0)*1","v":0},0,""]
[null,null,null,null,null,null,null,null,null,null,null,null,{"$f":"IF('Relevés de  commissions'!D12332=\"AGI externes\",'Relevés de  commissions'!M12332,0)*1","v":0},{"$f":"IF('Relevés de  commissions'!D12332=\"AGI externes\",'Relevés de  commissions'!N12332,0)*1","v":0},{"$f":"IF('Relevés de  commissions'!D12332=\"AGI externes\",'Relevés de  commissions'!O12332,0)*1","v":0},{"$f":"IF('Relevés de  commissions'!D12332=\"AGI externes\",'Relevés de  commissions'!P12332,0)*1","v":0},0,""]
[null,null,null,null,null,null,null,null,null,null,null,null,{"$f":"IF('Relevés de  commissions'!D12339=\"AGI externes\",'Relevés de  commissions'!M12339,0)*1","v":0},{"$f":"IF('Relevés de  commissions'!D12339=\"AGI externes\",'Relevés de  commissions'!N12339,0)*1","v":0},{"$f":"IF('Relevés de  commissions'!D12339=\"AGI externes\",'Relevés de  commissions'!O12339,0)*1","v":0},{"$f":"IF('Relevés de  commissions'!D12339=\"AGI externes\",'Relevés de  commissions'!P12339,0)*1","v":0},0,""]
[null,null,null,null,null,null,null,null,null,null,null,null,{"$f":"IF('Relevés de  commissions'!D12354=\"AGI externes\",'Relevés de  commissions'!M12354,0)*1","v":0},{"$f":"IF('Relevés de  commissions'!D12354=\"AGI externes\",'Relevés de  commissions'!N12354,0)*1","v":0},{"$f":"IF('Relevés de  commissions'!D12354=\"AGI externes\",'Relevés de  commissions'!O12354,0)*1","v":0},{"$f":"IF('Relevés de  commissions'!D12354=\"AGI externes\",'Relevés de  commissions'!P12354,0)*1","v":0},0,""]
[null,null,null,null,null,null,null,null,null,null,null,null,{"$f":"IF('Relevés de  commissions'!D12364=\"AGI externes\",'Relevés de  commissions'!M12364,0)*1","v":0},{"$f":"IF('Relevés de  commissions'!D12364=\"AGI externes\",'Relevés de  commissions'!N12364,0)*1","v":0},{"$f":"IF('Relevés de  commissions'!D12364=\"AGI externes\",'Relevés de  commissions'!O12364,0)*1","v":0},{"$f":"IF('Relevés de  commissions'!D12364=\"AGI externes\",'Relevés de  commissions'!P12364,0)*1","v":0},0,""]
[null,null,null,null,null,null,null,null,null,null,null,null,{"$f":"IF('Relevés de  commissions'!D12370=\"AGI externes\",'Relevés de  commissions'!M12370,0)*1","v":0},{"$f":"IF('Relevés de  commissions'!D12370=\"AGI externes\",'Relevés de  commissions'!N12370,0)*1","v":0},{"$f":"IF('Relevés de  commissions'!D12370=\"AGI externes\",'Relevés de  commissions'!O12370,0)*1","v":0},{"$f":"IF('Relevés de  commissions'!D12370=\"AGI externes\",'Relevés de  commissions'!P12370,0)*1","v":0},0,""]
[null,null,null,null,null,null,null,null,null,null,null,null,{"$f":"IF('Relevés de  commissions'!D12387=\"AGI externes\",'Relevés de  commissions'!M12387,0)*1","v":0},{"$f":"IF('Relevés de  commissions'!D12387=\"AGI externes\",'Relevés de  commissions'!N12387,0)*1","v":0},{"$f":"IF('Relevés de  commissions'!D12387=\"AGI externes\",'Relevés de  commissions'!O12387,0)*1","v":0},{"$f":"IF('Relevés de  commissions'!D12387=\"AGI externes\",'Relevés de  commissions'!P12387,0)*1","v":0},0,""]
[null,null,null,null,null,null,null,null,null,null,null,null,{"$f":"IF('Relevés de  commissions'!D12397=\"AGI externes\",'Relevés de  commissions'!M12397,0)*1","v":0},{"$f":"IF('Relevés de  commissions'!D12397=\"AGI externes\",'Relevés de  commissions'!N12397,0)*1","v":0},{"$f":"IF('Relevés de  commissions'!D12397=\"AGI externes\",'Relevés de  commissions'!O12397,0)*1","v":0},{"$f":"IF('Relevés de  commissions'!D12397=\"AGI externes\",'Relevés de  commissions'!P12397,0)*1","v":0},0,""]
[null,null,null,null,null,null,null,null,null,null,null,null,{"$f":"IF('Relevés de  commissions'!D12406=\"AGI externes\",'Relevés de  commissions'!M12406,0)*1","v":0},{"$f":"IF('Relevés de  commissions'!D12406=\"AGI externes\",'Relevés de  commissions'!N12406,0)*1","v":0},{"$f":"IF('Relevés de  commissions'!D12406=\"AGI externes\",'Relevés de  commissions'!O12406,0)*1","v":0},{"$f":"IF('Relevés de  commissions'!D12406=\"AGI externes\",'Relevés de  commissions'!P12406,0)*1","v":0},0,""]
[null,null,null,null,null,null,null,null,null,null,null,null,{"$f":"IF('Relevés de  commissions'!D12412=\"AGI externes\",'Relevés de  commissions'!M12412,0)*1","v":0},{"$f":"IF('Relevés de  commissions'!D12412=\"AGI externes\",'Relevés de  commissions'!N12412,0)*1","v":0},{"$f":"IF('Relevés de  commissions'!D12412=\"AGI externes\",'Relevés de  commissions'!O12412,0)*1","v":0},{"$f":"IF('Relevés de  commissions'!D12412=\"AGI externes\",'Relevés de  commissions'!P12412,0)*1","v":0},0,""]
[null,null,null,null,null,null,null,null,null,null,null,null,{"$f":"IF('Relevés de  commissions'!D12429=\"AGI externes\",'Relevés de  commissions'!M12429,0)*1","v":0},{"$f":"IF('Relevés de  commissions'!D12429=\"AGI externes\",'Relevés de  commissions'!N12429,0)*1","v":0},{"$f":"IF('Relevés de  commissions'!D12429=\"AGI externes\",'Relevés de  commissions'!O12429,0)*1","v":0},{"$f":"IF('Relevés de  commissions'!D12429=\"AGI externes\",'Relevés de  commissions'!P12429,0)*1","v":0},0,""]
[null,null,null,null,null,null,null,null,null,null,null,null,{"$f":"IF('Relevés de  commissions'!D12435=\"AGI externes\",'Relevés de  commissions'!M12435,0)*1","v":0},{"$f":"IF('Relevés de  commissions'!D12435=\"AGI externes\",'Relevés de  commissions'!N12435,0)*1","v":0},{"$f":"IF('Relevés de  commissions'!D12435=\"AGI externes\",'Relevés de  commissions'!O12435,0)*1","v":0},{"$f":"IF('Relevés de  commissions'!D12435=\"AGI externes\",'Relevés de  commissions'!P12435,0)*1","v":0},0,""]
[null,null,null,null,null,null,null,null,null,null,null,null,{"$f":"IF('Relevés de  commissions'!D12445=\"AGI externes\",'Relevés de  commissions'!M12445,0)*1","v":0},{"$f":"IF('Relevés de  commissions'!D12445=\"AGI externes\",'Relevés de  commissions'!N12445,0)*1","v":0},{"$f":"IF('Relevés de  commissions'!D12445=\"AGI externes\",'Relevés de  commissions'!O12445,0)*1","v":0},{"$f":"IF('Relevés de  commissions'!D12445=\"AGI externes\",'Relevés de  commissions'!P12445,0)*1","v":0},0,""]
[null,null,null,null,null,null,null,null,null,null,null,null,{"$f":"IF('Relevés de  commissions'!D12462=\"AGI externes\",'Relevés de  commissions'!M12462,0)*1","v":0},{"$f":"IF('Relevés de  commissions'!D12462=\"AGI externes\",'Relevés de  commissions'!N12462,0)*1","v":0},{"$f":"IF('Relevés de  commissions'!D12462=\"AGI externes\",'Relevés de  commissions'!O12462,0)*1","v":0},{"$f":"IF('Relevés de  commissions'!D12462=\"AGI externes\",'Relevés de  commissions'!P12462,0)*1","v":0},0,""]
[null,null,null,null,null,null,null,null,null,null,null,null,{"$f":"IF('Relevés de  commissions'!D12473=\"AGI externes\",'Relevés de  commissions'!M12473,0)*1","v":0},{"$f":"IF('Relevés de  commissions'!D12473=\"AGI externes\",'Relevés de  commissions'!N12473,0)*1","v":0},{"$f":"IF('Relevés de  commissions'!D12473=\"AGI externes\",'Relevés de  commissions'!O12473,0)*1","v":0},{"$f":"IF('Relevés de  commissions'!D12473=\"AGI externes\",'Relevés de  commissions'!P12473,0)*1","v":0},0,""]
[null,null,null,null,null,null,null,null,null,null,null,null,{"$f":"IF('Relevés de  commissions'!D12477=\"AGI externes\",'Relevés de  commissions'!M12477,0)*1","v":0},{"$f":"IF('Relevés de  commissions'!D12477=\"AGI externes\",'Relevés de  commissions'!N12477,0)*1","v":0},{"$f":"IF('Relevés de  commissions'!D12477=\"AGI externes\",'Relevés de  commissions'!O12477,0)*1","v":0},{"$f":"IF('Relevés de  commissions'!D12477=\"AGI externes\",'Relevés de  commissions'!P12477,0)*1","v":0},0,""]
[null,null,null,null,null,null,null,null,null,null,null,null,{"$f":"IF('Relevés de  commissions'!D12494=\"AGI externes\",'Relevés de  commissions'!M12494,0)*1","v":0},{"$f":"IF('Relevés de  commissions'!D12494=\"AGI externes\",'Relevés de  commissions'!N12494,0)*1","v":0},{"$f":"IF('Relevés de  commissions'!D12494=\"AGI externes\",'Relevés de  commissions'!O12494,0)*1","v":0},{"$f":"IF('Relevés de  commissions'!D12494=\"AGI externes\",'Relevés de  commissions'!P12494,0)*1","v":0},0,""]
[null,null,null,null,null,null,null,null,null,null,null,null,{"$f":"IF('Relevés de  commissions'!D12504=\"AGI externes\",'Relevés de  commissions'!M12504,0)*1","v":0},{"$f":"IF('Relevés de  commissions'!D12504=\"AGI externes\",'Relevés de  commissions'!N12504,0)*1","v":0},{"$f":"IF('Relevés de  commissions'!D12504=\"AGI externes\",'Relevés de  commissions'!O12504,0)*1","v":0},{"$f":"IF('Relevés de  commissions'!D12504=\"AGI externes\",'Relevés de  commissions'!P12504,0)*1","v":0},0,""]
[null,null,null,null,null,null,null,null,null,null,null,null,{"$f":"IF('Relevés de  commissions'!D12510=\"AGI externes\",'Relevés de  commissions'!M12510,0)*1","v":0},{"$f":"IF('Relevés de  commissions'!D12510=\"AGI externes\",'Relevés de  commissions'!N12510,0)*1","v":0},{"$f":"IF('Relevés de  commissions'!D12510=\"AGI externes\",'Relevés de  commissions'!O12510,0)*1","v":0},{"$f":"IF('Relevés de  commissions'!D12510=\"AGI externes\",'Relevés de  commissions'!P12510,0)*1","v":0},0,""]
[null,null,null,null,null,null,null,null,null,null,null,null,{"$f":"IF('Relevés de  commissions'!D12527=\"AGI externes\",'Relevés de  commissions'!M12527,0)*1","v":0},{"$f":"IF('Relevés de  commissions'!D12527=\"AGI externes\",'Relevés de  commissions'!N12527,0)*1","v":0},{"$f":"IF('Relevés de  commissions'!D12527=\"AGI externes\",'Relevés de  commissions'!O12527,0)*1","v":0},{"$f":"IF('Relevés de  commissions'!D12527=\"AGI externes\",'Relevés de  commissions'!P12527,0)*1","v":0},0,""]
[null,null,null,null,null,null,null,null,null,null,null,null,{"$f":"IF('Relevés de  commissions'!D12536=\"AGI externes\",'Relevés de  commissions'!M12536,0)*1","v":0},{"$f":"IF('Relevés de  commissions'!D12536=\"AGI externes\",'Relevés de  commissions'!N12536,0)*1","v":0},{"$f":"IF('Relevés de  commissions'!D12536=\"AGI externes\",'Relevés de  commissions'!O12536,0)*1","v":0},{"$f":"IF('Relevés de  commissions'!D12536=\"AGI externes\",'Relevés de  commissions'!P12536,0)*1","v":0},0,""]
[null,null,null,null,null,null,null,null,null,null,null,null,{"$f":"IF('Relevés de  commissions'!D12542=\"AGI externes\",'Relevés de  commissions'!M12542,0)*1","v":0},{"$f":"IF('Relevés de  commissions'!D12542=\"AGI externes\",'Relevés de  commissions'!N12542,0)*1","v":0},{"$f":"IF('Relevés de  commissions'!D12542=\"AGI externes\",'Relevés de  commissions'!O12542,0)*1","v":0},{"$f":"IF('Relevés de  commissions'!D12542=\"AGI externes\",'Relevés de  commissions'!P12542,0)*1","v":0},0,""]
[null,null,null,null,null,null,null,null,null,null,null,null,{"$f":"IF('Relevés de  commissions'!D12552=\"AGI externes\",'Relevés de  commissions'!M12552,0)*1","v":0},{"$f":"IF('Relevés de  commissions'!D12552=\"AGI externes\",'Relevés de  commissions'!N12552,0)*1","v":0},{"$f":"IF('Relevés de  commissions'!D12552=\"AGI externes\",'Relevés de  commissions'!O12552,0)*1","v":0},{"$f":"IF('Relevés de  commissions'!D12552=\"AGI externes\",'Relevés de  commissions'!P12552,0)*1","v":0},0,""]
[null,null,null,null,null,null,null,null,null,null,null,null,{"$f":"IF('Relevés de  commissions'!D12569=\"AGI externes\",'Relevés de  commissions'!M12569,0)*1","v":0},{"$f":"IF('Relevés de  commissions'!D12569=\"AGI externes\",'Relevés de  commissions'!N12569,0)*1","v":0},{"$f":"IF('Relevés de  commissions'!D12569=\"AGI externes\",'Relevés de  commissions'!O12569,0)*1","v":0},{"$f":"IF('Relevés de  commissions'!D12569=\"AGI externes\",'Relevés de  commissions'!P12569,0)*1","v":0},0,""]
[null,null,null,null,null,null,null,null,null,null,null,null,{"$f":"IF('Relevés de  commissions'!D12575=\"AGI externes\",'Relevés de  commissions'!M12575,0)*1","v":0},{"$f":"IF('Relevés de  commissions'!D12575=\"AGI externes\",'Relevés de  commissions'!N12575,0)*1","v":0},{"$f":"IF('Relevés de  commissions'!D12575=\"AGI externes\",'Relevés de  commissions'!O12575,0)*1","v":0},{"$f":"IF('Relevés de  commissions'!D12575=\"AGI externes\",'Relevés de  commissions'!P12575,0)*1","v":0},0,""]
[null,null,null,null,null,null,null,null,null,null,null,null,{"$f":"IF('Relevés de  commissions'!D12585=\"AGI externes\",'Relevés de  commissions'!M12585,0)*1","v":0},{"$f":"IF('Relevés de  commissions'!D12585=\"AGI externes\",'Relevés de  commissions'!N12585,0)*1","v":0},{"$f":"IF('Relevés de  commissions'!D12585=\"AGI externes\",'Relevés de  commissions'!O12585,0)*1","v":0},{"$f":"IF('Relevés de  commissions'!D12585=\"AGI externes\",'Relevés de  commissions'!P12585,0)*1","v":0},0,""]
[null,null,null,null,null,null,null,null,null,null,null,null,{"$f":"IF('Relevés de  commissions'!D12603=\"AGI externes\",'Relevés de  commissions'!M12603,0)*1","v":0},{"$f":"IF('Relevés de  commissions'!D12603=\"AGI externes\",'Relevés de  commissions'!N12603,0)*1","v":0},{"$f":"IF('Relevés de  commissions'!D12603=\"AGI externes\",'Relevés de  commissions'!O12603,0)*1","v":0},{"$f":"IF('Relevés de  commissions'!D12603=\"AGI externes\",'Relevés de  commissions'!P12603,0)*1","v":0},0,""]
[null,null,null,null,null,null,null,null,null,null,null,null,{"$f":"IF('Relevés de  commissions'!D12607=\"AGI externes\",'Relevés de  commissions'!M12607,0)*1","v":0},{"$f":"IF('Relevés de  commissions'!D12607=\"AGI externes\",'Relevés de  commissions'!N12607,0)*1","v":0},{"$f":"IF('Relevés de  commissions'!D12607=\"AGI externes\",'Relevés de  commissions'!O12607,0)*1","v":0},{"$f":"IF('Relevés de  commissions'!D12607=\"AGI externes\",'Relevés de  commissions'!P12607,0)*1","v":0},0,""]
[null,null,null,null,null,null,null,null,null,null,null,null,{"$f":"IF('Relevés de  commissions'!D12617=\"AGI externes\",'Relevés de  commissions'!M12617,0)*1","v":0},{"$f":"IF('Relevés de  commissions'!D12617=\"AGI externes\",'Relevés de  commissions'!N12617,0)*1","v":0},{"$f":"IF('Relevés de  commissions'!D12617=\"AGI externes\",'Relevés de  commissions'!O12617,0)*1","v":0},{"$f":"IF('Relevés de  commissions'!D12617=\"AGI externes\",'Relevés de  commissions'!P12617,0)*1","v":0},0,""]
[null,null,null,null,null,null,null,null,null,null,null,null,{"$f":"IF('Relevés de  commissions'!D12634=\"AGI externes\",'Relevés de  commissions'!M12634,0)*1","v":0},{"$f":"IF('Relevés de  commissions'!D12634=\"AGI externes\",'Relevés de  commissions'!N12634,0)*1","v":0},{"$f":"IF('Relevés de  commissions'!D12634=\"AGI externes\",'Relevés de  commissions'!O12634,0)*1","v":0},{"$f":"IF('Relevés de  commissions'!D12634=\"AGI externes\",'Relevés de  commissions'!P12634,0)*1","v":0},0,""]
[null,null,null,null,null,null,null,null,null,null,null,null,{"$f":"IF('Relevés de  commissions'!D12644=\"AGI externes\",'Relevés de  commissions'!M12644,0)*1","v":0},{"$f":"IF('Relevés de  commissions'!D12644=\"AGI externes\",'Relevés de  commissions'!N12644,0)*1","v":0},{"$f":"IF('Relevés de  commissions'!D12644=\"AGI externes\",'Relevés de  commissions'!O12644,0)*1","v":0},{"$f":"IF('Relevés de  commissions'!D12644=\"AGI externes\",'Relevés de  commissions'!P12644,0)*1","v":0},0,""]
[null,null,null,null,null,null,null,null,null,null,null,null,{"$f":"IF('Relevés de  commissions'!D12650=\"AGI externes\",'Relevés de  commissions'!M12650,0)*1","v":0},{"$f":"IF('Relevés de  commissions'!D12650=\"AGI externes\",'Relevés de  commissions'!N12650,0)*1","v":0},{"$f":"IF('Relevés de  commissions'!D12650=\"AGI externes\",'Relevés de  commissions'!O12650,0)*1","v":0},{"$f":"IF('Relevés de  commissions'!D12650=\"AGI externes\",'Relevés de  commissions'!P12650,0)*1","v":0},0,""]
[null,null,null,null,null,null,null,null,null,null,null,null,{"$f":"IF('Relevés de  commissions'!D12660=\"AGI externes\",'Relevés de  commissions'!M12660,0)*1","v":0},{"$f":"IF('Relevés de  commissions'!D12660=\"AGI externes\",'Relevés de  commissions'!N12660,0)*1","v":0},{"$f":"IF('Relevés de  commissions'!D12660=\"AGI externes\",'Relevés de  commissions'!O12660,0)*1","v":0},{"$f":"IF('Relevés de  commissions'!D12660=\"AGI externes\",'Relevés de  commissions'!P12660,0)*1","v":0},0,""]
[null,null,null,null,null,null,null,null,null,null,null,null,{"$f":"IF('Relevés de  commissions'!D12676=\"AGI externes\",'Relevés de  commissions'!M12676,0)*1","v":0},{"$f":"IF('Relevés de  commissions'!D12676=\"AGI externes\",'Relevés de  commissions'!N12676,0)*1","v":0},{"$f":"IF('Relevés de  commissions'!D12676=\"AGI externes\",'Relevés de  commissions'!O12676,0)*1","v":0},{"$f":"IF('Relevés de  commissions'!D12676=\"AGI externes\",'Relevés de  commissions'!P12676,0)*1","v":0},0,""]
[null,null,null,null,null,null,null,null,null,null,null,null,{"$f":"IF('Relevés de  commissions'!D12682=\"AGI externes\",'Relevés de  commissions'!M12682,0)*1","v":0},{"$f":"IF('Relevés de  commissions'!D12682=\"AGI externes\",'Relevés de  commissions'!N12682,0)*1","v":0},{"$f":"IF('Relevés de  commissions'!D12682=\"AGI externes\",'Relevés de  commissions'!O12682,0)*1","v":0},{"$f":"IF('Relevés de  commissions'!D12682=\"AGI externes\",'Relevés de  commissions'!P12682,0)*1","v":0},0,""]
[null,null,null,null,null,null,null,null,null,null,null,null,{"$f":"IF('Relevés de  commissions'!D12692=\"AGI externes\",'Relevés de  commissions'!M12692,0)*1","v":0},{"$f":"IF('Relevés de  commissions'!D12692=\"AGI externes\",'Relevés de  commissions'!N12692,0)*1","v":0},{"$f":"IF('Relevés de  commissions'!D12692=\"AGI externes\",'Relevés de  commissions'!O12692,0)*1","v":0},{"$f":"IF('Relevés de  commissions'!D12692=\"AGI externes\",'Relevés de  commissions'!P12692,0)*1","v":0},0,""]
[null,null,null,null,null,null,null,null,null,null,null,null,{"$f":"IF('Relevés de  commissions'!D12709=\"AGI externes\",'Relevés de  commissions'!M12709,0)*1","v":0},{"$f":"IF('Relevés de  commissions'!D12709=\"AGI externes\",'Relevés de  commissions'!N12709,0)*1","v":0},{"$f":"IF('Relevés de  commissions'!D12709=\"AGI externes\",'Relevés de  commissions'!O12709,0)*1","v":0},{"$f":"IF('Relevés de  commissions'!D12709=\"AGI externes\",'Relevés de  commissions'!P12709,0)*1","v":0},0,""]
[null,null,null,null,null,null,null,null,null,null,null,null,{"$f":"IF('Relevés de  commissions'!D12715=\"AGI externes\",'Relevés de  commissions'!M12715,0)*1","v":0},{"$f":"IF('Relevés de  commissions'!D12715=\"AGI externes\",'Relevés de  commissions'!N12715,0)*1","v":0},{"$f":"IF('Relevés de  commissions'!D12715=\"AGI externes\",'Relevés de  commissions'!O12715,0)*1","v":0},{"$f":"IF('Relevés de  commissions'!D12715=\"AGI externes\",'Relevés de  commissions'!P12715,0)*1","v":0},0,""]
[null,null,null,null,null,null,null,null,null,null,null,null,{"$f":"IF('Relevés de  commissions'!D12733=\"AGI externes\",'Relevés de  commissions'!M12733,0)*1","v":0},{"$f":"IF('Relevés de  commissions'!D12733=\"AGI externes\",'Relevés de  commissions'!N12733,0)*1","v":0},{"$f":"IF('Relevés de  commissions'!D12733=\"AGI externes\",'Relevés de  commissions'!O12733,0)*1","v":0},{"$f":"IF('Relevés de  commissions'!D12733=\"AGI externes\",'Relevés de  commissions'!P12733,0)*1","v":0},0,""]
[null,null,null,null,null,null,null,null,null,null,null,null,{"$f":"IF('Relevés de  commissions'!D12741=\"AGI externes\",'Relevés de  commissions'!M12741,0)*1","v":0},{"$f":"IF('Relevés de  commissions'!D12741=\"AGI externes\",'Relevés de  commissions'!N12741,0)*1","v":0},{"$f":"IF('Relevés de  commissions'!D12741=\"AGI externes\",'Relevés de  commissions'!O12741,0)*1","v":0},{"$f":"IF('Relevés de  commissions'!D12741=\"AGI externes\",'Relevés de  commissions'!P12741,0)*1","v":0},0,""]
[null,null,null,null,null,null,null,null,null,null,null,null,{"$f":"IF('Relevés de  commissions'!D12747=\"AGI externes\",'Relevés de  commissions'!M12747,0)*1","v":0},{"$f":"IF('Relevés de  commissions'!D12747=\"AGI externes\",'Relevés de  commissions'!N12747,0)*1","v":0},{"$f":"IF('Relevés de  commissions'!D12747=\"AGI externes\",'Relevés de  commissions'!O12747,0)*1","v":0},{"$f":"IF('Relevés de  commissions'!D12747=\"AGI externes\",'Relevés de  commissions'!P12747,0)*1","v":0},0,""]
[null,null,null,null,null,null,null,null,null,null,null,null,{"$f":"IF('Relevés de  commissions'!D12757=\"AGI externes\",'Relevés de  commissions'!M12757,0)*1","v":0},{"$f":"IF('Relevés de  commissions'!D12757=\"AGI externes\",'Relevés de  commissions'!N12757,0)*1","v":0},{"$f":"IF('Relevés de  commissions'!D12757=\"AGI externes\",'Relevés de  commissions'!O12757,0)*1","v":0},{"$f":"IF('Relevés de  commissions'!D12757=\"AGI externes\",'Relevés de  commissions'!P12757,0)*1","v":0},0,""]
[null,null,null,null,null,null,null,null,null,null,null,null,{"$f":"IF('Relevés de  commissions'!D12774=\"AGI externes\",'Relevés de  commissions'!M12774,0)*1","v":0},{"$f":"IF('Relevés de  commissions'!D12774=\"AGI externes\",'Relevés de  commissions'!N12774,0)*1","v":0},{"$f":"IF('Relevés de  commissions'!D12774=\"AGI externes\",'Relevés de  commissions'!O12774,0)*1","v":0},{"$f":"IF('Relevés de  commissions'!D12774=\"AGI externes\",'Relevés de  commissions'!P12774,0)*1","v":0},0,""]
[null,null,null,null,null,null,null,null,null,null,null,null,{"$f":"IF('Relevés de  commissions'!D12784=\"AGI externes\",'Relevés de  commissions'!M12784,0)*1","v":0},{"$f":"IF('Relevés de  commissions'!D12784=\"AGI externes\",'Relevés de  commissions'!N12784,0)*1","v":0},{"$f":"IF('Relevés de  commissions'!D12784=\"AGI externes\",'Relevés de  commissions'!O12784,0)*1","v":0},{"$f":"IF('Relevés de  commissions'!D12784=\"AGI externes\",'Relevés de  commissions'!P12784,0)*1","v":0},0,""]
[null,null,null,null,null,null,null,null,null,null,null,null,{"$f":"IF('Relevés de  commissions'!D12790=\"AGI externes\",'Relevés de  commissions'!M12790,0)*1","v":0},{"$f":"IF('Relevés de  commissions'!D12790=\"AGI externes\",'Relevés de  commissions'!N12790,0)*1","v":0},{"$f":"IF('Relevés de  commissions'!D12790=\"AGI externes\",'Relevés de  commissions'!O12790,0)*1","v":0},{"$f":"IF('Relevés de  commissions'!D12790=\"AGI externes\",'Relevés de  commissions'!P12790,0)*1","v":0},0,""]
[null,null,null,null,null,null,null,null,null,null,null,null,{"$f":"IF('Relevés de  commissions'!D12806=\"AGI externes\",'Relevés de  commissions'!M12806,0)*1","v":0},{"$f":"IF('Relevés de  commissions'!D12806=\"AGI externes\",'Relevés de  commissions'!N12806,0)*1","v":0},{"$f":"IF('Relevés de  commissions'!D12806=\"AGI externes\",'Relevés de  commissions'!O12806,0)*1","v":0},{"$f":"IF('Relevés de  commissions'!D12806=\"AGI externes\",'Relevés de  commissions'!P12806,0)*1","v":0},0,""]
[null,null,null,null,null,null,null,null,null,null,null,null,{"$f":"IF('Relevés de  commissions'!D12816=\"AGI externes\",'Relevés de  commissions'!M12816,0)*1","v":0},{"$f":"IF('Relevés de  commissions'!D12816=\"AGI externes\",'Relevés de  commissions'!N12816,0)*1","v":0},{"$f":"IF('Relevés de  commissions'!D12816=\"AGI externes\",'Relevés de  commissions'!O12816,0)*1","v":0},{"$f":"IF('Relevés de  commissions'!D12816=\"AGI externes\",'Relevés de  commissions'!P12816,0)*1","v":0},0,""]
[null,null,null,null,null,null,null,null,null,null,null,null,{"$f":"IF('Relevés de  commissions'!D12822=\"AGI externes\",'Relevés de  commissions'!M12822,0)*1","v":0},{"$f":"IF('Relevés de  commissions'!D12822=\"AGI externes\",'Relevés de  commissions'!N12822,0)*1","v":0},{"$f":"IF('Relevés de  commissions'!D12822=\"AGI externes\",'Relevés de  commissions'!O12822,0)*1","v":0},{"$f":"IF('Relevés de  commissions'!D12822=\"AGI externes\",'Relevés de  commissions'!P12822,0)*1","v":0},0,""]
[null,null,null,null,null,null,null,null,null,null,null,null,{"$f":"IF('Relevés de  commissions'!D12839=\"AGI externes\",'Relevés de  commissions'!M12839,0)*1","v":0},{"$f":"IF('Relevés de  commissions'!D12839=\"AGI externes\",'Relevés de  commissions'!N12839,0)*1","v":0},{"$f":"IF('Relevés de  commissions'!D12839=\"AGI externes\",'Relevés de  commissions'!O12839,0)*1","v":0},{"$f":"IF('Relevés de  commissions'!D12839=\"AGI externes\",'Relevés de  commissions'!P12839,0)*1","v":0},0,""]
[null,null,null,null,null,null,null,null,null,null,null,null,{"$f":"IF('Relevés de  commissions'!D12849=\"AGI externes\",'Relevés de  commissions'!M12849,0)*1","v":0},{"$f":"IF('Relevés de  commissions'!D12849=\"AGI externes\",'Relevés de  commissions'!N12849,0)*1","v":0},{"$f":"IF('Relevés de  commissions'!D12849=\"AGI externes\",'Relevés de  commissions'!O12849,0)*1","v":0},{"$f":"IF('Relevés de  commissions'!D12849=\"AGI externes\",'Relevés de  commissions'!P12849,0)*1","v":0},0,""]
[null,null,null,null,null,null,null,null,null,null,null,null,{"$f":"IF('Relevés de  commissions'!D12855=\"AGI externes\",'Relevés de  commissions'!M12855,0)*1","v":0},{"$f":"IF('Relevés de  commissions'!D12855=\"AGI externes\",'Relevés de  commissions'!N12855,0)*1","v":0},{"$f":"IF('Relevés de  commissions'!D12855=\"AGI externes\",'Relevés de  commissions'!O12855,0)*1","v":0},{"$f":"IF('Relevés de  commissions'!D12855=\"AGI externes\",'Relevés de  commissions'!P12855,0)*1","v":0},0,""]
[null,null,null,null,null,null,null,null,null,null,null,null,{"$f":"IF('Relevés de  commissions'!D12869=\"AGI externes\",'Relevés de  commissions'!M12869,0)*1","v":0},{"$f":"IF('Relevés de  commissions'!D12869=\"AGI externes\",'Relevés de  commissions'!N12869,0)*1","v":0},{"$f":"IF('Relevés de  commissions'!D12869=\"AGI externes\",'Relevés de  commissions'!O12869,0)*1","v":0},{"$f":"IF('Relevés de  commissions'!D12869=\"AGI externes\",'Relevés de  commissions'!P12869,0)*1","v":0},0,""]
[null,null,null,null,null,null,null,null,null,null,null,null,{"$f":"IF('Relevés de  commissions'!D12881=\"AGI externes\",'Relevés de  commissions'!M12881,0)*1","v":0},{"$f":"IF('Relevés de  commissions'!D12881=\"AGI externes\",'Relevés de  commissions'!N12881,0)*1","v":0},{"$f":"IF('Relevés de  commissions'!D12881=\"AGI externes\",'Relevés de  commissions'!O12881,0)*1","v":0},{"$f":"IF('Relevés de  commissions'!D12881=\"AGI externes\",'Relevés de  commissions'!P12881,0)*1","v":0},0,""]
[null,null,null,null,null,null,null,null,null,null,null,null,{"$f":"IF('Relevés de  commissions'!D12887=\"AGI externes\",'Relevés de  commissions'!M12887,0)*1","v":0},{"$f":"IF('Relevés de  commissions'!D12887=\"AGI externes\",'Relevés de  commissions'!N12887,0)*1","v":0},{"$f":"IF('Relevés de  commissions'!D12887=\"AGI externes\",'Relevés de  commissions'!O12887,0)*1","v":0},{"$f":"IF('Relevés de  commissions'!D12887=\"AGI externes\",'Relevés de  commissions'!P12887,0)*1","v":0},0,""]
[null,null,null,null,null,null,null,null,null,null,null,null,{"$f":"IF('Relevés de  commissions'!D12897=\"AGI externes\",'Relevés de  commissions'!M12897,0)*1","v":0},{"$f":"IF('Relevés de  commissions'!D12897=\"AGI externes\",'Relevés de  commissions'!N12897,0)*1","v":0},{"$f":"IF('Relevés de  commissions'!D12897=\"AGI externes\",'Relevés de  commissions'!O12897,0)*1","v":0},{"$f":"IF('Relevés de  commissions'!D12897=\"AGI externes\",'Relevés de  commissions'!P12897,0)*1","v":0},0,""]
[null,null,null,null,null,null,null,null,null,null,null,null,{"$f":"IF('Relevés de  commissions'!D12914=\"AGI externes\",'Relevés de  commissions'!M12914,0)*1","v":0},{"$f":"IF('Relevés de  commissions'!D12914=\"AGI externes\",'Relevés de  commissions'!N12914,0)*1","v":0},{"$f":"IF('Relevés de  commissions'!D12914=\"AGI externes\",'Relevés de  commissions'!O12914,0)*1","v":0},{"$f":"IF('Relevés de  commissions'!D12914=\"AGI externes\",'Relevés de  commissions'!P12914,0)*1","v":0},0,""]
[null,null,null,null,null,null,null,null,null,null,null,null,{"$f":"IF('Relevés de  commissions'!D12924=\"AGI externes\",'Relevés de  commissions'!M12924,0)*1","v":0},{"$f":"IF('Relevés de  commissions'!D12924=\"AGI externes\",'Relevés de  commissions'!N12924,0)*1","v":0},{"$f":"IF('Relevés de  commissions'!D12924=\"AGI externes\",'Relevés de  commissions'!O12924,0)*1","v":0},{"$f":"IF('Relevés de  commissions'!D12924=\"AGI externes\",'Relevés de  commissions'!P12924,0)*1","v":0},0,""]
[null,null,null,null,null,null,null,null,null,null,null,null,{"$f":"IF('Relevés de  commissions'!D12936=\"AGI externes\",'Relevés de  commissions'!M12936,0)*1","v":0},{"$f":"IF('Relevés de  commissions'!D12936=\"AGI externes\",'Relevés de  commissions'!N12936,0)*1","v":0},{"$f":"IF('Relevés de  commissions'!D12936=\"AGI externes\",'Relevés de  commissions'!O12936,0)*1","v":0},{"$f":"IF('Relevés de  commissions'!D12936=\"AGI externes\",'Relevés de  commissions'!P12936,0)*1","v":0},0,""]
[null,null,null,null,null,null,null,null,null,null,null,null,{"$f":"IF('Relevés de  commissions'!D12946=\"AGI externes\",'Relevés de  commissions'!M12946,0)*1","v":0},{"$f":"IF('Relevés de  commissions'!D12946=\"AGI externes\",'Relevés de  commissions'!N12946,0)*1","v":0},{"$f":"IF('Relevés de  commissions'!D12946=\"AGI externes\",'Relevés de  commissions'!O12946,0)*1","v":0},{"$f":"IF('Relevés de  commissions'!D12946=\"AGI externes\",'Relevés de  commissions'!P12946,0)*1","v":0},0,""]
[null,null,null,null,null,null,null,null,null,null,null,null,{"$f":"IF('Relevés de  commissions'!D12956=\"AGI externes\",'Relevés de  commissions'!M12956,0)*1","v":0},{"$f":"IF('Relevés de  commissions'!D12956=\"AGI externes\",'Relevés de  commissions'!N12956,0)*1","v":0},{"$f":"IF('Relevés de  commissions'!D12956=\"AGI externes\",'Relevés de  commissions'!O12956,0)*1","v":0},{"$f":"IF('Relevés de  commissions'!D12956=\"AGI externes\",'Relevés de  commissions'!P12956,0)*1","v":0},0,""]
[null,null,null,null,null,null,null,null,null,null,null,null,{"$f":"IF('Relevés de  commissions'!D12962=\"AGI externes\",'Relevés de  commissions'!M12962,0)*1","v":0},{"$f":"IF('Relevés de  commissions'!D12962=\"AGI externes\",'Relevés de  commissions'!N12962,0)*1","v":0},{"$f":"IF('Relevés de  commissions'!D12962=\"AGI externes\",'Relevés de  commissions'!O12962,0)*1","v":0},{"$f":"IF('Relevés de  commissions'!D12962=\"AGI externes\",'Relevés de  commissions'!P12962,0)*1","v":0},0,""]
[null,null,null,null,null,null,null,null,null,null,null,null,{"$f":"IF('Relevés de  commissions'!D12979=\"AGI externes\",'Relevés de  commissions'!M12979,0)*1","v":0},{"$f":"IF('Relevés de  commissions'!D12979=\"AGI externes\",'Relevés de  commissions'!N12979,0)*1","v":0},{"$f":"IF('Relevés de  commissions'!D12979=\"AGI externes\",'Relevés de  commissions'!O12979,0)*1","v":0},{"$f":"IF('Relevés de  commissions'!D12979=\"AGI externes\",'Relevés de  commissions'!P12979,0)*1","v":0},0,""]
[null,null,null,null,null,null,null,null,null,null,null,null,{"$f":"IF('Relevés de  commissions'!D12989=\"AGI externes\",'Relevés de  commissions'!M12989,0)*1","v":0},{"$f":"IF('Relevés de  commissions'!D12989=\"AGI externes\",'Relevés de  commissions'!N12989,0)*1","v":0},{"$f":"IF('Relevés de  commissions'!D12989=\"AGI externes\",'Relevés de  commissions'!O12989,0)*1","v":0},{"$f":"IF('Relevés de  commissions'!D12989=\"AGI externes\",'Relevés de  commissions'!P12989,0)*1","v":0},0,""]
[null,null,null,null,null,null,null,null,null,null,null,null,{"$f":"IF('Relevés de  commissions'!D13003=\"AGI externes\",'Relevés de  commissions'!M13003,0)*1","v":0},{"$f":"IF('Relevés de  commissions'!D13003=\"AGI externes\",'Relevés de  commissions'!N13003,0)*1","v":0},{"$f":"IF('Relevés de  commissions'!D13003=\"AGI externes\",'Relevés de  commissions'!O13003,0)*1","v":0},{"$f":"IF('Relevés de  commissions'!D13003=\"AGI externes\",'Relevés de  commissions'!P13003,0)*1","v":0},0,""]
[null,null,null,null,null,null,null,null,null,null,null,null,{"$f":"IF('Relevés de  commissions'!D13015=\"AGI externes\",'Relevés de  commissions'!M13015,0)*1","v":0},{"$f":"IF('Relevés de  commissions'!D13015=\"AGI externes\",'Relevés de  commissions'!N13015,0)*1","v":0},{"$f":"IF('Relevés de  commissions'!D13015=\"AGI externes\",'Relevés de  commissions'!O13015,0)*1","v":0},{"$f":"IF('Relevés de  commissions'!D13015=\"AGI externes\",'Relevés de  commissions'!P13015,0)*1","v":0},0,""]
[null,null,null,null,null,null,null,null,null,null,null,null,{"$f":"IF('Relevés de  commissions'!D13021=\"AGI externes\",'Relevés de  commissions'!M13021,0)*1","v":0},{"$f":"IF('Relevés de  commissions'!D13021=\"AGI externes\",'Relevés de  commissions'!N13021,0)*1","v":0},{"$f":"IF('Relevés de  commissions'!D13021=\"AGI externes\",'Relevés de  commissions'!O13021,0)*1","v":0},{"$f":"IF('Relevés de  commissions'!D13021=\"AGI externes\",'Relevés de  commissions'!P13021,0)*1","v":0},0,""]
[null,null,null,null,null,null,null,null,null,null,null,null,{"$f":"IF('Relevés de  commissions'!D13027=\"AGI externes\",'Relevés de  commissions'!M13027,0)*1","v":0},{"$f":"IF('Relevés de  commissions'!D13027=\"AGI externes\",'Relevés de  commissions'!N13027,0)*1","v":0},{"$f":"IF('Relevés de  commissions'!D13027=\"AGI externes\",'Relevés de  commissions'!O13027,0)*1","v":0},{"$f":"IF('Relevés de  commissions'!D13027=\"AGI externes\",'Relevés de  commissions'!P13027,0)*1","v":0},0,""]
[null,null,null,null,null,null,null,null,null,null,null,null,{"$f":"IF('Relevés de  commissions'!D13048=\"AGI externes\",'Relevés de  commissions'!M13048,0)*1","v":0},{"$f":"IF('Relevés de  commissions'!D13048=\"AGI externes\",'Relevés de  commissions'!N13048,0)*1","v":0},{"$f":"IF('Relevés de  commissions'!D13048=\"AGI externes\",'Relevés de  commissions'!O13048,0)*1","v":0},{"$f":"IF('Relevés de  commissions'!D13048=\"AGI externes\",'Relevés de  commissions'!P13048,0)*1","v":0},0,""]
[null,null,null,null,null,null,null,null,null,null,null,null,{"$f":"IF('Relevés de  commissions'!D13054=\"AGI externes\",'Relevés de  commissions'!M13054,0)*1","v":0},{"$f":"IF('Relevés de  commissions'!D13054=\"AGI externes\",'Relevés de  commissions'!N13054,0)*1","v":0},{"$f":"IF('Relevés de  commissions'!D13054=\"AGI externes\",'Relevés de  commissions'!O13054,0)*1","v":0},{"$f":"IF('Relevés de  commissions'!D13054=\"AGI externes\",'Relevés de  commissions'!P13054,0)*1","v":0},0,""]
[null,null,null,null,null,null,null,null,null,null,null,null,{"$f":"IF('Relevés de  commissions'!D13060=\"AGI externes\",'Relevés de  commissions'!M13060,0)*1","v":0},{"$f":"IF('Relevés de  commissions'!D13060=\"AGI externes\",'Relevés de  commissions'!N13060,0)*1","v":0},{"$f":"IF('Relevés de  commissions'!D13060=\"AGI externes\",'Relevés de  commissions'!O13060,0)*1","v":0},{"$f":"IF('Relevés de  commissions'!D13060=\"AGI externes\",'Relevés de  commissions'!P13060,0)*1","v":0},0,""]
[null,null,null,null,null,null,null,null,null,null,null,null,{"$f":"IF('Relevés de  commissions'!D13080=\"AGI externes\",'Relevés de  commissions'!M13080,0)*1","v":0},{"$f":"IF('Relevés de  commissions'!D13080=\"AGI externes\",'Relevés de  commissions'!N13080,0)*1","v":0},{"$f":"IF('Relevés de  commissions'!D13080=\"AGI externes\",'Relevés de  commissions'!O13080,0)*1","v":0},{"$f":"IF('Relevés de  commissions'!D13080=\"AGI externes\",'Relevés de  commissions'!P13080,0)*1","v":0},0,""]
[null,null,null,null,null,null,null,null,null,null,null,null,{"$f":"IF('Relevés de  commissions'!D13086=\"AGI externes\",'Relevés de  commissions'!M13086,0)*1","v":0},{"$f":"IF('Relevés de  commissions'!D13086=\"AGI externes\",'Relevés de  commissions'!N13086,0)*1","v":0},{"$f":"IF('Relevés de  commissions'!D13086=\"AGI externes\",'Relevés de  commissions'!O13086,0)*1","v":0},{"$f":"IF('Relevés de  commissions'!D13086=\"AGI externes\",'Relevés de  commissions'!P13086,0)*1","v":0},0,""]
[null,null,null,null,null,null,null,null,null,null,null,null,{"$f":"IF('Relevés de  commissions'!D13096=\"AGI externes\",'Relevés de  commissions'!M13096,0)*1","v":0},{"$f":"IF('Relevés de  commissions'!D13096=\"AGI externes\",'Relevés de  commissions'!N13096,0)*1","v":0},{"$f":"IF('Relevés de  commissions'!D13096=\"AGI externes\",'Relevés de  commissions'!O13096,0)*1","v":0},{"$f":"IF('Relevés de  commissions'!D13096=\"AGI externes\",'Relevés de  commissions'!P13096,0)*1","v":0},0,""]
[null,null,null,null,null,null,null,null,null,null,null,null,{"$f":"IF('Relevés de  commissions'!D13113=\"AGI externes\",'Relevés de  commissions'!M13113,0)*1","v":0},{"$f":"IF('Relevés de  commissions'!D13113=\"AGI externes\",'Relevés de  commissions'!N13113,0)*1","v":0},{"$f":"IF('Relevés de  commissions'!D13113=\"AGI externes\",'Relevés de  commissions'!O13113,0)*1","v":0},{"$f":"IF('Relevés de  commissions'!D13113=\"AGI externes\",'Relevés de  commissions'!P13113,0)*1","v":0},0,""]
[null,null,null,null,null,null,null,null,null,null,null,null,{"$f":"IF('Relevés de  commissions'!D13119=\"AGI externes\",'Relevés de  commissions'!M13119,0)*1","v":0},{"$f":"IF('Relevés de  commissions'!D13119=\"AGI externes\",'Relevés de  commissions'!N13119,0)*1","v":0},{"$f":"IF('Relevés de  commissions'!D13119=\"AGI externes\",'Relevés de  commissions'!O13119,0)*1","v":0},{"$f":"IF('Relevés de  commissions'!D13119=\"AGI externes\",'Relevés de  commissions'!P13119,0)*1","v":0},0,""]
[null,null,null,null,null,null,null,null,null,null,null,null,{"$f":"IF('Relevés de  commissions'!D13133=\"AGI externes\",'Relevés de  commissions'!M13133,0)*1","v":0},{"$f":"IF('Relevés de  commissions'!D13133=\"AGI externes\",'Relevés de  commissions'!N13133,0)*1","v":0},{"$f":"IF('Relevés de  commissions'!D13133=\"AGI externes\",'Relevés de  commissions'!O13133,0)*1","v":0},{"$f":"IF('Relevés de  commissions'!D13133=\"AGI externes\",'Relevés de  commissions'!P13133,0)*1","v":0},0,""]
[null,null,null,null,null,null,null,null,null,null,null,null,{"$f":"IF('Relevés de  commissions'!D13145=\"AGI externes\",'Relevés de  commissions'!M13145,0)*1","v":0},{"$f":"IF('Relevés de  commissions'!D13145=\"AGI externes\",'Relevés de  commissions'!N13145,0)*1","v":0},{"$f":"IF('Relevés de  commissions'!D13145=\"AGI externes\",'Relevés de  commissions'!O13145,0)*1","v":0},{"$f":"IF('Relevés de  commissions'!D13145=\"AGI externes\",'Relevés de  commissions'!P13145,0)*1","v":0},0,""]
[null,null,null,null,null,null,null,null,null,null,null,null,{"$f":"IF('Relevés de  commissions'!D13155=\"AGI externes\",'Relevés de  commissions'!M13155,0)*1","v":0},{"$f":"IF('Relevés de  commissions'!D13155=\"AGI externes\",'Relevés de  commissions'!N13155,0)*1","v":0},{"$f":"IF('Relevés de  commissions'!D13155=\"AGI externes\",'Relevés de  commissions'!O13155,0)*1","v":0},{"$f":"IF('Relevés de  commissions'!D13155=\"AGI externes\",'Relevés de  commissions'!P13155,0)*1","v":0},0,""]
[null,null,null,null,null,null,null,null,null,null,null,null,{"$f":"IF('Relevés de  commissions'!D13161=\"AGI externes\",'Relevés de  commissions'!M13161,0)*1","v":0},{"$f":"IF('Relevés de  commissions'!D13161=\"AGI externes\",'Relevés de  commissions'!N13161,0)*1","v":0},{"$f":"IF('Relevés de  commissions'!D13161=\"AGI externes\",'Relevés de  commissions'!O13161,0)*1","v":0},{"$f":"IF('Relevés de  commissions'!D13161=\"AGI externes\",'Relevés de  commissions'!P13161,0)*1","v":0},0,""]
[null,null,null,null,null,null,null,null,null,null,null,null,{"$f":"IF('Relevés de  commissions'!D13178=\"AGI externes\",'Relevés de  commissions'!M13178,0)*1","v":0},{"$f":"IF('Relevés de  commissions'!D13178=\"AGI externes\",'Relevés de  commissions'!N13178,0)*1","v":0},{"$f":"IF('Relevés de  commissions'!D13178=\"AGI externes\",'Relevés de  commissions'!O13178,0)*1","v":0},{"$f":"IF('Relevés de  commissions'!D13178=\"AGI externes\",'Relevés de  commissions'!P13178,0)*1","v":0},0,""]
[null,null,null,null,null,null,null,null,null,null,null,null,{"$f":"IF('Relevés de  commissions'!D13188=\"AGI externes\",'Relevés de  commissions'!M13188,0)*1","v":0},{"$f":"IF('Relevés de  commissions'!D13188=\"AGI externes\",'Relevés de  commissions'!N13188,0)*1","v":0},{"$f":"IF('Relevés de  commissions'!D13188=\"AGI externes\",'Relevés de  commissions'!O13188,0)*1","v":0},{"$f":"IF('Relevés de  commissions'!D13188=\"AGI externes\",'Relevés de  commissions'!P13188,0)*1","v":0},0,""]
[null,null,null,null,null,null,null,null,null,null,null,null,{"$f":"IF('Relevés de  commissions'!D13190=\"AGI externes\",'Relevés de  commissions'!M13190,0)*1","v":0},{"$f":"IF('Relevés de  commissions'!D13190=\"AGI externes\",'Relevés de  commissions'!N13190,0)*1","v":0},{"$f":"IF('Relevés de  commissions'!D13190=\"AGI externes\",'Relevés de  commissions'!O13190,0)*1","v":0},{"$f":"IF('Relevés de  commissions'!D13190=\"AGI externes\",'Relevés de  commissions'!P13190,0)*1","v":0},0,""]
[null,null,null,null,null,null,null,null,null,null,null,null,{"$f":"IF('Relevés de  commissions'!D13210=\"AGI externes\",'Relevés de  commissions'!M13210,0)*1","v":0},{"$f":"IF('Relevés de  commissions'!D13210=\"AGI externes\",'Relevés de  commissions'!N13210,0)*1","v":0},{"$f":"IF('Relevés de  commissions'!D13210=\"AGI externes\",'Relevés de  commissions'!O13210,0)*1","v":0},{"$f":"IF('Relevés de  commissions'!D13210=\"AGI externes\",'Relevés de  commissions'!P13210,0)*1","v":0},0,""]
[null,null,null,null,null,null,null,null,null,null,null,null,{"$f":"IF('Relevés de  commissions'!D13220=\"AGI externes\",'Relevés de  commissions'!M13220,0)*1","v":0},{"$f":"IF('Relevés de  commissions'!D13220=\"AGI externes\",'Relevés de  commissions'!N13220,0)*1","v":0},{"$f":"IF('Relevés de  commissions'!D13220=\"AGI externes\",'Relevés de  commissions'!O13220,0)*1","v":0},{"$f":"IF('Relevés de  commissions'!D13220=\"AGI externes\",'Relevés de  commissions'!P13220,0)*1","v":0},0,""]
[null,null,null,null,null,null,null,null,null,null,null,null,{"$f":"IF('Relevés de  commissions'!D13226=\"AGI externes\",'Relevés de  commissions'!M13226,0)*1","v":0},{"$f":"IF('Relevés de  commissions'!D13226=\"AGI externes\",'Relevés de  commissions'!N13226,0)*1","v":0},{"$f":"IF('Relevés de  commissions'!D13226=\"AGI externes\",'Relevés de  commissions'!O13226,0)*1","v":0},{"$f":"IF('Relevés de  commissions'!D13226=\"AGI externes\",'Relevés de  commissions'!P13226,0)*1","v":0},0,""]
[null,null,null,null,null,null,null,null,null,null,null,null,{"$f":"IF('Relevés de  commissions'!D13236=\"AGI externes\",'Relevés de  commissions'!M13236,0)*1","v":0},{"$f":"IF('Relevés de  commissions'!D13236=\"AGI externes\",'Relevés de  commissions'!N13236,0)*1","v":0},{"$f":"IF('Relevés de  commissions'!D13236=\"AGI externes\",'Relevés de  commissions'!O13236,0)*1","v":0},{"$f":"IF('Relevés de  commissions'!D13236=\"AGI externes\",'Relevés de  commissions'!P13236,0)*1","v":0},0,""]
[null,null,null,null,null,null,null,null,null,null,null,null,{"$f":"IF('Relevés de  commissions'!D13253=\"AGI externes\",'Relevés de  commissions'!M13253,0)*1","v":0},{"$f":"IF('Relevés de  commissions'!D13253=\"AGI externes\",'Relevés de  commissions'!N13253,0)*1","v":0},{"$f":"IF('Relevés de  commissions'!D13253=\"AGI externes\",'Relevés de  commissions'!O13253,0)*1","v":0},{"$f":"IF('Relevés de  commissions'!D13253=\"AGI externes\",'Relevés de  commissions'!P13253,0)*1","v":0},0,""]
[null,null,null,null,null,null,null,null,null,null,null,null,{"$f":"IF('Relevés de  commissions'!D13257=\"AGI externes\",'Relevés de  commissions'!M13257,0)*1","v":0},{"$f":"IF('Relevés de  commissions'!D13257=\"AGI externes\",'Relevés de  commissions'!N13257,0)*1","v":0},{"$f":"IF('Relevés de  commissions'!D13257=\"AGI externes\",'Relevés de  commissions'!O13257,0)*1","v":0},{"$f":"IF('Relevés de  commissions'!D13257=\"AGI externes\",'Relevés de  commissions'!P13257,0)*1","v":0},0,""]
[null,null,null,null,null,null,null,null,null,null,null,null,{"$f":"IF('Relevés de  commissions'!D13268=\"AGI externes\",'Relevés de  commissions'!M13268,0)*1","v":0},{"$f":"IF('Relevés de  commissions'!D13268=\"AGI externes\",'Relevés de  commissions'!N13268,0)*1","v":0},{"$f":"IF('Relevés de  commissions'!D13268=\"AGI externes\",'Relevés de  commissions'!O13268,0)*1","v":0},{"$f":"IF('Relevés de  commissions'!D13268=\"AGI externes\",'Relevés de  commissions'!P13268,0)*1","v":0},0,""]
[null,null,null,null,null,null,null,null,null,null,null,null,{"$f":"IF('Relevés de  commissions'!D13285=\"AGI externes\",'Relevés de  commissions'!M13285,0)*1","v":0},{"$f":"IF('Relevés de  commissions'!D13285=\"AGI externes\",'Relevés de  commissions'!N13285,0)*1","v":0},{"$f":"IF('Relevés de  commissions'!D13285=\"AGI externes\",'Relevés de  commissions'!O13285,0)*1","v":0},{"$f":"IF('Relevés de  commissions'!D13285=\"AGI externes\",'Relevés de  commissions'!P13285,0)*1","v":0},0,""]
[null,null,null,null,null,null,null,null,null,null,null,null,{"$f":"IF('Relevés de  commissions'!D13295=\"AGI externes\",'Relevés de  commissions'!M13295,0)*1","v":0},{"$f":"IF('Relevés de  commissions'!D13295=\"AGI externes\",'Relevés de  commissions'!N13295,0)*1","v":0},{"$f":"IF('Relevés de  commissions'!D13295=\"AGI externes\",'Relevés de  commissions'!O13295,0)*1","v":0},{"$f":"IF('Relevés de  commissions'!D13295=\"AGI externes\",'Relevés de  commissions'!P13295,0)*1","v":0},0,""]
[null,null,null,null,null,null,null,null,null,null,null,null,{"$f":"IF('Relevés de  commissions'!D13301=\"AGI externes\",'Relevés de  commissions'!M13301,0)*1","v":0},{"$f":"IF('Relevés de  commissions'!D13301=\"AGI externes\",'Relevés de  commissions'!N13301,0)*1","v":0},{"$f":"IF('Relevés de  commissions'!D13301=\"AGI externes\",'Relevés de  commissions'!O13301,0)*1","v":0},{"$f":"IF('Relevés de  commissions'!D13301=\"AGI externes\",'Relevés de  commissions'!P13301,0)*1","v":0},0,{"$f":"IF(N13303=10,O13303,\"\")","v":""}]
[null,null,null,null,null,null,null,null,null,null,null,null,{"$f":"IF('Relevés de  commissions'!D13318=\"AGI externes\",'Relevés de  commissions'!M13318,0)*1","v":0},{"$f":"IF('Relevés de  commissions'!D13318=\"AGI externes\",'Relevés de  commissions'!N13318,0)*1","v":0},{"$f":"IF('Relevés de  commissions'!D13318=\"AGI externes\",'Relevés de  commissions'!O13318,0)*1","v":0},{"$f":"IF('Relevés de  commissions'!D13318=\"AGI externes\",'Relevés de  commissions'!P13318,0)*1","v":0},0,""]
[null,null,null,null,null,null,null,null,null,null,null,null,{"$f":"IF('Relevés de  commissions'!D13320=\"AGI externes\",'Relevés de  commissions'!M13320,0)*1","v":0},{"$f":"IF('Relevés de  commissions'!D13320=\"AGI externes\",'Relevés de  commissions'!N13320,0)*1","v":0},{"$f":"IF('Relevés de  commissions'!D13320=\"AGI externes\",'Relevés de  commissions'!O13320,0)*1","v":0},{"$f":"IF('Relevés de  commissions'!D13320=\"AGI externes\",'Relevés de  commissions'!P13320,0)*1","v":0},0,""]
[null,null,null,null,null,null,null,null,null,null,null,null,{"$f":"IF('Relevés de  commissions'!D13333=\"AGI externes\",'Relevés de  commissions'!M13333,0)*1","v":0},{"$f":"IF('Relevés de  commissions'!D13333=\"AGI externes\",'Relevés de  commissions'!N13333,0)*1","v":0},{"$f":"IF('Relevés de  commissions'!D13333=\"AGI externes\",'Relevés de  commissions'!O13333,0)*1","v":0},{"$f":"IF('Relevés de  commissions'!D13333=\"AGI externes\",'Relevés de  commissions'!P13333,0)*1","v":0},0,""]
[null,null,null,null,null,null,null,null,null,null,null,null,{"$f":"IF('Relevés de  commissions'!D13350=\"AGI externes\",'Relevés de  commissions'!M13350,0)*1","v":0},{"$f":"IF('Relevés de  commissions'!D13350=\"AGI externes\",'Relevés de  commissions'!N13350,0)*1","v":0},{"$f":"IF('Relevés de  commissions'!D13350=\"AGI externes\",'Relevés de  commissions'!O13350,0)*1","v":0},{"$f":"IF('Relevés de  commissions'!D13350=\"AGI externes\",'Relevés de  commissions'!P13350,0)*1","v":0},0,""]
[null,null,null,null,null,null,null,null,null,null,null,null,{"$f":"IF('Relevés de  commissions'!D13360=\"AGI externes\",'Relevés de  commissions'!M13360,0)*1","v":0},{"$f":"IF('Relevés de  commissions'!D13360=\"AGI externes\",'Relevés de  commissions'!N13360,0)*1","v":0},{"$f":"IF('Relevés de  commissions'!D13360=\"AGI externes\",'Relevés de  commissions'!O13360,0)*1","v":0},{"$f":"IF('Relevés de  commissions'!D13360=\"AGI externes\",'Relevés de  commissions'!P13360,0)*1","v":0},0,""]
[null,null,null,null,null,null,null,null,null,null,null,null,{"$f":"IF('Relevés de  commissions'!D13366=\"AGI externes\",'Relevés de  commissions'!M13366,0)*1","v":0},{"$f":"IF('Relevés de  commissions'!D13366=\"AGI externes\",'Relevés de  commissions'!N13366,0)*1","v":0},{"$f":"IF('Relevés de  commissions'!D13366=\"AGI externes\",'Relevés de  commissions'!O13366,0)*1","v":0},{"$f":"IF('Relevés de  commissions'!D13366=\"AGI externes\",'Relevés de  commissions'!P13366,0)*1","v":0},0,""]
[null,null,null,null,null,null,null,null,null,null,null,null,{"$f":"IF('Relevés de  commissions'!D13376=\"AGI externes\",'Relevés de  commissions'!M13376,0)*1","v":0},{"$f":"IF('Relevés de  commissions'!D13376=\"AGI externes\",'Relevés de  commissions'!N13376,0)*1","v":0},{"$f":"IF('Relevés de  commissions'!D13376=\"AGI externes\",'Relevés de  commissions'!O13376,0)*1","v":0},{"$f":"IF('Relevés de  commissions'!D13376=\"AGI externes\",'Relevés de  commissions'!P13376,0)*1","v":0},0,""]
[null,null,null,null,null,null,null,null,null,null,null,null,{"$f":"IF('Relevés de  commissions'!D13387=\"AGI externes\",'Relevés de  commissions'!M13387,0)*1","v":0},{"$f":"IF('Relevés de  commissions'!D13387=\"AGI externes\",'Relevés de  commissions'!N13387,0)*1","v":0},{"$f":"IF('Relevés de  commissions'!D13387=\"AGI externes\",'Relevés de  commissions'!O13387,0)*1","v":0},{"$f":"IF('Relevés de  commissions'!D13387=\"AGI externes\",'Relevés de  commissions'!P13387,0)*1","v":0},0,""]
[null,null,null,null,null,null,null,null,null,null,null,null,{"$f":"IF('Relevés de  commissions'!D13398=\"AGI externes\",'Relevés de  commissions'!M13398,0)*1","v":0},{"$f":"IF('Relevés de  commissions'!D13398=\"AGI externes\",'Relevés de  commissions'!N13398,0)*1","v":0},{"$f":"IF('Relevés de  commissions'!D13398=\"AGI externes\",'Relevés de  commissions'!O13398,0)*1","v":0},{"$f":"IF('Relevés de  commissions'!D13398=\"AGI externes\",'Relevés de  commissions'!P13398,0)*1","v":0},0,""]
[null,null,null,null,null,null,null,null,null,null,null,null,{"$f":"IF('Relevés de  commissions'!D13408=\"AGI externes\",'Relevés de  commissions'!M13408,0)*1","v":0},{"$f":"IF('Relevés de  commissions'!D13408=\"AGI externes\",'Relevés de  commissions'!N13408,0)*1","v":0},{"$f":"IF('Relevés de  commissions'!D13408=\"AGI externes\",'Relevés de  commissions'!O13408,0)*1","v":0},{"$f":"IF('Relevés de  commissions'!D13408=\"AGI externes\",'Relevés de  commissions'!P13408,0)*1","v":0},0,""]
[null,null,null,null,null,null,null,null,null,null,null,null,{"$f":"IF('Relevés de  commissions'!D13425=\"AGI externes\",'Relevés de  commissions'!M13425,0)*1","v":0},{"$f":"IF('Relevés de  commissions'!D13425=\"AGI externes\",'Relevés de  commissions'!N13425,0)*1","v":0},{"$f":"IF('Relevés de  commissions'!D13425=\"AGI externes\",'Relevés de  commissions'!O13425,0)*1","v":0},{"$f":"IF('Relevés de  commissions'!D13425=\"AGI externes\",'Relevés de  commissions'!P13425,0)*1","v":0},0,""]
[null,null,null,null,null,null,null,null,null,null,null,null,{"$f":"IF('Relevés de  commissions'!D13431=\"AGI externes\",'Relevés de  commissions'!M13431,0)*1","v":0},{"$f":"IF('Relevés de  commissions'!D13431=\"AGI externes\",'Relevés de  commissions'!N13431,0)*1","v":0},{"$f":"IF('Relevés de  commissions'!D13431=\"AGI externes\",'Relevés de  commissions'!O13431,0)*1","v":0},{"$f":"IF('Relevés de  commissions'!D13431=\"AGI externes\",'Relevés de  commissions'!P13431,0)*1","v":0},0,""]
[null,null,null,null,null,null,null,null,null,null,null,null,{"$f":"IF('Relevés de  commissions'!D13441=\"AGI externes\",'Relevés de  commissions'!M13441,0)*1","v":0},{"$f":"IF('Relevés de  commissions'!D13441=\"AGI externes\",'Relevés de  commissions'!N13441,0)*1","v":0},{"$f":"IF('Relevés de  commissions'!D13441=\"AGI externes\",'Relevés de  commissions'!O13441,0)*1","v":0},{"$f":"IF('Relevés de  commissions'!D13441=\"AGI externes\",'Relevés de  commissions'!P13441,0)*1","v":0},0,""]
[null,null,null,null,null,null,null,null,null,null,null,null,{"$f":"IF('Relevés de  commissions'!D13454=\"AGI externes\",'Relevés de  commissions'!M13454,0)*1","v":0},{"$f":"IF('Relevés de  commissions'!D13454=\"AGI externes\",'Relevés de  commissions'!N13454,0)*1","v":0},{"$f":"IF('Relevés de  commissions'!D13454=\"AGI externes\",'Relevés de  commissions'!O13454,0)*1","v":0},{"$f":"IF('Relevés de  commissions'!D13454=\"AGI externes\",'Relevés de  commissions'!P13454,0)*1","v":0},0,""]
[null,null,null,null,null,null,null,null,null,null,null,null,{"$f":"IF('Relevés de  commissions'!D13467=\"AGI externes\",'Relevés de  commissions'!M13467,0)*1","v":0},{"$f":"IF('Relevés de  commissions'!D13467=\"AGI externes\",'Relevés de  commissions'!N13467,0)*1","v":0},{"$f":"IF('Relevés de  commissions'!D13467=\"AGI externes\",'Relevés de  commissions'!O13467,0)*1","v":0},{"$f":"IF('Relevés de  commissions'!D13467=\"AGI externes\",'Relevés de  commissions'!P13467,0)*1","v":0},0,""]
[null,null,null,null,null,null,null,null,null,null,null,null,{"$f":"IF('Relevés de  commissions'!D13473=\"AGI externes\",'Relevés de  commissions'!M13473,0)*1","v":0},{"$f":"IF('Relevés de  commissions'!D13473=\"AGI externes\",'Relevés de  commissions'!N13473,0)*1","v":0},{"$f":"IF('Relevés de  commissions'!D13473=\"AGI externes\",'Relevés de  commissions'!O13473,0)*1","v":0},{"$f":"IF('Relevés de  commissions'!D13473=\"AGI externes\",'Relevés de  commissions'!P13473,0)*1","v":0},0,""]
[null,null,null,null,null,null,null,null,null,null,null,null,{"$f":"IF('Relevés de  commissions'!D13490=\"AGI externes\",'Relevés de  commissions'!M13490,0)*1","v":0},{"$f":"IF('Relevés de  commissions'!D13490=\"AGI externes\",'Relevés de  commissions'!N13490,0)*1","v":0},{"$f":"IF('Relevés de  commissions'!D13490=\"AGI externes\",'Relevés de  commissions'!O13490,0)*1","v":0},{"$f":"IF('Relevés de  commissions'!D13490=\"AGI externes\",'Relevés de  commissions'!P13490,0)*1","v":0},0,""]
[null,null,null,null,null,null,null,null,null,null,null,null,{"$f":"IF('Relevés de  commissions'!D13500=\"AGI externes\",'Relevés de  commissions'!M13500,0)*1","v":0},{"$f":"IF('Relevés de  commissions'!D13500=\"AGI externes\",'Relevés de  commissions'!N13500,0)*1","v":0},{"$f":"IF('Relevés de  commissions'!D13500=\"AGI externes\",'Relevés de  commissions'!O13500,0)*1","v":0},{"$f":"IF('Relevés de  commissions'!D13500=\"AGI externes\",'Relevés de  commissions'!P13500,0)*1","v":0},0,""]
[null,null,null,null,null,null,null,null,null,null,null,null,{"$f":"IF('Relevés de  commissions'!D13506=\"AGI externes\",'Relevés de  commissions'!M13506,0)*1","v":0},{"$f":"IF('Relevés de  commissions'!D13506=\"AGI externes\",'Relevés de  commissions'!N13506,0)*1","v":0},{"$f":"IF('Relevés de  commissions'!D13506=\"AGI externes\",'Relevés de  commissions'!O13506,0)*1","v":0},{"$f":"IF('Relevés de  commissions'!D13506=\"AGI externes\",'Relevés de  commissions'!P13506,0)*1","v":0},0,""]
[null,null,null,null,null,null,null,null,null,null,null,null,{"$f":"IF('Relevés de  commissions'!D13517=\"AGI externes\",'Relevés de  commissions'!M13517,0)*1","v":0},{"$f":"IF('Relevés de  commissions'!D13517=\"AGI externes\",'Relevés de  commissions'!N13517,0)*1","v":0},{"$f":"IF('Relevés de  commissions'!D13517=\"AGI externes\",'Relevés de  commissions'!O13517,0)*1","v":0},{"$f":"IF('Relevés de  commissions'!D13517=\"AGI externes\",'Relevés de  commissions'!P13517,0)*1","v":0},0,""]
[null,null,null,null,null,null,null,null,null,null,null,null,{"$f":"IF('Relevés de  commissions'!D13532=\"AGI externes\",'Relevés de  commissions'!M13532,0)*1","v":0},{"$f":"IF('Relevés de  commissions'!D13532=\"AGI externes\",'Relevés de  commissions'!N13532,0)*1","v":0},{"$f":"IF('Relevés de  commissions'!D13532=\"AGI externes\",'Relevés de  commissions'!O13532,0)*1","v":0},{"$f":"IF('Relevés de  commissions'!D13532=\"AGI externes\",'Relevés de  commissions'!P13532,0)*1","v":0},0,""]
[null,null,null,null,null,null,null,null,null,null,null,null,{"$f":"IF('Relevés de  commissions'!D13538=\"AGI externes\",'Relevés de  commissions'!M13538,0)*1","v":0},{"$f":"IF('Relevés de  commissions'!D13538=\"AGI externes\",'Relevés de  commissions'!N13538,0)*1","v":0},{"$f":"IF('Relevés de  commissions'!D13538=\"AGI externes\",'Relevés de  commissions'!O13538,0)*1","v":0},{"$f":"IF('Relevés de  commissions'!D13538=\"AGI externes\",'Relevés de  commissions'!P13538,0)*1","v":0},0,""]
[null,null,null,null,null,null,null,null,null,null,null,null,{"$f":"IF('Relevés de  commissions'!D13548=\"AGI externes\",'Relevés de  commissions'!M13548,0)*1","v":0},{"$f":"IF('Relevés de  commissions'!D13548=\"AGI externes\",'Relevés de  commissions'!N13548,0)*1","v":0},{"$f":"IF('Relevés de  commissions'!D13548=\"AGI externes\",'Relevés de  commissions'!O13548,0)*1","v":0},{"$f":"IF('Relevés de  commissions'!D13548=\"AGI externes\",'Relevés de  commissions'!P13548,0)*1","v":0},0,""]
[null,null,null,null,null,null,null,null,null,null,null,null,{"$f":"IF('Relevés de  commissions'!D13565=\"AGI externes\",'Relevés de  commissions'!M13565,0)*1","v":0},{"$f":"IF('Relevés de  commissions'!D13565=\"AGI externes\",'Relevés de  commissions'!N13565,0)*1","v":0},{"$f":"IF('Relevés de  commissions'!D13565=\"AGI externes\",'Relevés de  commissions'!O13565,0)*1","v":0},{"$f":"IF('Relevés de  commissions'!D13565=\"AGI externes\",'Relevés de  commissions'!P13565,0)*1","v":0},0,""]
[null,null,null,null,null,null,null,null,null,null,null,null,{"$f":"IF('Relevés de  commissions'!D13571=\"AGI externes\",'Relevés de  commissions'!M13571,0)*1","v":0},{"$f":"IF('Relevés de  commissions'!D13571=\"AGI externes\",'Relevés de  commissions'!N13571,0)*1","v":0},{"$f":"IF('Relevés de  commissions'!D13571=\"AGI externes\",'Relevés de  commissions'!O13571,0)*1","v":0},{"$f":"IF('Relevés de  commissions'!D13571=\"AGI externes\",'Relevés de  commissions'!P13571,0)*1","v":0},{"$f":"IF(N13573=0,O13573,\"\")","v":0},""]
[null,null,null,null,null,null,null,null,null,null,null,null,{"$f":"IF('Relevés de  commissions'!D13584=\"AGI externes\",'Relevés de  commissions'!M13584,0)*1","v":0},{"$f":"IF('Relevés de  commissions'!D13584=\"AGI externes\",'Relevés de  commissions'!N13584,0)*1","v":0},{"$f":"IF('Relevés de  commissions'!D13584=\"AGI externes\",'Relevés de  commissions'!O13584,0)*1","v":0},{"$f":"IF('Relevés de  commissions'!D13584=\"AGI externes\",'Relevés de  commissions'!P13584,0)*1","v":0},0,""]
[null,null,null,null,null,null,null,null,null,null,null,null,{"$f":"IF('Relevés de  commissions'!D13597=\"AGI externes\",'Relevés de  commissions'!M13597,0)*1","v":0},{"$f":"IF('Relevés de  commissions'!D13597=\"AGI externes\",'Relevés de  commissions'!N13597,0)*1","v":0},{"$f":"IF('Relevés de  commissions'!D13597=\"AGI externes\",'Relevés de  commissions'!O13597,0)*1","v":0},{"$f":"IF('Relevés de  commissions'!D13597=\"AGI externes\",'Relevés de  commissions'!P13597,0)*1","v":0},0,""]
[null,null,null,null,null,null,null,null,null,null,null,null,{"$f":"IF('Relevés de  commissions'!D13607=\"AGI externes\",'Relevés de  commissions'!M13607,0)*1","v":0},{"$f":"IF('Relevés de  commissions'!D13607=\"AGI externes\",'Relevés de  commissions'!N13607,0)*1","v":0},{"$f":"IF('Relevés de  commissions'!D13607=\"AGI externes\",'Relevés de  commissions'!O13607,0)*1","v":0},{"$f":"IF('Relevés de  commissions'!D13607=\"AGI externes\",'Relevés de  commissions'!P13607,0)*1","v":0},0,""]
[null,null,null,null,null,null,null,null,null,null,null,null,{"$f":"IF('Relevés de  commissions'!D13613=\"AGI externes\",'Relevés de  commissions'!M13613,0)*1","v":0},{"$f":"IF('Relevés de  commissions'!D13613=\"AGI externes\",'Relevés de  commissions'!N13613,0)*1","v":0},{"$f":"IF('Relevés de  commissions'!D13613=\"AGI externes\",'Relevés de  commissions'!O13613,0)*1","v":0},{"$f":"IF('Relevés de  commissions'!D13613=\"AGI externes\",'Relevés de  commissions'!P13613,0)*1","v":0},0,""]
[null,null,null,null,null,null,null,null,null,null,null,null,{"$f":"IF('Relevés de  commissions'!D13630=\"AGI externes\",'Relevés de  commissions'!M13630,0)*1","v":0},{"$f":"IF('Relevés de  commissions'!D13630=\"AGI externes\",'Relevés de  commissions'!N13630,0)*1","v":0},{"$f":"IF('Relevés de  commissions'!D13630=\"AGI externes\",'Relevés de  commissions'!O13630,0)*1","v":0},{"$f":"IF('Relevés de  commissions'!D13630=\"AGI externes\",'Relevés de  commissions'!P13630,0)*1","v":0},0,""]
[null,null,null,null,null,null,null,null,null,null,null,null,{"$f":"IF('Relevés de  commissions'!D13640=\"AGI externes\",'Relevés de  commissions'!M13640,0)*1","v":0},{"$f":"IF('Relevés de  commissions'!D13640=\"AGI externes\",'Relevés de  commissions'!N13640,0)*1","v":0},{"$f":"IF('Relevés de  commissions'!D13640=\"AGI externes\",'Relevés de  commissions'!O13640,0)*1","v":0},{"$f":"IF('Relevés de  commissions'!D13640=\"AGI externes\",'Relevés de  commissions'!P13640,0)*1","v":0},0,""]
[null,null,null,null,null,null,null,null,null,null,null,null,{"$f":"IF('Relevés de  commissions'!D13651=\"AGI externes\",'Relevés de  commissions'!M13651,0)*1","v":0},{"$f":"IF('Relevés de  commissions'!D13651=\"AGI externes\",'Relevés de  commissions'!N13651,0)*1","v":0},{"$f":"IF('Relevés de  commissions'!D13651=\"AGI externes\",'Relevés de  commissions'!O13651,0)*1","v":0},{"$f":"IF('Relevés de  commissions'!D13651=\"AGI externes\",'Relevés de  commissions'!P13651,0)*1","v":0},0,""]
[null,null,null,null,null,null,null,null,null,null,null,null,{"$f":"IF('Relevés de  commissions'!D13662=\"AGI externes\",'Relevés de  commissions'!M13662,0)*1","v":0},{"$f":"IF('Relevés de  commissions'!D13662=\"AGI externes\",'Relevés de  commissions'!N13662,0)*1","v":0},{"$f":"IF('Relevés de  commissions'!D13662=\"AGI externes\",'Relevés de  commissions'!O13662,0)*1","v":0},{"$f":"IF('Relevés de  commissions'!D13662=\"AGI externes\",'Relevés de  commissions'!P13662,0)*1","v":0},0,""]
[null,null,null,null,null,null,null,null,null,null,null,null,{"$f":"IF('Relevés de  commissions'!D13672=\"AGI externes\",'Relevés de  commissions'!M13672,0)*1","v":0},{"$f":"IF('Relevés de  commissions'!D13672=\"AGI externes\",'Relevés de  commissions'!N13672,0)*1","v":0},{"$f":"IF('Relevés de  commissions'!D13672=\"AGI externes\",'Relevés de  commissions'!O13672,0)*1","v":0},{"$f":"IF('Relevés de  commissions'!D13672=\"AGI externes\",'Relevés de  commissions'!P13672,0)*1","v":0},0,""]
[null,null,null,null,null,null,null,null,null,null,null,null,{"$f":"IF('Relevés de  commissions'!D13678=\"AGI externes\",'Relevés de  commissions'!M13678,0)*1","v":0},{"$f":"IF('Relevés de  commissions'!D13678=\"AGI externes\",'Relevés de  commissions'!N13678,0)*1","v":0},{"$f":"IF('Relevés de  commissions'!D13678=\"AGI externes\",'Relevés de  commissions'!O13678,0)*1","v":0},{"$f":"IF('Relevés de  commissions'!D13678=\"AGI externes\",'Relevés de  commissions'!P13678,0)*1","v":0},0,""]
[null,null,null,null,null,null,null,null,null,null,null,null,{"$f":"IF('Relevés de  commissions'!D13688=\"AGI externes\",'Relevés de  commissions'!M13688,0)*1","v":0},{"$f":"IF('Relevés de  commissions'!D13688=\"AGI externes\",'Relevés de  commissions'!N13688,0)*1","v":0},{"$f":"IF('Relevés de  commissions'!D13688=\"AGI externes\",'Relevés de  commissions'!O13688,0)*1","v":0},{"$f":"IF('Relevés de  commissions'!D13688=\"AGI externes\",'Relevés de  commissions'!P13688,0)*1","v":0},0,""]
[null,null,null,null,null,null,null,null,null,null,null,null,{"$f":"IF('Relevés de  commissions'!D13705=\"AGI externes\",'Relevés de  commissions'!M13705,0)*1","v":0},{"$f":"IF('Relevés de  commissions'!D13705=\"AGI externes\",'Relevés de  commissions'!N13705,0)*1","v":0},{"$f":"IF('Relevés de  commissions'!D13705=\"AGI externes\",'Relevés de  commissions'!O13705,0)*1","v":0},{"$f":"IF('Relevés de  commissions'!D13705=\"AGI externes\",'Relevés de  commissions'!P13705,0)*1","v":0},0,""]
[null,null,null,null,null,null,null,null,null,null,null,null,{"$f":"IF('Relevés de  commissions'!D13718=\"AGI externes\",'Relevés de  commissions'!M13718,0)*1","v":0},{"$f":"IF('Relevés de  commissions'!D13718=\"AGI externes\",'Relevés de  commissions'!N13718,0)*1","v":0},{"$f":"IF('Relevés de  commissions'!D13718=\"AGI externes\",'Relevés de  commissions'!O13718,0)*1","v":0},{"$f":"IF('Relevés de  commissions'!D13718=\"AGI externes\",'Relevés de  commissions'!P13718,0)*1","v":0},0,""]
[null,null,null,null,null,null,null,null,null,null,null,null,{"$f":"IF('Relevés de  commissions'!D13720=\"AGI externes\",'Relevés de  commissions'!M13720,0)*1","v":0},{"$f":"IF('Relevés de  commissions'!D13720=\"AGI externes\",'Relevés de  commissions'!N13720,0)*1","v":0},{"$f":"IF('Relevés de  commissions'!D13720=\"AGI externes\",'Relevés de  commissions'!O13720,0)*1","v":0},{"$f":"IF('Relevés de  commissions'!D13720=\"AGI externes\",'Relevés de  commissions'!P13720,0)*1","v":0},0,""]
[null,null,null,null,null,null,null,null,null,null,null,null,{"$f":"IF('Relevés de  commissions'!D13737=\"AGI externes\",'Relevés de  commissions'!M13737,0)*1","v":0},{"$f":"IF('Relevés de  commissions'!D13737=\"AGI externes\",'Relevés de  commissions'!N13737,0)*1","v":0},{"$f":"IF('Relevés de  commissions'!D13737=\"AGI externes\",'Relevés de  commissions'!O13737,0)*1","v":0},{"$f":"IF('Relevés de  commissions'!D13737=\"AGI externes\",'Relevés de  commissions'!P13737,0)*1","v":0},0,""]
[null,null,null,null,null,null,null,null,null,null,null,null,{"$f":"IF('Relevés de  commissions'!D13747=\"AGI externes\",'Relevés de  commissions'!M13747,0)*1","v":0},{"$f":"IF('Relevés de  commissions'!D13747=\"AGI externes\",'Relevés de  commissions'!N13747,0)*1","v":0},{"$f":"IF('Relevés de  commissions'!D13747=\"AGI externes\",'Relevés de  commissions'!O13747,0)*1","v":0},{"$f":"IF('Relevés de  commissions'!D13747=\"AGI externes\",'Relevés de  commissions'!P13747,0)*1","v":0},0,""]
[null,null,null,null,null,null,null,null,null,null,null,null,{"$f":"IF('Relevés de  commissions'!D13753=\"AGI externes\",'Relevés de  commissions'!M13753,0)*1","v":0},{"$f":"IF('Relevés de  commissions'!D13753=\"AGI externes\",'Relevés de  commissions'!N13753,0)*1","v":0},{"$f":"IF('Relevés de  commissions'!D13753=\"AGI externes\",'Relevés de  commissions'!O13753,0)*1","v":0},{"$f":"IF('Relevés de  commissions'!D13753=\"AGI externes\",'Relevés de  commissions'!P13753,0)*1","v":0},0,""]
[null,null,null,null,null,null,null,null,null,null,null,null,{"$f":"IF('Relevés de  commissions'!D13770=\"AGI externes\",'Relevés de  commissions'!M13770,0)*1","v":0},{"$f":"IF('Relevés de  commissions'!D13770=\"AGI externes\",'Relevés de  commissions'!N13770,0)*1","v":0},{"$f":"IF('Relevés de  commissions'!D13770=\"AGI externes\",'Relevés de  commissions'!O13770,0)*1","v":0},{"$f":"IF('Relevés de  commissions'!D13770=\"AGI externes\",'Relevés de  commissions'!P13770,0)*1","v":0},0,""]
[null,null,null,null,null,null,null,null,null,null,null,null,{"$f":"IF('Relevés de  commissions'!D13781=\"AGI externes\",'Relevés de  commissions'!M13781,0)*1","v":0},{"$f":"IF('Relevés de  commissions'!D13781=\"AGI externes\",'Relevés de  commissions'!N13781,0)*1","v":0},{"$f":"IF('Relevés de  commissions'!D13781=\"AGI externes\",'Relevés de  commissions'!O13781,0)*1","v":0},{"$f":"IF('Relevés de  commissions'!D13781=\"AGI externes\",'Relevés de  commissions'!P13781,0)*1","v":0},0,""]
[null,null,null,null,null,null,null,null,null,null,null,null,{"$f":"IF('Relevés de  commissions'!D13785=\"AGI externes\",'Relevés de  commissions'!M13785,0)*1","v":0},{"$f":"IF('Relevés de  commissions'!D13785=\"AGI externes\",'Relevés de  commissions'!N13785,0)*1","v":0},{"$f":"IF('Relevés de  commissions'!D13785=\"AGI externes\",'Relevés de  commissions'!O13785,0)*1","v":0},{"$f":"IF('Relevés de  commissions'!D13785=\"AGI externes\",'Relevés de  commissions'!P13785,0)*1","v":0},0,""]
[null,null,null,null,null,null,null,null,null,null,null,null,{"$f":"IF('Relevés de  commissions'!D13802=\"AGI externes\",'Relevés de  commissions'!M13802,0)*1","v":0},{"$f":"IF('Relevés de  commissions'!D13802=\"AGI externes\",'Relevés de  commissions'!N13802,0)*1","v":0},{"$f":"IF('Relevés de  commissions'!D13802=\"AGI externes\",'Relevés de  commissions'!O13802,0)*1","v":0},{"$f":"IF('Relevés de  commissions'!D13802=\"AGI externes\",'Relevés de  commissions'!P13802,0)*1","v":0},0,""]
[null,null,null,null,null,null,null,null,null,null,null,null,{"$f":"IF('Relevés de  commissions'!D13812=\"AGI externes\",'Relevés de  commissions'!M13812,0)*1","v":0},{"$f":"IF('Relevés de  commissions'!D13812=\"AGI externes\",'Relevés de  commissions'!N13812,0)*1","v":0},{"$f":"IF('Relevés de  commissions'!D13812=\"AGI externes\",'Relevés de  commissions'!O13812,0)*1","v":0},{"$f":"IF('Relevés de  commissions'!D13812=\"AGI externes\",'Relevés de  commissions'!P13812,0)*1","v":0},0,""]
[null,null,null,null,null,null,null,null,null,null,null,null,{"$f":"IF('Relevés de  commissions'!D13818=\"AGI externes\",'Relevés de  commissions'!M13818,0)*1","v":0},{"$f":"IF('Relevés de  commissions'!D13818=\"AGI externes\",'Relevés de  commissions'!N13818,0)*1","v":0},{"$f":"IF('Relevés de  commissions'!D13818=\"AGI externes\",'Relevés de  commissions'!O13818,0)*1","v":0},{"$f":"IF('Relevés de  commissions'!D13818=\"AGI externes\",'Relevés de  commissions'!P13818,0)*1","v":0},0,""]
[null,null,null,null,null,null,null,null,null,null,null,null,{"$f":"IF('Relevés de  commissions'!D13839=\"AGI externes\",'Relevés de  commissions'!M13839,0)*1","v":0},{"$f":"IF('Relevés de  commissions'!D13839=\"AGI externes\",'Relevés de  commissions'!N13839,0)*1","v":0},{"$f":"IF('Relevés de  commissions'!D13839=\"AGI externes\",'Relevés de  commissions'!O13839,0)*1","v":0},{"$f":"IF('Relevés de  commissions'!D13839=\"AGI externes\",'Relevés de  commissions'!P13839,0)*1","v":0},0,""]
[null,null,null,null,null,null,null,null,null,null,null,null,{"$f":"IF('Relevés de  commissions'!D13848=\"AGI externes\",'Relevés de  commissions'!M13848,0)*1","v":0},{"$f":"IF('Relevés de  commissions'!D13848=\"AGI externes\",'Relevés de  commissions'!N13848,0)*1","v":0},{"$f":"IF('Relevés de  commissions'!D13848=\"AGI externes\",'Relevés de  commissions'!O13848,0)*1","v":0},{"$f":"IF('Relevés de  commissions'!D13848=\"AGI externes\",'Relevés de  commissions'!P13848,0)*1","v":0},0,""]
[null,null,null,null,null,null,null,null,null,null,null,null,{"$f":"IF('Relevés de  commissions'!D13850=\"AGI externes\",'Relevés de  commissions'!M13850,0)*1","v":0},{"$f":"IF('Relevés de  commissions'!D13850=\"AGI externes\",'Relevés de  commissions'!N13850,0)*1","v":0},{"$f":"IF('Relevés de  commissions'!D13850=\"AGI externes\",'Relevés de  commissions'!O13850,0)*1","v":0},{"$f":"IF('Relevés de  commissions'!D13850=\"AGI externes\",'Relevés de  commissions'!P13850,0)*1","v":0},0,""]
[null,null,null,null,null,null,null,null,null,null,null,null,{"$f":"IF('Relevés de  commissions'!D13871=\"AGI externes\",'Relevés de  commissions'!M13871,0)*1","v":0},{"$f":"IF('Relevés de  commissions'!D13871=\"AGI externes\",'Relevés de  commissions'!N13871,0)*1","v":0},{"$f":"IF('Relevés de  commissions'!D13871=\"AGI externes\",'Relevés de  commissions'!O13871,0)*1","v":0},{"$f":"IF('Relevés de  commissions'!D13871=\"AGI externes\",'Relevés de  commissions'!P13871,0)*1","v":0},0,""]
[null,null,null,null,null,null,null,null,null,null,null,null,{"$f":"IF('Relevés de  commissions'!D13877=\"AGI externes\",'Relevés de  commissions'!M13877,0)*1","v":0},{"$f":"IF('Relevés de  commissions'!D13877=\"AGI externes\",'Relevés de  commissions'!N13877,0)*1","v":0},{"$f":"IF('Relevés de  commissions'!D13877=\"AGI externes\",'Relevés de  commissions'!O13877,0)*1","v":0},{"$f":"IF('Relevés de  commissions'!D13877=\"AGI externes\",'Relevés de  commissions'!P13877,0)*1","v":0},0,{"$f":"IF(N13879=10,O13879,\"\")","v":""}]
[null,null,null,null,null,null,null,null,null,null,null,null,{"$f":"IF('Relevés de  commissions'!D13887=\"AGI externes\",'Relevés de  commissions'!M13887,0)*1","v":0},{"$f":"IF('Relevés de  commissions'!D13887=\"AGI externes\",'Relevés de  commissions'!N13887,0)*1","v":0},{"$f":"IF('Relevés de  commissions'!D13887=\"AGI externes\",'Relevés de  commissions'!O13887,0)*1","v":0},{"$f":"IF('Relevés de  commissions'!D13887=\"AGI externes\",'Relevés de  commissions'!P13887,0)*1","v":0},0,""]
[null,null,null,null,null,null,null,null,null,null,null,null,{"$f":"IF('Relevés de  commissions'!D13904=\"AGI externes\",'Relevés de  commissions'!M13904,0)*1","v":0},{"$f":"IF('Relevés de  commissions'!D13904=\"AGI externes\",'Relevés de  commissions'!N13904,0)*1","v":0},{"$f":"IF('Relevés de  commissions'!D13904=\"AGI externes\",'Relevés de  commissions'!O13904,0)*1","v":0},{"$f":"IF('Relevés de  commissions'!D13904=\"AGI externes\",'Relevés de  commissions'!P13904,0)*1","v":0},0,""]
[null,null,null,null,null,null,null,null,null,null,null,null,{"$f":"IF('Relevés de  commissions'!D13905=\"AGI externes\",'Relevés de  commissions'!M13905,0)*1","v":0},{"$f":"IF('Relevés de  commissions'!D13905=\"AGI externes\",'Relevés de  commissions'!N13905,0)*1","v":0},{"$f":"IF('Relevés de  commissions'!D13905=\"AGI externes\",'Relevés de  commissions'!O13905,0)*1","v":0},{"$f":"IF('Relevés de  commissions'!D13905=\"AGI externes\",'Relevés de  commissions'!P13905,0)*1","v":0},0,""]
[null,null,null,null,null,null,null,null,null,null,null,null,{"$f":"IF('Relevés de  commissions'!D13919=\"AGI externes\",'Relevés de  commissions'!M13919,0)*1","v":0},{"$f":"IF('Relevés de  commissions'!D13919=\"AGI externes\",'Relevés de  commissions'!N13919,0)*1","v":0},{"$f":"IF('Relevés de  commissions'!D13919=\"AGI externes\",'Relevés de  commissions'!O13919,0)*1","v":0},{"$f":"IF('Relevés de  commissions'!D13919=\"AGI externes\",'Relevés de  commissions'!P13919,0)*1","v":0},0,""]
[null,null,null,null,null,null,null,null,null,null,null,null,{"$f":"IF('Relevés de  commissions'!D13936=\"AGI externes\",'Relevés de  commissions'!M13936,0)*1","v":0},{"$f":"IF('Relevés de  commissions'!D13936=\"AGI externes\",'Relevés de  commissions'!N13936,0)*1","v":0},{"$f":"IF('Relevés de  commissions'!D13936=\"AGI externes\",'Relevés de  commissions'!O13936,0)*1","v":0},{"$f":"IF('Relevés de  commissions'!D13936=\"AGI externes\",'Relevés de  commissions'!P13936,0)*1","v":0},0,""]
[null,null,null,null,null,null,null,null,null,null,null,null,{"$f":"IF('Relevés de  commissions'!D13942=\"AGI externes\",'Relevés de  commissions'!M13942,0)*1","v":0},{"$f":"IF('Relevés de  commissions'!D13942=\"AGI externes\",'Relevés de  commissions'!N13942,0)*1","v":0},{"$f":"IF('Relevés de  commissions'!D13942=\"AGI externes\",'Relevés de  commissions'!O13942,0)*1","v":0},{"$f":"IF('Relevés de  commissions'!D13942=\"AGI externes\",'Relevés de  commissions'!P13942,0)*1","v":0},0,""]
[null,null,null,null,null,null,null,null,null,null,null,null,{"$f":"IF('Relevés de  commissions'!D13952=\"AGI externes\",'Relevés de  commissions'!M13952,0)*1","v":0},{"$f":"IF('Relevés de  commissions'!D13952=\"AGI externes\",'Relevés de  commissions'!N13952,0)*1","v":0},{"$f":"IF('Relevés de  commissions'!D13952=\"AGI externes\",'Relevés de  commissions'!O13952,0)*1","v":0},{"$f":"IF('Relevés de  commissions'!D13952=\"AGI externes\",'Relevés de  commissions'!P13952,0)*1","v":0},0,""]
[null,null,null,null,null,null,null,null,null,null,null,null,{"$f":"IF('Relevés de  commissions'!D13969=\"AGI externes\",'Relevés de  commissions'!M13969,0)*1","v":0},{"$f":"IF('Relevés de  commissions'!D13969=\"AGI externes\",'Relevés de  commissions'!N13969,0)*1","v":0},{"$f":"IF('Relevés de  commissions'!D13969=\"AGI externes\",'Relevés de  commissions'!O13969,0)*1","v":0},{"$f":"IF('Relevés de  commissions'!D13969=\"AGI externes\",'Relevés de  commissions'!P13969,0)*1","v":0},0,""]
[null,null,null,null,null,null,null,null,null,null,null,null,{"$f":"IF('Relevés de  commissions'!D13978=\"AGI externes\",'Relevés de  commissions'!M13978,0)*1","v":0},{"$f":"IF('Relevés de  commissions'!D13978=\"AGI externes\",'Relevés de  commissions'!N13978,0)*1","v":0},{"$f":"IF('Relevés de  commissions'!D13978=\"AGI externes\",'Relevés de  commissions'!O13978,0)*1","v":0},{"$f":"IF('Relevés de  commissions'!D13978=\"AGI externes\",'Relevés de  commissions'!P13978,0)*1","v":0},0,""]
[null,null,null,null,null,null,null,null,null,null,null,null,{"$f":"IF('Relevés de  commissions'!D13984=\"AGI externes\",'Relevés de  commissions'!M13984,0)*1","v":0},{"$f":"IF('Relevés de  commissions'!D13984=\"AGI externes\",'Relevés de  commissions'!N13984,0)*1","v":0},{"$f":"IF('Relevés de  commissions'!D13984=\"AGI externes\",'Relevés de  commissions'!O13984,0)*1","v":0},{"$f":"IF('Relevés de  commissions'!D13984=\"AGI externes\",'Relevés de  commissions'!P13984,0)*1","v":0},0,""]
[null,null,null,null,null,null,null,null,null,null,null,null,{"$f":"IF('Relevés de  commissions'!D14001=\"AGI externes\",'Relevés de  commissions'!M14001,0)*1","v":0},{"$f":"IF('Relevés de  commissions'!D14001=\"AGI externes\",'Relevés de  commissions'!N14001,0)*1","v":0},{"$f":"IF('Relevés de  commissions'!D14001=\"AGI externes\",'Relevés de  commissions'!O14001,0)*1","v":0},{"$f":"IF('Relevés de  commissions'!D14001=\"AGI externes\",'Relevés de  commissions'!P14001,0)*1","v":0},0,""]
[null,null,null,null,null,null,null,null,null,null,null,null,{"$f":"IF('Relevés de  commissions'!D14011=\"AGI externes\",'Relevés de  commissions'!M14011,0)*1","v":0},{"$f":"IF('Relevés de  commissions'!D14011=\"AGI externes\",'Relevés de  commissions'!N14011,0)*1","v":0},{"$f":"IF('Relevés de  commissions'!D14011=\"AGI externes\",'Relevés de  commissions'!O14011,0)*1","v":0},{"$f":"IF('Relevés de  commissions'!D14011=\"AGI externes\",'Relevés de  commissions'!P14011,0)*1","v":0},0,""]
[null,null,null,null,null,null,null,null,null,null,null,null,{"$f":"IF('Relevés de  commissions'!D14017=\"AGI externes\",'Relevés de  commissions'!M14017,0)*1","v":0},{"$f":"IF('Relevés de  commissions'!D14017=\"AGI externes\",'Relevés de  commissions'!N14017,0)*1","v":0},{"$f":"IF('Relevés de  commissions'!D14017=\"AGI externes\",'Relevés de  commissions'!O14017,0)*1","v":0},{"$f":"IF('Relevés de  commissions'!D14017=\"AGI externes\",'Relevés de  commissions'!P14017,0)*1","v":0},0,""]
[null,null,null,null,null,null,null,null,null,null,null,null,{"$f":"IF('Relevés de  commissions'!D14034=\"AGI externes\",'Relevés de  commissions'!M14034,0)*1","v":0},{"$f":"IF('Relevés de  commissions'!D14034=\"AGI externes\",'Relevés de  commissions'!N14034,0)*1","v":0},{"$f":"IF('Relevés de  commissions'!D14034=\"AGI externes\",'Relevés de  commissions'!O14034,0)*1","v":0},{"$f":"IF('Relevés de  commissions'!D14034=\"AGI externes\",'Relevés de  commissions'!P14034,0)*1","v":0},0,""]
[null,null,null,null,null,null,null,null,null,null,null,null,{"$f":"IF('Relevés de  commissions'!D14035=\"AGI externes\",'Relevés de  commissions'!M14035,0)*1","v":0},{"$f":"IF('Relevés de  commissions'!D14035=\"AGI externes\",'Relevés de  commissions'!N14035,0)*1","v":0},{"$f":"IF('Relevés de  commissions'!D14035=\"AGI externes\",'Relevés de  commissions'!O14035,0)*1","v":0},{"$f":"IF('Relevés de  commissions'!D14035=\"AGI externes\",'Relevés de  commissions'!P14035,0)*1","v":0},0,""]
[null,null,null,null,null,null,null,null,null,null,null,null,{"$f":"IF('Relevés de  commissions'!D14049=\"AGI externes\",'Relevés de  commissions'!M14049,0)*1","v":0},{"$f":"IF('Relevés de  commissions'!D14049=\"AGI externes\",'Relevés de  commissions'!N14049,0)*1","v":0},{"$f":"IF('Relevés de  commissions'!D14049=\"AGI externes\",'Relevés de  commissions'!O14049,0)*1","v":0},{"$f":"IF('Relevés de  commissions'!D14049=\"AGI externes\",'Relevés de  commissions'!P14049,0)*1","v":0},0,""]
[null,null,null,null,null,null,null,null,null,null,null,null,{"$f":"IF('Relevés de  commissions'!D14059=\"AGI externes\",'Relevés de  commissions'!M14059,0)*1","v":0},{"$f":"IF('Relevés de  commissions'!D14059=\"AGI externes\",'Relevés de  commissions'!N14059,0)*1","v":0},{"$f":"IF('Relevés de  commissions'!D14059=\"AGI externes\",'Relevés de  commissions'!O14059,0)*1","v":0},{"$f":"IF('Relevés de  commissions'!D14059=\"AGI externes\",'Relevés de  commissions'!P14059,0)*1","v":0},0,""]
[null,null,null,null,null,null,null,null,null,null,null,null,{"$f":"IF('Relevés de  commissions'!D14076=\"AGI externes\",'Relevés de  commissions'!M14076,0)*1","v":0},{"$f":"IF('Relevés de  commissions'!D14076=\"AGI externes\",'Relevés de  commissions'!N14076,0)*1","v":0},{"$f":"IF('Relevés de  commissions'!D14076=\"AGI externes\",'Relevés de  commissions'!O14076,0)*1","v":0},{"$f":"IF('Relevés de  commissions'!D14076=\"AGI externes\",'Relevés de  commissions'!P14076,0)*1","v":0},0,""]
[null,null,null,null,null,null,null,null,null,null,null,null,{"$f":"IF('Relevés de  commissions'!D14082=\"AGI externes\",'Relevés de  commissions'!M14082,0)*1","v":0},{"$f":"IF('Relevés de  commissions'!D14082=\"AGI externes\",'Relevés de  commissions'!N14082,0)*1","v":0},{"$f":"IF('Relevés de  commissions'!D14082=\"AGI externes\",'Relevés de  commissions'!O14082,0)*1","v":0},{"$f":"IF('Relevés de  commissions'!D14082=\"AGI externes\",'Relevés de  commissions'!P14082,0)*1","v":0},0,""]
[null,null,null,null,null,null,null,null,null,null,null,null,{"$f":"IF('Relevés de  commissions'!D14092=\"AGI externes\",'Relevés de  commissions'!M14092,0)*1","v":0},{"$f":"IF('Relevés de  commissions'!D14092=\"AGI externes\",'Relevés de  commissions'!N14092,0)*1","v":0},{"$f":"IF('Relevés de  commissions'!D14092=\"AGI externes\",'Relevés de  commissions'!O14092,0)*1","v":0},{"$f":"IF('Relevés de  commissions'!D14092=\"AGI externes\",'Relevés de  commissions'!P14092,0)*1","v":0},0,""]
[null,null,null,null,null,null,null,null,null,null,null,null,{"$f":"IF('Relevés de  commissions'!D14102=\"AGI externes\",'Relevés de  commissions'!M14102,0)*1","v":0},{"$f":"IF('Relevés de  commissions'!D14102=\"AGI externes\",'Relevés de  commissions'!N14102,0)*1","v":0},{"$f":"IF('Relevés de  commissions'!D14102=\"AGI externes\",'Relevés de  commissions'!O14102,0)*1","v":0},{"$f":"IF('Relevés de  commissions'!D14102=\"AGI externes\",'Relevés de  commissions'!P14102,0)*1","v":0},0,""]
[null,null,null,null,null,null,null,null,null,null,null,null,{"$f":"IF('Relevés de  commissions'!D14118=\"AGI externes\",'Relevés de  commissions'!M14118,0)*1","v":0},{"$f":"IF('Relevés de  commissions'!D14118=\"AGI externes\",'Relevés de  commissions'!N14118,0)*1","v":0},{"$f":"IF('Relevés de  commissions'!D14118=\"AGI externes\",'Relevés de  commissions'!O14118,0)*1","v":0},{"$f":"IF('Relevés de  commissions'!D14118=\"AGI externes\",'Relevés de  commissions'!P14118,0)*1","v":0},0,""]
[null,null,null,null,null,null,null,null,null,null,null,null,{"$f":"IF('Relevés de  commissions'!D14124=\"AGI externes\",'Relevés de  commissions'!M14124,0)*1","v":0},{"$f":"IF('Relevés de  commissions'!D14124=\"AGI externes\",'Relevés de  commissions'!N14124,0)*1","v":0},{"$f":"IF('Relevés de  commissions'!D14124=\"AGI externes\",'Relevés de  commissions'!O14124,0)*1","v":0},{"$f":"IF('Relevés de  commissions'!D14124=\"AGI externes\",'Relevés de  commissions'!P14124,0)*1","v":0},0,""]
[null,null,null,null,null,null,null,null,null,null,null,null,{"$f":"IF('Relevés de  commissions'!D14141=\"AGI externes\",'Relevés de  commissions'!M14141,0)*1","v":0},{"$f":"IF('Relevés de  commissions'!D14141=\"AGI externes\",'Relevés de  commissions'!N14141,0)*1","v":0},{"$f":"IF('Relevés de  commissions'!D14141=\"AGI externes\",'Relevés de  commissions'!O14141,0)*1","v":0},{"$f":"IF('Relevés de  commissions'!D14141=\"AGI externes\",'Relevés de  commissions'!P14141,0)*1","v":0},0,""]
[null,null,null,null,null,null,null,null,null,null,null,null,{"$f":"IF('Relevés de  commissions'!D14151=\"AGI externes\",'Relevés de  commissions'!M14151,0)*1","v":0},{"$f":"IF('Relevés de  commissions'!D14151=\"AGI externes\",'Relevés de  commissions'!N14151,0)*1","v":0},{"$f":"IF('Relevés de  commissions'!D14151=\"AGI externes\",'Relevés de  commissions'!O14151,0)*1","v":0},{"$f":"IF('Relevés de  commissions'!D14151=\"AGI externes\",'Relevés de  commissions'!P14151,0)*1","v":0},0,""]
[null,null,null,null,null,null,null,null,null,null,null,null,{"$f":"IF('Relevés de  commissions'!D14157=\"AGI externes\",'Relevés de  commissions'!M14157,0)*1","v":0},{"$f":"IF('Relevés de  commissions'!D14157=\"AGI externes\",'Relevés de  commissions'!N14157,0)*1","v":0},{"$f":"IF('Relevés de  commissions'!D14157=\"AGI externes\",'Relevés de  commissions'!O14157,0)*1","v":0},{"$f":"IF('Relevés de  commissions'!D14157=\"AGI externes\",'Relevés de  commissions'!P14157,0)*1","v":0},0,""]
[null,null,null,null,null,null,null,null,null,null,null,null,{"$f":"IF('Relevés de  commissions'!D14169=\"AGI externes\",'Relevés de  commissions'!M14169,0)*1","v":0},{"$f":"IF('Relevés de  commissions'!D14169=\"AGI externes\",'Relevés de  commissions'!N14169,0)*1","v":0},{"$f":"IF('Relevés de  commissions'!D14169=\"AGI externes\",'Relevés de  commissions'!O14169,0)*1","v":0},{"$f":"IF('Relevés de  commissions'!D14169=\"AGI externes\",'Relevés de  commissions'!P14169,0)*1","v":0},0,""]
[null,null,null,null,null,null,null,null,null,null,null,null,{"$f":"IF('Relevés de  commissions'!D14183=\"AGI externes\",'Relevés de  commissions'!M14183,0)*1","v":0},{"$f":"IF('Relevés de  commissions'!D14183=\"AGI externes\",'Relevés de  commissions'!N14183,0)*1","v":0},{"$f":"IF('Relevés de  commissions'!D14183=\"AGI externes\",'Relevés de  commissions'!O14183,0)*1","v":0},{"$f":"IF('Relevés de  commissions'!D14183=\"AGI externes\",'Relevés de  commissions'!P14183,0)*1","v":0},0,""]
[null,null,null,null,null,null,null,null,null,null,null,null,{"$f":"IF('Relevés de  commissions'!D14189=\"AGI externes\",'Relevés de  commissions'!M14189,0)*1","v":0},{"$f":"IF('Relevés de  commissions'!D14189=\"AGI externes\",'Relevés de  commissions'!N14189,0)*1","v":0},{"$f":"IF('Relevés de  commissions'!D14189=\"AGI externes\",'Relevés de  commissions'!O14189,0)*1","v":0},{"$f":"IF('Relevés de  commissions'!D14189=\"AGI externes\",'Relevés de  commissions'!P14189,0)*1","v":0},0,""]
[null,null,null,null,null,null,null,null,null,null,null,null,{"$f":"IF('Relevés de  commissions'!D14199=\"AGI externes\",'Relevés de  commissions'!M14199,0)*1","v":0},{"$f":"IF('Relevés de  commissions'!D14199=\"AGI externes\",'Relevés de  commissions'!N14199,0)*1","v":0},{"$f":"IF('Relevés de  commissions'!D14199=\"AGI externes\",'Relevés de  commissions'!O14199,0)*1","v":0},{"$f":"IF('Relevés de  commissions'!D14199=\"AGI externes\",'Relevés de  commissions'!P14199,0)*1","v":0},0,""]
[null,null,null,null,null,null,null,null,null,null,null,null,{"$f":"IF('Relevés de  commissions'!D14216=\"AGI externes\",'Relevés de  commissions'!M14216,0)*1","v":0},{"$f":"IF('Relevés de  commissions'!D14216=\"AGI externes\",'Relevés de  commissions'!N14216,0)*1","v":0},{"$f":"IF('Relevés de  commissions'!D14216=\"AGI externes\",'Relevés de  commissions'!O14216,0)*1","v":0},{"$f":"IF('Relevés de  commissions'!D14216=\"AGI externes\",'Relevés de  commissions'!P14216,0)*1","v":0},0,""]
[null,null,null,null,null,null,null,null,null,null,null,null,{"$f":"IF('Relevés de  commissions'!D14222=\"AGI externes\",'Relevés de  commissions'!M14222,0)*1","v":0},{"$f":"IF('Relevés de  commissions'!D14222=\"AGI externes\",'Relevés de  commissions'!N14222,0)*1","v":0},{"$f":"IF('Relevés de  commissions'!D14222=\"AGI externes\",'Relevés de  commissions'!O14222,0)*1","v":0},{"$f":"IF('Relevés de  commissions'!D14222=\"AGI externes\",'Relevés de  commissions'!P14222,0)*1","v":0},0,""]
[null,null,null,null,null,null,null,null,null,null,null,null,{"$f":"IF('Relevés de  commissions'!D14232=\"AGI externes\",'Relevés de  commissions'!M14232,0)*1","v":0},{"$f":"IF('Relevés de  commissions'!D14232=\"AGI externes\",'Relevés de  commissions'!N14232,0)*1","v":0},{"$f":"IF('Relevés de  commissions'!D14232=\"AGI externes\",'Relevés de  commissions'!O14232,0)*1","v":0},{"$f":"IF('Relevés de  commissions'!D14232=\"AGI externes\",'Relevés de  commissions'!P14232,0)*1","v":0},0,""]
[null,null,null,null,null,null,null,null,null,null,null,null,{"$f":"IF('Relevés de  commissions'!D14248=\"AGI externes\",'Relevés de  commissions'!M14248,0)*1","v":0},{"$f":"IF('Relevés de  commissions'!D14248=\"AGI externes\",'Relevés de  commissions'!N14248,0)*1","v":0},{"$f":"IF('Relevés de  commissions'!D14248=\"AGI externes\",'Relevés de  commissions'!O14248,0)*1","v":0},{"$f":"IF('Relevés de  commissions'!D14248=\"AGI externes\",'Relevés de  commissions'!P14248,0)*1","v":0},0,""]
[null,null,null,null,null,null,null,null,null,null,null,null,{"$f":"IF('Relevés de  commissions'!D14258=\"AGI externes\",'Relevés de  commissions'!M14258,0)*1","v":0},{"$f":"IF('Relevés de  commissions'!D14258=\"AGI externes\",'Relevés de  commissions'!N14258,0)*1","v":0},{"$f":"IF('Relevés de  commissions'!D14258=\"AGI externes\",'Relevés de  commissions'!O14258,0)*1","v":0},{"$f":"IF('Relevés de  commissions'!D14258=\"AGI externes\",'Relevés de  commissions'!P14258,0)*1","v":0},0,""]
[null,null,null,null,null,null,null,null,null,null,null,null,{"$f":"IF('Relevés de  commissions'!D14264=\"AGI externes\",'Relevés de  commissions'!M14264,0)*1","v":0},{"$f":"IF('Relevés de  commissions'!D14264=\"AGI externes\",'Relevés de  commissions'!N14264,0)*1","v":0},{"$f":"IF('Relevés de  commissions'!D14264=\"AGI externes\",'Relevés de  commissions'!O14264,0)*1","v":0},{"$f":"IF('Relevés de  commissions'!D14264=\"AGI externes\",'Relevés de  commissions'!P14264,0)*1","v":0},0,""]
[null,null,null,null,null,null,null,null,null,null,null,null,{"$f":"IF('Relevés de  commissions'!D14281=\"AGI externes\",'Relevés de  commissions'!M14281,0)*1","v":0},{"$f":"IF('Relevés de  commissions'!D14281=\"AGI externes\",'Relevés de  commissions'!N14281,0)*1","v":0},{"$f":"IF('Relevés de  commissions'!D14281=\"AGI externes\",'Relevés de  commissions'!O14281,0)*1","v":0},{"$f":"IF('Relevés de  commissions'!D14281=\"AGI externes\",'Relevés de  commissions'!P14281,0)*1","v":0},0,""]
[null,null,null,null,null,null,null,null,null,null,null,null,{"$f":"IF('Relevés de  commissions'!D14291=\"AGI externes\",'Relevés de  commissions'!M14291,0)*1","v":0},{"$f":"IF('Relevés de  commissions'!D14291=\"AGI externes\",'Relevés de  commissions'!N14291,0)*1","v":0},{"$f":"IF('Relevés de  commissions'!D14291=\"AGI externes\",'Relevés de  commissions'!O14291,0)*1","v":0},{"$f":"IF('Relevés de  commissions'!D14291=\"AGI externes\",'Relevés de  commissions'!P14291,0)*1","v":0},0,""]
[null,null,null,null,null,null,null,null,null,null,null,null,{"$f":"IF('Relevés de  commissions'!D14299=\"AGI externes\",'Relevés de  commissions'!M14299,0)*1","v":0},{"$f":"IF('Relevés de  commissions'!D14299=\"AGI externes\",'Relevés de  commissions'!N14299,0)*1","v":0},{"$f":"IF('Relevés de  commissions'!D14299=\"AGI externes\",'Relevés de  commissions'!O14299,0)*1","v":0},{"$f":"IF('Relevés de  commissions'!D14299=\"AGI externes\",'Relevés de  commissions'!P14299,0)*1","v":0},0,""]
[null,null,null,null,null,null,null,null,null,null,null,null,{"$f":"IF('Relevés de  commissions'!D14313=\"AGI externes\",'Relevés de  commissions'!M14313,0)*1","v":0},{"$f":"IF('Relevés de  commissions'!D14313=\"AGI externes\",'Relevés de  commissions'!N14313,0)*1","v":0},{"$f":"IF('Relevés de  commissions'!D14313=\"AGI externes\",'Relevés de  commissions'!O14313,0)*1","v":0},{"$f":"IF('Relevés de  commissions'!D14313=\"AGI externes\",'Relevés de  commissions'!P14313,0)*1","v":0},0,""]
[null,null,null,null,null,null,null,null,null,null,null,null,{"$f":"IF('Relevés de  commissions'!D14323=\"AGI externes\",'Relevés de  commissions'!M14323,0)*1","v":0},{"$f":"IF('Relevés de  commissions'!D14323=\"AGI externes\",'Relevés de  commissions'!N14323,0)*1","v":0},{"$f":"IF('Relevés de  commissions'!D14323=\"AGI externes\",'Relevés de  commissions'!O14323,0)*1","v":0},{"$f":"IF('Relevés de  commissions'!D14323=\"AGI externes\",'Relevés de  commissions'!P14323,0)*1","v":0},0,""]
[null,null,null,null,null,null,null,null,null,null,null,null,{"$f":"IF('Relevés de  commissions'!D14329=\"AGI externes\",'Relevés de  commissions'!M14329,0)*1","v":0},{"$f":"IF('Relevés de  commissions'!D14329=\"AGI externes\",'Relevés de  commissions'!N14329,0)*1","v":0},{"$f":"IF('Relevés de  commissions'!D14329=\"AGI externes\",'Relevés de  commissions'!O14329,0)*1","v":0},{"$f":"IF('Relevés de  commissions'!D14329=\"AGI externes\",'Relevés de  commissions'!P14329,0)*1","v":0},0,""]
[null,null,null,null,null,null,null,null,null,null,null,null,{"$f":"IF('Relevés de  commissions'!D14339=\"AGI externes\",'Relevés de  commissions'!M14339,0)*1","v":0},{"$f":"IF('Relevés de  commissions'!D14339=\"AGI externes\",'Relevés de  commissions'!N14339,0)*1","v":0},{"$f":"IF('Relevés de  commissions'!D14339=\"AGI externes\",'Relevés de  commissions'!O14339,0)*1","v":0},{"$f":"IF('Relevés de  commissions'!D14339=\"AGI externes\",'Relevés de  commissions'!P14339,0)*1","v":0},{"$f":"IF(N14341=0,O14341,\"\")","v":0},""]
[null,null,null,null,null,null,null,null,null,null,null,null,{"$f":"IF('Relevés de  commissions'!D14356=\"AGI externes\",'Relevés de  commissions'!M14356,0)*1","v":0},{"$f":"IF('Relevés de  commissions'!D14356=\"AGI externes\",'Relevés de  commissions'!N14356,0)*1","v":0},{"$f":"IF('Relevés de  commissions'!D14356=\"AGI externes\",'Relevés de  commissions'!O14356,0)*1","v":0},{"$f":"IF('Relevés de  commissions'!D14356=\"AGI externes\",'Relevés de  commissions'!P14356,0)*1","v":0},0,""]
[null,null,null,null,null,null,null,null,null,null,null,null,{"$f":"IF('Relevés de  commissions'!D14366=\"AGI externes\",'Relevés de  commissions'!M14366,0)*1","v":0},{"$f":"IF('Relevés de  commissions'!D14366=\"AGI externes\",'Relevés de  commissions'!N14366,0)*1","v":0},{"$f":"IF('Relevés de  commissions'!D14366=\"AGI externes\",'Relevés de  commissions'!O14366,0)*1","v":0},{"$f":"IF('Relevés de  commissions'!D14366=\"AGI externes\",'Relevés de  commissions'!P14366,0)*1","v":0},0,""]
[null,null,null,null,null,null,null,null,null,null,null,null,{"$f":"IF('Relevés de  commissions'!D14371=\"AGI externes\",'Relevés de  commissions'!M14371,0)*1","v":0},{"$f":"IF('Relevés de  commissions'!D14371=\"AGI externes\",'Relevés de  commissions'!N14371,0)*1","v":0},{"$f":"IF('Relevés de  commissions'!D14371=\"AGI externes\",'Relevés de  commissions'!O14371,0)*1","v":0},{"$f":"IF('Relevés de  commissions'!D14371=\"AGI externes\",'Relevés de  commissions'!P14371,0)*1","v":0},0,""]
[null,null,null,null,null,null,null,null,null,null,null,null,{"$f":"IF('Relevés de  commissions'!D14388=\"AGI externes\",'Relevés de  commissions'!M14388,0)*1","v":0},{"$f":"IF('Relevés de  commissions'!D14388=\"AGI externes\",'Relevés de  commissions'!N14388,0)*1","v":0},{"$f":"IF('Relevés de  commissions'!D14388=\"AGI externes\",'Relevés de  commissions'!O14388,0)*1","v":0},{"$f":"IF('Relevés de  commissions'!D14388=\"AGI externes\",'Relevés de  commissions'!P14388,0)*1","v":0},0,""]
[null,null,null,null,null,null,null,null,null,null,null,null,{"$f":"IF('Relevés de  commissions'!D14394=\"AGI externes\",'Relevés de  commissions'!M14394,0)*1","v":0},{"$f":"IF('Relevés de  commissions'!D14394=\"AGI externes\",'Relevés de  commissions'!N14394,0)*1","v":0},{"$f":"IF('Relevés de  commissions'!D14394=\"AGI externes\",'Relevés de  commissions'!O14394,0)*1","v":0},{"$f":"IF('Relevés de  commissions'!D14394=\"AGI externes\",'Relevés de  commissions'!P14394,0)*1","v":0},0,""]
[null,null,null,null,null,null,null,null,null,null,null,null,{"$f":"IF('Relevés de  commissions'!D14404=\"AGI externes\",'Relevés de  commissions'!M14404,0)*1","v":0},{"$f":"IF('Relevés de  commissions'!D14404=\"AGI externes\",'Relevés de  commissions'!N14404,0)*1","v":0},{"$f":"IF('Relevés de  commissions'!D14404=\"AGI externes\",'Relevés de  commissions'!O14404,0)*1","v":0},{"$f":"IF('Relevés de  commissions'!D14404=\"AGI externes\",'Relevés de  commissions'!P14404,0)*1","v":0},0,""]
[null,null,null,null,null,null,null,null,null,null,null,null,{"$f":"IF('Relevés de  commissions'!D14421=\"AGI externes\",'Relevés de  commissions'!M14421,0)*1","v":0},{"$f":"IF('Relevés de  commissions'!D14421=\"AGI externes\",'Relevés de  commissions'!N14421,0)*1","v":0},{"$f":"IF('Relevés de  commissions'!D14421=\"AGI externes\",'Relevés de  commissions'!O14421,0)*1","v":0},{"$f":"IF('Relevés de  commissions'!D14421=\"AGI externes\",'Relevés de  commissions'!P14421,0)*1","v":0},0,""]
[null,null,null,null,null,null,null,null,null,null,null,null,{"$f":"IF('Relevés de  commissions'!D14429=\"AGI externes\",'Relevés de  commissions'!M14429,0)*1","v":0},{"$f":"IF('Relevés de  commissions'!D14429=\"AGI externes\",'Relevés de  commissions'!N14429,0)*1","v":0},{"$f":"IF('Relevés de  commissions'!D14429=\"AGI externes\",'Relevés de  commissions'!O14429,0)*1","v":0},{"$f":"IF('Relevés de  commissions'!D14429=\"AGI externes\",'Relevés de  commissions'!P14429,0)*1","v":0},0,""]
[null,null,null,null,null,null,null,null,null,null,null,null,{"$f":"IF('Relevés de  commissions'!D14436=\"AGI externes\",'Relevés de  commissions'!M14436,0)*1","v":0},{"$f":"IF('Relevés de  commissions'!D14436=\"AGI externes\",'Relevés de  commissions'!N14436,0)*1","v":0},{"$f":"IF('Relevés de  commissions'!D14436=\"AGI externes\",'Relevés de  commissions'!O14436,0)*1","v":0},{"$f":"IF('Relevés de  commissions'!D14436=\"AGI externes\",'Relevés de  commissions'!P14436,0)*1","v":0},0,""]
[null,null,null,null,null,null,null,null,null,null,null,null,{"$f":"IF('Relevés de  commissions'!D14453=\"AGI externes\",'Relevés de  commissions'!M14453,0)*1","v":0},{"$f":"IF('Relevés de  commissions'!D14453=\"AGI externes\",'Relevés de  commissions'!N14453,0)*1","v":0},{"$f":"IF('Relevés de  commissions'!D14453=\"AGI externes\",'Relevés de  commissions'!O14453,0)*1","v":0},{"$f":"IF('Relevés de  commissions'!D14453=\"AGI externes\",'Relevés de  commissions'!P14453,0)*1","v":0},0,{"$f":"IF(N14455=10,O14455,\"\")","v":""}]
[null,null,null,null,null,null,null,null,null,null,null,null,{"$f":"IF('Relevés de  commissions'!D14463=\"AGI externes\",'Relevés de  commissions'!M14463,0)*1","v":0},{"$f":"IF('Relevés de  commissions'!D14463=\"AGI externes\",'Relevés de  commissions'!N14463,0)*1","v":0},{"$f":"IF('Relevés de  commissions'!D14463=\"AGI externes\",'Relevés de  commissions'!O14463,0)*1","v":0},{"$f":"IF('Relevés de  commissions'!D14463=\"AGI externes\",'Relevés de  commissions'!P14463,0)*1","v":0},0,""]
[null,null,null,null,null,null,null,null,null,null,null,null,{"$f":"IF('Relevés de  commissions'!D14469=\"AGI externes\",'Relevés de  commissions'!M14469,0)*1","v":0},{"$f":"IF('Relevés de  commissions'!D14469=\"AGI externes\",'Relevés de  commissions'!N14469,0)*1","v":0},{"$f":"IF('Relevés de  commissions'!D14469=\"AGI externes\",'Relevés de  commissions'!O14469,0)*1","v":0},{"$f":"IF('Relevés de  commissions'!D14469=\"AGI externes\",'Relevés de  commissions'!P14469,0)*1","v":0},0,""]
[null,null,null,null,null,null,null,null,null,null,null,null,{"$f":"IF('Relevés de  commissions'!D14479=\"AGI externes\",'Relevés de  commissions'!M14479,0)*1","v":0},{"$f":"IF('Relevés de  commissions'!D14479=\"AGI externes\",'Relevés de  commissions'!N14479,0)*1","v":0},{"$f":"IF('Relevés de  commissions'!D14479=\"AGI externes\",'Relevés de  commissions'!O14479,0)*1","v":0},{"$f":"IF('Relevés de  commissions'!D14479=\"AGI externes\",'Relevés de  commissions'!P14479,0)*1","v":0},0,""]
[null,null,null,null,null,null,null,null,null,null,null,null,{"$f":"IF('Relevés de  commissions'!D14496=\"AGI externes\",'Relevés de  commissions'!M14496,0)*1","v":0},{"$f":"IF('Relevés de  commissions'!D14496=\"AGI externes\",'Relevés de  commissions'!N14496,0)*1","v":0},{"$f":"IF('Relevés de  commissions'!D14496=\"AGI externes\",'Relevés de  commissions'!O14496,0)*1","v":0},{"$f":"IF('Relevés de  commissions'!D14496=\"AGI externes\",'Relevés de  commissions'!P14496,0)*1","v":0},0,""]
[null,null,null,null,null,null,null,null,null,null,null,null,{"$f":"IF('Relevés de  commissions'!D14501=\"AGI externes\",'Relevés de  commissions'!M14501,0)*1","v":0},{"$f":"IF('Relevés de  commissions'!D14501=\"AGI externes\",'Relevés de  commissions'!N14501,0)*1","v":0},{"$f":"IF('Relevés de  commissions'!D14501=\"AGI externes\",'Relevés de  commissions'!O14501,0)*1","v":0},{"$f":"IF('Relevés de  commissions'!D14501=\"AGI externes\",'Relevés de  commissions'!P14501,0)*1","v":0},0,""]
[null,null,null,null,null,null,null,null,null,null,null,null,{"$f":"IF('Relevés de  commissions'!D14511=\"AGI externes\",'Relevés de  commissions'!M14511,0)*1","v":0},{"$f":"IF('Relevés de  commissions'!D14511=\"AGI externes\",'Relevés de  commissions'!N14511,0)*1","v":0},{"$f":"IF('Relevés de  commissions'!D14511=\"AGI externes\",'Relevés de  commissions'!O14511,0)*1","v":0},{"$f":"IF('Relevés de  commissions'!D14511=\"AGI externes\",'Relevés de  commissions'!P14511,0)*1","v":0},0,""]
[null,null,null,null,null,null,null,null,null,null,null,null,{"$f":"IF('Relevés de  commissions'!D14528=\"AGI externes\",'Relevés de  commissions'!M14528,0)*1","v":0},{"$f":"IF('Relevés de  commissions'!D14528=\"AGI externes\",'Relevés de  commissions'!N14528,0)*1","v":0},{"$f":"IF('Relevés de  commissions'!D14528=\"AGI externes\",'Relevés de  commissions'!O14528,0)*1","v":0},{"$f":"IF('Relevés de  commissions'!D14528=\"AGI externes\",'Relevés de  commissions'!P14528,0)*1","v":0},0,""]
[null,null,null,null,null,null,null,null,null,null,null,null,{"$f":"IF('Relevés de  commissions'!D14534=\"AGI externes\",'Relevés de  commissions'!M14534,0)*1","v":0},{"$f":"IF('Relevés de  commissions'!D14534=\"AGI externes\",'Relevés de  commissions'!N14534,0)*1","v":0},{"$f":"IF('Relevés de  commissions'!D14534=\"AGI externes\",'Relevés de  commissions'!O14534,0)*1","v":0},{"$f":"IF('Relevés de  commissions'!D14534=\"AGI externes\",'Relevés de  commissions'!P14534,0)*1","v":0},0,""]
[null,null,null,null,null,null,null,null,null,null,null,null,{"$f":"IF('Relevés de  commissions'!D14544=\"AGI externes\",'Relevés de  commissions'!M14544,0)*1","v":0},{"$f":"IF('Relevés de  commissions'!D14544=\"AGI externes\",'Relevés de  commissions'!N14544,0)*1","v":0},{"$f":"IF('Relevés de  commissions'!D14544=\"AGI externes\",'Relevés de  commissions'!O14544,0)*1","v":0},{"$f":"IF('Relevés de  commissions'!D14544=\"AGI externes\",'Relevés de  commissions'!P14544,0)*1","v":0},0,""]
[null,null,null,null,null,null,null,null,null,null,null,null,{"$f":"IF('Relevés de  commissions'!D14563=\"AGI externes\",'Relevés de  commissions'!M14563,0)*1","v":0},{"$f":"IF('Relevés de  commissions'!D14563=\"AGI externes\",'Relevés de  commissions'!N14563,0)*1","v":0},{"$f":"IF('Relevés de  commissions'!D14563=\"AGI externes\",'Relevés de  commissions'!O14563,0)*1","v":0},{"$f":"IF('Relevés de  commissions'!D14563=\"AGI externes\",'Relevés de  commissions'!P14563,0)*1","v":0},0,""]
[null,null,null,null,null,null,null,null,null,null,null,null,{"$f":"IF('Relevés de  commissions'!D14570=\"AGI externes\",'Relevés de  commissions'!M14570,0)*1","v":0},{"$f":"IF('Relevés de  commissions'!D14570=\"AGI externes\",'Relevés de  commissions'!N14570,0)*1","v":0},{"$f":"IF('Relevés de  commissions'!D14570=\"AGI externes\",'Relevés de  commissions'!O14570,0)*1","v":0},{"$f":"IF('Relevés de  commissions'!D14570=\"AGI externes\",'Relevés de  commissions'!P14570,0)*1","v":0},0,""]
[null,null,null,null,null,null,null,null,null,null,null,null,{"$f":"IF('Relevés de  commissions'!D14576=\"AGI externes\",'Relevés de  commissions'!M14576,0)*1","v":0},{"$f":"IF('Relevés de  commissions'!D14576=\"AGI externes\",'Relevés de  commissions'!N14576,0)*1","v":0},{"$f":"IF('Relevés de  commissions'!D14576=\"AGI externes\",'Relevés de  commissions'!O14576,0)*1","v":0},{"$f":"IF('Relevés de  commissions'!D14576=\"AGI externes\",'Relevés de  commissions'!P14576,0)*1","v":0},0,""]
[null,null,null,null,null,null,null,null,null,null,null,null,{"$f":"IF('Relevés de  commissions'!D14593=\"AGI externes\",'Relevés de  commissions'!M14593,0)*1","v":0},{"$f":"IF('Relevés de  commissions'!D14593=\"AGI externes\",'Relevés de  commissions'!N14593,0)*1","v":0},{"$f":"IF('Relevés de  commissions'!D14593=\"AGI externes\",'Relevés de  commissions'!O14593,0)*1","v":0},{"$f":"IF('Relevés de  commissions'!D14593=\"AGI externes\",'Relevés de  commissions'!P14593,0)*1","v":0},0,""]
[null,null,null,null,null,null,null,null,null,null,null,null,{"$f":"IF('Relevés de  commissions'!D14603=\"AGI externes\",'Relevés de  commissions'!M14603,0)*1","v":0},{"$f":"IF('Relevés de  commissions'!D14603=\"AGI externes\",'Relevés de  commissions'!N14603,0)*1","v":0},{"$f":"IF('Relevés de  commissions'!D14603=\"AGI externes\",'Relevés de  commissions'!O14603,0)*1","v":0},{"$f":"IF('Relevés de  commissions'!D14603=\"AGI externes\",'Relevés de  commissions'!P14603,0)*1","v":0},0,""]
[null,null,null,null,null,null,null,null,null,null,null,null,{"$f":"IF('Relevés de  commissions'!D14609=\"AGI externes\",'Relevés de  commissions'!M14609,0)*1","v":0},{"$f":"IF('Relevés de  commissions'!D14609=\"AGI externes\",'Relevés de  commissions'!N14609,0)*1","v":0},{"$f":"IF('Relevés de  commissions'!D14609=\"AGI externes\",'Relevés de  commissions'!O14609,0)*1","v":0},{"$f":"IF('Relevés de  commissions'!D14609=\"AGI externes\",'Relevés de  commissions'!P14609,0)*1","v":0},0,""]
[null,null,null,null,null,null,null,null,null,null,null,null,{"$f":"IF('Relevés de  commissions'!D14620=\"AGI externes\",'Relevés de  commissions'!M14620,0)*1","v":0},{"$f":"IF('Relevés de  commissions'!D14620=\"AGI externes\",'Relevés de  commissions'!N14620,0)*1","v":0},{"$f":"IF('Relevés de  commissions'!D14620=\"AGI externes\",'Relevés de  commissions'!O14620,0)*1","v":0},{"$f":"IF('Relevés de  commissions'!D14620=\"AGI externes\",'Relevés de  commissions'!P14620,0)*1","v":0},0,""]
[null,null,null,null,null,null,null,null,null,null,null,null,{"$f":"IF('Relevés de  commissions'!D14635=\"AGI externes\",'Relevés de  commissions'!M14635,0)*1","v":0},{"$f":"IF('Relevés de  commissions'!D14635=\"AGI externes\",'Relevés de  commissions'!N14635,0)*1","v":0},{"$f":"IF('Relevés de  commissions'!D14635=\"AGI externes\",'Relevés de  commissions'!O14635,0)*1","v":0},{"$f":"IF('Relevés de  commissions'!D14635=\"AGI externes\",'Relevés de  commissions'!P14635,0)*1","v":0},0,""]
[null,null,null,null,null,null,null,null,null,null,null,null,{"$f":"IF('Relevés de  commissions'!D14641=\"AGI externes\",'Relevés de  commissions'!M14641,0)*1","v":0},{"$f":"IF('Relevés de  commissions'!D14641=\"AGI externes\",'Relevés de  commissions'!N14641,0)*1","v":0},{"$f":"IF('Relevés de  commissions'!D14641=\"AGI externes\",'Relevés de  commissions'!O14641,0)*1","v":0},{"$f":"IF('Relevés de  commissions'!D14641=\"AGI externes\",'Relevés de  commissions'!P14641,0)*1","v":0},0,""]
[null,null,null,null,null,null,null,null,null,null,null,null,{"$f":"IF('Relevés de  commissions'!D14662=\"AGI externes\",'Relevés de  commissions'!M14662,0)*1","v":0},{"$f":"IF('Relevés de  commissions'!D14662=\"AGI externes\",'Relevés de  commissions'!N14662,0)*1","v":0},{"$f":"IF('Relevés de  commissions'!D14662=\"AGI externes\",'Relevés de  commissions'!O14662,0)*1","v":0},{"$f":"IF('Relevés de  commissions'!D14662=\"AGI externes\",'Relevés de  commissions'!P14662,0)*1","v":0},0,""]
[null,null,null,null,null,null,null,null,null,null,null,null,{"$f":"IF('Relevés de  commissions'!D14668=\"AGI externes\",'Relevés de  commissions'!M14668,0)*1","v":0},{"$f":"IF('Relevés de  commissions'!D14668=\"AGI externes\",'Relevés de  commissions'!N14668,0)*1","v":0},{"$f":"IF('Relevés de  commissions'!D14668=\"AGI externes\",'Relevés de  commissions'!O14668,0)*1","v":0},{"$f":"IF('Relevés de  commissions'!D14668=\"AGI externes\",'Relevés de  commissions'!P14668,0)*1","v":0},0,""]
[null,null,null,null,null,null,null,null,null,null,null,null,{"$f":"IF('Relevés de  commissions'!D14674=\"AGI externes\",'Relevés de  commissions'!M14674,0)*1","v":0},{"$f":"IF('Relevés de  commissions'!D14674=\"AGI externes\",'Relevés de  commissions'!N14674,0)*1","v":0},{"$f":"IF('Relevés de  commissions'!D14674=\"AGI externes\",'Relevés de  commissions'!O14674,0)*1","v":0},{"$f":"IF('Relevés de  commissions'!D14674=\"AGI externes\",'Relevés de  commissions'!P14674,0)*1","v":0},0,""]
[null,null,null,null,null,null,null,null,null,null,null,null,{"$f":"IF('Relevés de  commissions'!D14693=\"AGI externes\",'Relevés de  commissions'!M14693,0)*1","v":0},{"$f":"IF('Relevés de  commissions'!D14693=\"AGI externes\",'Relevés de  commissions'!N14693,0)*1","v":0},{"$f":"IF('Relevés de  commissions'!D14693=\"AGI externes\",'Relevés de  commissions'!O14693,0)*1","v":0},{"$f":"IF('Relevés de  commissions'!D14693=\"AGI externes\",'Relevés de  commissions'!P14693,0)*1","v":0},0,""]
[null,null,null,null,null,null,null,null,null,null,null,null,{"$f":"IF('Relevés de  commissions'!D14700=\"AGI externes\",'Relevés de  commissions'!M14700,0)*1","v":0},{"$f":"IF('Relevés de  commissions'!D14700=\"AGI externes\",'Relevés de  commissions'!N14700,0)*1","v":0},{"$f":"IF('Relevés de  commissions'!D14700=\"AGI externes\",'Relevés de  commissions'!O14700,0)*1","v":0},{"$f":"IF('Relevés de  commissions'!D14700=\"AGI externes\",'Relevés de  commissions'!P14700,0)*1","v":0},0,""]
[null,null,null,null,null,null,null,null,null,null,null,null,{"$f":"IF('Relevés de  commissions'!D14710=\"AGI externes\",'Relevés de  commissions'!M14710,0)*1","v":0},{"$f":"IF('Relevés de  commissions'!D14710=\"AGI externes\",'Relevés de  commissions'!N14710,0)*1","v":0},{"$f":"IF('Relevés de  commissions'!D14710=\"AGI externes\",'Relevés de  commissions'!O14710,0)*1","v":0},{"$f":"IF('Relevés de  commissions'!D14710=\"AGI externes\",'Relevés de  commissions'!P14710,0)*1","v":0},0,""]
[null,null,null,null,null,null,null,null,null,null,null,null,{"$f":"IF('Relevés de  commissions'!D14727=\"AGI externes\",'Relevés de  commissions'!M14727,0)*1","v":0},{"$f":"IF('Relevés de  commissions'!D14727=\"AGI externes\",'Relevés de  commissions'!N14727,0)*1","v":0},{"$f":"IF('Relevés de  commissions'!D14727=\"AGI externes\",'Relevés de  commissions'!O14727,0)*1","v":0},{"$f":"IF('Relevés de  commissions'!D14727=\"AGI externes\",'Relevés de  commissions'!P14727,0)*1","v":0},0,""]
[null,null,null,null,null,null,null,null,null,null,null,null,{"$f":"IF('Relevés de  commissions'!D14733=\"AGI externes\",'Relevés de  commissions'!M14733,0)*1","v":0},{"$f":"IF('Relevés de  commissions'!D14733=\"AGI externes\",'Relevés de  commissions'!N14733,0)*1","v":0},{"$f":"IF('Relevés de  commissions'!D14733=\"AGI externes\",'Relevés de  commissions'!O14733,0)*1","v":0},{"$f":"IF('Relevés de  commissions'!D14733=\"AGI externes\",'Relevés de  commissions'!P14733,0)*1","v":0},0,""]
[null,null,null,null,null,null,null,null,null,null,null,null,{"$f":"IF('Relevés de  commissions'!D14743=\"AGI externes\",'Relevés de  commissions'!M14743,0)*1","v":0},{"$f":"IF('Relevés de  commissions'!D14743=\"AGI externes\",'Relevés de  commissions'!N14743,0)*1","v":0},{"$f":"IF('Relevés de  commissions'!D14743=\"AGI externes\",'Relevés de  commissions'!O14743,0)*1","v":0},{"$f":"IF('Relevés de  commissions'!D14743=\"AGI externes\",'Relevés de  commissions'!P14743,0)*1","v":0},0,""]
[null,null,null,null,null,null,null,null,null,null,null,null,{"$f":"IF('Relevés de  commissions'!D14750=\"AGI externes\",'Relevés de  commissions'!M14750,0)*1","v":0},{"$f":"IF('Relevés de  commissions'!D14750=\"AGI externes\",'Relevés de  commissions'!N14750,0)*1","v":0},{"$f":"IF('Relevés de  commissions'!D14750=\"AGI externes\",'Relevés de  commissions'!O14750,0)*1","v":0},{"$f":"IF('Relevés de  commissions'!D14750=\"AGI externes\",'Relevés de  commissions'!P14750,0)*1","v":0},0,""]
[null,null,null,null,null,null,null,null,null,null,null,null,{"$f":"IF('Relevés de  commissions'!D14765=\"AGI externes\",'Relevés de  commissions'!M14765,0)*1","v":0},{"$f":"IF('Relevés de  commissions'!D14765=\"AGI externes\",'Relevés de  commissions'!N14765,0)*1","v":0},{"$f":"IF('Relevés de  commissions'!D14765=\"AGI externes\",'Relevés de  commissions'!O14765,0)*1","v":0},{"$f":"IF('Relevés de  commissions'!D14765=\"AGI externes\",'Relevés de  commissions'!P14765,0)*1","v":0},0,""]
[null,null,null,null,null,null,null,null,null,null,null,null,{"$f":"IF('Relevés de  commissions'!D14775=\"AGI externes\",'Relevés de  commissions'!M14775,0)*1","v":0},{"$f":"IF('Relevés de  commissions'!D14775=\"AGI externes\",'Relevés de  commissions'!N14775,0)*1","v":0},{"$f":"IF('Relevés de  commissions'!D14775=\"AGI externes\",'Relevés de  commissions'!O14775,0)*1","v":0},{"$f":"IF('Relevés de  commissions'!D14775=\"AGI externes\",'Relevés de  commissions'!P14775,0)*1","v":0},0,""]
[null,null,null,null,null,null,null,null,null,null,null,null,{"$f":"IF('Relevés de  commissions'!D14792=\"AGI externes\",'Relevés de  commissions'!M14792,0)*1","v":0},{"$f":"IF('Relevés de  commissions'!D14792=\"AGI externes\",'Relevés de  commissions'!N14792,0)*1","v":0},{"$f":"IF('Relevés de  commissions'!D14792=\"AGI externes\",'Relevés de  commissions'!O14792,0)*1","v":0},{"$f":"IF('Relevés de  commissions'!D14792=\"AGI externes\",'Relevés de  commissions'!P14792,0)*1","v":0},0,""]
[null,null,null,null,null,null,null,null,null,null,null,null,{"$f":"IF('Relevés de  commissions'!D14802=\"AGI externes\",'Relevés de  commissions'!M14802,0)*1","v":0},{"$f":"IF('Relevés de  commissions'!D14802=\"AGI externes\",'Relevés de  commissions'!N14802,0)*1","v":0},{"$f":"IF('Relevés de  commissions'!D14802=\"AGI externes\",'Relevés de  commissions'!O14802,0)*1","v":0},{"$f":"IF('Relevés de  commissions'!D14802=\"AGI externes\",'Relevés de  commissions'!P14802,0)*1","v":0},0,""]
[null,null,null,null,null,null,null,null,null,null,null,null,{"$f":"IF('Relevés de  commissions'!D14808=\"AGI externes\",'Relevés de  commissions'!M14808,0)*1","v":0},{"$f":"IF('Relevés de  commissions'!D14808=\"AGI externes\",'Relevés de  commissions'!N14808,0)*1","v":0},{"$f":"IF('Relevés de  commissions'!D14808=\"AGI externes\",'Relevés de  commissions'!O14808,0)*1","v":0},{"$f":"IF('Relevés de  commissions'!D14808=\"AGI externes\",'Relevés de  commissions'!P14808,0)*1","v":0},0,""]
[null,null,null,null,null,null,null,null,null,null,null,null,{"$f":"IF('Relevés de  commissions'!D14817=\"AGI externes\",'Relevés de  commissions'!M14817,0)*1","v":0},{"$f":"IF('Relevés de  commissions'!D14817=\"AGI externes\",'Relevés de  commissions'!N14817,0)*1","v":0},{"$f":"IF('Relevés de  commissions'!D14817=\"AGI externes\",'Relevés de  commissions'!O14817,0)*1","v":0},{"$f":"IF('Relevés de  commissions'!D14817=\"AGI externes\",'Relevés de  commissions'!P14817,0)*1","v":0},0,""]
[null,null,null,null,null,null,null,null,null,null,null,null,{"$f":"IF('Relevés de  commissions'!D14834=\"AGI externes\",'Relevés de  commissions'!M14834,0)*1","v":0},{"$f":"IF('Relevés de  commissions'!D14834=\"AGI externes\",'Relevés de  commissions'!N14834,0)*1","v":0},{"$f":"IF('Relevés de  commissions'!D14834=\"AGI externes\",'Relevés de  commissions'!O14834,0)*1","v":0},{"$f":"IF('Relevés de  commissions'!D14834=\"AGI externes\",'Relevés de  commissions'!P14834,0)*1","v":0},0,""]
[null,null,null,null,null,null,null,null,null,null,null,null,{"$f":"IF('Relevés de  commissions'!D14840=\"AGI externes\",'Relevés de  commissions'!M14840,0)*1","v":0},{"$f":"IF('Relevés de  commissions'!D14840=\"AGI externes\",'Relevés de  commissions'!N14840,0)*1","v":0},{"$f":"IF('Relevés de  commissions'!D14840=\"AGI externes\",'Relevés de  commissions'!O14840,0)*1","v":0},{"$f":"IF('Relevés de  commissions'!D14840=\"AGI externes\",'Relevés de  commissions'!P14840,0)*1","v":0},0,""]
[null,null,null,null,null,null,null,null,null,null,null,null,{"$f":"IF('Relevés de  commissions'!D14850=\"AGI externes\",'Relevés de  commissions'!M14850,0)*1","v":0},{"$f":"IF('Relevés de  commissions'!D14850=\"AGI externes\",'Relevés de  commissions'!N14850,0)*1","v":0},{"$f":"IF('Relevés de  commissions'!D14850=\"AGI externes\",'Relevés de  commissions'!O14850,0)*1","v":0},{"$f":"IF('Relevés de  commissions'!D14850=\"AGI externes\",'Relevés de  commissions'!P14850,0)*1","v":0},0,""]
[null,null,null,null,null,null,null,null,null,null,null,null,{"$f":"IF('Relevés de  commissions'!D14867=\"AGI externes\",'Relevés de  commissions'!M14867,0)*1","v":0},{"$f":"IF('Relevés de  commissions'!D14867=\"AGI externes\",'Relevés de  commissions'!N14867,0)*1","v":0},{"$f":"IF('Relevés de  commissions'!D14867=\"AGI externes\",'Relevés de  commissions'!O14867,0)*1","v":0},{"$f":"IF('Relevés de  commissions'!D14867=\"AGI externes\",'Relevés de  commissions'!P14867,0)*1","v":0},0,""]
[null,null,null,null,null,null,null,null,null,null,null,null,{"$f":"IF('Relevés de  commissions'!D14873=\"AGI externes\",'Relevés de  commissions'!M14873,0)*1","v":0},{"$f":"IF('Relevés de  commissions'!D14873=\"AGI externes\",'Relevés de  commissions'!N14873,0)*1","v":0},{"$f":"IF('Relevés de  commissions'!D14873=\"AGI externes\",'Relevés de  commissions'!O14873,0)*1","v":0},{"$f":"IF('Relevés de  commissions'!D14873=\"AGI externes\",'Relevés de  commissions'!P14873,0)*1","v":0},0,""]
[null,null,null,null,null,null,null,null,null,null,null,null,{"$f":"IF('Relevés de  commissions'!D14880=\"AGI externes\",'Relevés de  commissions'!M14880,0)*1","v":0},{"$f":"IF('Relevés de  commissions'!D14880=\"AGI externes\",'Relevés de  commissions'!N14880,0)*1","v":0},{"$f":"IF('Relevés de  commissions'!D14880=\"AGI externes\",'Relevés de  commissions'!O14880,0)*1","v":0},{"$f":"IF('Relevés de  commissions'!D14880=\"AGI externes\",'Relevés de  commissions'!P14880,0)*1","v":0},0,""]
[null,null,null,null,null,null,null,null,null,null,null,null,{"$f":"IF('Relevés de  commissions'!D14899=\"AGI externes\",'Relevés de  commissions'!M14899,0)*1","v":0},{"$f":"IF('Relevés de  commissions'!D14899=\"AGI externes\",'Relevés de  commissions'!N14899,0)*1","v":0},{"$f":"IF('Relevés de  commissions'!D14899=\"AGI externes\",'Relevés de  commissions'!O14899,0)*1","v":0},{"$f":"IF('Relevés de  commissions'!D14899=\"AGI externes\",'Relevés de  commissions'!P14899,0)*1","v":0},0,""]
[null,null,null,null,null,null,null,null,null,null,null,null,{"$f":"IF('Relevés de  commissions'!D14905=\"AGI externes\",'Relevés de  commissions'!M14905,0)*1","v":0},{"$f":"IF('Relevés de  commissions'!D14905=\"AGI externes\",'Relevés de  commissions'!N14905,0)*1","v":0},{"$f":"IF('Relevés de  commissions'!D14905=\"AGI externes\",'Relevés de  commissions'!O14905,0)*1","v":0},{"$f":"IF('Relevés de  commissions'!D14905=\"AGI externes\",'Relevés de  commissions'!P14905,0)*1","v":0},0,""]
[null,null,null,null,null,null,null,null,null,null,null,null,{"$f":"IF('Relevés de  commissions'!D14915=\"AGI externes\",'Relevés de  commissions'!M14915,0)*1","v":0},{"$f":"IF('Relevés de  commissions'!D14915=\"AGI externes\",'Relevés de  commissions'!N14915,0)*1","v":0},{"$f":"IF('Relevés de  commissions'!D14915=\"AGI externes\",'Relevés de  commissions'!O14915,0)*1","v":0},{"$f":"IF('Relevés de  commissions'!D14915=\"AGI externes\",'Relevés de  commissions'!P14915,0)*1","v":0},{"$f":"IF(N14917=0,O14917,\"\")","v":0},""]
[null,null,null,null,null,null,null,null,null,null,null,null,{"$f":"IF('Relevés de  commissions'!D14932=\"AGI externes\",'Relevés de  commissions'!M14932,0)*1","v":0},{"$f":"IF('Relevés de  commissions'!D14932=\"AGI externes\",'Relevés de  commissions'!N14932,0)*1","v":0},{"$f":"IF('Relevés de  commissions'!D14932=\"AGI externes\",'Relevés de  commissions'!O14932,0)*1","v":0},{"$f":"IF('Relevés de  commissions'!D14932=\"AGI externes\",'Relevés de  commissions'!P14932,0)*1","v":0},0,""]
[null,null,null,null,null,null,null,null,null,null,null,null,{"$f":"IF('Relevés de  commissions'!D14942=\"AGI externes\",'Relevés de  commissions'!M14942,0)*1","v":0},{"$f":"IF('Relevés de  commissions'!D14942=\"AGI externes\",'Relevés de  commissions'!N14942,0)*1","v":0},{"$f":"IF('Relevés de  commissions'!D14942=\"AGI externes\",'Relevés de  commissions'!O14942,0)*1","v":0},{"$f":"IF('Relevés de  commissions'!D14942=\"AGI externes\",'Relevés de  commissions'!P14942,0)*1","v":0},0,""]
[null,null,null,null,null,null,null,null,null,null,null,null,{"$f":"IF('Relevés de  commissions'!D14947=\"AGI externes\",'Relevés de  commissions'!M14947,0)*1","v":0},{"$f":"IF('Relevés de  commissions'!D14947=\"AGI externes\",'Relevés de  commissions'!N14947,0)*1","v":0},{"$f":"IF('Relevés de  commissions'!D14947=\"AGI externes\",'Relevés de  commissions'!O14947,0)*1","v":0},{"$f":"IF('Relevés de  commissions'!D14947=\"AGI externes\",'Relevés de  commissions'!P14947,0)*1","v":0},0,""]
[null,null,null,null,null,null,null,null,null,null,null,null,{"$f":"IF('Relevés de  commissions'!D14964=\"AGI externes\",'Relevés de  commissions'!M14964,0)*1","v":0},{"$f":"IF('Relevés de  commissions'!D14964=\"AGI externes\",'Relevés de  commissions'!N14964,0)*1","v":0},{"$f":"IF('Relevés de  commissions'!D14964=\"AGI externes\",'Relevés de  commissions'!O14964,0)*1","v":0},{"$f":"IF('Relevés de  commissions'!D14964=\"AGI externes\",'Relevés de  commissions'!P14964,0)*1","v":0},0,""]
[null,null,null,null,null,null,null,null,null,null,null,null,{"$f":"IF('Relevés de  commissions'!D14974=\"AGI externes\",'Relevés de  commissions'!M14974,0)*1","v":0},{"$f":"IF('Relevés de  commissions'!D14974=\"AGI externes\",'Relevés de  commissions'!N14974,0)*1","v":0},{"$f":"IF('Relevés de  commissions'!D14974=\"AGI externes\",'Relevés de  commissions'!O14974,0)*1","v":0},{"$f":"IF('Relevés de  commissions'!D14974=\"AGI externes\",'Relevés de  commissions'!P14974,0)*1","v":0},0,""]
[null,null,null,null,null,null,null,null,null,null,null,null,{"$f":"IF('Relevés de  commissions'!D14980=\"AGI externes\",'Relevés de  commissions'!M14980,0)*1","v":0},{"$f":"IF('Relevés de  commissions'!D14980=\"AGI externes\",'Relevés de  commissions'!N14980,0)*1","v":0},{"$f":"IF('Relevés de  commissions'!D14980=\"AGI externes\",'Relevés de  commissions'!O14980,0)*1","v":0},{"$f":"IF('Relevés de  commissions'!D14980=\"AGI externes\",'Relevés de  commissions'!P14980,0)*1","v":0},0,""]
[null,null,null,null,null,null,null,null,null,null,null,null,{"$f":"IF('Relevés de  commissions'!D14997=\"AGI externes\",'Relevés de  commissions'!M14997,0)*1","v":0},{"$f":"IF('Relevés de  commissions'!D14997=\"AGI externes\",'Relevés de  commissions'!N14997,0)*1","v":0},{"$f":"IF('Relevés de  commissions'!D14997=\"AGI externes\",'Relevés de  commissions'!O14997,0)*1","v":0},{"$f":"IF('Relevés de  commissions'!D14997=\"AGI externes\",'Relevés de  commissions'!P14997,0)*1","v":0},0,""]
[null,null,null,null,null,null,null,null,null,null,null,null,{"$f":"IF('Relevés de  commissions'!D15007=\"AGI externes\",'Relevés de  commissions'!M15007,0)*1","v":0},{"$f":"IF('Relevés de  commissions'!D15007=\"AGI externes\",'Relevés de  commissions'!N15007,0)*1","v":0},{"$f":"IF('Relevés de  commissions'!D15007=\"AGI externes\",'Relevés de  commissions'!O15007,0)*1","v":0},{"$f":"IF('Relevés de  commissions'!D15007=\"AGI externes\",'Relevés de  commissions'!P15007,0)*1","v":0},0,""]
[null,null,null,null,null,null,null,null,null,null,null,null,{"$f":"IF('Relevés de  commissions'!D15014=\"AGI externes\",'Relevés de  commissions'!M15014,0)*1","v":0},{"$f":"IF('Relevés de  commissions'!D15014=\"AGI externes\",'Relevés de  commissions'!N15014,0)*1","v":0},{"$f":"IF('Relevés de  commissions'!D15014=\"AGI externes\",'Relevés de  commissions'!O15014,0)*1","v":0},{"$f":"IF('Relevés de  commissions'!D15014=\"AGI externes\",'Relevés de  commissions'!P15014,0)*1","v":0},0,""]
[null,null,null,null,null,null,null,null,null,null,null,null,{"$f":"IF('Relevés de  commissions'!D15022=\"AGI externes\",'Relevés de  commissions'!M15022,0)*1","v":0},{"$f":"IF('Relevés de  commissions'!D15022=\"AGI externes\",'Relevés de  commissions'!N15022,0)*1","v":0},{"$f":"IF('Relevés de  commissions'!D15022=\"AGI externes\",'Relevés de  commissions'!O15022,0)*1","v":0},{"$f":"IF('Relevés de  commissions'!D15022=\"AGI externes\",'Relevés de  commissions'!P15022,0)*1","v":0},0,""]
[null,null,null,null,null,null,null,null,null,null,null,null,{"$f":"IF('Relevés de  commissions'!D15039=\"AGI externes\",'Relevés de  commissions'!M15039,0)*1","v":0},{"$f":"IF('Relevés de  commissions'!D15039=\"AGI externes\",'Relevés de  commissions'!N15039,0)*1","v":0},{"$f":"IF('Relevés de  commissions'!D15039=\"AGI externes\",'Relevés de  commissions'!O15039,0)*1","v":0},{"$f":"IF('Relevés de  commissions'!D15039=\"AGI externes\",'Relevés de  commissions'!P15039,0)*1","v":0},0,""]
[null,null,null,null,null,null,null,null,null,null,null,null,{"$f":"IF('Relevés de  commissions'!D15045=\"AGI externes\",'Relevés de  commissions'!M15045,0)*1","v":0},{"$f":"IF('Relevés de  commissions'!D15045=\"AGI externes\",'Relevés de  commissions'!N15045,0)*1","v":0},{"$f":"IF('Relevés de  commissions'!D15045=\"AGI externes\",'Relevés de  commissions'!O15045,0)*1","v":0},{"$f":"IF('Relevés de  commissions'!D15045=\"AGI externes\",'Relevés de  commissions'!P15045,0)*1","v":0},0,""]
[null,null,null,null,null,null,null,null,null,null,null,null,{"$f":"IF('Relevés de  commissions'!D15055=\"AGI externes\",'Relevés de  commissions'!M15055,0)*1","v":0},{"$f":"IF('Relevés de  commissions'!D15055=\"AGI externes\",'Relevés de  commissions'!N15055,0)*1","v":0},{"$f":"IF('Relevés de  commissions'!D15055=\"AGI externes\",'Relevés de  commissions'!O15055,0)*1","v":0},{"$f":"IF('Relevés de  commissions'!D15055=\"AGI externes\",'Relevés de  commissions'!P15055,0)*1","v":0},0,""]
[null,null,null,null,null,null,null,null,null,null,null,null,{"$f":"IF('Relevés de  commissions'!D15072=\"AGI externes\",'Relevés de  commissions'!M15072,0)*1","v":0},{"$f":"IF('Relevés de  commissions'!D15072=\"AGI externes\",'Relevés de  commissions'!N15072,0)*1","v":0},{"$f":"IF('Relevés de  commissions'!D15072=\"AGI externes\",'Relevés de  commissions'!O15072,0)*1","v":0},{"$f":"IF('Relevés de  commissions'!D15072=\"AGI externes\",'Relevés de  commissions'!P15072,0)*1","v":0},0,""]
[null,null,null,null,null,null,null,null,null,null,null,null,{"$f":"IF('Relevés de  commissions'!D15077=\"AGI externes\",'Relevés de  commissions'!M15077,0)*1","v":0},{"$f":"IF('Relevés de  commissions'!D15077=\"AGI externes\",'Relevés de  commissions'!N15077,0)*1","v":0},{"$f":"IF('Relevés de  commissions'!D15077=\"AGI externes\",'Relevés de  commissions'!O15077,0)*1","v":0},{"$f":"IF('Relevés de  commissions'!D15077=\"AGI externes\",'Relevés de  commissions'!P15077,0)*1","v":0},0,""]
[null,null,null,null,null,null,null,null,null,null,null,null,{"$f":"IF('Relevés de  commissions'!D15087=\"AGI externes\",'Relevés de  commissions'!M15087,0)*1","v":0},{"$f":"IF('Relevés de  commissions'!D15087=\"AGI externes\",'Relevés de  commissions'!N15087,0)*1","v":0},{"$f":"IF('Relevés de  commissions'!D15087=\"AGI externes\",'Relevés de  commissions'!O15087,0)*1","v":0},{"$f":"IF('Relevés de  commissions'!D15087=\"AGI externes\",'Relevés de  commissions'!P15087,0)*1","v":0},0,""]
[null,null,null,null,null,null,null,null,null,null,null,null,{"$f":"IF('Relevés de  commissions'!D15104=\"AGI externes\",'Relevés de  commissions'!M15104,0)*1","v":0},{"$f":"IF('Relevés de  commissions'!D15104=\"AGI externes\",'Relevés de  commissions'!N15104,0)*1","v":0},{"$f":"IF('Relevés de  commissions'!D15104=\"AGI externes\",'Relevés de  commissions'!O15104,0)*1","v":0},{"$f":"IF('Relevés de  commissions'!D15104=\"AGI externes\",'Relevés de  commissions'!P15104,0)*1","v":0},0,""]
[null,null,null,null,null,null,null,null,null,null,null,null,{"$f":"IF('Relevés de  commissions'!D15114=\"AGI externes\",'Relevés de  commissions'!M15114,0)*1","v":0},{"$f":"IF('Relevés de  commissions'!D15114=\"AGI externes\",'Relevés de  commissions'!N15114,0)*1","v":0},{"$f":"IF('Relevés de  commissions'!D15114=\"AGI externes\",'Relevés de  commissions'!O15114,0)*1","v":0},{"$f":"IF('Relevés de  commissions'!D15114=\"AGI externes\",'Relevés de  commissions'!P15114,0)*1","v":0},0,""]
[null,null,null,null,null,null,null,null,null,null,null,null,{"$f":"IF('Relevés de  commissions'!D15120=\"AGI externes\",'Relevés de  commissions'!M15120,0)*1","v":0},{"$f":"IF('Relevés de  commissions'!D15120=\"AGI externes\",'Relevés de  commissions'!N15120,0)*1","v":0},{"$f":"IF('Relevés de  commissions'!D15120=\"AGI externes\",'Relevés de  commissions'!O15120,0)*1","v":0},{"$f":"IF('Relevés de  commissions'!D15120=\"AGI externes\",'Relevés de  commissions'!P15120,0)*1","v":0},0,""]
[null,null,null,null,null,null,null,null,null,null,null,null,{"$f":"IF('Relevés de  commissions'!D15137=\"AGI externes\",'Relevés de  commissions'!M15137,0)*1","v":0},{"$f":"IF('Relevés de  commissions'!D15137=\"AGI externes\",'Relevés de  commissions'!N15137,0)*1","v":0},{"$f":"IF('Relevés de  commissions'!D15137=\"AGI externes\",'Relevés de  commissions'!O15137,0)*1","v":0},{"$f":"IF('Relevés de  commissions'!D15137=\"AGI externes\",'Relevés de  commissions'!P15137,0)*1","v":0},0,""]
[null,null,null,null,null,null,null,null,null,null,null,null,{"$f":"IF('Relevés de  commissions'!D15144=\"AGI externes\",'Relevés de  commissions'!M15144,0)*1","v":0},{"$f":"IF('Relevés de  commissions'!D15144=\"AGI externes\",'Relevés de  commissions'!N15144,0)*1","v":0},{"$f":"IF('Relevés de  commissions'!D15144=\"AGI externes\",'Relevés de  commissions'!O15144,0)*1","v":0},{"$f":"IF('Relevés de  commissions'!D15144=\"AGI externes\",'Relevés de  commissions'!P15144,0)*1","v":0},0,""]
[null,null,null,null,null,null,null,null,null,null,null,null,{"$f":"IF('Relevés de  commissions'!D15152=\"AGI externes\",'Relevés de  commissions'!M15152,0)*1","v":0},{"$f":"IF('Relevés de  commissions'!D15152=\"AGI externes\",'Relevés de  commissions'!N15152,0)*1","v":0},{"$f":"IF('Relevés de  commissions'!D15152=\"AGI externes\",'Relevés de  commissions'!O15152,0)*1","v":0},{"$f":"IF('Relevés de  commissions'!D15152=\"AGI externes\",'Relevés de  commissions'!P15152,0)*1","v":0},0,""]
[null,null,null,null,null,null,null,null,null,null,null,null,{"$f":"IF('Relevés de  commissions'!D15162=\"AGI externes\",'Relevés de  commissions'!M15162,0)*1","v":0},{"$f":"IF('Relevés de  commissions'!D15162=\"AGI externes\",'Relevés de  commissions'!N15162,0)*1","v":0},{"$f":"IF('Relevés de  commissions'!D15162=\"AGI externes\",'Relevés de  commissions'!O15162,0)*1","v":0},{"$f":"IF('Relevés de  commissions'!D15162=\"AGI externes\",'Relevés de  commissions'!P15162,0)*1","v":0},0,""]
[null,null,null,null,null,null,null,null,null,null,null,null,{"$f":"IF('Relevés de  commissions'!D15179=\"AGI externes\",'Relevés de  commissions'!M15179,0)*1","v":0},{"$f":"IF('Relevés de  commissions'!D15179=\"AGI externes\",'Relevés de  commissions'!N15179,0)*1","v":0},{"$f":"IF('Relevés de  commissions'!D15179=\"AGI externes\",'Relevés de  commissions'!O15179,0)*1","v":0},{"$f":"IF('Relevés de  commissions'!D15179=\"AGI externes\",'Relevés de  commissions'!P15179,0)*1","v":0},0,""]
[null,null,null,null,null,null,null,null,null,null,null,null,{"$f":"IF('Relevés de  commissions'!D15185=\"AGI externes\",'Relevés de  commissions'!M15185,0)*1","v":0},{"$f":"IF('Relevés de  commissions'!D15185=\"AGI externes\",'Relevés de  commissions'!N15185,0)*1","v":0},{"$f":"IF('Relevés de  commissions'!D15185=\"AGI externes\",'Relevés de  commissions'!O15185,0)*1","v":0},{"$f":"IF('Relevés de  commissions'!D15185=\"AGI externes\",'Relevés de  commissions'!P15185,0)*1","v":0},0,""]
[null,null,null,null,null,null,null,null,null,null,null,null,{"$f":"IF('Relevés de  commissions'!D15195=\"AGI externes\",'Relevés de  commissions'!M15195,0)*1","v":0},{"$f":"IF('Relevés de  commissions'!D15195=\"AGI externes\",'Relevés de  commissions'!N15195,0)*1","v":0},{"$f":"IF('Relevés de  commissions'!D15195=\"AGI externes\",'Relevés de  commissions'!O15195,0)*1","v":0},{"$f":"IF('Relevés de  commissions'!D15195=\"AGI externes\",'Relevés de  commissions'!P15195,0)*1","v":0},0,""]
[null,null,null,null,null,null,null,null,null,null,null,null,{"$f":"IF('Relevés de  commissions'!D15211=\"AGI externes\",'Relevés de  commissions'!M15211,0)*1","v":0},{"$f":"IF('Relevés de  commissions'!D15211=\"AGI externes\",'Relevés de  commissions'!N15211,0)*1","v":0},{"$f":"IF('Relevés de  commissions'!D15211=\"AGI externes\",'Relevés de  commissions'!O15211,0)*1","v":0},{"$f":"IF('Relevés de  commissions'!D15211=\"AGI externes\",'Relevés de  commissions'!P15211,0)*1","v":0},0,""]
[null,null,null,null,null,null,null,null,null,null,null,null,{"$f":"IF('Relevés de  commissions'!D15217=\"AGI externes\",'Relevés de  commissions'!M15217,0)*1","v":0},{"$f":"IF('Relevés de  commissions'!D15217=\"AGI externes\",'Relevés de  commissions'!N15217,0)*1","v":0},{"$f":"IF('Relevés de  commissions'!D15217=\"AGI externes\",'Relevés de  commissions'!O15217,0)*1","v":0},{"$f":"IF('Relevés de  commissions'!D15217=\"AGI externes\",'Relevés de  commissions'!P15217,0)*1","v":0},0,""]
[null,null,null,null,null,null,null,null,null,null,null,null,{"$f":"IF('Relevés de  commissions'!D15227=\"AGI externes\",'Relevés de  commissions'!M15227,0)*1","v":0},{"$f":"IF('Relevés de  commissions'!D15227=\"AGI externes\",'Relevés de  commissions'!N15227,0)*1","v":0},{"$f":"IF('Relevés de  commissions'!D15227=\"AGI externes\",'Relevés de  commissions'!O15227,0)*1","v":0},{"$f":"IF('Relevés de  commissions'!D15227=\"AGI externes\",'Relevés de  commissions'!P15227,0)*1","v":0},0,""]
[null,null,null,null,null,null,null,null,null,null,null,null,{"$f":"IF('Relevés de  commissions'!D15244=\"AGI externes\",'Relevés de  commissions'!M15244,0)*1","v":0},{"$f":"IF('Relevés de  commissions'!D15244=\"AGI externes\",'Relevés de  commissions'!N15244,0)*1","v":0},{"$f":"IF('Relevés de  commissions'!D15244=\"AGI externes\",'Relevés de  commissions'!O15244,0)*1","v":0},{"$f":"IF('Relevés de  commissions'!D15244=\"AGI externes\",'Relevés de  commissions'!P15244,0)*1","v":0},0,""]
[null,null,null,null,null,null,null,null,null,null,null,null,{"$f":"IF('Relevés de  commissions'!D15254=\"AGI externes\",'Relevés de  commissions'!M15254,0)*1","v":0},{"$f":"IF('Relevés de  commissions'!D15254=\"AGI externes\",'Relevés de  commissions'!N15254,0)*1","v":0},{"$f":"IF('Relevés de  commissions'!D15254=\"AGI externes\",'Relevés de  commissions'!O15254,0)*1","v":0},{"$f":"IF('Relevés de  commissions'!D15254=\"AGI externes\",'Relevés de  commissions'!P15254,0)*1","v":0},0,""]
[null,null,null,null,null,null,null,null,null,null,null,null,{"$f":"IF('Relevés de  commissions'!D15260=\"AGI externes\",'Relevés de  commissions'!M15260,0)*1","v":0},{"$f":"IF('Relevés de  commissions'!D15260=\"AGI externes\",'Relevés de  commissions'!N15260,0)*1","v":0},{"$f":"IF('Relevés de  commissions'!D15260=\"AGI externes\",'Relevés de  commissions'!O15260,0)*1","v":0},{"$f":"IF('Relevés de  commissions'!D15260=\"AGI externes\",'Relevés de  commissions'!P15260,0)*1","v":0},0,""]
[null,null,null,null,null,null,null,null,null,null,null,null,{"$f":"IF('Relevés de  commissions'!D15278=\"AGI externes\",'Relevés de  commissions'!M15278,0)*1","v":0},{"$f":"IF('Relevés de  commissions'!D15278=\"AGI externes\",'Relevés de  commissions'!N15278,0)*1","v":0},{"$f":"IF('Relevés de  commissions'!D15278=\"AGI externes\",'Relevés de  commissions'!O15278,0)*1","v":0},{"$f":"IF('Relevés de  commissions'!D15278=\"AGI externes\",'Relevés de  commissions'!P15278,0)*1","v":0},0,""]
[null,null,null,null,null,null,null,null,null,null,null,null,{"$f":"IF('Relevés de  commissions'!D15286=\"AGI externes\",'Relevés de  commissions'!M15286,0)*1","v":0},{"$f":"IF('Relevés de  commissions'!D15286=\"AGI externes\",'Relevés de  commissions'!N15286,0)*1","v":0},{"$f":"IF('Relevés de  commissions'!D15286=\"AGI externes\",'Relevés de  commissions'!O15286,0)*1","v":0},{"$f":"IF('Relevés de  commissions'!D15286=\"AGI externes\",'Relevés de  commissions'!P15286,0)*1","v":0},0,""]
[null,null,null,null,null,null,null,null,null,null,null,null,{"$f":"IF('Relevés de  commissions'!D15292=\"AGI externes\",'Relevés de  commissions'!M15292,0)*1","v":0},{"$f":"IF('Relevés de  commissions'!D15292=\"AGI externes\",'Relevés de  commissions'!N15292,0)*1","v":0},{"$f":"IF('Relevés de  commissions'!D15292=\"AGI externes\",'Relevés de  commissions'!O15292,0)*1","v":0},{"$f":"IF('Relevés de  commissions'!D15292=\"AGI externes\",'Relevés de  commissions'!P15292,0)*1","v":0},0,""]
[null,null,null,null,null,null,null,null,null,null,null,null,{"$f":"IF('Relevés de  commissions'!D15302=\"AGI externes\",'Relevés de  commissions'!M15302,0)*1","v":0},{"$f":"IF('Relevés de  commissions'!D15302=\"AGI externes\",'Relevés de  commissions'!N15302,0)*1","v":0},{"$f":"IF('Relevés de  commissions'!D15302=\"AGI externes\",'Relevés de  commissions'!O15302,0)*1","v":0},{"$f":"IF('Relevés de  commissions'!D15302=\"AGI externes\",'Relevés de  commissions'!P15302,0)*1","v":0},0,""]
[null,null,null,null,null,null,null,null,null,null,null,null,{"$f":"IF('Relevés de  commissions'!D15319=\"AGI externes\",'Relevés de  commissions'!M15319,0)*1","v":0},{"$f":"IF('Relevés de  commissions'!D15319=\"AGI externes\",'Relevés de  commissions'!N15319,0)*1","v":0},{"$f":"IF('Relevés de  commissions'!D15319=\"AGI externes\",'Relevés de  commissions'!O15319,0)*1","v":0},{"$f":"IF('Relevés de  commissions'!D15319=\"AGI externes\",'Relevés de  commissions'!P15319,0)*1","v":0},0,""]
[null,null,null,null,null,null,null,null,null,null,null,null,{"$f":"IF('Relevés de  commissions'!D15325=\"AGI externes\",'Relevés de  commissions'!M15325,0)*1","v":0},{"$f":"IF('Relevés de  commissions'!D15325=\"AGI externes\",'Relevés de  commissions'!N15325,0)*1","v":0},{"$f":"IF('Relevés de  commissions'!D15325=\"AGI externes\",'Relevés de  commissions'!O15325,0)*1","v":0},{"$f":"IF('Relevés de  commissions'!D15325=\"AGI externes\",'Relevés de  commissions'!P15325,0)*1","v":0},0,""]
[null,null,null,null,null,null,null,null,null,null,null,null,{"$f":"IF('Relevés de  commissions'!D15341=\"AGI externes\",'Relevés de  commissions'!M15341,0)*1","v":0},{"$f":"IF('Relevés de  commissions'!D15341=\"AGI externes\",'Relevés de  commissions'!N15341,0)*1","v":0},{"$f":"IF('Relevés de  commissions'!D15341=\"AGI externes\",'Relevés de  commissions'!O15341,0)*1","v":0},{"$f":"IF('Relevés de  commissions'!D15341=\"AGI externes\",'Relevés de  commissions'!P15341,0)*1","v":0},0,""]
[null,null,null,null,null,null,null,null,null,null,null,null,{"$f":"IF('Relevés de  commissions'!D15351=\"AGI externes\",'Relevés de  commissions'!M15351,0)*1","v":0},{"$f":"IF('Relevés de  commissions'!D15351=\"AGI externes\",'Relevés de  commissions'!N15351,0)*1","v":0},{"$f":"IF('Relevés de  commissions'!D15351=\"AGI externes\",'Relevés de  commissions'!O15351,0)*1","v":0},{"$f":"IF('Relevés de  commissions'!D15351=\"AGI externes\",'Relevés de  commissions'!P15351,0)*1","v":0},0,""]
[null,null,null,null,null,null,null,null,null,null,null,null,{"$f":"IF('Relevés de  commissions'!D15357=\"AGI externes\",'Relevés de  commissions'!M15357,0)*1","v":0},{"$f":"IF('Relevés de  commissions'!D15357=\"AGI externes\",'Relevés de  commissions'!N15357,0)*1","v":0},{"$f":"IF('Relevés de  commissions'!D15357=\"AGI externes\",'Relevés de  commissions'!O15357,0)*1","v":0},{"$f":"IF('Relevés de  commissions'!D15357=\"AGI externes\",'Relevés de  commissions'!P15357,0)*1","v":0},0,""]
[null,null,null,null,null,null,null,null,null,null,null,null,{"$f":"IF('Relevés de  commissions'!D15367=\"AGI externes\",'Relevés de  commissions'!M15367,0)*1","v":0},{"$f":"IF('Relevés de  commissions'!D15367=\"AGI externes\",'Relevés de  commissions'!N15367,0)*1","v":0},{"$f":"IF('Relevés de  commissions'!D15367=\"AGI externes\",'Relevés de  commissions'!O15367,0)*1","v":0},{"$f":"IF('Relevés de  commissions'!D15367=\"AGI externes\",'Relevés de  commissions'!P15367,0)*1","v":0},0,""]
[null,null,null,null,null,null,null,null,null,null,null,null,{"$f":"IF('Relevés de  commissions'!D15384=\"AGI externes\",'Relevés de  commissions'!M15384,0)*1","v":0},{"$f":"IF('Relevés de  commissions'!D15384=\"AGI externes\",'Relevés de  commissions'!N15384,0)*1","v":0},{"$f":"IF('Relevés de  commissions'!D15384=\"AGI externes\",'Relevés de  commissions'!O15384,0)*1","v":0},{"$f":"IF('Relevés de  commissions'!D15384=\"AGI externes\",'Relevés de  commissions'!P15384,0)*1","v":0},0,""]
[null,null,null,null,null,null,null,null,null,null,null,null,{"$f":"IF('Relevés de  commissions'!D15394=\"AGI externes\",'Relevés de  commissions'!M15394,0)*1","v":0},{"$f":"IF('Relevés de  commissions'!D15394=\"AGI externes\",'Relevés de  commissions'!N15394,0)*1","v":0},{"$f":"IF('Relevés de  commissions'!D15394=\"AGI externes\",'Relevés de  commissions'!O15394,0)*1","v":0},{"$f":"IF('Relevés de  commissions'!D15394=\"AGI externes\",'Relevés de  commissions'!P15394,0)*1","v":0},0,""]
[null,null,null,null,null,null,null,null,null,null,null,null,{"$f":"IF('Relevés de  commissions'!D15408=\"AGI externes\",'Relevés de  commissions'!M15408,0)*1","v":0},{"$f":"IF('Relevés de  commissions'!D15408=\"AGI externes\",'Relevés de  commissions'!N15408,0)*1","v":0},{"$f":"IF('Relevés de  commissions'!D15408=\"AGI externes\",'Relevés de  commissions'!O15408,0)*1","v":0},{"$f":"IF('Relevés de  commissions'!D15408=\"AGI externes\",'Relevés de  commissions'!P15408,0)*1","v":0},0,""]
[null,null,null,null,null,null,null,null,null,null,null,null,{"$f":"IF('Relevés de  commissions'!D15416=\"AGI externes\",'Relevés de  commissions'!M15416,0)*1","v":0},{"$f":"IF('Relevés de  commissions'!D15416=\"AGI externes\",'Relevés de  commissions'!N15416,0)*1","v":0},{"$f":"IF('Relevés de  commissions'!D15416=\"AGI externes\",'Relevés de  commissions'!O15416,0)*1","v":0},{"$f":"IF('Relevés de  commissions'!D15416=\"AGI externes\",'Relevés de  commissions'!P15416,0)*1","v":0},0,""]
[null,null,null,null,null,null,null,null,null,null,null,null,{"$f":"IF('Relevés de  commissions'!D15426=\"AGI externes\",'Relevés de  commissions'!M15426,0)*1","v":0},{"$f":"IF('Relevés de  commissions'!D15426=\"AGI externes\",'Relevés de  commissions'!N15426,0)*1","v":0},{"$f":"IF('Relevés de  commissions'!D15426=\"AGI externes\",'Relevés de  commissions'!O15426,0)*1","v":0},{"$f":"IF('Relevés de  commissions'!D15426=\"AGI externes\",'Relevés de  commissions'!P15426,0)*1","v":0},0,""]
[null,null,null,null,null,null,null,null,null,null,null,null,{"$f":"IF('Relevés de  commissions'!D15432=\"AGI externes\",'Relevés de  commissions'!M15432,0)*1","v":0},{"$f":"IF('Relevés de  commissions'!D15432=\"AGI externes\",'Relevés de  commissions'!N15432,0)*1","v":0},{"$f":"IF('Relevés de  commissions'!D15432=\"AGI externes\",'Relevés de  commissions'!O15432,0)*1","v":0},{"$f":"IF('Relevés de  commissions'!D15432=\"AGI externes\",'Relevés de  commissions'!P15432,0)*1","v":0},0,""]
[null,null,null,null,null,null,null,null,null,null,null,null,{"$f":"IF('Relevés de  commissions'!D15453=\"AGI externes\",'Relevés de  commissions'!M15453,0)*1","v":0},{"$f":"IF('Relevés de  commissions'!D15453=\"AGI externes\",'Relevés de  commissions'!N15453,0)*1","v":0},{"$f":"IF('Relevés de  commissions'!D15453=\"AGI externes\",'Relevés de  commissions'!O15453,0)*1","v":0},{"$f":"IF('Relevés de  commissions'!D15453=\"AGI externes\",'Relevés de  commissions'!P15453,0)*1","v":0},0,""]
[null,null,null,null,null,null,null,null,null,null,null,null,{"$f":"IF('Relevés de  commissions'!D15459=\"AGI externes\",'Relevés de  commissions'!M15459,0)*1","v":0},{"$f":"IF('Relevés de  commissions'!D15459=\"AGI externes\",'Relevés de  commissions'!N15459,0)*1","v":0},{"$f":"IF('Relevés de  commissions'!D15459=\"AGI externes\",'Relevés de  commissions'!O15459,0)*1","v":0},{"$f":"IF('Relevés de  commissions'!D15459=\"AGI externes\",'Relevés de  commissions'!P15459,0)*1","v":0},0,""]
[null,null,null,null,null,null,null,null,null,null,null,null,{"$f":"IF('Relevés de  commissions'!D15465=\"AGI externes\",'Relevés de  commissions'!M15465,0)*1","v":0},{"$f":"IF('Relevés de  commissions'!D15465=\"AGI externes\",'Relevés de  commissions'!N15465,0)*1","v":0},{"$f":"IF('Relevés de  commissions'!D15465=\"AGI externes\",'Relevés de  commissions'!O15465,0)*1","v":0},{"$f":"IF('Relevés de  commissions'!D15465=\"AGI externes\",'Relevés de  commissions'!P15465,0)*1","v":0},0,""]
[null,null,null,null,null,null,null,null,null,null,null,null,{"$f":"IF('Relevés de  commissions'!D15485=\"AGI externes\",'Relevés de  commissions'!M15485,0)*1","v":0},{"$f":"IF('Relevés de  commissions'!D15485=\"AGI externes\",'Relevés de  commissions'!N15485,0)*1","v":0},{"$f":"IF('Relevés de  commissions'!D15485=\"AGI externes\",'Relevés de  commissions'!O15485,0)*1","v":0},{"$f":"IF('Relevés de  commissions'!D15485=\"AGI externes\",'Relevés de  commissions'!P15485,0)*1","v":0},0,""]
[null,null,null,null,null,null,null,null,null,null,null,null,{"$f":"IF('Relevés de  commissions'!D15491=\"AGI externes\",'Relevés de  commissions'!M15491,0)*1","v":0},{"$f":"IF('Relevés de  commissions'!D15491=\"AGI externes\",'Relevés de  commissions'!N15491,0)*1","v":0},{"$f":"IF('Relevés de  commissions'!D15491=\"AGI externes\",'Relevés de  commissions'!O15491,0)*1","v":0},{"$f":"IF('Relevés de  commissions'!D15491=\"AGI externes\",'Relevés de  commissions'!P15491,0)*1","v":0},{"$f":"IF(N15493=0,O15493,\"\")","v":0},""]
[null,null,null,null,null,null,null,null,null,null,null,null,{"$f":"IF('Relevés de  commissions'!D15497=\"AGI externes\",'Relevés de  commissions'!M15497,0)*1","v":0},{"$f":"IF('Relevés de  commissions'!D15497=\"AGI externes\",'Relevés de  commissions'!N15497,0)*1","v":0},{"$f":"IF('Relevés de  commissions'!D15497=\"AGI externes\",'Relevés de  commissions'!O15497,0)*1","v":0},{"$f":"IF('Relevés de  commissions'!D15497=\"AGI externes\",'Relevés de  commissions'!P15497,0)*1","v":0},0,""]
[null,null,null,null,null,null,null,null,null,null,null,null,{"$f":"IF('Relevés de  commissions'!D15518=\"AGI externes\",'Relevés de  commissions'!M15518,0)*1","v":0},{"$f":"IF('Relevés de  commissions'!D15518=\"AGI externes\",'Relevés de  commissions'!N15518,0)*1","v":0},{"$f":"IF('Relevés de  commissions'!D15518=\"AGI externes\",'Relevés de  commissions'!O15518,0)*1","v":0},{"$f":"IF('Relevés de  commissions'!D15518=\"AGI externes\",'Relevés de  commissions'!P15518,0)*1","v":0},0,""]
[null,null,null,null,null,null,null,null,null,null,null,null,{"$f":"IF('Relevés de  commissions'!D15524=\"AGI externes\",'Relevés de  commissions'!M15524,0)*1","v":0},{"$f":"IF('Relevés de  commissions'!D15524=\"AGI externes\",'Relevés de  commissions'!N15524,0)*1","v":0},{"$f":"IF('Relevés de  commissions'!D15524=\"AGI externes\",'Relevés de  commissions'!O15524,0)*1","v":0},{"$f":"IF('Relevés de  commissions'!D15524=\"AGI externes\",'Relevés de  commissions'!P15524,0)*1","v":0},0,""]
[null,null,null,null,null,null,null,null,null,null,null,null,{"$f":"IF('Relevés de  commissions'!D15538=\"AGI externes\",'Relevés de  commissions'!M15538,0)*1","v":0},{"$f":"IF('Relevés de  commissions'!D15538=\"AGI externes\",'Relevés de  commissions'!N15538,0)*1","v":0},{"$f":"IF('Relevés de  commissions'!D15538=\"AGI externes\",'Relevés de  commissions'!O15538,0)*1","v":0},{"$f":"IF('Relevés de  commissions'!D15538=\"AGI externes\",'Relevés de  commissions'!P15538,0)*1","v":0},0,""]
[null,null,null,null,null,null,null,null,null,null,null,null,{"$f":"IF('Relevés de  commissions'!D15550=\"AGI externes\",'Relevés de  commissions'!M15550,0)*1","v":0},{"$f":"IF('Relevés de  commissions'!D15550=\"AGI externes\",'Relevés de  commissions'!N15550,0)*1","v":0},{"$f":"IF('Relevés de  commissions'!D15550=\"AGI externes\",'Relevés de  commissions'!O15550,0)*1","v":0},{"$f":"IF('Relevés de  commissions'!D15550=\"AGI externes\",'Relevés de  commissions'!P15550,0)*1","v":0},0,""]
[null,null,null,null,null,null,null,null,null,null,null,null,{"$f":"IF('Relevés de  commissions'!D15556=\"AGI externes\",'Relevés de  commissions'!M15556,0)*1","v":0},{"$f":"IF('Relevés de  commissions'!D15556=\"AGI externes\",'Relevés de  commissions'!N15556,0)*1","v":0},{"$f":"IF('Relevés de  commissions'!D15556=\"AGI externes\",'Relevés de  commissions'!O15556,0)*1","v":0},{"$f":"IF('Relevés de  commissions'!D15556=\"AGI externes\",'Relevés de  commissions'!P15556,0)*1","v":0},0,""]
[null,null,null,null,null,null,null,null,null,null,null,null,{"$f":"IF('Relevés de  commissions'!D15566=\"AGI externes\",'Relevés de  commissions'!M15566,0)*1","v":0},{"$f":"IF('Relevés de  commissions'!D15566=\"AGI externes\",'Relevés de  commissions'!N15566,0)*1","v":0},{"$f":"IF('Relevés de  commissions'!D15566=\"AGI externes\",'Relevés de  commissions'!O15566,0)*1","v":0},{"$f":"IF('Relevés de  commissions'!D15566=\"AGI externes\",'Relevés de  commissions'!P15566,0)*1","v":0},0,""]
[null,null,null,null,null,null,null,null,null,null,null,null,{"$f":"IF('Relevés de  commissions'!D15583=\"AGI externes\",'Relevés de  commissions'!M15583,0)*1","v":0},{"$f":"IF('Relevés de  commissions'!D15583=\"AGI externes\",'Relevés de  commissions'!N15583,0)*1","v":0},{"$f":"IF('Relevés de  commissions'!D15583=\"AGI externes\",'Relevés de  commissions'!O15583,0)*1","v":0},{"$f":"IF('Relevés de  commissions'!D15583=\"AGI externes\",'Relevés de  commissions'!P15583,0)*1","v":0},0,""]
[null,null,null,null,null,null,null,null,null,null,null,null,{"$f":"IF('Relevés de  commissions'!D15589=\"AGI externes\",'Relevés de  commissions'!M15589,0)*1","v":0},{"$f":"IF('Relevés de  commissions'!D15589=\"AGI externes\",'Relevés de  commissions'!N15589,0)*1","v":0},{"$f":"IF('Relevés de  commissions'!D15589=\"AGI externes\",'Relevés de  commissions'!O15589,0)*1","v":0},{"$f":"IF('Relevés de  commissions'!D15589=\"AGI externes\",'Relevés de  commissions'!P15589,0)*1","v":0},0,""]
[null,null,null,null,null,null,null,null,null,null,null,null,{"$f":"IF('Relevés de  commissions'!D15595=\"AGI externes\",'Relevés de  commissions'!M15595,0)*1","v":0},{"$f":"IF('Relevés de  commissions'!D15595=\"AGI externes\",'Relevés de  commissions'!N15595,0)*1","v":0},{"$f":"IF('Relevés de  commissions'!D15595=\"AGI externes\",'Relevés de  commissions'!O15595,0)*1","v":0},{"$f":"IF('Relevés de  commissions'!D15595=\"AGI externes\",'Relevés de  commissions'!P15595,0)*1","v":0},0,""]
[null,null,null,null,null,null,null,null,null,null,null,null,{"$f":"IF('Relevés de  commissions'!D15615=\"AGI externes\",'Relevés de  commissions'!M15615,0)*1","v":0},{"$f":"IF('Relevés de  commissions'!D15615=\"AGI externes\",'Relevés de  commissions'!N15615,0)*1","v":0},{"$f":"IF('Relevés de  commissions'!D15615=\"AGI externes\",'Relevés de  commissions'!O15615,0)*1","v":0},{"$f":"IF('Relevés de  commissions'!D15615=\"AGI externes\",'Relevés de  commissions'!P15615,0)*1","v":0},0,""]
[null,null,null,null,null,null,null,null,null,null,null,null,{"$f":"IF('Relevés de  commissions'!D15625=\"AGI externes\",'Relevés de  commissions'!M15625,0)*1","v":0},{"$f":"IF('Relevés de  commissions'!D15625=\"AGI externes\",'Relevés de  commissions'!N15625,0)*1","v":0},{"$f":"IF('Relevés de  commissions'!D15625=\"AGI externes\",'Relevés de  commissions'!O15625,0)*1","v":0},{"$f":"IF('Relevés de  commissions'!D15625=\"AGI externes\",'Relevés de  commissions'!P15625,0)*1","v":0},0,""]
[null,null,null,null,null,null,null,null,null,null,null,null,{"$f":"IF('Relevés de  commissions'!D15631=\"AGI externes\",'Relevés de  commissions'!M15631,0)*1","v":0},{"$f":"IF('Relevés de  commissions'!D15631=\"AGI externes\",'Relevés de  commissions'!N15631,0)*1","v":0},{"$f":"IF('Relevés de  commissions'!D15631=\"AGI externes\",'Relevés de  commissions'!O15631,0)*1","v":0},{"$f":"IF('Relevés de  commissions'!D15631=\"AGI externes\",'Relevés de  commissions'!P15631,0)*1","v":0},0,""]
[null,null,null,null,null,null,null,null,null,null,null,null,{"$f":"IF('Relevés de  commissions'!D15648=\"AGI externes\",'Relevés de  commissions'!M15648,0)*1","v":0},{"$f":"IF('Relevés de  commissions'!D15648=\"AGI externes\",'Relevés de  commissions'!N15648,0)*1","v":0},{"$f":"IF('Relevés de  commissions'!D15648=\"AGI externes\",'Relevés de  commissions'!O15648,0)*1","v":0},{"$f":"IF('Relevés de  commissions'!D15648=\"AGI externes\",'Relevés de  commissions'!P15648,0)*1","v":0},0,""]
[null,null,null,null,null,null,null,null,null,null,null,null,{"$f":"IF('Relevés de  commissions'!D15658=\"AGI externes\",'Relevés de  commissions'!M15658,0)*1","v":0},{"$f":"IF('Relevés de  commissions'!D15658=\"AGI externes\",'Relevés de  commissions'!N15658,0)*1","v":0},{"$f":"IF('Relevés de  commissions'!D15658=\"AGI externes\",'Relevés de  commissions'!O15658,0)*1","v":0},{"$f":"IF('Relevés de  commissions'!D15658=\"AGI externes\",'Relevés de  commissions'!P15658,0)*1","v":0},0,""]
[null,null,null,null,null,null,null,null,null,null,null,null,{"$f":"IF('Relevés de  commissions'!D15662=\"AGI externes\",'Relevés de  commissions'!M15662,0)*1","v":0},{"$f":"IF('Relevés de  commissions'!D15662=\"AGI externes\",'Relevés de  commissions'!N15662,0)*1","v":0},{"$f":"IF('Relevés de  commissions'!D15662=\"AGI externes\",'Relevés de  commissions'!O15662,0)*1","v":0},{"$f":"IF('Relevés de  commissions'!D15662=\"AGI externes\",'Relevés de  commissions'!P15662,0)*1","v":0},0,""]
[null,null,null,null,null,null,null,null,null,null,null,null,{"$f":"IF('Relevés de  commissions'!D15673=\"AGI externes\",'Relevés de  commissions'!M15673,0)*1","v":0},{"$f":"IF('Relevés de  commissions'!D15673=\"AGI externes\",'Relevés de  commissions'!N15673,0)*1","v":0},{"$f":"IF('Relevés de  commissions'!D15673=\"AGI externes\",'Relevés de  commissions'!O15673,0)*1","v":0},{"$f":"IF('Relevés de  commissions'!D15673=\"AGI externes\",'Relevés de  commissions'!P15673,0)*1","v":0},0,""]
[null,null,null,null,null,null,null,null,null,null,null,null,{"$f":"IF('Relevés de  commissions'!D15690=\"AGI externes\",'Relevés de  commissions'!M15690,0)*1","v":0},{"$f":"IF('Relevés de  commissions'!D15690=\"AGI externes\",'Relevés de  commissions'!N15690,0)*1","v":0},{"$f":"IF('Relevés de  commissions'!D15690=\"AGI externes\",'Relevés de  commissions'!O15690,0)*1","v":0},{"$f":"IF('Relevés de  commissions'!D15690=\"AGI externes\",'Relevés de  commissions'!P15690,0)*1","v":0},0,""]
[null,null,null,null,null,null,null,null,null,null,null,null,{"$f":"IF('Relevés de  commissions'!D15696=\"AGI externes\",'Relevés de  commissions'!M15696,0)*1","v":0},{"$f":"IF('Relevés de  commissions'!D15696=\"AGI externes\",'Relevés de  commissions'!N15696,0)*1","v":0},{"$f":"IF('Relevés de  commissions'!D15696=\"AGI externes\",'Relevés de  commissions'!O15696,0)*1","v":0},{"$f":"IF('Relevés de  commissions'!D15696=\"AGI externes\",'Relevés de  commissions'!P15696,0)*1","v":0},0,""]
[null,null,null,null,null,null,null,null,null,null,null,null,{"$f":"IF('Relevés de  commissions'!D15706=\"AGI externes\",'Relevés de  commissions'!M15706,0)*1","v":0},{"$f":"IF('Relevés de  commissions'!D15706=\"AGI externes\",'Relevés de  commissions'!N15706,0)*1","v":0},{"$f":"IF('Relevés de  commissions'!D15706=\"AGI externes\",'Relevés de  commissions'!O15706,0)*1","v":0},{"$f":"IF('Relevés de  commissions'!D15706=\"AGI externes\",'Relevés de  commissions'!P15706,0)*1","v":0},0,""]
[null,null,null,null,null,null,null,null,null,null,null,null,{"$f":"IF('Relevés de  commissions'!D15723=\"AGI externes\",'Relevés de  commissions'!M15723,0)*1","v":0},{"$f":"IF('Relevés de  commissions'!D15723=\"AGI externes\",'Relevés de  commissions'!N15723,0)*1","v":0},{"$f":"IF('Relevés de  commissions'!D15723=\"AGI externes\",'Relevés de  commissions'!O15723,0)*1","v":0},{"$f":"IF('Relevés de  commissions'!D15723=\"AGI externes\",'Relevés de  commissions'!P15723,0)*1","v":0},0,""]
[null,null,null,null,null,null,null,null,null,null,null,null,{"$f":"IF('Relevés de  commissions'!D15729=\"AGI externes\",'Relevés de  commissions'!M15729,0)*1","v":0},{"$f":"IF('Relevés de  commissions'!D15729=\"AGI externes\",'Relevés de  commissions'!N15729,0)*1","v":0},{"$f":"IF('Relevés de  commissions'!D15729=\"AGI externes\",'Relevés de  commissions'!O15729,0)*1","v":0},{"$f":"IF('Relevés de  commissions'!D15729=\"AGI externes\",'Relevés de  commissions'!P15729,0)*1","v":0},0,""]
[null,null,null,null,null,null,null,null,null,null,null,null,{"$f":"IF('Relevés de  commissions'!D15738=\"AGI externes\",'Relevés de  commissions'!M15738,0)*1","v":0},{"$f":"IF('Relevés de  commissions'!D15738=\"AGI externes\",'Relevés de  commissions'!N15738,0)*1","v":0},{"$f":"IF('Relevés de  commissions'!D15738=\"AGI externes\",'Relevés de  commissions'!O15738,0)*1","v":0},{"$f":"IF('Relevés de  commissions'!D15738=\"AGI externes\",'Relevés de  commissions'!P15738,0)*1","v":0},0,""]
[null,null,null,null,null,null,null,null,null,null,null,null,{"$f":"IF('Relevés de  commissions'!D15755=\"AGI externes\",'Relevés de  commissions'!M15755,0)*1","v":0},{"$f":"IF('Relevés de  commissions'!D15755=\"AGI externes\",'Relevés de  commissions'!N15755,0)*1","v":0},{"$f":"IF('Relevés de  commissions'!D15755=\"AGI externes\",'Relevés de  commissions'!O15755,0)*1","v":0},{"$f":"IF('Relevés de  commissions'!D15755=\"AGI externes\",'Relevés de  commissions'!P15755,0)*1","v":0},0,""]
[null,null,null,null,null,null,null,null,null,null,null,null,{"$f":"IF('Relevés de  commissions'!D15765=\"AGI externes\",'Relevés de  commissions'!M15765,0)*1","v":0},{"$f":"IF('Relevés de  commissions'!D15765=\"AGI externes\",'Relevés de  commissions'!N15765,0)*1","v":0},{"$f":"IF('Relevés de  commissions'!D15765=\"AGI externes\",'Relevés de  commissions'!O15765,0)*1","v":0},{"$f":"IF('Relevés de  commissions'!D15765=\"AGI externes\",'Relevés de  commissions'!P15765,0)*1","v":0},0,""]
[null,null,null,null,null,null,null,null,null,null,null,null,{"$f":"IF('Relevés de  commissions'!D15771=\"AGI externes\",'Relevés de  commissions'!M15771,0)*1","v":0},{"$f":"IF('Relevés de  commissions'!D15771=\"AGI externes\",'Relevés de  commissions'!N15771,0)*1","v":0},{"$f":"IF('Relevés de  commissions'!D15771=\"AGI externes\",'Relevés de  commissions'!O15771,0)*1","v":0},{"$f":"IF('Relevés de  commissions'!D15771=\"AGI externes\",'Relevés de  commissions'!P15771,0)*1","v":0},0,""]
[null,null,null,null,null,null,null,null,null,null,null,null,{"$f":"IF('Relevés de  commissions'!D15788=\"AGI externes\",'Relevés de  commissions'!M15788,0)*1","v":0},{"$f":"IF('Relevés de  commissions'!D15788=\"AGI externes\",'Relevés de  commissions'!N15788,0)*1","v":0},{"$f":"IF('Relevés de  commissions'!D15788=\"AGI externes\",'Relevés de  commissions'!O15788,0)*1","v":0},{"$f":"IF('Relevés de  commissions'!D15788=\"AGI externes\",'Relevés de  commissions'!P15788,0)*1","v":0},0,""]
[null,null,null,null,null,null,null,null,null,null,null,null,{"$f":"IF('Relevés de  commissions'!D15792=\"AGI externes\",'Relevés de  commissions'!M15792,0)*1","v":0},{"$f":"IF('Relevés de  commissions'!D15792=\"AGI externes\",'Relevés de  commissions'!N15792,0)*1","v":0},{"$f":"IF('Relevés de  commissions'!D15792=\"AGI externes\",'Relevés de  commissions'!O15792,0)*1","v":0},{"$f":"IF('Relevés de  commissions'!D15792=\"AGI externes\",'Relevés de  commissions'!P15792,0)*1","v":0},0,""]
[null,null,null,null,null,null,null,null,null,null,null,null,{"$f":"IF('Relevés de  commissions'!D15803=\"AGI externes\",'Relevés de  commissions'!M15803,0)*1","v":0},{"$f":"IF('Relevés de  commissions'!D15803=\"AGI externes\",'Relevés de  commissions'!N15803,0)*1","v":0},{"$f":"IF('Relevés de  commissions'!D15803=\"AGI externes\",'Relevés de  commissions'!O15803,0)*1","v":0},{"$f":"IF('Relevés de  commissions'!D15803=\"AGI externes\",'Relevés de  commissions'!P15803,0)*1","v":0},0,""]
[null,null,null,null,null,null,null,null,null,null,null,null,{"$f":"IF('Relevés de  commissions'!D15813=\"AGI externes\",'Relevés de  commissions'!M15813,0)*1","v":0},{"$f":"IF('Relevés de  commissions'!D15813=\"AGI externes\",'Relevés de  commissions'!N15813,0)*1","v":0},{"$f":"IF('Relevés de  commissions'!D15813=\"AGI externes\",'Relevés de  commissions'!O15813,0)*1","v":0},{"$f":"IF('Relevés de  commissions'!D15813=\"AGI externes\",'Relevés de  commissions'!P15813,0)*1","v":0},0,""]
[null,null,null,null,null,null,null,null,null,null,null,null,{"$f":"IF('Relevés de  commissions'!D15830=\"AGI externes\",'Relevés de  commissions'!M15830,0)*1","v":0},{"$f":"IF('Relevés de  commissions'!D15830=\"AGI externes\",'Relevés de  commissions'!N15830,0)*1","v":0},{"$f":"IF('Relevés de  commissions'!D15830=\"AGI externes\",'Relevés de  commissions'!O15830,0)*1","v":0},{"$f":"IF('Relevés de  commissions'!D15830=\"AGI externes\",'Relevés de  commissions'!P15830,0)*1","v":0},0,""]
[null,null,null,null,null,null,null,null,null,null,null,null,{"$f":"IF('Relevés de  commissions'!D15836=\"AGI externes\",'Relevés de  commissions'!M15836,0)*1","v":0},{"$f":"IF('Relevés de  commissions'!D15836=\"AGI externes\",'Relevés de  commissions'!N15836,0)*1","v":0},{"$f":"IF('Relevés de  commissions'!D15836=\"AGI externes\",'Relevés de  commissions'!O15836,0)*1","v":0},{"$f":"IF('Relevés de  commissions'!D15836=\"AGI externes\",'Relevés de  commissions'!P15836,0)*1","v":0},0,""]
[null,null,null,null,null,null,null,null,null,null,null,null,{"$f":"IF('Relevés de  commissions'!D15846=\"AGI externes\",'Relevés de  commissions'!M15846,0)*1","v":0},{"$f":"IF('Relevés de  commissions'!D15846=\"AGI externes\",'Relevés de  commissions'!N15846,0)*1","v":0},{"$f":"IF('Relevés de  commissions'!D15846=\"AGI externes\",'Relevés de  commissions'!O15846,0)*1","v":0},{"$f":"IF('Relevés de  commissions'!D15846=\"AGI externes\",'Relevés de  commissions'!P15846,0)*1","v":0},0,""]
[null,null,null,null,null,null,null,null,null,null,null,null,{"$f":"IF('Relevés de  commissions'!D15859=\"AGI externes\",'Relevés de  commissions'!M15859,0)*1","v":0},{"$f":"IF('Relevés de  commissions'!D15859=\"AGI externes\",'Relevés de  commissions'!N15859,0)*1","v":0},{"$f":"IF('Relevés de  commissions'!D15859=\"AGI externes\",'Relevés de  commissions'!O15859,0)*1","v":0},{"$f":"IF('Relevés de  commissions'!D15859=\"AGI externes\",'Relevés de  commissions'!P15859,0)*1","v":0},0,""]
[null,null,null,null,null,null,null,null,null,null,null,null,{"$f":"IF('Relevés de  commissions'!D15868=\"AGI externes\",'Relevés de  commissions'!M15868,0)*1","v":0},{"$f":"IF('Relevés de  commissions'!D15868=\"AGI externes\",'Relevés de  commissions'!N15868,0)*1","v":0},{"$f":"IF('Relevés de  commissions'!D15868=\"AGI externes\",'Relevés de  commissions'!O15868,0)*1","v":0},{"$f":"IF('Relevés de  commissions'!D15868=\"AGI externes\",'Relevés de  commissions'!P15868,0)*1","v":0},0,""]
[null,null,null,null,null,null,null,null,null,null,null,null,{"$f":"IF('Relevés de  commissions'!D15878=\"AGI externes\",'Relevés de  commissions'!M15878,0)*1","v":0},{"$f":"IF('Relevés de  commissions'!D15878=\"AGI externes\",'Relevés de  commissions'!N15878,0)*1","v":0},{"$f":"IF('Relevés de  commissions'!D15878=\"AGI externes\",'Relevés de  commissions'!O15878,0)*1","v":0},{"$f":"IF('Relevés de  commissions'!D15878=\"AGI externes\",'Relevés de  commissions'!P15878,0)*1","v":0},0,""]
[null,null,null,null,null,null,null,null,null,null,null,null,{"$f":"IF('Relevés de  commissions'!D15895=\"AGI externes\",'Relevés de  commissions'!M15895,0)*1","v":0},{"$f":"IF('Relevés de  commissions'!D15895=\"AGI externes\",'Relevés de  commissions'!N15895,0)*1","v":0},{"$f":"IF('Relevés de  commissions'!D15895=\"AGI externes\",'Relevés de  commissions'!O15895,0)*1","v":0},{"$f":"IF('Relevés de  commissions'!D15895=\"AGI externes\",'Relevés de  commissions'!P15895,0)*1","v":0},0,""]
[null,null,null,null,null,null,null,null,null,null,null,null,{"$f":"IF('Relevés de  commissions'!D15905=\"AGI externes\",'Relevés de  commissions'!M15905,0)*1","v":0},{"$f":"IF('Relevés de  commissions'!D15905=\"AGI externes\",'Relevés de  commissions'!N15905,0)*1","v":0},{"$f":"IF('Relevés de  commissions'!D15905=\"AGI externes\",'Relevés de  commissions'!O15905,0)*1","v":0},{"$f":"IF('Relevés de  commissions'!D15905=\"AGI externes\",'Relevés de  commissions'!P15905,0)*1","v":0},0,""]
[null,null,null,null,null,null,null,null,null,null,null,null,{"$f":"IF('Relevés de  commissions'!D15911=\"AGI externes\",'Relevés de  commissions'!M15911,0)*1","v":0},{"$f":"IF('Relevés de  commissions'!D15911=\"AGI externes\",'Relevés de  commissions'!N15911,0)*1","v":0},{"$f":"IF('Relevés de  commissions'!D15911=\"AGI externes\",'Relevés de  commissions'!O15911,0)*1","v":0},{"$f":"IF('Relevés de  commissions'!D15911=\"AGI externes\",'Relevés de  commissions'!P15911,0)*1","v":0},0,""]
[null,null,null,null,null,null,null,null,null,null,null,null,{"$f":"IF('Relevés de  commissions'!D15926=\"AGI externes\",'Relevés de  commissions'!M15926,0)*1","v":0},{"$f":"IF('Relevés de  commissions'!D15926=\"AGI externes\",'Relevés de  commissions'!N15926,0)*1","v":0},{"$f":"IF('Relevés de  commissions'!D15926=\"AGI externes\",'Relevés de  commissions'!O15926,0)*1","v":0},{"$f":"IF('Relevés de  commissions'!D15926=\"AGI externes\",'Relevés de  commissions'!P15926,0)*1","v":0},0,""]
[null,null,null,null,null,null,null,null,null,null,null,null,{"$f":"IF('Relevés de  commissions'!D15937=\"AGI externes\",'Relevés de  commissions'!M15937,0)*1","v":0},{"$f":"IF('Relevés de  commissions'!D15937=\"AGI externes\",'Relevés de  commissions'!N15937,0)*1","v":0},{"$f":"IF('Relevés de  commissions'!D15937=\"AGI externes\",'Relevés de  commissions'!O15937,0)*1","v":0},{"$f":"IF('Relevés de  commissions'!D15937=\"AGI externes\",'Relevés de  commissions'!P15937,0)*1","v":0},0,""]
[null,null,null,null,null,null,null,null,null,null,null,null,{"$f":"IF('Relevés de  commissions'!D15943=\"AGI externes\",'Relevés de  commissions'!M15943,0)*1","v":0},{"$f":"IF('Relevés de  commissions'!D15943=\"AGI externes\",'Relevés de  commissions'!N15943,0)*1","v":0},{"$f":"IF('Relevés de  commissions'!D15943=\"AGI externes\",'Relevés de  commissions'!O15943,0)*1","v":0},{"$f":"IF('Relevés de  commissions'!D15943=\"AGI externes\",'Relevés de  commissions'!P15943,0)*1","v":0},0,""]
[null,null,null,null,null,null,null,null,null,null,null,null,{"$f":"IF('Relevés de  commissions'!D15960=\"AGI externes\",'Relevés de  commissions'!M15960,0)*1","v":0},{"$f":"IF('Relevés de  commissions'!D15960=\"AGI externes\",'Relevés de  commissions'!N15960,0)*1","v":0},{"$f":"IF('Relevés de  commissions'!D15960=\"AGI externes\",'Relevés de  commissions'!O15960,0)*1","v":0},{"$f":"IF('Relevés de  commissions'!D15960=\"AGI externes\",'Relevés de  commissions'!P15960,0)*1","v":0},0,""]
[null,null,null,null,null,null,null,null,null,null,null,null,{"$f":"IF('Relevés de  commissions'!D15970=\"AGI externes\",'Relevés de  commissions'!M15970,0)*1","v":0},{"$f":"IF('Relevés de  commissions'!D15970=\"AGI externes\",'Relevés de  commissions'!N15970,0)*1","v":0},{"$f":"IF('Relevés de  commissions'!D15970=\"AGI externes\",'Relevés de  commissions'!O15970,0)*1","v":0},{"$f":"IF('Relevés de  commissions'!D15970=\"AGI externes\",'Relevés de  commissions'!P15970,0)*1","v":0},0,""]
[null,null,null,null,null,null,null,null,null,null,null,null,{"$f":"IF('Relevés de  commissions'!D15976=\"AGI externes\",'Relevés de  commissions'!M15976,0)*1","v":0},{"$f":"IF('Relevés de  commissions'!D15976=\"AGI externes\",'Relevés de  commissions'!N15976,0)*1","v":0},{"$f":"IF('Relevés de  commissions'!D15976=\"AGI externes\",'Relevés de  commissions'!O15976,0)*1","v":0},{"$f":"IF('Relevés de  commissions'!D15976=\"AGI externes\",'Relevés de  commissions'!P15976,0)*1","v":0},0,""]
[null,null,null,null,null,null,null,null,null,null,null,null,{"$f":"IF('Relevés de  commissions'!D15989=\"AGI externes\",'Relevés de  commissions'!M15989,0)*1","v":0},{"$f":"IF('Relevés de  commissions'!D15989=\"AGI externes\",'Relevés de  commissions'!N15989,0)*1","v":0},{"$f":"IF('Relevés de  commissions'!D15989=\"AGI externes\",'Relevés de  commissions'!O15989,0)*1","v":0},{"$f":"IF('Relevés de  commissions'!D15989=\"AGI externes\",'Relevés de  commissions'!P15989,0)*1","v":0},0,{"$f":"IF(N15991=10,O15991,\"\")","v":""}]
[null,null,null,null,null,null,null,null,null,null,null,null,{"$f":"IF('Relevés de  commissions'!D16002=\"AGI externes\",'Relevés de  commissions'!M16002,0)*1","v":0},{"$f":"IF('Relevés de  commissions'!D16002=\"AGI externes\",'Relevés de  commissions'!N16002,0)*1","v":0},{"$f":"IF('Relevés de  commissions'!D16002=\"AGI externes\",'Relevés de  commissions'!O16002,0)*1","v":0},{"$f":"IF('Relevés de  commissions'!D16002=\"AGI externes\",'Relevés de  commissions'!P16002,0)*1","v":0},0,""]
[null,null,null,null,null,null,null,null,null,null,null,null,{"$f":"IF('Relevés de  commissions'!D16008=\"AGI externes\",'Relevés de  commissions'!M16008,0)*1","v":0},{"$f":"IF('Relevés de  commissions'!D16008=\"AGI externes\",'Relevés de  commissions'!N16008,0)*1","v":0},{"$f":"IF('Relevés de  commissions'!D16008=\"AGI externes\",'Relevés de  commissions'!O16008,0)*1","v":0},{"$f":"IF('Relevés de  commissions'!D16008=\"AGI externes\",'Relevés de  commissions'!P16008,0)*1","v":0},0,""]
[null,null,null,null,null,null,null,null,null,null,null,null,{"$f":"IF('Relevés de  commissions'!D16018=\"AGI externes\",'Relevés de  commissions'!M16018,0)*1","v":0},{"$f":"IF('Relevés de  commissions'!D16018=\"AGI externes\",'Relevés de  commissions'!N16018,0)*1","v":0},{"$f":"IF('Relevés de  commissions'!D16018=\"AGI externes\",'Relevés de  commissions'!O16018,0)*1","v":0},{"$f":"IF('Relevés de  commissions'!D16018=\"AGI externes\",'Relevés de  commissions'!P16018,0)*1","v":0},0,""]
[null,null,null,null,null,null,null,null,null,null,null,null,{"$f":"IF('Relevés de  commissions'!D16035=\"AGI externes\",'Relevés de  commissions'!M16035,0)*1","v":0},{"$f":"IF('Relevés de  commissions'!D16035=\"AGI externes\",'Relevés de  commissions'!N16035,0)*1","v":0},{"$f":"IF('Relevés de  commissions'!D16035=\"AGI externes\",'Relevés de  commissions'!O16035,0)*1","v":0},{"$f":"IF('Relevés de  commissions'!D16035=\"AGI externes\",'Relevés de  commissions'!P16035,0)*1","v":0},0,""]
[null,null,null,null,null,null,null,null,null,null,null,null,{"$f":"IF('Relevés de  commissions'!D16045=\"AGI externes\",'Relevés de  commissions'!M16045,0)*1","v":0},{"$f":"IF('Relevés de  commissions'!D16045=\"AGI externes\",'Relevés de  commissions'!N16045,0)*1","v":0},{"$f":"IF('Relevés de  commissions'!D16045=\"AGI externes\",'Relevés de  commissions'!O16045,0)*1","v":0},{"$f":"IF('Relevés de  commissions'!D16045=\"AGI externes\",'Relevés de  commissions'!P16045,0)*1","v":0},0,""]
[null,null,null,null,null,null,null,null,null,null,null,null,{"$f":"IF('Relevés de  commissions'!D16056=\"AGI externes\",'Relevés de  commissions'!M16056,0)*1","v":0},{"$f":"IF('Relevés de  commissions'!D16056=\"AGI externes\",'Relevés de  commissions'!N16056,0)*1","v":0},{"$f":"IF('Relevés de  commissions'!D16056=\"AGI externes\",'Relevés de  commissions'!O16056,0)*1","v":0},{"$f":"IF('Relevés de  commissions'!D16056=\"AGI externes\",'Relevés de  commissions'!P16056,0)*1","v":0},0,""]
[null,null,null,null,null,null,null,null,null,null,null,null,{"$f":"IF('Relevés de  commissions'!D16067=\"AGI externes\",'Relevés de  commissions'!M16067,0)*1","v":0},{"$f":"IF('Relevés de  commissions'!D16067=\"AGI externes\",'Relevés de  commissions'!N16067,0)*1","v":0},{"$f":"IF('Relevés de  commissions'!D16067=\"AGI externes\",'Relevés de  commissions'!O16067,0)*1","v":0},{"$f":"IF('Relevés de  commissions'!D16067=\"AGI externes\",'Relevés de  commissions'!P16067,0)*1","v":0},{"$f":"IF(N16069=0,O16069,\"\")","v":0},""]
[null,null,null,null,null,null,null,null,null,null,null,null,{"$f":"IF('Relevés de  commissions'!D16077=\"AGI externes\",'Relevés de  commissions'!M16077,0)*1","v":0},{"$f":"IF('Relevés de  commissions'!D16077=\"AGI externes\",'Relevés de  commissions'!N16077,0)*1","v":0},{"$f":"IF('Relevés de  commissions'!D16077=\"AGI externes\",'Relevés de  commissions'!O16077,0)*1","v":0},{"$f":"IF('Relevés de  commissions'!D16077=\"AGI externes\",'Relevés de  commissions'!P16077,0)*1","v":0},0,""]
[null,null,null,null,null,null,null,null,null,null,null,null,{"$f":"IF('Relevés de  commissions'!D16083=\"AGI externes\",'Relevés de  commissions'!M16083,0)*1","v":0},{"$f":"IF('Relevés de  commissions'!D16083=\"AGI externes\",'Relevés de  commissions'!N16083,0)*1","v":0},{"$f":"IF('Relevés de  commissions'!D16083=\"AGI externes\",'Relevés de  commissions'!O16083,0)*1","v":0},{"$f":"IF('Relevés de  commissions'!D16083=\"AGI externes\",'Relevés de  commissions'!P16083,0)*1","v":0},0,""]
[null,null,null,null,null,null,null,null,null,null,null,null,{"$f":"IF('Relevés de  commissions'!D16100=\"AGI externes\",'Relevés de  commissions'!M16100,0)*1","v":0},{"$f":"IF('Relevés de  commissions'!D16100=\"AGI externes\",'Relevés de  commissions'!N16100,0)*1","v":0},{"$f":"IF('Relevés de  commissions'!D16100=\"AGI externes\",'Relevés de  commissions'!O16100,0)*1","v":0},{"$f":"IF('Relevés de  commissions'!D16100=\"AGI externes\",'Relevés de  commissions'!P16100,0)*1","v":0},0,""]
[null,null,null,null,null,null,null,null,null,null,null,null,{"$f":"IF('Relevés de  commissions'!D16110=\"AGI externes\",'Relevés de  commissions'!M16110,0)*1","v":0},{"$f":"IF('Relevés de  commissions'!D16110=\"AGI externes\",'Relevés de  commissions'!N16110,0)*1","v":0},{"$f":"IF('Relevés de  commissions'!D16110=\"AGI externes\",'Relevés de  commissions'!O16110,0)*1","v":0},{"$f":"IF('Relevés de  commissions'!D16110=\"AGI externes\",'Relevés de  commissions'!P16110,0)*1","v":0},0,""]
[null,null,null,null,null,null,null,null,null,null,null,null,{"$f":"IF('Relevés de  commissions'!D16123=\"AGI externes\",'Relevés de  commissions'!M16123,0)*1","v":0},{"$f":"IF('Relevés de  commissions'!D16123=\"AGI externes\",'Relevés de  commissions'!N16123,0)*1","v":0},{"$f":"IF('Relevés de  commissions'!D16123=\"AGI externes\",'Relevés de  commissions'!O16123,0)*1","v":0},{"$f":"IF('Relevés de  commissions'!D16123=\"AGI externes\",'Relevés de  commissions'!P16123,0)*1","v":0},0,""]
[null,null,null,null,null,null,null,null,null,null,null,null,{"$f":"IF('Relevés de  commissions'!D16125=\"AGI externes\",'Relevés de  commissions'!M16125,0)*1","v":0},{"$f":"IF('Relevés de  commissions'!D16125=\"AGI externes\",'Relevés de  commissions'!N16125,0)*1","v":0},{"$f":"IF('Relevés de  commissions'!D16125=\"AGI externes\",'Relevés de  commissions'!O16125,0)*1","v":0},{"$f":"IF('Relevés de  commissions'!D16125=\"AGI externes\",'Relevés de  commissions'!P16125,0)*1","v":0},0,""]
[null,null,null,null,null,null,null,null,null,null,null,null,{"$f":"IF('Relevés de  commissions'!D16142=\"AGI externes\",'Relevés de  commissions'!M16142,0)*1","v":0},{"$f":"IF('Relevés de  commissions'!D16142=\"AGI externes\",'Relevés de  commissions'!N16142,0)*1","v":0},{"$f":"IF('Relevés de  commissions'!D16142=\"AGI externes\",'Relevés de  commissions'!O16142,0)*1","v":0},{"$f":"IF('Relevés de  commissions'!D16142=\"AGI externes\",'Relevés de  commissions'!P16142,0)*1","v":0},0,""]
[null,null,null,null,null,null,null,null,null,null,null,null,{"$f":"IF('Relevés de  commissions'!D16148=\"AGI externes\",'Relevés de  commissions'!M16148,0)*1","v":0},{"$f":"IF('Relevés de  commissions'!D16148=\"AGI externes\",'Relevés de  commissions'!N16148,0)*1","v":0},{"$f":"IF('Relevés de  commissions'!D16148=\"AGI externes\",'Relevés de  commissions'!O16148,0)*1","v":0},{"$f":"IF('Relevés de  commissions'!D16148=\"AGI externes\",'Relevés de  commissions'!P16148,0)*1","v":0},0,""]
[null,null,null,null,null,null,null,null,null,null,null,null,{"$f":"IF('Relevés de  commissions'!D16158=\"AGI externes\",'Relevés de  commissions'!M16158,0)*1","v":0},{"$f":"IF('Relevés de  commissions'!D16158=\"AGI externes\",'Relevés de  commissions'!N16158,0)*1","v":0},{"$f":"IF('Relevés de  commissions'!D16158=\"AGI externes\",'Relevés de  commissions'!O16158,0)*1","v":0},{"$f":"IF('Relevés de  commissions'!D16158=\"AGI externes\",'Relevés de  commissions'!P16158,0)*1","v":0},0,""]
[null,null,null,null,null,null,null,null,null,null,null,null,{"$f":"IF('Relevés de  commissions'!D16175=\"AGI externes\",'Relevés de  commissions'!M16175,0)*1","v":0},{"$f":"IF('Relevés de  commissions'!D16175=\"AGI externes\",'Relevés de  commissions'!N16175,0)*1","v":0},{"$f":"IF('Relevés de  commissions'!D16175=\"AGI externes\",'Relevés de  commissions'!O16175,0)*1","v":0},{"$f":"IF('Relevés de  commissions'!D16175=\"AGI externes\",'Relevés de  commissions'!P16175,0)*1","v":0},0,""]
[null,null,null,null,null,null,null,null,null,null,null,null,{"$f":"IF('Relevés de  commissions'!D16180=\"AGI externes\",'Relevés de  commissions'!M16180,0)*1","v":0},{"$f":"IF('Relevés de  commissions'!D16180=\"AGI externes\",'Relevés de  commissions'!N16180,0)*1","v":0},{"$f":"IF('Relevés de  commissions'!D16180=\"AGI externes\",'Relevés de  commissions'!O16180,0)*1","v":0},{"$f":"IF('Relevés de  commissions'!D16180=\"AGI externes\",'Relevés de  commissions'!P16180,0)*1","v":0},0,""]
[null,null,null,null,null,null,null,null,null,null,null,null,{"$f":"IF('Relevés de  commissions'!D16190=\"AGI externes\",'Relevés de  commissions'!M16190,0)*1","v":0},{"$f":"IF('Relevés de  commissions'!D16190=\"AGI externes\",'Relevés de  commissions'!N16190,0)*1","v":0},{"$f":"IF('Relevés de  commissions'!D16190=\"AGI externes\",'Relevés de  commissions'!O16190,0)*1","v":0},{"$f":"IF('Relevés de  commissions'!D16190=\"AGI externes\",'Relevés de  commissions'!P16190,0)*1","v":0},0,""]
[null,null,null,null,null,null,null,null,null,null,null,null,{"$f":"IF('Relevés de  commissions'!D16207=\"AGI externes\",'Relevés de  commissions'!M16207,0)*1","v":0},{"$f":"IF('Relevés de  commissions'!D16207=\"AGI externes\",'Relevés de  commissions'!N16207,0)*1","v":0},{"$f":"IF('Relevés de  commissions'!D16207=\"AGI externes\",'Relevés de  commissions'!O16207,0)*1","v":0},{"$f":"IF('Relevés de  commissions'!D16207=\"AGI externes\",'Relevés de  commissions'!P16207,0)*1","v":0},0,""]
[null,null,null,null,null,null,null,null,null,null,null,null,{"$f":"IF('Relevés de  commissions'!D16217=\"AGI externes\",'Relevés de  commissions'!M16217,0)*1","v":0},{"$f":"IF('Relevés de  commissions'!D16217=\"AGI externes\",'Relevés de  commissions'!N16217,0)*1","v":0},{"$f":"IF('Relevés de  commissions'!D16217=\"AGI externes\",'Relevés de  commissions'!O16217,0)*1","v":0},{"$f":"IF('Relevés de  commissions'!D16217=\"AGI externes\",'Relevés de  commissions'!P16217,0)*1","v":0},0,""]
[null,null,null,null,null,null,null,null,null,null,null,null,{"$f":"IF('Relevés de  commissions'!D16223=\"AGI externes\",'Relevés de  commissions'!M16223,0)*1","v":0},{"$f":"IF('Relevés de  commissions'!D16223=\"AGI externes\",'Relevés de  commissions'!N16223,0)*1","v":0},{"$f":"IF('Relevés de  commissions'!D16223=\"AGI externes\",'Relevés de  commissions'!O16223,0)*1","v":0},{"$f":"IF('Relevés de  commissions'!D16223=\"AGI externes\",'Relevés de  commissions'!P16223,0)*1","v":0},0,""]
[null,null,null,null,null,null,null,null,null,null,null,null,{"$f":"IF('Relevés de  commissions'!D16240=\"AGI externes\",'Relevés de  commissions'!M16240,0)*1","v":0},{"$f":"IF('Relevés de  commissions'!D16240=\"AGI externes\",'Relevés de  commissions'!N16240,0)*1","v":0},{"$f":"IF('Relevés de  commissions'!D16240=\"AGI externes\",'Relevés de  commissions'!O16240,0)*1","v":0},{"$f":"IF('Relevés de  commissions'!D16240=\"AGI externes\",'Relevés de  commissions'!P16240,0)*1","v":0},0,""]
[null,null,null,null,null,null,null,null,null,null,null,null,{"$f":"IF('Relevés de  commissions'!D16253=\"AGI externes\",'Relevés de  commissions'!M16253,0)*1","v":0},{"$f":"IF('Relevés de  commissions'!D16253=\"AGI externes\",'Relevés de  commissions'!N16253,0)*1","v":0},{"$f":"IF('Relevés de  commissions'!D16253=\"AGI externes\",'Relevés de  commissions'!O16253,0)*1","v":0},{"$f":"IF('Relevés de  commissions'!D16253=\"AGI externes\",'Relevés de  commissions'!P16253,0)*1","v":0},0,""]
[null,null,null,null,null,null,null,null,null,null,null,null,{"$f":"IF('Relevés de  commissions'!D16255=\"AGI externes\",'Relevés de  commissions'!M16255,0)*1","v":0},{"$f":"IF('Relevés de  commissions'!D16255=\"AGI externes\",'Relevés de  commissions'!N16255,0)*1","v":0},{"$f":"IF('Relevés de  commissions'!D16255=\"AGI externes\",'Relevés de  commissions'!O16255,0)*1","v":0},{"$f":"IF('Relevés de  commissions'!D16255=\"AGI externes\",'Relevés de  commissions'!P16255,0)*1","v":0},0,""]
[null,null,null,null,null,null,null,null,null,null,null,null,{"$f":"IF('Relevés de  commissions'!D16276=\"AGI externes\",'Relevés de  commissions'!M16276,0)*1","v":0},{"$f":"IF('Relevés de  commissions'!D16276=\"AGI externes\",'Relevés de  commissions'!N16276,0)*1","v":0},{"$f":"IF('Relevés de  commissions'!D16276=\"AGI externes\",'Relevés de  commissions'!O16276,0)*1","v":0},{"$f":"IF('Relevés de  commissions'!D16276=\"AGI externes\",'Relevés de  commissions'!P16276,0)*1","v":0},0,""]
[null,null,null,null,null,null,null,null,null,null,null,null,{"$f":"IF('Relevés de  commissions'!D16282=\"AGI externes\",'Relevés de  commissions'!M16282,0)*1","v":0},{"$f":"IF('Relevés de  commissions'!D16282=\"AGI externes\",'Relevés de  commissions'!N16282,0)*1","v":0},{"$f":"IF('Relevés de  commissions'!D16282=\"AGI externes\",'Relevés de  commissions'!O16282,0)*1","v":0},{"$f":"IF('Relevés de  commissions'!D16282=\"AGI externes\",'Relevés de  commissions'!P16282,0)*1","v":0},0,""]
[null,null,null,null,null,null,null,null,null,null,null,null,{"$f":"IF('Relevés de  commissions'!D16288=\"AGI externes\",'Relevés de  commissions'!M16288,0)*1","v":0},{"$f":"IF('Relevés de  commissions'!D16288=\"AGI externes\",'Relevés de  commissions'!N16288,0)*1","v":0},{"$f":"IF('Relevés de  commissions'!D16288=\"AGI externes\",'Relevés de  commissions'!O16288,0)*1","v":0},{"$f":"IF('Relevés de  commissions'!D16288=\"AGI externes\",'Relevés de  commissions'!P16288,0)*1","v":0},0,""]
[null,null,null,null,null,null,null,null,null,null,null,null,{"$f":"IF('Relevés de  commissions'!D16309=\"AGI externes\",'Relevés de  commissions'!M16309,0)*1","v":0},{"$f":"IF('Relevés de  commissions'!D16309=\"AGI externes\",'Relevés de  commissions'!N16309,0)*1","v":0},{"$f":"IF('Relevés de  commissions'!D16309=\"AGI externes\",'Relevés de  commissions'!O16309,0)*1","v":0},{"$f":"IF('Relevés de  commissions'!D16309=\"AGI externes\",'Relevés de  commissions'!P16309,0)*1","v":0},0,{"$f":"IF(N16311=10,O16311,\"\")","v":""}]
[null,null,null,null,null,null,null,null,null,null,null,null,{"$f":"IF('Relevés de  commissions'!D16310=\"AGI externes\",'Relevés de  commissions'!M16310,0)*1","v":0},{"$f":"IF('Relevés de  commissions'!D16310=\"AGI externes\",'Relevés de  commissions'!N16310,0)*1","v":0},{"$f":"IF('Relevés de  commissions'!D16310=\"AGI externes\",'Relevés de  commissions'!O16310,0)*1","v":0},{"$f":"IF('Relevés de  commissions'!D16310=\"AGI externes\",'Relevés de  commissions'!P16310,0)*1","v":0},0,""]
[null,null,null,null,null,null,null,null,null,null,null,null,{"$f":"IF('Relevés de  commissions'!D16320=\"AGI externes\",'Relevés de  commissions'!M16320,0)*1","v":0},{"$f":"IF('Relevés de  commissions'!D16320=\"AGI externes\",'Relevés de  commissions'!N16320,0)*1","v":0},{"$f":"IF('Relevés de  commissions'!D16320=\"AGI externes\",'Relevés de  commissions'!O16320,0)*1","v":0},{"$f":"IF('Relevés de  commissions'!D16320=\"AGI externes\",'Relevés de  commissions'!P16320,0)*1","v":0},0,""]
[null,null,null,null,null,null,null,null,null,null,null,null,{"$f":"IF('Relevés de  commissions'!D16341=\"AGI externes\",'Relevés de  commissions'!M16341,0)*1","v":0},{"$f":"IF('Relevés de  commissions'!D16341=\"AGI externes\",'Relevés de  commissions'!N16341,0)*1","v":0},{"$f":"IF('Relevés de  commissions'!D16341=\"AGI externes\",'Relevés de  commissions'!O16341,0)*1","v":0},{"$f":"IF('Relevés de  commissions'!D16341=\"AGI externes\",'Relevés de  commissions'!P16341,0)*1","v":0},0,""]
[null,null,null,null,null,null,null,null,null,null,null,null,{"$f":"IF('Relevés de  commissions'!D16347=\"AGI externes\",'Relevés de  commissions'!M16347,0)*1","v":0},{"$f":"IF('Relevés de  commissions'!D16347=\"AGI externes\",'Relevés de  commissions'!N16347,0)*1","v":0},{"$f":"IF('Relevés de  commissions'!D16347=\"AGI externes\",'Relevés de  commissions'!O16347,0)*1","v":0},{"$f":"IF('Relevés de  commissions'!D16347=\"AGI externes\",'Relevés de  commissions'!P16347,0)*1","v":0},0,""]
[null,null,null,null,null,null,null,null,null,null,null,null,{"$f":"IF('Relevés de  commissions'!D16357=\"AGI externes\",'Relevés de  commissions'!M16357,0)*1","v":0},{"$f":"IF('Relevés de  commissions'!D16357=\"AGI externes\",'Relevés de  commissions'!N16357,0)*1","v":0},{"$f":"IF('Relevés de  commissions'!D16357=\"AGI externes\",'Relevés de  commissions'!O16357,0)*1","v":0},{"$f":"IF('Relevés de  commissions'!D16357=\"AGI externes\",'Relevés de  commissions'!P16357,0)*1","v":0},0,""]
[null,null,null,null,null,null,null,null,null,null,null,null,{"$f":"IF('Relevés de  commissions'!D16374=\"AGI externes\",'Relevés de  commissions'!M16374,0)*1","v":0},{"$f":"IF('Relevés de  commissions'!D16374=\"AGI externes\",'Relevés de  commissions'!N16374,0)*1","v":0},{"$f":"IF('Relevés de  commissions'!D16374=\"AGI externes\",'Relevés de  commissions'!O16374,0)*1","v":0},{"$f":"IF('Relevés de  commissions'!D16374=\"AGI externes\",'Relevés de  commissions'!P16374,0)*1","v":0},0,""]
[null,null,null,null,null,null,null,null,null,null,null,null,{"$f":"IF('Relevés de  commissions'!D16377=\"AGI externes\",'Relevés de  commissions'!M16377,0)*1","v":0},{"$f":"IF('Relevés de  commissions'!D16377=\"AGI externes\",'Relevés de  commissions'!N16377,0)*1","v":0},{"$f":"IF('Relevés de  commissions'!D16377=\"AGI externes\",'Relevés de  commissions'!O16377,0)*1","v":0},{"$f":"IF('Relevés de  commissions'!D16377=\"AGI externes\",'Relevés de  commissions'!P16377,0)*1","v":0},0,""]
[null,null,null,null,null,null,null,null,null,null,null,null,{"$f":"IF('Relevés de  commissions'!D16389=\"AGI externes\",'Relevés de  commissions'!M16389,0)*1","v":0},{"$f":"IF('Relevés de  commissions'!D16389=\"AGI externes\",'Relevés de  commissions'!N16389,0)*1","v":0},{"$f":"IF('Relevés de  commissions'!D16389=\"AGI externes\",'Relevés de  commissions'!O16389,0)*1","v":0},{"$f":"IF('Relevés de  commissions'!D16389=\"AGI externes\",'Relevés de  commissions'!P16389,0)*1","v":0},0,""]
[null,null,null,null,null,null,null,null,null,null,null,null,{"$f":"IF('Relevés de  commissions'!D16406=\"AGI externes\",'Relevés de  commissions'!M16406,0)*1","v":0},{"$f":"IF('Relevés de  commissions'!D16406=\"AGI externes\",'Relevés de  commissions'!N16406,0)*1","v":0},{"$f":"IF('Relevés de  commissions'!D16406=\"AGI externes\",'Relevés de  commissions'!O16406,0)*1","v":0},{"$f":"IF('Relevés de  commissions'!D16406=\"AGI externes\",'Relevés de  commissions'!P16406,0)*1","v":0},0,""]
[null,null,null,null,null,null,null,null,null,null,null,null,{"$f":"IF('Relevés de  commissions'!D16416=\"AGI externes\",'Relevés de  commissions'!M16416,0)*1","v":0},{"$f":"IF('Relevés de  commissions'!D16416=\"AGI externes\",'Relevés de  commissions'!N16416,0)*1","v":0},{"$f":"IF('Relevés de  commissions'!D16416=\"AGI externes\",'Relevés de  commissions'!O16416,0)*1","v":0},{"$f":"IF('Relevés de  commissions'!D16416=\"AGI externes\",'Relevés de  commissions'!P16416,0)*1","v":0},0,""]
[null,null,null,null,null,null,null,null,null,null,null,null,{"$f":"IF('Relevés de  commissions'!D16422=\"AGI externes\",'Relevés de  commissions'!M16422,0)*1","v":0},{"$f":"IF('Relevés de  commissions'!D16422=\"AGI externes\",'Relevés de  commissions'!N16422,0)*1","v":0},{"$f":"IF('Relevés de  commissions'!D16422=\"AGI externes\",'Relevés de  commissions'!O16422,0)*1","v":0},{"$f":"IF('Relevés de  commissions'!D16422=\"AGI externes\",'Relevés de  commissions'!P16422,0)*1","v":0},0,""]
[null,null,null,null,null,null,null,null,null,null,null,null,{"$f":"IF('Relevés de  commissions'!D16439=\"AGI externes\",'Relevés de  commissions'!M16439,0)*1","v":0},{"$f":"IF('Relevés de  commissions'!D16439=\"AGI externes\",'Relevés de  commissions'!N16439,0)*1","v":0},{"$f":"IF('Relevés de  commissions'!D16439=\"AGI externes\",'Relevés de  commissions'!O16439,0)*1","v":0},{"$f":"IF('Relevés de  commissions'!D16439=\"AGI externes\",'Relevés de  commissions'!P16439,0)*1","v":0},0,""]
[null,null,null,null,null,null,null,null,null,null,null,null,{"$f":"IF('Relevés de  commissions'!D16440=\"AGI externes\",'Relevés de  commissions'!M16440,0)*1","v":0},{"$f":"IF('Relevés de  commissions'!D16440=\"AGI externes\",'Relevés de  commissions'!N16440,0)*1","v":0},{"$f":"IF('Relevés de  commissions'!D16440=\"AGI externes\",'Relevés de  commissions'!O16440,0)*1","v":0},{"$f":"IF('Relevés de  commissions'!D16440=\"AGI externes\",'Relevés de  commissions'!P16440,0)*1","v":0},0,""]
[null,null,null,null,null,null,null,null,null,null,null,null,{"$f":"IF('Relevés de  commissions'!D16454=\"AGI externes\",'Relevés de  commissions'!M16454,0)*1","v":0},{"$f":"IF('Relevés de  commissions'!D16454=\"AGI externes\",'Relevés de  commissions'!N16454,0)*1","v":0},{"$f":"IF('Relevés de  commissions'!D16454=\"AGI externes\",'Relevés de  commissions'!O16454,0)*1","v":0},{"$f":"IF('Relevés de  commissions'!D16454=\"AGI externes\",'Relevés de  commissions'!P16454,0)*1","v":0},0,""]
[null,null,null,null,null,null,null,null,null,null,null,null,{"$f":"IF('Relevés de  commissions'!D16471=\"AGI externes\",'Relevés de  commissions'!M16471,0)*1","v":0},{"$f":"IF('Relevés de  commissions'!D16471=\"AGI externes\",'Relevés de  commissions'!N16471,0)*1","v":0},{"$f":"IF('Relevés de  commissions'!D16471=\"AGI externes\",'Relevés de  commissions'!O16471,0)*1","v":0},{"$f":"IF('Relevés de  commissions'!D16471=\"AGI externes\",'Relevés de  commissions'!P16471,0)*1","v":0},0,""]
[null,null,null,null,null,null,null,null,null,null,null,null,{"$f":"IF('Relevés de  commissions'!D16481=\"AGI externes\",'Relevés de  commissions'!M16481,0)*1","v":0},{"$f":"IF('Relevés de  commissions'!D16481=\"AGI externes\",'Relevés de  commissions'!N16481,0)*1","v":0},{"$f":"IF('Relevés de  commissions'!D16481=\"AGI externes\",'Relevés de  commissions'!O16481,0)*1","v":0},{"$f":"IF('Relevés de  commissions'!D16481=\"AGI externes\",'Relevés de  commissions'!P16481,0)*1","v":0},0,""]
[null,null,null,null,null,null,null,null,null,null,null,null,{"$f":"IF('Relevés de  commissions'!D16487=\"AGI externes\",'Relevés de  commissions'!M16487,0)*1","v":0},{"$f":"IF('Relevés de  commissions'!D16487=\"AGI externes\",'Relevés de  commissions'!N16487,0)*1","v":0},{"$f":"IF('Relevés de  commissions'!D16487=\"AGI externes\",'Relevés de  commissions'!O16487,0)*1","v":0},{"$f":"IF('Relevés de  commissions'!D16487=\"AGI externes\",'Relevés de  commissions'!P16487,0)*1","v":0},0,""]
[null,null,null,null,null,null,null,null,null,null,null,null,{"$f":"IF('Relevés de  commissions'!D16497=\"AGI externes\",'Relevés de  commissions'!M16497,0)*1","v":0},{"$f":"IF('Relevés de  commissions'!D16497=\"AGI externes\",'Relevés de  commissions'!N16497,0)*1","v":0},{"$f":"IF('Relevés de  commissions'!D16497=\"AGI externes\",'Relevés de  commissions'!O16497,0)*1","v":0},{"$f":"IF('Relevés de  commissions'!D16497=\"AGI externes\",'Relevés de  commissions'!P16497,0)*1","v":0},0,""]
[null,null,null,null,null,null,null,null,null,null,null,null,{"$f":"IF('Relevés de  commissions'!D16507=\"AGI externes\",'Relevés de  commissions'!M16507,0)*1","v":0},{"$f":"IF('Relevés de  commissions'!D16507=\"AGI externes\",'Relevés de  commissions'!N16507,0)*1","v":0},{"$f":"IF('Relevés de  commissions'!D16507=\"AGI externes\",'Relevés de  commissions'!O16507,0)*1","v":0},{"$f":"IF('Relevés de  commissions'!D16507=\"AGI externes\",'Relevés de  commissions'!P16507,0)*1","v":0},0,""]
[null,null,null,null,null,null,null,null,null,null,null,null,{"$f":"IF('Relevés de  commissions'!D16519=\"AGI externes\",'Relevés de  commissions'!M16519,0)*1","v":0},{"$f":"IF('Relevés de  commissions'!D16519=\"AGI externes\",'Relevés de  commissions'!N16519,0)*1","v":0},{"$f":"IF('Relevés de  commissions'!D16519=\"AGI externes\",'Relevés de  commissions'!O16519,0)*1","v":0},{"$f":"IF('Relevés de  commissions'!D16519=\"AGI externes\",'Relevés de  commissions'!P16519,0)*1","v":0},0,""]
[null,null,null,null,null,null,null,null,null,null,null,null,{"$f":"IF('Relevés de  commissions'!D16529=\"AGI externes\",'Relevés de  commissions'!M16529,0)*1","v":0},{"$f":"IF('Relevés de  commissions'!D16529=\"AGI externes\",'Relevés de  commissions'!N16529,0)*1","v":0},{"$f":"IF('Relevés de  commissions'!D16529=\"AGI externes\",'Relevés de  commissions'!O16529,0)*1","v":0},{"$f":"IF('Relevés de  commissions'!D16529=\"AGI externes\",'Relevés de  commissions'!P16529,0)*1","v":0},0,""]
[null,null,null,null,null,null,null,null,null,null,null,null,{"$f":"IF('Relevés de  commissions'!D16546=\"AGI externes\",'Relevés de  commissions'!M16546,0)*1","v":0},{"$f":"IF('Relevés de  commissions'!D16546=\"AGI externes\",'Relevés de  commissions'!N16546,0)*1","v":0},{"$f":"IF('Relevés de  commissions'!D16546=\"AGI externes\",'Relevés de  commissions'!O16546,0)*1","v":0},{"$f":"IF('Relevés de  commissions'!D16546=\"AGI externes\",'Relevés de  commissions'!P16546,0)*1","v":0},0,""]
[null,null,null,null,null,null,null,null,null,null,null,null,{"$f":"IF('Relevés de  commissions'!D16552=\"AGI externes\",'Relevés de  commissions'!M16552,0)*1","v":0},{"$f":"IF('Relevés de  commissions'!D16552=\"AGI externes\",'Relevés de  commissions'!N16552,0)*1","v":0},{"$f":"IF('Relevés de  commissions'!D16552=\"AGI externes\",'Relevés de  commissions'!O16552,0)*1","v":0},{"$f":"IF('Relevés de  commissions'!D16552=\"AGI externes\",'Relevés de  commissions'!P16552,0)*1","v":0},0,""]
[null,null,null,null,null,null,null,null,null,null,null,null,{"$f":"IF('Relevés de  commissions'!D16562=\"AGI externes\",'Relevés de  commissions'!M16562,0)*1","v":0},{"$f":"IF('Relevés de  commissions'!D16562=\"AGI externes\",'Relevés de  commissions'!N16562,0)*1","v":0},{"$f":"IF('Relevés de  commissions'!D16562=\"AGI externes\",'Relevés de  commissions'!O16562,0)*1","v":0},{"$f":"IF('Relevés de  commissions'!D16562=\"AGI externes\",'Relevés de  commissions'!P16562,0)*1","v":0},0,""]
[null,null,null,null,null,null,null,null,null,null,null,null,{"$f":"IF('Relevés de  commissions'!D16574=\"AGI externes\",'Relevés de  commissions'!M16574,0)*1","v":0},{"$f":"IF('Relevés de  commissions'!D16574=\"AGI externes\",'Relevés de  commissions'!N16574,0)*1","v":0},{"$f":"IF('Relevés de  commissions'!D16574=\"AGI externes\",'Relevés de  commissions'!O16574,0)*1","v":0},{"$f":"IF('Relevés de  commissions'!D16574=\"AGI externes\",'Relevés de  commissions'!P16574,0)*1","v":0},0,""]
[null,null,null,null,null,null,null,null,null,null,null,null,{"$f":"IF('Relevés de  commissions'!D16588=\"AGI externes\",'Relevés de  commissions'!M16588,0)*1","v":0},{"$f":"IF('Relevés de  commissions'!D16588=\"AGI externes\",'Relevés de  commissions'!N16588,0)*1","v":0},{"$f":"IF('Relevés de  commissions'!D16588=\"AGI externes\",'Relevés de  commissions'!O16588,0)*1","v":0},{"$f":"IF('Relevés de  commissions'!D16588=\"AGI externes\",'Relevés de  commissions'!P16588,0)*1","v":0},0,""]
[null,null,null,null,null,null,null,null,null,null,null,null,{"$f":"IF('Relevés de  commissions'!D16594=\"AGI externes\",'Relevés de  commissions'!M16594,0)*1","v":0},{"$f":"IF('Relevés de  commissions'!D16594=\"AGI externes\",'Relevés de  commissions'!N16594,0)*1","v":0},{"$f":"IF('Relevés de  commissions'!D16594=\"AGI externes\",'Relevés de  commissions'!O16594,0)*1","v":0},{"$f":"IF('Relevés de  commissions'!D16594=\"AGI externes\",'Relevés de  commissions'!P16594,0)*1","v":0},0,""]
[null,null,null,null,null,null,null,null,null,null,null,null,{"$f":"IF('Relevés de  commissions'!D16611=\"AGI externes\",'Relevés de  commissions'!M16611,0)*1","v":0},{"$f":"IF('Relevés de  commissions'!D16611=\"AGI externes\",'Relevés de  commissions'!N16611,0)*1","v":0},{"$f":"IF('Relevés de  commissions'!D16611=\"AGI externes\",'Relevés de  commissions'!O16611,0)*1","v":0},{"$f":"IF('Relevés de  commissions'!D16611=\"AGI externes\",'Relevés de  commissions'!P16611,0)*1","v":0},0,""]
[null,null,null,null,null,null,null,null,null,null,null,null,{"$f":"IF('Relevés de  commissions'!D16621=\"AGI externes\",'Relevés de  commissions'!M16621,0)*1","v":0},{"$f":"IF('Relevés de  commissions'!D16621=\"AGI externes\",'Relevés de  commissions'!N16621,0)*1","v":0},{"$f":"IF('Relevés de  commissions'!D16621=\"AGI externes\",'Relevés de  commissions'!O16621,0)*1","v":0},{"$f":"IF('Relevés de  commissions'!D16621=\"AGI externes\",'Relevés de  commissions'!P16621,0)*1","v":0},0,""]
[null,null,null,null,null,null,null,null,null,null,null,null,{"$f":"IF('Relevés de  commissions'!D16627=\"AGI externes\",'Relevés de  commissions'!M16627,0)*1","v":0},{"$f":"IF('Relevés de  commissions'!D16627=\"AGI externes\",'Relevés de  commissions'!N16627,0)*1","v":0},{"$f":"IF('Relevés de  commissions'!D16627=\"AGI externes\",'Relevés de  commissions'!O16627,0)*1","v":0},{"$f":"IF('Relevés de  commissions'!D16627=\"AGI externes\",'Relevés de  commissions'!P16627,0)*1","v":0},0,""]
[null,null,null,null,null,null,null,null,null,null,null,null,{"$f":"IF('Relevés de  commissions'!D16637=\"AGI externes\",'Relevés de  commissions'!M16637,0)*1","v":0},{"$f":"IF('Relevés de  commissions'!D16637=\"AGI externes\",'Relevés de  commissions'!N16637,0)*1","v":0},{"$f":"IF('Relevés de  commissions'!D16637=\"AGI externes\",'Relevés de  commissions'!O16637,0)*1","v":0},{"$f":"IF('Relevés de  commissions'!D16637=\"AGI externes\",'Relevés de  commissions'!P16637,0)*1","v":0},0,""]
[null,null,null,null,null,null,null,null,null,null,null,null,{"$f":"IF('Relevés de  commissions'!D16653=\"AGI externes\",'Relevés de  commissions'!M16653,0)*1","v":0},{"$f":"IF('Relevés de  commissions'!D16653=\"AGI externes\",'Relevés de  commissions'!N16653,0)*1","v":0},{"$f":"IF('Relevés de  commissions'!D16653=\"AGI externes\",'Relevés de  commissions'!O16653,0)*1","v":0},{"$f":"IF('Relevés de  commissions'!D16653=\"AGI externes\",'Relevés de  commissions'!P16653,0)*1","v":0},0,""]
[null,null,null,null,null,null,null,null,null,null,null,null,{"$f":"IF('Relevés de  commissions'!D16659=\"AGI externes\",'Relevés de  commissions'!M16659,0)*1","v":0},{"$f":"IF('Relevés de  commissions'!D16659=\"AGI externes\",'Relevés de  commissions'!N16659,0)*1","v":0},{"$f":"IF('Relevés de  commissions'!D16659=\"AGI externes\",'Relevés de  commissions'!O16659,0)*1","v":0},{"$f":"IF('Relevés de  commissions'!D16659=\"AGI externes\",'Relevés de  commissions'!P16659,0)*1","v":0},0,""]
[null,null,null,null,null,null,null,null,null,null,null,null,{"$f":"IF('Relevés de  commissions'!D16669=\"AGI externes\",'Relevés de  commissions'!M16669,0)*1","v":0},{"$f":"IF('Relevés de  commissions'!D16669=\"AGI externes\",'Relevés de  commissions'!N16669,0)*1","v":0},{"$f":"IF('Relevés de  commissions'!D16669=\"AGI externes\",'Relevés de  commissions'!O16669,0)*1","v":0},{"$f":"IF('Relevés de  commissions'!D16669=\"AGI externes\",'Relevés de  commissions'!P16669,0)*1","v":0},0,""]
[null,null,null,null,null,null,null,null,null,null,null,null,{"$f":"IF('Relevés de  commissions'!D16686=\"AGI externes\",'Relevés de  commissions'!M16686,0)*1","v":0},{"$f":"IF('Relevés de  commissions'!D16686=\"AGI externes\",'Relevés de  commissions'!N16686,0)*1","v":0},{"$f":"IF('Relevés de  commissions'!D16686=\"AGI externes\",'Relevés de  commissions'!O16686,0)*1","v":0},{"$f":"IF('Relevés de  commissions'!D16686=\"AGI externes\",'Relevés de  commissions'!P16686,0)*1","v":0},0,""]
[null,null,null,null,null,null,null,null,null,null,null,null,{"$f":"IF('Relevés de  commissions'!D16692=\"AGI externes\",'Relevés de  commissions'!M16692,0)*1","v":0},{"$f":"IF('Relevés de  commissions'!D16692=\"AGI externes\",'Relevés de  commissions'!N16692,0)*1","v":0},{"$f":"IF('Relevés de  commissions'!D16692=\"AGI externes\",'Relevés de  commissions'!O16692,0)*1","v":0},{"$f":"IF('Relevés de  commissions'!D16692=\"AGI externes\",'Relevés de  commissions'!P16692,0)*1","v":0},0,""]
[null,null,null,null,null,null,null,null,null,null,null,null,{"$f":"IF('Relevés de  commissions'!D16704=\"AGI externes\",'Relevés de  commissions'!M16704,0)*1","v":0},{"$f":"IF('Relevés de  commissions'!D16704=\"AGI externes\",'Relevés de  commissions'!N16704,0)*1","v":0},{"$f":"IF('Relevés de  commissions'!D16704=\"AGI externes\",'Relevés de  commissions'!O16704,0)*1","v":0},{"$f":"IF('Relevés de  commissions'!D16704=\"AGI externes\",'Relevés de  commissions'!P16704,0)*1","v":0},0,""]
[null,null,null,null,null,null,null,null,null,null,null,null,{"$f":"IF('Relevés de  commissions'!D16718=\"AGI externes\",'Relevés de  commissions'!M16718,0)*1","v":0},{"$f":"IF('Relevés de  commissions'!D16718=\"AGI externes\",'Relevés de  commissions'!N16718,0)*1","v":0},{"$f":"IF('Relevés de  commissions'!D16718=\"AGI externes\",'Relevés de  commissions'!O16718,0)*1","v":0},{"$f":"IF('Relevés de  commissions'!D16718=\"AGI externes\",'Relevés de  commissions'!P16718,0)*1","v":0},0,""]
[null,null,null,null,null,null,null,null,null,null,null,null,{"$f":"IF('Relevés de  commissions'!D16728=\"AGI externes\",'Relevés de  commissions'!M16728,0)*1","v":0},{"$f":"IF('Relevés de  commissions'!D16728=\"AGI externes\",'Relevés de  commissions'!N16728,0)*1","v":0},{"$f":"IF('Relevés de  commissions'!D16728=\"AGI externes\",'Relevés de  commissions'!O16728,0)*1","v":0},{"$f":"IF('Relevés de  commissions'!D16728=\"AGI externes\",'Relevés de  commissions'!P16728,0)*1","v":0},0,""]
[null,null,null,null,null,null,null,null,null,null,null,null,{"$f":"IF('Relevés de  commissions'!D16734=\"AGI externes\",'Relevés de  commissions'!M16734,0)*1","v":0},{"$f":"IF('Relevés de  commissions'!D16734=\"AGI externes\",'Relevés de  commissions'!N16734,0)*1","v":0},{"$f":"IF('Relevés de  commissions'!D16734=\"AGI externes\",'Relevés de  commissions'!O16734,0)*1","v":0},{"$f":"IF('Relevés de  commissions'!D16734=\"AGI externes\",'Relevés de  commissions'!P16734,0)*1","v":0},0,""]
[null,null,null,null,null,null,null,null,null,null,null,null,{"$f":"IF('Relevés de  commissions'!D16751=\"AGI externes\",'Relevés de  commissions'!M16751,0)*1","v":0},{"$f":"IF('Relevés de  commissions'!D16751=\"AGI externes\",'Relevés de  commissions'!N16751,0)*1","v":0},{"$f":"IF('Relevés de  commissions'!D16751=\"AGI externes\",'Relevés de  commissions'!O16751,0)*1","v":0},{"$f":"IF('Relevés de  commissions'!D16751=\"AGI externes\",'Relevés de  commissions'!P16751,0)*1","v":0},0,""]
[null,null,null,null,null,null,null,null,null,null,null,null,{"$f":"IF('Relevés de  commissions'!D16761=\"AGI externes\",'Relevés de  commissions'!M16761,0)*1","v":0},{"$f":"IF('Relevés de  commissions'!D16761=\"AGI externes\",'Relevés de  commissions'!N16761,0)*1","v":0},{"$f":"IF('Relevés de  commissions'!D16761=\"AGI externes\",'Relevés de  commissions'!O16761,0)*1","v":0},{"$f":"IF('Relevés de  commissions'!D16761=\"AGI externes\",'Relevés de  commissions'!P16761,0)*1","v":0},0,""]
[null,null,null,null,null,null,null,null,null,null,null,null,{"$f":"IF('Relevés de  commissions'!D16771=\"AGI externes\",'Relevés de  commissions'!M16771,0)*1","v":0},{"$f":"IF('Relevés de  commissions'!D16771=\"AGI externes\",'Relevés de  commissions'!N16771,0)*1","v":0},{"$f":"IF('Relevés de  commissions'!D16771=\"AGI externes\",'Relevés de  commissions'!O16771,0)*1","v":0},{"$f":"IF('Relevés de  commissions'!D16771=\"AGI externes\",'Relevés de  commissions'!P16771,0)*1","v":0},{"$f":"IF(N16773=0,O16773,\"\")","v":0},""]
[null,null,null,null,null,null,null,null,null,null,null,null,{"$f":"IF('Relevés de  commissions'!D16776=\"AGI externes\",'Relevés de  commissions'!M16776,0)*1","v":0},{"$f":"IF('Relevés de  commissions'!D16776=\"AGI externes\",'Relevés de  commissions'!N16776,0)*1","v":0},{"$f":"IF('Relevés de  commissions'!D16776=\"AGI externes\",'Relevés de  commissions'!O16776,0)*1","v":0},{"$f":"IF('Relevés de  commissions'!D16776=\"AGI externes\",'Relevés de  commissions'!P16776,0)*1","v":0},0,""]
[null,null,null,null,null,null,null,null,null,null,null,null,{"$f":"IF('Relevés de  commissions'!D16793=\"AGI externes\",'Relevés de  commissions'!M16793,0)*1","v":0},{"$f":"IF('Relevés de  commissions'!D16793=\"AGI externes\",'Relevés de  commissions'!N16793,0)*1","v":0},{"$f":"IF('Relevés de  commissions'!D16793=\"AGI externes\",'Relevés de  commissions'!O16793,0)*1","v":0},{"$f":"IF('Relevés de  commissions'!D16793=\"AGI externes\",'Relevés de  commissions'!P16793,0)*1","v":0},0,""]
[null,null,null,null,null,null,null,null,null,null,null,null,{"$f":"IF('Relevés de  commissions'!D16799=\"AGI externes\",'Relevés de  commissions'!M16799,0)*1","v":0},{"$f":"IF('Relevés de  commissions'!D16799=\"AGI externes\",'Relevés de  commissions'!N16799,0)*1","v":0},{"$f":"IF('Relevés de  commissions'!D16799=\"AGI externes\",'Relevés de  commissions'!O16799,0)*1","v":0},{"$f":"IF('Relevés de  commissions'!D16799=\"AGI externes\",'Relevés de  commissions'!P16799,0)*1","v":0},0,""]
[null,null,null,null,null,null,null,null,null,null,null,null,{"$f":"IF('Relevés de  commissions'!D16809=\"AGI externes\",'Relevés de  commissions'!M16809,0)*1","v":0},{"$f":"IF('Relevés de  commissions'!D16809=\"AGI externes\",'Relevés de  commissions'!N16809,0)*1","v":0},{"$f":"IF('Relevés de  commissions'!D16809=\"AGI externes\",'Relevés de  commissions'!O16809,0)*1","v":0},{"$f":"IF('Relevés de  commissions'!D16809=\"AGI externes\",'Relevés de  commissions'!P16809,0)*1","v":0},0,""]
[null,null,null,null,null,null,null,null,null,null,null,null,{"$f":"IF('Relevés de  commissions'!D16826=\"AGI externes\",'Relevés de  commissions'!M16826,0)*1","v":0},{"$f":"IF('Relevés de  commissions'!D16826=\"AGI externes\",'Relevés de  commissions'!N16826,0)*1","v":0},{"$f":"IF('Relevés de  commissions'!D16826=\"AGI externes\",'Relevés de  commissions'!O16826,0)*1","v":0},{"$f":"IF('Relevés de  commissions'!D16826=\"AGI externes\",'Relevés de  commissions'!P16826,0)*1","v":0},0,""]
[null,null,null,null,null,null,null,null,null,null,null,null,{"$f":"IF('Relevés de  commissions'!D16838=\"AGI externes\",'Relevés de  commissions'!M16838,0)*1","v":0},{"$f":"IF('Relevés de  commissions'!D16838=\"AGI externes\",'Relevés de  commissions'!N16838,0)*1","v":0},{"$f":"IF('Relevés de  commissions'!D16838=\"AGI externes\",'Relevés de  commissions'!O16838,0)*1","v":0},{"$f":"IF('Relevés de  commissions'!D16838=\"AGI externes\",'Relevés de  commissions'!P16838,0)*1","v":0},0,""]
[null,null,null,null,null,null,null,null,null,null,null,null,{"$f":"IF('Relevés de  commissions'!D16841=\"AGI externes\",'Relevés de  commissions'!M16841,0)*1","v":0},{"$f":"IF('Relevés de  commissions'!D16841=\"AGI externes\",'Relevés de  commissions'!N16841,0)*1","v":0},{"$f":"IF('Relevés de  commissions'!D16841=\"AGI externes\",'Relevés de  commissions'!O16841,0)*1","v":0},{"$f":"IF('Relevés de  commissions'!D16841=\"AGI externes\",'Relevés de  commissions'!P16841,0)*1","v":0},0,""]
[null,null,null,null,null,null,null,null,null,null,null,null,{"$f":"IF('Relevés de  commissions'!D16858=\"AGI externes\",'Relevés de  commissions'!M16858,0)*1","v":0},{"$f":"IF('Relevés de  commissions'!D16858=\"AGI externes\",'Relevés de  commissions'!N16858,0)*1","v":0},{"$f":"IF('Relevés de  commissions'!D16858=\"AGI externes\",'Relevés de  commissions'!O16858,0)*1","v":0},{"$f":"IF('Relevés de  commissions'!D16858=\"AGI externes\",'Relevés de  commissions'!P16858,0)*1","v":0},0,""]
[null,null,null,null,null,null,null,null,null,null,null,null,{"$f":"IF('Relevés de  commissions'!D16868=\"AGI externes\",'Relevés de  commissions'!M16868,0)*1","v":0},{"$f":"IF('Relevés de  commissions'!D16868=\"AGI externes\",'Relevés de  commissions'!N16868,0)*1","v":0},{"$f":"IF('Relevés de  commissions'!D16868=\"AGI externes\",'Relevés de  commissions'!O16868,0)*1","v":0},{"$f":"IF('Relevés de  commissions'!D16868=\"AGI externes\",'Relevés de  commissions'!P16868,0)*1","v":0},0,""]
[null,null,null,null,null,null,null,null,null,null,null,null,{"$f":"IF('Relevés de  commissions'!D16874=\"AGI externes\",'Relevés de  commissions'!M16874,0)*1","v":0},{"$f":"IF('Relevés de  commissions'!D16874=\"AGI externes\",'Relevés de  commissions'!N16874,0)*1","v":0},{"$f":"IF('Relevés de  commissions'!D16874=\"AGI externes\",'Relevés de  commissions'!O16874,0)*1","v":0},{"$f":"IF('Relevés de  commissions'!D16874=\"AGI externes\",'Relevés de  commissions'!P16874,0)*1","v":0},0,""]
[null,null,null,null,null,null,null,null,null,null,null,null,{"$f":"IF('Relevés de  commissions'!D16891=\"AGI externes\",'Relevés de  commissions'!M16891,0)*1","v":0},{"$f":"IF('Relevés de  commissions'!D16891=\"AGI externes\",'Relevés de  commissions'!N16891,0)*1","v":0},{"$f":"IF('Relevés de  commissions'!D16891=\"AGI externes\",'Relevés de  commissions'!O16891,0)*1","v":0},{"$f":"IF('Relevés de  commissions'!D16891=\"AGI externes\",'Relevés de  commissions'!P16891,0)*1","v":0},0,""]
[null,null,null,null,null,null,null,null,null,null,null,null,{"$f":"IF('Relevés de  commissions'!D16901=\"AGI externes\",'Relevés de  commissions'!M16901,0)*1","v":0},{"$f":"IF('Relevés de  commissions'!D16901=\"AGI externes\",'Relevés de  commissions'!N16901,0)*1","v":0},{"$f":"IF('Relevés de  commissions'!D16901=\"AGI externes\",'Relevés de  commissions'!O16901,0)*1","v":0},{"$f":"IF('Relevés de  commissions'!D16901=\"AGI externes\",'Relevés de  commissions'!P16901,0)*1","v":0},0,""]
[null,null,null,null,null,null,null,null,null,null,null,null,{"$f":"IF('Relevés de  commissions'!D16906=\"AGI externes\",'Relevés de  commissions'!M16906,0)*1","v":0},{"$f":"IF('Relevés de  commissions'!D16906=\"AGI externes\",'Relevés de  commissions'!N16906,0)*1","v":0},{"$f":"IF('Relevés de  commissions'!D16906=\"AGI externes\",'Relevés de  commissions'!O16906,0)*1","v":0},{"$f":"IF('Relevés de  commissions'!D16906=\"AGI externes\",'Relevés de  commissions'!P16906,0)*1","v":0},0,""]
[null,null,null,null,null,null,null,null,null,null,null,null,{"$f":"IF('Relevés de  commissions'!D16923=\"AGI externes\",'Relevés de  commissions'!M16923,0)*1","v":0},{"$f":"IF('Relevés de  commissions'!D16923=\"AGI externes\",'Relevés de  commissions'!N16923,0)*1","v":0},{"$f":"IF('Relevés de  commissions'!D16923=\"AGI externes\",'Relevés de  commissions'!O16923,0)*1","v":0},{"$f":"IF('Relevés de  commissions'!D16923=\"AGI externes\",'Relevés de  commissions'!P16923,0)*1","v":0},0,""]
[null,null,null,null,null,null,null,null,null,null,null,null,{"$f":"IF('Relevés de  commissions'!D16933=\"AGI externes\",'Relevés de  commissions'!M16933,0)*1","v":0},{"$f":"IF('Relevés de  commissions'!D16933=\"AGI externes\",'Relevés de  commissions'!N16933,0)*1","v":0},{"$f":"IF('Relevés de  commissions'!D16933=\"AGI externes\",'Relevés de  commissions'!O16933,0)*1","v":0},{"$f":"IF('Relevés de  commissions'!D16933=\"AGI externes\",'Relevés de  commissions'!P16933,0)*1","v":0},0,""]
[null,null,null,null,null,null,null,null,null,null,null,null,{"$f":"IF('Relevés de  commissions'!D16939=\"AGI externes\",'Relevés de  commissions'!M16939,0)*1","v":0},{"$f":"IF('Relevés de  commissions'!D16939=\"AGI externes\",'Relevés de  commissions'!N16939,0)*1","v":0},{"$f":"IF('Relevés de  commissions'!D16939=\"AGI externes\",'Relevés de  commissions'!O16939,0)*1","v":0},{"$f":"IF('Relevés de  commissions'!D16939=\"AGI externes\",'Relevés de  commissions'!P16939,0)*1","v":0},0,""]
[null,null,null,null,null,null,null,null,null,null,null,null,{"$f":"IF('Relevés de  commissions'!D16949=\"AGI externes\",'Relevés de  commissions'!M16949,0)*1","v":0},{"$f":"IF('Relevés de  commissions'!D16949=\"AGI externes\",'Relevés de  commissions'!N16949,0)*1","v":0},{"$f":"IF('Relevés de  commissions'!D16949=\"AGI externes\",'Relevés de  commissions'!O16949,0)*1","v":0},{"$f":"IF('Relevés de  commissions'!D16949=\"AGI externes\",'Relevés de  commissions'!P16949,0)*1","v":0},0,{"$f":"IF(N16951=10,O16951,\"\")","v":""}]
[null,null,null,null,null,null,null,null,null,null,null,null,{"$f":"IF('Relevés de  commissions'!D16968=\"AGI externes\",'Relevés de  commissions'!M16968,0)*1","v":0},{"$f":"IF('Relevés de  commissions'!D16968=\"AGI externes\",'Relevés de  commissions'!N16968,0)*1","v":0},{"$f":"IF('Relevés de  commissions'!D16968=\"AGI externes\",'Relevés de  commissions'!O16968,0)*1","v":0},{"$f":"IF('Relevés de  commissions'!D16968=\"AGI externes\",'Relevés de  commissions'!P16968,0)*1","v":0},0,""]
[null,null,null,null,null,null,null,null,null,null,null,null,{"$f":"IF('Relevés de  commissions'!D16971=\"AGI externes\",'Relevés de  commissions'!M16971,0)*1","v":0},{"$f":"IF('Relevés de  commissions'!D16971=\"AGI externes\",'Relevés de  commissions'!N16971,0)*1","v":0},{"$f":"IF('Relevés de  commissions'!D16971=\"AGI externes\",'Relevés de  commissions'!O16971,0)*1","v":0},{"$f":"IF('Relevés de  commissions'!D16971=\"AGI externes\",'Relevés de  commissions'!P16971,0)*1","v":0},0,""]
[null,null,null,null,null,null,null,null,null,null,null,null,{"$f":"IF('Relevés de  commissions'!D16981=\"AGI externes\",'Relevés de  commissions'!M16981,0)*1","v":0},{"$f":"IF('Relevés de  commissions'!D16981=\"AGI externes\",'Relevés de  commissions'!N16981,0)*1","v":0},{"$f":"IF('Relevés de  commissions'!D16981=\"AGI externes\",'Relevés de  commissions'!O16981,0)*1","v":0},{"$f":"IF('Relevés de  commissions'!D16981=\"AGI externes\",'Relevés de  commissions'!P16981,0)*1","v":0},0,""]
[null,null,null,null,null,null,null,null,null,null,null,null,{"$f":"IF('Relevés de  commissions'!D16998=\"AGI externes\",'Relevés de  commissions'!M16998,0)*1","v":0},{"$f":"IF('Relevés de  commissions'!D16998=\"AGI externes\",'Relevés de  commissions'!N16998,0)*1","v":0},{"$f":"IF('Relevés de  commissions'!D16998=\"AGI externes\",'Relevés de  commissions'!O16998,0)*1","v":0},{"$f":"IF('Relevés de  commissions'!D16998=\"AGI externes\",'Relevés de  commissions'!P16998,0)*1","v":0},0,""]
[null,null,null,null,null,null,null,null,null,null,null,null,{"$f":"IF('Relevés de  commissions'!D17008=\"AGI externes\",'Relevés de  commissions'!M17008,0)*1","v":0},{"$f":"IF('Relevés de  commissions'!D17008=\"AGI externes\",'Relevés de  commissions'!N17008,0)*1","v":0},{"$f":"IF('Relevés de  commissions'!D17008=\"AGI externes\",'Relevés de  commissions'!O17008,0)*1","v":0},{"$f":"IF('Relevés de  commissions'!D17008=\"AGI externes\",'Relevés de  commissions'!P17008,0)*1","v":0},0,""]
[null,null,null,null,null,null,null,null,null,null,null,null,{"$f":"IF('Relevés de  commissions'!D17014=\"AGI externes\",'Relevés de  commissions'!M17014,0)*1","v":0},{"$f":"IF('Relevés de  commissions'!D17014=\"AGI externes\",'Relevés de  commissions'!N17014,0)*1","v":0},{"$f":"IF('Relevés de  commissions'!D17014=\"AGI externes\",'Relevés de  commissions'!O17014,0)*1","v":0},{"$f":"IF('Relevés de  commissions'!D17014=\"AGI externes\",'Relevés de  commissions'!P17014,0)*1","v":0},0,""]
[null,null,null,null,null,null,null,null,null,null,null,null,{"$f":"IF('Relevés de  commissions'!D17025=\"AGI externes\",'Relevés de  commissions'!M17025,0)*1","v":0},{"$f":"IF('Relevés de  commissions'!D17025=\"AGI externes\",'Relevés de  commissions'!N17025,0)*1","v":0},{"$f":"IF('Relevés de  commissions'!D17025=\"AGI externes\",'Relevés de  commissions'!O17025,0)*1","v":0},{"$f":"IF('Relevés de  commissions'!D17025=\"AGI externes\",'Relevés de  commissions'!P17025,0)*1","v":0},0,""]
[null,null,null,null,null,null,null,null,null,null,null,null,{"$f":"IF('Relevés de  commissions'!D17040=\"AGI externes\",'Relevés de  commissions'!M17040,0)*1","v":0},{"$f":"IF('Relevés de  commissions'!D17040=\"AGI externes\",'Relevés de  commissions'!N17040,0)*1","v":0},{"$f":"IF('Relevés de  commissions'!D17040=\"AGI externes\",'Relevés de  commissions'!O17040,0)*1","v":0},{"$f":"IF('Relevés de  commissions'!D17040=\"AGI externes\",'Relevés de  commissions'!P17040,0)*1","v":0},0,""]
[null,null,null,null,null,null,null,null,null,null,null,null,{"$f":"IF('Relevés de  commissions'!D17046=\"AGI externes\",'Relevés de  commissions'!M17046,0)*1","v":0},{"$f":"IF('Relevés de  commissions'!D17046=\"AGI externes\",'Relevés de  commissions'!N17046,0)*1","v":0},{"$f":"IF('Relevés de  commissions'!D17046=\"AGI externes\",'Relevés de  commissions'!O17046,0)*1","v":0},{"$f":"IF('Relevés de  commissions'!D17046=\"AGI externes\",'Relevés de  commissions'!P17046,0)*1","v":0},0,""]
[null,null,null,null,null,null,null,null,null,null,null,null,{"$f":"IF('Relevés de  commissions'!D17063=\"AGI externes\",'Relevés de  commissions'!M17063,0)*1","v":0},{"$f":"IF('Relevés de  commissions'!D17063=\"AGI externes\",'Relevés de  commissions'!N17063,0)*1","v":0},{"$f":"IF('Relevés de  commissions'!D17063=\"AGI externes\",'Relevés de  commissions'!O17063,0)*1","v":0},{"$f":"IF('Relevés de  commissions'!D17063=\"AGI externes\",'Relevés de  commissions'!P17063,0)*1","v":0},0,""]
[null,null,null,null,null,null,null,null,null,null,null,null,{"$f":"IF('Relevés de  commissions'!D17073=\"AGI externes\",'Relevés de  commissions'!M17073,0)*1","v":0},{"$f":"IF('Relevés de  commissions'!D17073=\"AGI externes\",'Relevés de  commissions'!N17073,0)*1","v":0},{"$f":"IF('Relevés de  commissions'!D17073=\"AGI externes\",'Relevés de  commissions'!O17073,0)*1","v":0},{"$f":"IF('Relevés de  commissions'!D17073=\"AGI externes\",'Relevés de  commissions'!P17073,0)*1","v":0},0,""]
[null,null,null,null,null,null,null,null,null,null,null,null,{"$f":"IF('Relevés de  commissions'!D17079=\"AGI externes\",'Relevés de  commissions'!M17079,0)*1","v":0},{"$f":"IF('Relevés de  commissions'!D17079=\"AGI externes\",'Relevés de  commissions'!N17079,0)*1","v":0},{"$f":"IF('Relevés de  commissions'!D17079=\"AGI externes\",'Relevés de  commissions'!O17079,0)*1","v":0},{"$f":"IF('Relevés de  commissions'!D17079=\"AGI externes\",'Relevés de  commissions'!P17079,0)*1","v":0},0,""]
[null,null,null,null,null,null,null,null,null,null,null,null,{"$f":"IF('Relevés de  commissions'!D17098=\"AGI externes\",'Relevés de  commissions'!M17098,0)*1","v":0},{"$f":"IF('Relevés de  commissions'!D17098=\"AGI externes\",'Relevés de  commissions'!N17098,0)*1","v":0},{"$f":"IF('Relevés de  commissions'!D17098=\"AGI externes\",'Relevés de  commissions'!O17098,0)*1","v":0},{"$f":"IF('Relevés de  commissions'!D17098=\"AGI externes\",'Relevés de  commissions'!P17098,0)*1","v":0},0,""]
[null,null,null,null,null,null,null,null,null,null,null,null,{"$f":"IF('Relevés de  commissions'!D17105=\"AGI externes\",'Relevés de  commissions'!M17105,0)*1","v":0},{"$f":"IF('Relevés de  commissions'!D17105=\"AGI externes\",'Relevés de  commissions'!N17105,0)*1","v":0},{"$f":"IF('Relevés de  commissions'!D17105=\"AGI externes\",'Relevés de  commissions'!O17105,0)*1","v":0},{"$f":"IF('Relevés de  commissions'!D17105=\"AGI externes\",'Relevés de  commissions'!P17105,0)*1","v":0},0,""]
[null,null,null,null,null,null,null,null,null,null,null,null,{"$f":"IF('Relevés de  commissions'!D17111=\"AGI externes\",'Relevés de  commissions'!M17111,0)*1","v":0},{"$f":"IF('Relevés de  commissions'!D17111=\"AGI externes\",'Relevés de  commissions'!N17111,0)*1","v":0},{"$f":"IF('Relevés de  commissions'!D17111=\"AGI externes\",'Relevés de  commissions'!O17111,0)*1","v":0},{"$f":"IF('Relevés de  commissions'!D17111=\"AGI externes\",'Relevés de  commissions'!P17111,0)*1","v":0},0,""]
[null,null,null,null,null,null,null,null,null,null,null,null,{"$f":"IF('Relevés de  commissions'!D17132=\"AGI externes\",'Relevés de  commissions'!M17132,0)*1","v":0},{"$f":"IF('Relevés de  commissions'!D17132=\"AGI externes\",'Relevés de  commissions'!N17132,0)*1","v":0},{"$f":"IF('Relevés de  commissions'!D17132=\"AGI externes\",'Relevés de  commissions'!O17132,0)*1","v":0},{"$f":"IF('Relevés de  commissions'!D17132=\"AGI externes\",'Relevés de  commissions'!P17132,0)*1","v":0},0,""]
[null,null,null,null,null,null,null,null,null,null,null,null,{"$f":"IF('Relevés de  commissions'!D17138=\"AGI externes\",'Relevés de  commissions'!M17138,0)*1","v":0},{"$f":"IF('Relevés de  commissions'!D17138=\"AGI externes\",'Relevés de  commissions'!N17138,0)*1","v":0},{"$f":"IF('Relevés de  commissions'!D17138=\"AGI externes\",'Relevés de  commissions'!O17138,0)*1","v":0},{"$f":"IF('Relevés de  commissions'!D17138=\"AGI externes\",'Relevés de  commissions'!P17138,0)*1","v":0},0,""]
[null,null,null,null,null,null,null,null,null,null,null,null,{"$f":"IF('Relevés de  commissions'!D17144=\"AGI externes\",'Relevés de  commissions'!M17144,0)*1","v":0},{"$f":"IF('Relevés de  commissions'!D17144=\"AGI externes\",'Relevés de  commissions'!N17144,0)*1","v":0},{"$f":"IF('Relevés de  commissions'!D17144=\"AGI externes\",'Relevés de  commissions'!O17144,0)*1","v":0},{"$f":"IF('Relevés de  commissions'!D17144=\"AGI externes\",'Relevés de  commissions'!P17144,0)*1","v":0},0,""]
[null,null,null,null,null,null,null,null,null,null,null,null,{"$f":"IF('Relevés de  commissions'!D17155=\"AGI externes\",'Relevés de  commissions'!M17155,0)*1","v":0},{"$f":"IF('Relevés de  commissions'!D17155=\"AGI externes\",'Relevés de  commissions'!N17155,0)*1","v":0},{"$f":"IF('Relevés de  commissions'!D17155=\"AGI externes\",'Relevés de  commissions'!O17155,0)*1","v":0},{"$f":"IF('Relevés de  commissions'!D17155=\"AGI externes\",'Relevés de  commissions'!P17155,0)*1","v":0},{"$f":"IF(N17157=0,O17157,\"\")","v":0},""]
[null,null,null,null,null,null,null,null,null,null,null,null,{"$f":"IF('Relevés de  commissions'!D17170=\"AGI externes\",'Relevés de  commissions'!M17170,0)*1","v":0},{"$f":"IF('Relevés de  commissions'!D17170=\"AGI externes\",'Relevés de  commissions'!N17170,0)*1","v":0},{"$f":"IF('Relevés de  commissions'!D17170=\"AGI externes\",'Relevés de  commissions'!O17170,0)*1","v":0},{"$f":"IF('Relevés de  commissions'!D17170=\"AGI externes\",'Relevés de  commissions'!P17170,0)*1","v":0},0,""]
[null,null,null,null,null,null,null,null,null,null,null,null,{"$f":"IF('Relevés de  commissions'!D17180=\"AGI externes\",'Relevés de  commissions'!M17180,0)*1","v":0},{"$f":"IF('Relevés de  commissions'!D17180=\"AGI externes\",'Relevés de  commissions'!N17180,0)*1","v":0},{"$f":"IF('Relevés de  commissions'!D17180=\"AGI externes\",'Relevés de  commissions'!O17180,0)*1","v":0},{"$f":"IF('Relevés de  commissions'!D17180=\"AGI externes\",'Relevés de  commissions'!P17180,0)*1","v":0},0,""]
[null,null,null,null,null,null,null,null,null,null,null,null,{"$f":"IF('Relevés de  commissions'!D17197=\"AGI externes\",'Relevés de  commissions'!M17197,0)*1","v":0},{"$f":"IF('Relevés de  commissions'!D17197=\"AGI externes\",'Relevés de  commissions'!N17197,0)*1","v":0},{"$f":"IF('Relevés de  commissions'!D17197=\"AGI externes\",'Relevés de  commissions'!O17197,0)*1","v":0},{"$f":"IF('Relevés de  commissions'!D17197=\"AGI externes\",'Relevés de  commissions'!P17197,0)*1","v":0},0,""]
[null,null,null,null,null,null,null,null,null,null,null,null,{"$f":"IF('Relevés de  commissions'!D17203=\"AGI externes\",'Relevés de  commissions'!M17203,0)*1","v":0},{"$f":"IF('Relevés de  commissions'!D17203=\"AGI externes\",'Relevés de  commissions'!N17203,0)*1","v":0},{"$f":"IF('Relevés de  commissions'!D17203=\"AGI externes\",'Relevés de  commissions'!O17203,0)*1","v":0},{"$f":"IF('Relevés de  commissions'!D17203=\"AGI externes\",'Relevés de  commissions'!P17203,0)*1","v":0},0,""]
[null,null,null,null,null,null,null,null,null,null,null,null,{"$f":"IF('Relevés de  commissions'!D17213=\"AGI externes\",'Relevés de  commissions'!M17213,0)*1","v":0},{"$f":"IF('Relevés de  commissions'!D17213=\"AGI externes\",'Relevés de  commissions'!N17213,0)*1","v":0},{"$f":"IF('Relevés de  commissions'!D17213=\"AGI externes\",'Relevés de  commissions'!O17213,0)*1","v":0},{"$f":"IF('Relevés de  commissions'!D17213=\"AGI externes\",'Relevés de  commissions'!P17213,0)*1","v":0},0,""]
[null,null,null,null,null,null,null,null,null,null,null,null,{"$f":"IF('Relevés de  commissions'!D17222=\"AGI externes\",'Relevés de  commissions'!M17222,0)*1","v":0},{"$f":"IF('Relevés de  commissions'!D17222=\"AGI externes\",'Relevés de  commissions'!N17222,0)*1","v":0},{"$f":"IF('Relevés de  commissions'!D17222=\"AGI externes\",'Relevés de  commissions'!O17222,0)*1","v":0},{"$f":"IF('Relevés de  commissions'!D17222=\"AGI externes\",'Relevés de  commissions'!P17222,0)*1","v":0},0,""]
[null,null,null,null,null,null,null,null,null,null,null,null,{"$f":"IF('Relevés de  commissions'!D17239=\"AGI externes\",'Relevés de  commissions'!M17239,0)*1","v":0},{"$f":"IF('Relevés de  commissions'!D17239=\"AGI externes\",'Relevés de  commissions'!N17239,0)*1","v":0},{"$f":"IF('Relevés de  commissions'!D17239=\"AGI externes\",'Relevés de  commissions'!O17239,0)*1","v":0},{"$f":"IF('Relevés de  commissions'!D17239=\"AGI externes\",'Relevés de  commissions'!P17239,0)*1","v":0},0,""]
[null,null,null,null,null,null,null,null,null,null,null,null,{"$f":"IF('Relevés de  commissions'!D17245=\"AGI externes\",'Relevés de  commissions'!M17245,0)*1","v":0},{"$f":"IF('Relevés de  commissions'!D17245=\"AGI externes\",'Relevés de  commissions'!N17245,0)*1","v":0},{"$f":"IF('Relevés de  commissions'!D17245=\"AGI externes\",'Relevés de  commissions'!O17245,0)*1","v":0},{"$f":"IF('Relevés de  commissions'!D17245=\"AGI externes\",'Relevés de  commissions'!P17245,0)*1","v":0},0,""]
[null,null,null,null,null,null,null,null,null,null,null,null,{"$f":"IF('Relevés de  commissions'!D17262=\"AGI externes\",'Relevés de  commissions'!M17262,0)*1","v":0},{"$f":"IF('Relevés de  commissions'!D17262=\"AGI externes\",'Relevés de  commissions'!N17262,0)*1","v":0},{"$f":"IF('Relevés de  commissions'!D17262=\"AGI externes\",'Relevés de  commissions'!O17262,0)*1","v":0},{"$f":"IF('Relevés de  commissions'!D17262=\"AGI externes\",'Relevés de  commissions'!P17262,0)*1","v":0},0,""]
[null,null,null,null,null,null,null,null,null,null,null,null,{"$f":"IF('Relevés de  commissions'!D17272=\"AGI externes\",'Relevés de  commissions'!M17272,0)*1","v":0},{"$f":"IF('Relevés de  commissions'!D17272=\"AGI externes\",'Relevés de  commissions'!N17272,0)*1","v":0},{"$f":"IF('Relevés de  commissions'!D17272=\"AGI externes\",'Relevés de  commissions'!O17272,0)*1","v":0},{"$f":"IF('Relevés de  commissions'!D17272=\"AGI externes\",'Relevés de  commissions'!P17272,0)*1","v":0},0,""]
[null,null,null,null,null,null,null,null,null,null,null,null,{"$f":"IF('Relevés de  commissions'!D17278=\"AGI externes\",'Relevés de  commissions'!M17278,0)*1","v":0},{"$f":"IF('Relevés de  commissions'!D17278=\"AGI externes\",'Relevés de  commissions'!N17278,0)*1","v":0},{"$f":"IF('Relevés de  commissions'!D17278=\"AGI externes\",'Relevés de  commissions'!O17278,0)*1","v":0},{"$f":"IF('Relevés de  commissions'!D17278=\"AGI externes\",'Relevés de  commissions'!P17278,0)*1","v":0},0,""]
[null,null,null,null,null,null,null,null,null,null,null,null,{"$f":"IF('Relevés de  commissions'!D17289=\"AGI externes\",'Relevés de  commissions'!M17289,0)*1","v":0},{"$f":"IF('Relevés de  commissions'!D17289=\"AGI externes\",'Relevés de  commissions'!N17289,0)*1","v":0},{"$f":"IF('Relevés de  commissions'!D17289=\"AGI externes\",'Relevés de  commissions'!O17289,0)*1","v":0},{"$f":"IF('Relevés de  commissions'!D17289=\"AGI externes\",'Relevés de  commissions'!P17289,0)*1","v":0},0,""]
[null,null,null,null,null,null,null,null,null,null,null,null,{"$f":"IF('Relevés de  commissions'!D17304=\"AGI externes\",'Relevés de  commissions'!M17304,0)*1","v":0},{"$f":"IF('Relevés de  commissions'!D17304=\"AGI externes\",'Relevés de  commissions'!N17304,0)*1","v":0},{"$f":"IF('Relevés de  commissions'!D17304=\"AGI externes\",'Relevés de  commissions'!O17304,0)*1","v":0},{"$f":"IF('Relevés de  commissions'!D17304=\"AGI externes\",'Relevés de  commissions'!P17304,0)*1","v":0},0,""]
[null,null,null,null,null,null,null,null,null,null,null,null,{"$f":"IF('Relevés de  commissions'!D17310=\"AGI externes\",'Relevés de  commissions'!M17310,0)*1","v":0},{"$f":"IF('Relevés de  commissions'!D17310=\"AGI externes\",'Relevés de  commissions'!N17310,0)*1","v":0},{"$f":"IF('Relevés de  commissions'!D17310=\"AGI externes\",'Relevés de  commissions'!O17310,0)*1","v":0},{"$f":"IF('Relevés de  commissions'!D17310=\"AGI externes\",'Relevés de  commissions'!P17310,0)*1","v":0},0,""]
[null,null,null,null,null,null,null,null,null,null,null,null,{"$f":"IF('Relevés de  commissions'!D17320=\"AGI externes\",'Relevés de  commissions'!M17320,0)*1","v":0},{"$f":"IF('Relevés de  commissions'!D17320=\"AGI externes\",'Relevés de  commissions'!N17320,0)*1","v":0},{"$f":"IF('Relevés de  commissions'!D17320=\"AGI externes\",'Relevés de  commissions'!O17320,0)*1","v":0},{"$f":"IF('Relevés de  commissions'!D17320=\"AGI externes\",'Relevés de  commissions'!P17320,0)*1","v":0},0,""]
[null,null,null,null,null,null,null,null,null,null,null,null,{"$f":"IF('Relevés de  commissions'!D17337=\"AGI externes\",'Relevés de  commissions'!M17337,0)*1","v":0},{"$f":"IF('Relevés de  commissions'!D17337=\"AGI externes\",'Relevés de  commissions'!N17337,0)*1","v":0},{"$f":"IF('Relevés de  commissions'!D17337=\"AGI externes\",'Relevés de  commissions'!O17337,0)*1","v":0},{"$f":"IF('Relevés de  commissions'!D17337=\"AGI externes\",'Relevés de  commissions'!P17337,0)*1","v":0},0,""]
[null,null,null,null,null,null,null,null,null,null,null,null,{"$f":"IF('Relevés de  commissions'!D17343=\"AGI externes\",'Relevés de  commissions'!M17343,0)*1","v":0},{"$f":"IF('Relevés de  commissions'!D17343=\"AGI externes\",'Relevés de  commissions'!N17343,0)*1","v":0},{"$f":"IF('Relevés de  commissions'!D17343=\"AGI externes\",'Relevés de  commissions'!O17343,0)*1","v":0},{"$f":"IF('Relevés de  commissions'!D17343=\"AGI externes\",'Relevés de  commissions'!P17343,0)*1","v":0},0,""]
[null,null,null,null,null,null,null,null,null,null,null,null,{"$f":"IF('Relevés de  commissions'!D17352=\"AGI externes\",'Relevés de  commissions'!M17352,0)*1","v":0},{"$f":"IF('Relevés de  commissions'!D17352=\"AGI externes\",'Relevés de  commissions'!N17352,0)*1","v":0},{"$f":"IF('Relevés de  commissions'!D17352=\"AGI externes\",'Relevés de  commissions'!O17352,0)*1","v":0},{"$f":"IF('Relevés de  commissions'!D17352=\"AGI externes\",'Relevés de  commissions'!P17352,0)*1","v":0},0,""]
[null,null,null,null,null,null,null,null,null,null,null,null,{"$f":"IF('Relevés de  commissions'!D17369=\"AGI externes\",'Relevés de  commissions'!M17369,0)*1","v":0},{"$f":"IF('Relevés de  commissions'!D17369=\"AGI externes\",'Relevés de  commissions'!N17369,0)*1","v":0},{"$f":"IF('Relevés de  commissions'!D17369=\"AGI externes\",'Relevés de  commissions'!O17369,0)*1","v":0},{"$f":"IF('Relevés de  commissions'!D17369=\"AGI externes\",'Relevés de  commissions'!P17369,0)*1","v":0},0,""]
[null,null,null,null,null,null,null,null,null,null,null,null,{"$f":"IF('Relevés de  commissions'!D17379=\"AGI externes\",'Relevés de  commissions'!M17379,0)*1","v":0},{"$f":"IF('Relevés de  commissions'!D17379=\"AGI externes\",'Relevés de  commissions'!N17379,0)*1","v":0},{"$f":"IF('Relevés de  commissions'!D17379=\"AGI externes\",'Relevés de  commissions'!O17379,0)*1","v":0},{"$f":"IF('Relevés de  commissions'!D17379=\"AGI externes\",'Relevés de  commissions'!P17379,0)*1","v":0},0,""]
[null,null,null,null,null,null,null,null,null,null,null,null,{"$f":"IF('Relevés de  commissions'!D17385=\"AGI externes\",'Relevés de  commissions'!M17385,0)*1","v":0},{"$f":"IF('Relevés de  commissions'!D17385=\"AGI externes\",'Relevés de  commissions'!N17385,0)*1","v":0},{"$f":"IF('Relevés de  commissions'!D17385=\"AGI externes\",'Relevés de  commissions'!O17385,0)*1","v":0},{"$f":"IF('Relevés de  commissions'!D17385=\"AGI externes\",'Relevés de  commissions'!P17385,0)*1","v":0},0,""]
[null,null,null,null,null,null,null,null,null,null,null,null,{"$f":"IF('Relevés de  commissions'!D17402=\"AGI externes\",'Relevés de  commissions'!M17402,0)*1","v":0},{"$f":"IF('Relevés de  commissions'!D17402=\"AGI externes\",'Relevés de  commissions'!N17402,0)*1","v":0},{"$f":"IF('Relevés de  commissions'!D17402=\"AGI externes\",'Relevés de  commissions'!O17402,0)*1","v":0},{"$f":"IF('Relevés de  commissions'!D17402=\"AGI externes\",'Relevés de  commissions'!P17402,0)*1","v":0},0,""]
[null,null,null,null,null,null,null,null,null,null,null,null,{"$f":"IF('Relevés de  commissions'!D17412=\"AGI externes\",'Relevés de  commissions'!M17412,0)*1","v":0},{"$f":"IF('Relevés de  commissions'!D17412=\"AGI externes\",'Relevés de  commissions'!N17412,0)*1","v":0},{"$f":"IF('Relevés de  commissions'!D17412=\"AGI externes\",'Relevés de  commissions'!O17412,0)*1","v":0},{"$f":"IF('Relevés de  commissions'!D17412=\"AGI externes\",'Relevés de  commissions'!P17412,0)*1","v":0},0,""]
[null,null,null,null,null,null,null,null,null,null,null,null,{"$f":"IF('Relevés de  commissions'!D17419=\"AGI externes\",'Relevés de  commissions'!M17419,0)*1","v":0},{"$f":"IF('Relevés de  commissions'!D17419=\"AGI externes\",'Relevés de  commissions'!N17419,0)*1","v":0},{"$f":"IF('Relevés de  commissions'!D17419=\"AGI externes\",'Relevés de  commissions'!O17419,0)*1","v":0},{"$f":"IF('Relevés de  commissions'!D17419=\"AGI externes\",'Relevés de  commissions'!P17419,0)*1","v":0},0,""]
[null,null,null,null,null,null,null,null,null,null,null,null,{"$f":"IF('Relevés de  commissions'!D17434=\"AGI externes\",'Relevés de  commissions'!M17434,0)*1","v":0},{"$f":"IF('Relevés de  commissions'!D17434=\"AGI externes\",'Relevés de  commissions'!N17434,0)*1","v":0},{"$f":"IF('Relevés de  commissions'!D17434=\"AGI externes\",'Relevés de  commissions'!O17434,0)*1","v":0},{"$f":"IF('Relevés de  commissions'!D17434=\"AGI externes\",'Relevés de  commissions'!P17434,0)*1","v":0},0,""]
[null,null,null,null,null,null,null,null,null,null,null,null,{"$f":"IF('Relevés de  commissions'!D17444=\"AGI externes\",'Relevés de  commissions'!M17444,0)*1","v":0},{"$f":"IF('Relevés de  commissions'!D17444=\"AGI externes\",'Relevés de  commissions'!N17444,0)*1","v":0},{"$f":"IF('Relevés de  commissions'!D17444=\"AGI externes\",'Relevés de  commissions'!O17444,0)*1","v":0},{"$f":"IF('Relevés de  commissions'!D17444=\"AGI externes\",'Relevés de  commissions'!P17444,0)*1","v":0},0,""]
[null,null,null,null,null,null,null,null,null,null,null,null,{"$f":"IF('Relevés de  commissions'!D17450=\"AGI externes\",'Relevés de  commissions'!M17450,0)*1","v":0},{"$f":"IF('Relevés de  commissions'!D17450=\"AGI externes\",'Relevés de  commissions'!N17450,0)*1","v":0},{"$f":"IF('Relevés de  commissions'!D17450=\"AGI externes\",'Relevés de  commissions'!O17450,0)*1","v":0},{"$f":"IF('Relevés de  commissions'!D17450=\"AGI externes\",'Relevés de  commissions'!P17450,0)*1","v":0},0,""]
[null,null,null,null,null,null,null,null,null,null,null,null,{"$f":"IF('Relevés de  commissions'!D17460=\"AGI externes\",'Relevés de  commissions'!M17460,0)*1","v":0},{"$f":"IF('Relevés de  commissions'!D17460=\"AGI externes\",'Relevés de  commissions'!N17460,0)*1","v":0},{"$f":"IF('Relevés de  commissions'!D17460=\"AGI externes\",'Relevés de  commissions'!O17460,0)*1","v":0},{"$f":"IF('Relevés de  commissions'!D17460=\"AGI externes\",'Relevés de  commissions'!P17460,0)*1","v":0},0,""]
[null,null,null,null,null,null,null,null,null,null,null,null,{"$f":"IF('Relevés de  commissions'!D17477=\"AGI externes\",'Relevés de  commissions'!M17477,0)*1","v":0},{"$f":"IF('Relevés de  commissions'!D17477=\"AGI externes\",'Relevés de  commissions'!N17477,0)*1","v":0},{"$f":"IF('Relevés de  commissions'!D17477=\"AGI externes\",'Relevés de  commissions'!O17477,0)*1","v":0},{"$f":"IF('Relevés de  commissions'!D17477=\"AGI externes\",'Relevés de  commissions'!P17477,0)*1","v":0},0,""]
[null,null,null,null,null,null,null,null,null,null,null,null,{"$f":"IF('Relevés de  commissions'!D17486=\"AGI externes\",'Relevés de  commissions'!M17486,0)*1","v":0},{"$f":"IF('Relevés de  commissions'!D17486=\"AGI externes\",'Relevés de  commissions'!N17486,0)*1","v":0},{"$f":"IF('Relevés de  commissions'!D17486=\"AGI externes\",'Relevés de  commissions'!O17486,0)*1","v":0},{"$f":"IF('Relevés de  commissions'!D17486=\"AGI externes\",'Relevés de  commissions'!P17486,0)*1","v":0},0,""]
[null,null,null,null,null,null,null,null,null,null,null,null,{"$f":"IF('Relevés de  commissions'!D17492=\"AGI externes\",'Relevés de  commissions'!M17492,0)*1","v":0},{"$f":"IF('Relevés de  commissions'!D17492=\"AGI externes\",'Relevés de  commissions'!N17492,0)*1","v":0},{"$f":"IF('Relevés de  commissions'!D17492=\"AGI externes\",'Relevés de  commissions'!O17492,0)*1","v":0},{"$f":"IF('Relevés de  commissions'!D17492=\"AGI externes\",'Relevés de  commissions'!P17492,0)*1","v":0},0,""]
[null,null,null,null,null,null,null,null,null,null,null,null,{"$f":"IF('Relevés de  commissions'!D17509=\"AGI externes\",'Relevés de  commissions'!M17509,0)*1","v":0},{"$f":"IF('Relevés de  commissions'!D17509=\"AGI externes\",'Relevés de  commissions'!N17509,0)*1","v":0},{"$f":"IF('Relevés de  commissions'!D17509=\"AGI externes\",'Relevés de  commissions'!O17509,0)*1","v":0},{"$f":"IF('Relevés de  commissions'!D17509=\"AGI externes\",'Relevés de  commissions'!P17509,0)*1","v":0},0,""]
[null,null,null,null,null,null,null,null,null,null,null,null,{"$f":"IF('Relevés de  commissions'!D17515=\"AGI externes\",'Relevés de  commissions'!M17515,0)*1","v":0},{"$f":"IF('Relevés de  commissions'!D17515=\"AGI externes\",'Relevés de  commissions'!N17515,0)*1","v":0},{"$f":"IF('Relevés de  commissions'!D17515=\"AGI externes\",'Relevés de  commissions'!O17515,0)*1","v":0},{"$f":"IF('Relevés de  commissions'!D17515=\"AGI externes\",'Relevés de  commissions'!P17515,0)*1","v":0},0,""]
[null,null,null,null,null,null,null,null,null,null,null,null,{"$f":"IF('Relevés de  commissions'!D17525=\"AGI externes\",'Relevés de  commissions'!M17525,0)*1","v":0},{"$f":"IF('Relevés de  commissions'!D17525=\"AGI externes\",'Relevés de  commissions'!N17525,0)*1","v":0},{"$f":"IF('Relevés de  commissions'!D17525=\"AGI externes\",'Relevés de  commissions'!O17525,0)*1","v":0},{"$f":"IF('Relevés de  commissions'!D17525=\"AGI externes\",'Relevés de  commissions'!P17525,0)*1","v":0},0,{"$f":"IF(N17527=10,O17527,\"\")","v":""}]
[null,null,null,null,null,null,null,null,null,null,null,null,{"$f":"IF('Relevés de  commissions'!D17542=\"AGI externes\",'Relevés de  commissions'!M17542,0)*1","v":0},{"$f":"IF('Relevés de  commissions'!D17542=\"AGI externes\",'Relevés de  commissions'!N17542,0)*1","v":0},{"$f":"IF('Relevés de  commissions'!D17542=\"AGI externes\",'Relevés de  commissions'!O17542,0)*1","v":0},{"$f":"IF('Relevés de  commissions'!D17542=\"AGI externes\",'Relevés de  commissions'!P17542,0)*1","v":0},0,""]
[null,null,null,null,null,null,null,null,null,null,null,null,{"$f":"IF('Relevés de  commissions'!D17549=\"AGI externes\",'Relevés de  commissions'!M17549,0)*1","v":0},{"$f":"IF('Relevés de  commissions'!D17549=\"AGI externes\",'Relevés de  commissions'!N17549,0)*1","v":0},{"$f":"IF('Relevés de  commissions'!D17549=\"AGI externes\",'Relevés de  commissions'!O17549,0)*1","v":0},{"$f":"IF('Relevés de  commissions'!D17549=\"AGI externes\",'Relevés de  commissions'!P17549,0)*1","v":0},0,""]
[null,null,null,null,null,null,null,null,null,null,null,null,{"$f":"IF('Relevés de  commissions'!D17557=\"AGI externes\",'Relevés de  commissions'!M17557,0)*1","v":0},{"$f":"IF('Relevés de  commissions'!D17557=\"AGI externes\",'Relevés de  commissions'!N17557,0)*1","v":0},{"$f":"IF('Relevés de  commissions'!D17557=\"AGI externes\",'Relevés de  commissions'!O17557,0)*1","v":0},{"$f":"IF('Relevés de  commissions'!D17557=\"AGI externes\",'Relevés de  commissions'!P17557,0)*1","v":0},0,""]
[null,null,null,null,null,null,null,null,null,null,null,null,{"$f":"IF('Relevés de  commissions'!D17574=\"AGI externes\",'Relevés de  commissions'!M17574,0)*1","v":0},{"$f":"IF('Relevés de  commissions'!D17574=\"AGI externes\",'Relevés de  commissions'!N17574,0)*1","v":0},{"$f":"IF('Relevés de  commissions'!D17574=\"AGI externes\",'Relevés de  commissions'!O17574,0)*1","v":0},{"$f":"IF('Relevés de  commissions'!D17574=\"AGI externes\",'Relevés de  commissions'!P17574,0)*1","v":0},0,""]
[null,null,null,null,null,null,null,null,null,null,null,null,{"$f":"IF('Relevés de  commissions'!D17584=\"AGI externes\",'Relevés de  commissions'!M17584,0)*1","v":0},{"$f":"IF('Relevés de  commissions'!D17584=\"AGI externes\",'Relevés de  commissions'!N17584,0)*1","v":0},{"$f":"IF('Relevés de  commissions'!D17584=\"AGI externes\",'Relevés de  commissions'!O17584,0)*1","v":0},{"$f":"IF('Relevés de  commissions'!D17584=\"AGI externes\",'Relevés de  commissions'!P17584,0)*1","v":0},0,""]
[null,null,null,null,null,null,null,null,null,null,null,null,{"$f":"IF('Relevés de  commissions'!D17590=\"AGI externes\",'Relevés de  commissions'!M17590,0)*1","v":0},{"$f":"IF('Relevés de  commissions'!D17590=\"AGI externes\",'Relevés de  commissions'!N17590,0)*1","v":0},{"$f":"IF('Relevés de  commissions'!D17590=\"AGI externes\",'Relevés de  commissions'!O17590,0)*1","v":0},{"$f":"IF('Relevés de  commissions'!D17590=\"AGI externes\",'Relevés de  commissions'!P17590,0)*1","v":0},0,""]
[null,null,null,null,null,null,null,null,null,null,null,null,{"$f":"IF('Relevés de  commissions'!D17600=\"AGI externes\",'Relevés de  commissions'!M17600,0)*1","v":0},{"$f":"IF('Relevés de  commissions'!D17600=\"AGI externes\",'Relevés de  commissions'!N17600,0)*1","v":0},{"$f":"IF('Relevés de  commissions'!D17600=\"AGI externes\",'Relevés de  commissions'!O17600,0)*1","v":0},{"$f":"IF('Relevés de  commissions'!D17600=\"AGI externes\",'Relevés de  commissions'!P17600,0)*1","v":0},0,""]
[null,null,null,null,null,null,null,null,null,null,null,null,{"$f":"IF('Relevés de  commissions'!D17616=\"AGI externes\",'Relevés de  commissions'!M17616,0)*1","v":0},{"$f":"IF('Relevés de  commissions'!D17616=\"AGI externes\",'Relevés de  commissions'!N17616,0)*1","v":0},{"$f":"IF('Relevés de  commissions'!D17616=\"AGI externes\",'Relevés de  commissions'!O17616,0)*1","v":0},{"$f":"IF('Relevés de  commissions'!D17616=\"AGI externes\",'Relevés de  commissions'!P17616,0)*1","v":0},0,""]
[null,null,null,null,null,null,null,null,null,null,null,null,{"$f":"IF('Relevés de  commissions'!D17622=\"AGI externes\",'Relevés de  commissions'!M17622,0)*1","v":0},{"$f":"IF('Relevés de  commissions'!D17622=\"AGI externes\",'Relevés de  commissions'!N17622,0)*1","v":0},{"$f":"IF('Relevés de  commissions'!D17622=\"AGI externes\",'Relevés de  commissions'!O17622,0)*1","v":0},{"$f":"IF('Relevés de  commissions'!D17622=\"AGI externes\",'Relevés de  commissions'!P17622,0)*1","v":0},0,""]
[null,null,null,null,null,null,null,null,null,null,null,null,{"$f":"IF('Relevés de  commissions'!D17632=\"AGI externes\",'Relevés de  commissions'!M17632,0)*1","v":0},{"$f":"IF('Relevés de  commissions'!D17632=\"AGI externes\",'Relevés de  commissions'!N17632,0)*1","v":0},{"$f":"IF('Relevés de  commissions'!D17632=\"AGI externes\",'Relevés de  commissions'!O17632,0)*1","v":0},{"$f":"IF('Relevés de  commissions'!D17632=\"AGI externes\",'Relevés de  commissions'!P17632,0)*1","v":0},0,""]
[null,null,null,null,null,null,null,null,null,null,null,null,{"$f":"IF('Relevés de  commissions'!D17649=\"AGI externes\",'Relevés de  commissions'!M17649,0)*1","v":0},{"$f":"IF('Relevés de  commissions'!D17649=\"AGI externes\",'Relevés de  commissions'!N17649,0)*1","v":0},{"$f":"IF('Relevés de  commissions'!D17649=\"AGI externes\",'Relevés de  commissions'!O17649,0)*1","v":0},{"$f":"IF('Relevés de  commissions'!D17649=\"AGI externes\",'Relevés de  commissions'!P17649,0)*1","v":0},0,""]
[null,null,null,null,null,null,null,null,null,null,null,null,{"$f":"IF('Relevés de  commissions'!D17655=\"AGI externes\",'Relevés de  commissions'!M17655,0)*1","v":0},{"$f":"IF('Relevés de  commissions'!D17655=\"AGI externes\",'Relevés de  commissions'!N17655,0)*1","v":0},{"$f":"IF('Relevés de  commissions'!D17655=\"AGI externes\",'Relevés de  commissions'!O17655,0)*1","v":0},{"$f":"IF('Relevés de  commissions'!D17655=\"AGI externes\",'Relevés de  commissions'!P17655,0)*1","v":0},0,""]
[null,null,null,null,null,null,null,null,null,null,null,null,{"$f":"IF('Relevés de  commissions'!D17665=\"AGI externes\",'Relevés de  commissions'!M17665,0)*1","v":0},{"$f":"IF('Relevés de  commissions'!D17665=\"AGI externes\",'Relevés de  commissions'!N17665,0)*1","v":0},{"$f":"IF('Relevés de  commissions'!D17665=\"AGI externes\",'Relevés de  commissions'!O17665,0)*1","v":0},{"$f":"IF('Relevés de  commissions'!D17665=\"AGI externes\",'Relevés de  commissions'!P17665,0)*1","v":0},0,""]
[null,null,null,null,null,null,null,null,null,null,null,null,{"$f":"IF('Relevés de  commissions'!D17683=\"AGI externes\",'Relevés de  commissions'!M17683,0)*1","v":0},{"$f":"IF('Relevés de  commissions'!D17683=\"AGI externes\",'Relevés de  commissions'!N17683,0)*1","v":0},{"$f":"IF('Relevés de  commissions'!D17683=\"AGI externes\",'Relevés de  commissions'!O17683,0)*1","v":0},{"$f":"IF('Relevés de  commissions'!D17683=\"AGI externes\",'Relevés de  commissions'!P17683,0)*1","v":0},0,""]
[null,null,null,null,null,null,null,null,null,null,null,null,{"$f":"IF('Relevés de  commissions'!D17691=\"AGI externes\",'Relevés de  commissions'!M17691,0)*1","v":0},{"$f":"IF('Relevés de  commissions'!D17691=\"AGI externes\",'Relevés de  commissions'!N17691,0)*1","v":0},{"$f":"IF('Relevés de  commissions'!D17691=\"AGI externes\",'Relevés de  commissions'!O17691,0)*1","v":0},{"$f":"IF('Relevés de  commissions'!D17691=\"AGI externes\",'Relevés de  commissions'!P17691,0)*1","v":0},0,""]
[null,null,null,null,null,null,null,null,null,null,null,null,{"$f":"IF('Relevés de  commissions'!D17697=\"AGI externes\",'Relevés de  commissions'!M17697,0)*1","v":0},{"$f":"IF('Relevés de  commissions'!D17697=\"AGI externes\",'Relevés de  commissions'!N17697,0)*1","v":0},{"$f":"IF('Relevés de  commissions'!D17697=\"AGI externes\",'Relevés de  commissions'!O17697,0)*1","v":0},{"$f":"IF('Relevés de  commissions'!D17697=\"AGI externes\",'Relevés de  commissions'!P17697,0)*1","v":0},0,""]
[null,null,null,null,null,null,null,null,null,null,null,null,{"$f":"IF('Relevés de  commissions'!D17714=\"AGI externes\",'Relevés de  commissions'!M17714,0)*1","v":0},{"$f":"IF('Relevés de  commissions'!D17714=\"AGI externes\",'Relevés de  commissions'!N17714,0)*1","v":0},{"$f":"IF('Relevés de  commissions'!D17714=\"AGI externes\",'Relevés de  commissions'!O17714,0)*1","v":0},{"$f":"IF('Relevés de  commissions'!D17714=\"AGI externes\",'Relevés de  commissions'!P17714,0)*1","v":0},0,""]
[null,null,null,null,null,null,null,null,null,null,null,null,{"$f":"IF('Relevés de  commissions'!D17724=\"AGI externes\",'Relevés de  commissions'!M17724,0)*1","v":0},{"$f":"IF('Relevés de  commissions'!D17724=\"AGI externes\",'Relevés de  commissions'!N17724,0)*1","v":0},{"$f":"IF('Relevés de  commissions'!D17724=\"AGI externes\",'Relevés de  commissions'!O17724,0)*1","v":0},{"$f":"IF('Relevés de  commissions'!D17724=\"AGI externes\",'Relevés de  commissions'!P17724,0)*1","v":0},0,""]
[null,null,null,null,null,null,null,null,null,null,null,null,{"$f":"IF('Relevés de  commissions'!D17730=\"AGI externes\",'Relevés de  commissions'!M17730,0)*1","v":0},{"$f":"IF('Relevés de  commissions'!D17730=\"AGI externes\",'Relevés de  commissions'!N17730,0)*1","v":0},{"$f":"IF('Relevés de  commissions'!D17730=\"AGI externes\",'Relevés de  commissions'!O17730,0)*1","v":0},{"$f":"IF('Relevés de  commissions'!D17730=\"AGI externes\",'Relevés de  commissions'!P17730,0)*1","v":0},0,""]
[null,null,null,null,null,null,null,null,null,null,null,null,{"$f":"IF('Relevés de  commissions'!D17740=\"AGI externes\",'Relevés de  commissions'!M17740,0)*1","v":0},{"$f":"IF('Relevés de  commissions'!D17740=\"AGI externes\",'Relevés de  commissions'!N17740,0)*1","v":0},{"$f":"IF('Relevés de  commissions'!D17740=\"AGI externes\",'Relevés de  commissions'!O17740,0)*1","v":0},{"$f":"IF('Relevés de  commissions'!D17740=\"AGI externes\",'Relevés de  commissions'!P17740,0)*1","v":0},0,""]
[null,null,null,null,null,null,null,null,null,null,null,null,{"$f":"IF('Relevés de  commissions'!D17756=\"AGI externes\",'Relevés de  commissions'!M17756,0)*1","v":0},{"$f":"IF('Relevés de  commissions'!D17756=\"AGI externes\",'Relevés de  commissions'!N17756,0)*1","v":0},{"$f":"IF('Relevés de  commissions'!D17756=\"AGI externes\",'Relevés de  commissions'!O17756,0)*1","v":0},{"$f":"IF('Relevés de  commissions'!D17756=\"AGI externes\",'Relevés de  commissions'!P17756,0)*1","v":0},0,""]
[null,null,null,null,null,null,null,null,null,null,null,null,{"$f":"IF('Relevés de  commissions'!D17762=\"AGI externes\",'Relevés de  commissions'!M17762,0)*1","v":0},{"$f":"IF('Relevés de  commissions'!D17762=\"AGI externes\",'Relevés de  commissions'!N17762,0)*1","v":0},{"$f":"IF('Relevés de  commissions'!D17762=\"AGI externes\",'Relevés de  commissions'!O17762,0)*1","v":0},{"$f":"IF('Relevés de  commissions'!D17762=\"AGI externes\",'Relevés de  commissions'!P17762,0)*1","v":0},0,""]
[null,null,null,null,null,null,null,null,null,null,null,null,{"$f":"IF('Relevés de  commissions'!D17772=\"AGI externes\",'Relevés de  commissions'!M17772,0)*1","v":0},{"$f":"IF('Relevés de  commissions'!D17772=\"AGI externes\",'Relevés de  commissions'!N17772,0)*1","v":0},{"$f":"IF('Relevés de  commissions'!D17772=\"AGI externes\",'Relevés de  commissions'!O17772,0)*1","v":0},{"$f":"IF('Relevés de  commissions'!D17772=\"AGI externes\",'Relevés de  commissions'!P17772,0)*1","v":0},0,""]
[null,null,null,null,null,null,null,null,null,null,null,null,{"$f":"IF('Relevés de  commissions'!D17789=\"AGI externes\",'Relevés de  commissions'!M17789,0)*1","v":0},{"$f":"IF('Relevés de  commissions'!D17789=\"AGI externes\",'Relevés de  commissions'!N17789,0)*1","v":0},{"$f":"IF('Relevés de  commissions'!D17789=\"AGI externes\",'Relevés de  commissions'!O17789,0)*1","v":0},{"$f":"IF('Relevés de  commissions'!D17789=\"AGI externes\",'Relevés de  commissions'!P17789,0)*1","v":0},0,""]
[null,null,null,null,null,null,null,null,null,null,null,null,{"$f":"IF('Relevés de  commissions'!D17795=\"AGI externes\",'Relevés de  commissions'!M17795,0)*1","v":0},{"$f":"IF('Relevés de  commissions'!D17795=\"AGI externes\",'Relevés de  commissions'!N17795,0)*1","v":0},{"$f":"IF('Relevés de  commissions'!D17795=\"AGI externes\",'Relevés de  commissions'!O17795,0)*1","v":0},{"$f":"IF('Relevés de  commissions'!D17795=\"AGI externes\",'Relevés de  commissions'!P17795,0)*1","v":0},{"$f":"IF(N17797=0,O17797,\"\")","v":0},""]
[null,null,null,null,null,null,null,null,null,null,null,null,{"$f":"IF('Relevés de  commissions'!D17813=\"AGI externes\",'Relevés de  commissions'!M17813,0)*1","v":0},{"$f":"IF('Relevés de  commissions'!D17813=\"AGI externes\",'Relevés de  commissions'!N17813,0)*1","v":0},{"$f":"IF('Relevés de  commissions'!D17813=\"AGI externes\",'Relevés de  commissions'!O17813,0)*1","v":0},{"$f":"IF('Relevés de  commissions'!D17813=\"AGI externes\",'Relevés de  commissions'!P17813,0)*1","v":0},0,""]
[null,null,null,null,null,null,null,null,null,null,null,null,{"$f":"IF('Relevés de  commissions'!D17821=\"AGI externes\",'Relevés de  commissions'!M17821,0)*1","v":0},{"$f":"IF('Relevés de  commissions'!D17821=\"AGI externes\",'Relevés de  commissions'!N17821,0)*1","v":0},{"$f":"IF('Relevés de  commissions'!D17821=\"AGI externes\",'Relevés de  commissions'!O17821,0)*1","v":0},{"$f":"IF('Relevés de  commissions'!D17821=\"AGI externes\",'Relevés de  commissions'!P17821,0)*1","v":0},0,""]
[null,null,null,null,null,null,null,null,null,null,null,null,{"$f":"IF('Relevés de  commissions'!D17831=\"AGI externes\",'Relevés de  commissions'!M17831,0)*1","v":0},{"$f":"IF('Relevés de  commissions'!D17831=\"AGI externes\",'Relevés de  commissions'!N17831,0)*1","v":0},{"$f":"IF('Relevés de  commissions'!D17831=\"AGI externes\",'Relevés de  commissions'!O17831,0)*1","v":0},{"$f":"IF('Relevés de  commissions'!D17831=\"AGI externes\",'Relevés de  commissions'!P17831,0)*1","v":0},0,""]
[null,null,null,null,null,null,null,null,null,null,null,null,{"$f":"IF('Relevés de  commissions'!D17837=\"AGI externes\",'Relevés de  commissions'!M17837,0)*1","v":0},{"$f":"IF('Relevés de  commissions'!D17837=\"AGI externes\",'Relevés de  commissions'!N17837,0)*1","v":0},{"$f":"IF('Relevés de  commissions'!D17837=\"AGI externes\",'Relevés de  commissions'!O17837,0)*1","v":0},{"$f":"IF('Relevés de  commissions'!D17837=\"AGI externes\",'Relevés de  commissions'!P17837,0)*1","v":0},0,""]
[null,null,null,null,null,null,null,null,null,null,null,null,{"$f":"IF('Relevés de  commissions'!D17854=\"AGI externes\",'Relevés de  commissions'!M17854,0)*1","v":0},{"$f":"IF('Relevés de  commissions'!D17854=\"AGI externes\",'Relevés de  commissions'!N17854,0)*1","v":0},{"$f":"IF('Relevés de  commissions'!D17854=\"AGI externes\",'Relevés de  commissions'!O17854,0)*1","v":0},{"$f":"IF('Relevés de  commissions'!D17854=\"AGI externes\",'Relevés de  commissions'!P17854,0)*1","v":0},0,""]
[null,null,null,null,null,null,null,null,null,null,null,null,{"$f":"IF('Relevés de  commissions'!D17864=\"AGI externes\",'Relevés de  commissions'!M17864,0)*1","v":0},{"$f":"IF('Relevés de  commissions'!D17864=\"AGI externes\",'Relevés de  commissions'!N17864,0)*1","v":0},{"$f":"IF('Relevés de  commissions'!D17864=\"AGI externes\",'Relevés de  commissions'!O17864,0)*1","v":0},{"$f":"IF('Relevés de  commissions'!D17864=\"AGI externes\",'Relevés de  commissions'!P17864,0)*1","v":0},0,""]
[null,null,null,null,null,null,null,null,null,null,null,null,{"$f":"IF('Relevés de  commissions'!D17870=\"AGI externes\",'Relevés de  commissions'!M17870,0)*1","v":0},{"$f":"IF('Relevés de  commissions'!D17870=\"AGI externes\",'Relevés de  commissions'!N17870,0)*1","v":0},{"$f":"IF('Relevés de  commissions'!D17870=\"AGI externes\",'Relevés de  commissions'!O17870,0)*1","v":0},{"$f":"IF('Relevés de  commissions'!D17870=\"AGI externes\",'Relevés de  commissions'!P17870,0)*1","v":0},0,""]
[null,null,null,null,null,null,null,null,null,null,null,null,{"$f":"IF('Relevés de  commissions'!D17886=\"AGI externes\",'Relevés de  commissions'!M17886,0)*1","v":0},{"$f":"IF('Relevés de  commissions'!D17886=\"AGI externes\",'Relevés de  commissions'!N17886,0)*1","v":0},{"$f":"IF('Relevés de  commissions'!D17886=\"AGI externes\",'Relevés de  commissions'!O17886,0)*1","v":0},{"$f":"IF('Relevés de  commissions'!D17886=\"AGI externes\",'Relevés de  commissions'!P17886,0)*1","v":0},0,""]
[null,null,null,null,null,null,null,null,null,null,null,null,{"$f":"IF('Relevés de  commissions'!D17896=\"AGI externes\",'Relevés de  commissions'!M17896,0)*1","v":0},{"$f":"IF('Relevés de  commissions'!D17896=\"AGI externes\",'Relevés de  commissions'!N17896,0)*1","v":0},{"$f":"IF('Relevés de  commissions'!D17896=\"AGI externes\",'Relevés de  commissions'!O17896,0)*1","v":0},{"$f":"IF('Relevés de  commissions'!D17896=\"AGI externes\",'Relevés de  commissions'!P17896,0)*1","v":0},0,""]
[null,null,null,null,null,null,null,null,null,null,null,null,{"$f":"IF('Relevés de  commissions'!D17902=\"AGI externes\",'Relevés de  commissions'!M17902,0)*1","v":0},{"$f":"IF('Relevés de  commissions'!D17902=\"AGI externes\",'Relevés de  commissions'!N17902,0)*1","v":0},{"$f":"IF('Relevés de  commissions'!D17902=\"AGI externes\",'Relevés de  commissions'!O17902,0)*1","v":0},{"$f":"IF('Relevés de  commissions'!D17902=\"AGI externes\",'Relevés de  commissions'!P17902,0)*1","v":0},0,""]
[null,null,null,null,null,null,null,null,null,null,null,null,{"$f":"IF('Relevés de  commissions'!D17923=\"AGI externes\",'Relevés de  commissions'!M17923,0)*1","v":0},{"$f":"IF('Relevés de  commissions'!D17923=\"AGI externes\",'Relevés de  commissions'!N17923,0)*1","v":0},{"$f":"IF('Relevés de  commissions'!D17923=\"AGI externes\",'Relevés de  commissions'!O17923,0)*1","v":0},{"$f":"IF('Relevés de  commissions'!D17923=\"AGI externes\",'Relevés de  commissions'!P17923,0)*1","v":0},{"$f":"IF(N17925=0,O17925,\"\")","v":0},""]
[null,null,null,null,null,null,null,null,null,null,null,null,{"$f":"IF('Relevés de  commissions'!D17929=\"AGI externes\",'Relevés de  commissions'!M17929,0)*1","v":0},{"$f":"IF('Relevés de  commissions'!D17929=\"AGI externes\",'Relevés de  commissions'!N17929,0)*1","v":0},{"$f":"IF('Relevés de  commissions'!D17929=\"AGI externes\",'Relevés de  commissions'!O17929,0)*1","v":0},{"$f":"IF('Relevés de  commissions'!D17929=\"AGI externes\",'Relevés de  commissions'!P17929,0)*1","v":0},0,""]
[null,null,null,null,null,null,null,null,null,null,null,null,{"$f":"IF('Relevés de  commissions'!D17937=\"AGI externes\",'Relevés de  commissions'!M17937,0)*1","v":0},{"$f":"IF('Relevés de  commissions'!D17937=\"AGI externes\",'Relevés de  commissions'!N17937,0)*1","v":0},{"$f":"IF('Relevés de  commissions'!D17937=\"AGI externes\",'Relevés de  commissions'!O17937,0)*1","v":0},{"$f":"IF('Relevés de  commissions'!D17937=\"AGI externes\",'Relevés de  commissions'!P17937,0)*1","v":0},0,""]
[null,null,null,null,null,null,null,null,null,null,null,null,{"$f":"IF('Relevés de  commissions'!D17955=\"AGI externes\",'Relevés de  commissions'!M17955,0)*1","v":0},{"$f":"IF('Relevés de  commissions'!D17955=\"AGI externes\",'Relevés de  commissions'!N17955,0)*1","v":0},{"$f":"IF('Relevés de  commissions'!D17955=\"AGI externes\",'Relevés de  commissions'!O17955,0)*1","v":0},{"$f":"IF('Relevés de  commissions'!D17955=\"AGI externes\",'Relevés de  commissions'!P17955,0)*1","v":0},0,""]
[null,null,null,null,null,null,null,null,null,null,null,null,{"$f":"IF('Relevés de  commissions'!D17961=\"AGI externes\",'Relevés de  commissions'!M17961,0)*1","v":0},{"$f":"IF('Relevés de  commissions'!D17961=\"AGI externes\",'Relevés de  commissions'!N17961,0)*1","v":0},{"$f":"IF('Relevés de  commissions'!D17961=\"AGI externes\",'Relevés de  commissions'!O17961,0)*1","v":0},{"$f":"IF('Relevés de  commissions'!D17961=\"AGI externes\",'Relevés de  commissions'!P17961,0)*1","v":0},0,""]
[null,null,null,null,null,null,null,null,null,null,null,null,{"$f":"IF('Relevés de  commissions'!D17971=\"AGI externes\",'Relevés de  commissions'!M17971,0)*1","v":0},{"$f":"IF('Relevés de  commissions'!D17971=\"AGI externes\",'Relevés de  commissions'!N17971,0)*1","v":0},{"$f":"IF('Relevés de  commissions'!D17971=\"AGI externes\",'Relevés de  commissions'!O17971,0)*1","v":0},{"$f":"IF('Relevés de  commissions'!D17971=\"AGI externes\",'Relevés de  commissions'!P17971,0)*1","v":0},0,""]
[null,null,null,null,null,null,null,null,null,null,null,null,{"$f":"IF('Relevés de  commissions'!D17988=\"AGI externes\",'Relevés de  commissions'!M17988,0)*1","v":0},{"$f":"IF('Relevés de  commissions'!D17988=\"AGI externes\",'Relevés de  commissions'!N17988,0)*1","v":0},{"$f":"IF('Relevés de  commissions'!D17988=\"AGI externes\",'Relevés de  commissions'!O17988,0)*1","v":0},{"$f":"IF('Relevés de  commissions'!D17988=\"AGI externes\",'Relevés de  commissions'!P17988,0)*1","v":0},0,""]
[null,null,null,null,null,null,null,null,null,null,null,null,{"$f":"IF('Relevés de  commissions'!D17994=\"AGI externes\",'Relevés de  commissions'!M17994,0)*1","v":0},{"$f":"IF('Relevés de  commissions'!D17994=\"AGI externes\",'Relevés de  commissions'!N17994,0)*1","v":0},{"$f":"IF('Relevés de  commissions'!D17994=\"AGI externes\",'Relevés de  commissions'!O17994,0)*1","v":0},{"$f":"IF('Relevés de  commissions'!D17994=\"AGI externes\",'Relevés de  commissions'!P17994,0)*1","v":0},0,""]
[null,null,null,null,null,null,null,null,null,null,null,null,{"$f":"IF('Relevés de  commissions'!D18000=\"AGI externes\",'Relevés de  commissions'!M18000,0)*1","v":0},{"$f":"IF('Relevés de  commissions'!D18000=\"AGI externes\",'Relevés de  commissions'!N18000,0)*1","v":0},{"$f":"IF('Relevés de  commissions'!D18000=\"AGI externes\",'Relevés de  commissions'!O18000,0)*1","v":0},{"$f":"IF('Relevés de  commissions'!D18000=\"AGI externes\",'Relevés de  commissions'!P18000,0)*1","v":0},0,""]
[null,null,null,null,null,null,null,null,null,null,null,null,{"$f":"IF('Relevés de  commissions'!D18020=\"AGI externes\",'Relevés de  commissions'!M18020,0)*1","v":0},{"$f":"IF('Relevés de  commissions'!D18020=\"AGI externes\",'Relevés de  commissions'!N18020,0)*1","v":0},{"$f":"IF('Relevés de  commissions'!D18020=\"AGI externes\",'Relevés de  commissions'!O18020,0)*1","v":0},{"$f":"IF('Relevés de  commissions'!D18020=\"AGI externes\",'Relevés de  commissions'!P18020,0)*1","v":0},0,""]
[null,null,null,null,null,null,null,null,null,null,null,null,{"$f":"IF('Relevés de  commissions'!D18026=\"AGI externes\",'Relevés de  commissions'!M18026,0)*1","v":0},{"$f":"IF('Relevés de  commissions'!D18026=\"AGI externes\",'Relevés de  commissions'!N18026,0)*1","v":0},{"$f":"IF('Relevés de  commissions'!D18026=\"AGI externes\",'Relevés de  commissions'!O18026,0)*1","v":0},{"$f":"IF('Relevés de  commissions'!D18026=\"AGI externes\",'Relevés de  commissions'!P18026,0)*1","v":0},0,""]
[null,null,null,null,null,null,null,null,null,null,null,null,{"$f":"IF('Relevés de  commissions'!D18036=\"AGI externes\",'Relevés de  commissions'!M18036,0)*1","v":0},{"$f":"IF('Relevés de  commissions'!D18036=\"AGI externes\",'Relevés de  commissions'!N18036,0)*1","v":0},{"$f":"IF('Relevés de  commissions'!D18036=\"AGI externes\",'Relevés de  commissions'!O18036,0)*1","v":0},{"$f":"IF('Relevés de  commissions'!D18036=\"AGI externes\",'Relevés de  commissions'!P18036,0)*1","v":0},0,""]
[null,null,null,null,null,null,null,null,null,null,null,null,{"$f":"IF('Relevés de  commissions'!D18053=\"AGI externes\",'Relevés de  commissions'!M18053,0)*1","v":0},{"$f":"IF('Relevés de  commissions'!D18053=\"AGI externes\",'Relevés de  commissions'!N18053,0)*1","v":0},{"$f":"IF('Relevés de  commissions'!D18053=\"AGI externes\",'Relevés de  commissions'!O18053,0)*1","v":0},{"$f":"IF('Relevés de  commissions'!D18053=\"AGI externes\",'Relevés de  commissions'!P18053,0)*1","v":0},0,""]
[null,null,null,null,null,null,null,null,null,null,null,null,{"$f":"IF('Relevés de  commissions'!D18063=\"AGI externes\",'Relevés de  commissions'!M18063,0)*1","v":0},{"$f":"IF('Relevés de  commissions'!D18063=\"AGI externes\",'Relevés de  commissions'!N18063,0)*1","v":0},{"$f":"IF('Relevés de  commissions'!D18063=\"AGI externes\",'Relevés de  commissions'!O18063,0)*1","v":0},{"$f":"IF('Relevés de  commissions'!D18063=\"AGI externes\",'Relevés de  commissions'!P18063,0)*1","v":0},0,""]
[null,null,null,null,null,null,null,null,null,null,null,null,{"$f":"IF('Relevés de  commissions'!D18067=\"AGI externes\",'Relevés de  commissions'!M18067,0)*1","v":0},{"$f":"IF('Relevés de  commissions'!D18067=\"AGI externes\",'Relevés de  commissions'!N18067,0)*1","v":0},{"$f":"IF('Relevés de  commissions'!D18067=\"AGI externes\",'Relevés de  commissions'!O18067,0)*1","v":0},{"$f":"IF('Relevés de  commissions'!D18067=\"AGI externes\",'Relevés de  commissions'!P18067,0)*1","v":0},0,""]
[null,null,null,null,null,null,null,null,null,null,null,null,{"$f":"IF('Relevés de  commissions'!D18085=\"AGI externes\",'Relevés de  commissions'!M18085,0)*1","v":0},{"$f":"IF('Relevés de  commissions'!D18085=\"AGI externes\",'Relevés de  commissions'!N18085,0)*1","v":0},{"$f":"IF('Relevés de  commissions'!D18085=\"AGI externes\",'Relevés de  commissions'!O18085,0)*1","v":0},{"$f":"IF('Relevés de  commissions'!D18085=\"AGI externes\",'Relevés de  commissions'!P18085,0)*1","v":0},0,""]
[null,null,null,null,null,null,null,null,null,null,null,null,{"$f":"IF('Relevés de  commissions'!D18095=\"AGI externes\",'Relevés de  commissions'!M18095,0)*1","v":0},{"$f":"IF('Relevés de  commissions'!D18095=\"AGI externes\",'Relevés de  commissions'!N18095,0)*1","v":0},{"$f":"IF('Relevés de  commissions'!D18095=\"AGI externes\",'Relevés de  commissions'!O18095,0)*1","v":0},{"$f":"IF('Relevés de  commissions'!D18095=\"AGI externes\",'Relevés de  commissions'!P18095,0)*1","v":0},0,""]
[null,null,null,null,null,null,null,null,null,null,null,null,{"$f":"IF('Relevés de  commissions'!D18101=\"AGI externes\",'Relevés de  commissions'!M18101,0)*1","v":0},{"$f":"IF('Relevés de  commissions'!D18101=\"AGI externes\",'Relevés de  commissions'!N18101,0)*1","v":0},{"$f":"IF('Relevés de  commissions'!D18101=\"AGI externes\",'Relevés de  commissions'!O18101,0)*1","v":0},{"$f":"IF('Relevés de  commissions'!D18101=\"AGI externes\",'Relevés de  commissions'!P18101,0)*1","v":0},0,{"$f":"IF(N18103=10,O18103,\"\")","v":""}]
[null,null,null,null,null,null,null,null,null,null,null,null,{"$f":"IF('Relevés de  commissions'!D18118=\"AGI externes\",'Relevés de  commissions'!M18118,0)*1","v":0},{"$f":"IF('Relevés de  commissions'!D18118=\"AGI externes\",'Relevés de  commissions'!N18118,0)*1","v":0},{"$f":"IF('Relevés de  commissions'!D18118=\"AGI externes\",'Relevés de  commissions'!O18118,0)*1","v":0},{"$f":"IF('Relevés de  commissions'!D18118=\"AGI externes\",'Relevés de  commissions'!P18118,0)*1","v":0},0,""]
[null,null,null,null,null,null,null,null,null,null,null,null,{"$f":"IF('Relevés de  commissions'!D18128=\"AGI externes\",'Relevés de  commissions'!M18128,0)*1","v":0},{"$f":"IF('Relevés de  commissions'!D18128=\"AGI externes\",'Relevés de  commissions'!N18128,0)*1","v":0},{"$f":"IF('Relevés de  commissions'!D18128=\"AGI externes\",'Relevés de  commissions'!O18128,0)*1","v":0},{"$f":"IF('Relevés de  commissions'!D18128=\"AGI externes\",'Relevés de  commissions'!P18128,0)*1","v":0},0,""]
[null,null,null,null,null,null,null,null,null,null,null,null,{"$f":"IF('Relevés de  commissions'!D18134=\"AGI externes\",'Relevés de  commissions'!M18134,0)*1","v":0},{"$f":"IF('Relevés de  commissions'!D18134=\"AGI externes\",'Relevés de  commissions'!N18134,0)*1","v":0},{"$f":"IF('Relevés de  commissions'!D18134=\"AGI externes\",'Relevés de  commissions'!O18134,0)*1","v":0},{"$f":"IF('Relevés de  commissions'!D18134=\"AGI externes\",'Relevés de  commissions'!P18134,0)*1","v":0},0,""]
[null,null,null,null,null,null,null,null,null,null,null,null,{"$f":"IF('Relevés de  commissions'!D18143=\"AGI externes\",'Relevés de  commissions'!M18143,0)*1","v":0},{"$f":"IF('Relevés de  commissions'!D18143=\"AGI externes\",'Relevés de  commissions'!N18143,0)*1","v":0},{"$f":"IF('Relevés de  commissions'!D18143=\"AGI externes\",'Relevés de  commissions'!O18143,0)*1","v":0},{"$f":"IF('Relevés de  commissions'!D18143=\"AGI externes\",'Relevés de  commissions'!P18143,0)*1","v":0},0,""]
[null,null,null,null,null,null,null,null,null,null,null,null,{"$f":"IF('Relevés de  commissions'!D18160=\"AGI externes\",'Relevés de  commissions'!M18160,0)*1","v":0},{"$f":"IF('Relevés de  commissions'!D18160=\"AGI externes\",'Relevés de  commissions'!N18160,0)*1","v":0},{"$f":"IF('Relevés de  commissions'!D18160=\"AGI externes\",'Relevés de  commissions'!O18160,0)*1","v":0},{"$f":"IF('Relevés de  commissions'!D18160=\"AGI externes\",'Relevés de  commissions'!P18160,0)*1","v":0},0,""]
[null,null,null,null,null,null,null,null,null,null,null,null,{"$f":"IF('Relevés de  commissions'!D18166=\"AGI externes\",'Relevés de  commissions'!M18166,0)*1","v":0},{"$f":"IF('Relevés de  commissions'!D18166=\"AGI externes\",'Relevés de  commissions'!N18166,0)*1","v":0},{"$f":"IF('Relevés de  commissions'!D18166=\"AGI externes\",'Relevés de  commissions'!O18166,0)*1","v":0},{"$f":"IF('Relevés de  commissions'!D18166=\"AGI externes\",'Relevés de  commissions'!P18166,0)*1","v":0},0,""]
[null,null,null,null,null,null,null,null,null,null,null,null,{"$f":"IF('Relevés de  commissions'!D18176=\"AGI externes\",'Relevés de  commissions'!M18176,0)*1","v":0},{"$f":"IF('Relevés de  commissions'!D18176=\"AGI externes\",'Relevés de  commissions'!N18176,0)*1","v":0},{"$f":"IF('Relevés de  commissions'!D18176=\"AGI externes\",'Relevés de  commissions'!O18176,0)*1","v":0},{"$f":"IF('Relevés de  commissions'!D18176=\"AGI externes\",'Relevés de  commissions'!P18176,0)*1","v":0},0,""]
[null,null,null,null,null,null,null,null,null,null,null,null,{"$f":"IF('Relevés de  commissions'!D18193=\"AGI externes\",'Relevés de  commissions'!M18193,0)*1","v":0},{"$f":"IF('Relevés de  commissions'!D18193=\"AGI externes\",'Relevés de  commissions'!N18193,0)*1","v":0},{"$f":"IF('Relevés de  commissions'!D18193=\"AGI externes\",'Relevés de  commissions'!O18193,0)*1","v":0},{"$f":"IF('Relevés de  commissions'!D18193=\"AGI externes\",'Relevés de  commissions'!P18193,0)*1","v":0},0,""]
[null,null,null,null,null,null,null,null,null,null,null,null,{"$f":"IF('Relevés de  commissions'!D18197=\"AGI externes\",'Relevés de  commissions'!M18197,0)*1","v":0},{"$f":"IF('Relevés de  commissions'!D18197=\"AGI externes\",'Relevés de  commissions'!N18197,0)*1","v":0},{"$f":"IF('Relevés de  commissions'!D18197=\"AGI externes\",'Relevés de  commissions'!O18197,0)*1","v":0},{"$f":"IF('Relevés de  commissions'!D18197=\"AGI externes\",'Relevés de  commissions'!P18197,0)*1","v":0},0,""]
[null,null,null,null,null,null,null,null,null,null,null,null,{"$f":"IF('Relevés de  commissions'!D18208=\"AGI externes\",'Relevés de  commissions'!M18208,0)*1","v":0},{"$f":"IF('Relevés de  commissions'!D18208=\"AGI externes\",'Relevés de  commissions'!N18208,0)*1","v":0},{"$f":"IF('Relevés de  commissions'!D18208=\"AGI externes\",'Relevés de  commissions'!O18208,0)*1","v":0},{"$f":"IF('Relevés de  commissions'!D18208=\"AGI externes\",'Relevés de  commissions'!P18208,0)*1","v":0},0,""]
[null,null,null,null,null,null,null,null,null,null,null,null,{"$f":"IF('Relevés de  commissions'!D18225=\"AGI externes\",'Relevés de  commissions'!M18225,0)*1","v":0},{"$f":"IF('Relevés de  commissions'!D18225=\"AGI externes\",'Relevés de  commissions'!N18225,0)*1","v":0},{"$f":"IF('Relevés de  commissions'!D18225=\"AGI externes\",'Relevés de  commissions'!O18225,0)*1","v":0},{"$f":"IF('Relevés de  commissions'!D18225=\"AGI externes\",'Relevés de  commissions'!P18225,0)*1","v":0},0,""]
[null,null,null,null,null,null,null,null,null,null,null,null,{"$f":"IF('Relevés de  commissions'!D18235=\"AGI externes\",'Relevés de  commissions'!M18235,0)*1","v":0},{"$f":"IF('Relevés de  commissions'!D18235=\"AGI externes\",'Relevés de  commissions'!N18235,0)*1","v":0},{"$f":"IF('Relevés de  commissions'!D18235=\"AGI externes\",'Relevés de  commissions'!O18235,0)*1","v":0},{"$f":"IF('Relevés de  commissions'!D18235=\"AGI externes\",'Relevés de  commissions'!P18235,0)*1","v":0},0,""]
[null,null,null,null,null,null,null,null,null,null,null,null,{"$f":"IF('Relevés de  commissions'!D18241=\"AGI externes\",'Relevés de  commissions'!M18241,0)*1","v":0},{"$f":"IF('Relevés de  commissions'!D18241=\"AGI externes\",'Relevés de  commissions'!N18241,0)*1","v":0},{"$f":"IF('Relevés de  commissions'!D18241=\"AGI externes\",'Relevés de  commissions'!O18241,0)*1","v":0},{"$f":"IF('Relevés de  commissions'!D18241=\"AGI externes\",'Relevés de  commissions'!P18241,0)*1","v":0},0,""]
[null,null,null,null,null,null,null,null,null,null,null,null,{"$f":"IF('Relevés de  commissions'!D18258=\"AGI externes\",'Relevés de  commissions'!M18258,0)*1","v":0},{"$f":"IF('Relevés de  commissions'!D18258=\"AGI externes\",'Relevés de  commissions'!N18258,0)*1","v":0},{"$f":"IF('Relevés de  commissions'!D18258=\"AGI externes\",'Relevés de  commissions'!O18258,0)*1","v":0},{"$f":"IF('Relevés de  commissions'!D18258=\"AGI externes\",'Relevés de  commissions'!P18258,0)*1","v":0},0,""]
[null,null,null,null,null,null,null,null,null,null,null,null,{"$f":"IF('Relevés de  commissions'!D18264=\"AGI externes\",'Relevés de  commissions'!M18264,0)*1","v":0},{"$f":"IF('Relevés de  commissions'!D18264=\"AGI externes\",'Relevés de  commissions'!N18264,0)*1","v":0},{"$f":"IF('Relevés de  commissions'!D18264=\"AGI externes\",'Relevés de  commissions'!O18264,0)*1","v":0},{"$f":"IF('Relevés de  commissions'!D18264=\"AGI externes\",'Relevés de  commissions'!P18264,0)*1","v":0},0,""]
[null,null,null,null,null,null,null,null,null,null,null,null,{"$f":"IF('Relevés de  commissions'!D18273=\"AGI externes\",'Relevés de  commissions'!M18273,0)*1","v":0},{"$f":"IF('Relevés de  commissions'!D18273=\"AGI externes\",'Relevés de  commissions'!N18273,0)*1","v":0},{"$f":"IF('Relevés de  commissions'!D18273=\"AGI externes\",'Relevés de  commissions'!O18273,0)*1","v":0},{"$f":"IF('Relevés de  commissions'!D18273=\"AGI externes\",'Relevés de  commissions'!P18273,0)*1","v":0},0,""]
[null,null,null,null,null,null,null,null,null,null,null,null,{"$f":"IF('Relevés de  commissions'!D18283=\"AGI externes\",'Relevés de  commissions'!M18283,0)*1","v":0},{"$f":"IF('Relevés de  commissions'!D18283=\"AGI externes\",'Relevés de  commissions'!N18283,0)*1","v":0},{"$f":"IF('Relevés de  commissions'!D18283=\"AGI externes\",'Relevés de  commissions'!O18283,0)*1","v":0},{"$f":"IF('Relevés de  commissions'!D18283=\"AGI externes\",'Relevés de  commissions'!P18283,0)*1","v":0},0,""]
[null,null,null,null,null,null,null,null,null,null,null,null,{"$f":"IF('Relevés de  commissions'!D18300=\"AGI externes\",'Relevés de  commissions'!M18300,0)*1","v":0},{"$f":"IF('Relevés de  commissions'!D18300=\"AGI externes\",'Relevés de  commissions'!N18300,0)*1","v":0},{"$f":"IF('Relevés de  commissions'!D18300=\"AGI externes\",'Relevés de  commissions'!O18300,0)*1","v":0},{"$f":"IF('Relevés de  commissions'!D18300=\"AGI externes\",'Relevés de  commissions'!P18300,0)*1","v":0},0,""]
[null,null,null,null,null,null,null,null,null,null,null,null,{"$f":"IF('Relevés de  commissions'!D18306=\"AGI externes\",'Relevés de  commissions'!M18306,0)*1","v":0},{"$f":"IF('Relevés de  commissions'!D18306=\"AGI externes\",'Relevés de  commissions'!N18306,0)*1","v":0},{"$f":"IF('Relevés de  commissions'!D18306=\"AGI externes\",'Relevés de  commissions'!O18306,0)*1","v":0},{"$f":"IF('Relevés de  commissions'!D18306=\"AGI externes\",'Relevés de  commissions'!P18306,0)*1","v":0},0,""]
[null,null,null,null,null,null,null,null,null,null,null,null,{"$f":"IF('Relevés de  commissions'!D18316=\"AGI externes\",'Relevés de  commissions'!M18316,0)*1","v":0},{"$f":"IF('Relevés de  commissions'!D18316=\"AGI externes\",'Relevés de  commissions'!N18316,0)*1","v":0},{"$f":"IF('Relevés de  commissions'!D18316=\"AGI externes\",'Relevés de  commissions'!O18316,0)*1","v":0},{"$f":"IF('Relevés de  commissions'!D18316=\"AGI externes\",'Relevés de  commissions'!P18316,0)*1","v":0},0,""]
[null,null,null,null,null,null,null,null,null,null,null,null,{"$f":"IF('Relevés de  commissions'!D18331=\"AGI externes\",'Relevés de  commissions'!M18331,0)*1","v":0},{"$f":"IF('Relevés de  commissions'!D18331=\"AGI externes\",'Relevés de  commissions'!N18331,0)*1","v":0},{"$f":"IF('Relevés de  commissions'!D18331=\"AGI externes\",'Relevés de  commissions'!O18331,0)*1","v":0},{"$f":"IF('Relevés de  commissions'!D18331=\"AGI externes\",'Relevés de  commissions'!P18331,0)*1","v":0},0,""]
[null,null,null,null,null,null,null,null,null,null,null,null,{"$f":"IF('Relevés de  commissions'!D18342=\"AGI externes\",'Relevés de  commissions'!M18342,0)*1","v":0},{"$f":"IF('Relevés de  commissions'!D18342=\"AGI externes\",'Relevés de  commissions'!N18342,0)*1","v":0},{"$f":"IF('Relevés de  commissions'!D18342=\"AGI externes\",'Relevés de  commissions'!O18342,0)*1","v":0},{"$f":"IF('Relevés de  commissions'!D18342=\"AGI externes\",'Relevés de  commissions'!P18342,0)*1","v":0},0,""]
[null,null,null,null,null,null,null,null,null,null,null,null,{"$f":"IF('Relevés de  commissions'!D18348=\"AGI externes\",'Relevés de  commissions'!M18348,0)*1","v":0},{"$f":"IF('Relevés de  commissions'!D18348=\"AGI externes\",'Relevés de  commissions'!N18348,0)*1","v":0},{"$f":"IF('Relevés de  commissions'!D18348=\"AGI externes\",'Relevés de  commissions'!O18348,0)*1","v":0},{"$f":"IF('Relevés de  commissions'!D18348=\"AGI externes\",'Relevés de  commissions'!P18348,0)*1","v":0},0,""]
[null,null,null,null,null,null,null,null,null,null,null,null,{"$f":"IF('Relevés de  commissions'!D18365=\"AGI externes\",'Relevés de  commissions'!M18365,0)*1","v":0},{"$f":"IF('Relevés de  commissions'!D18365=\"AGI externes\",'Relevés de  commissions'!N18365,0)*1","v":0},{"$f":"IF('Relevés de  commissions'!D18365=\"AGI externes\",'Relevés de  commissions'!O18365,0)*1","v":0},{"$f":"IF('Relevés de  commissions'!D18365=\"AGI externes\",'Relevés de  commissions'!P18365,0)*1","v":0},0,""]
[null,null,null,null,null,null,null,null,null,null,null,null,{"$f":"IF('Relevés de  commissions'!D18375=\"AGI externes\",'Relevés de  commissions'!M18375,0)*1","v":0},{"$f":"IF('Relevés de  commissions'!D18375=\"AGI externes\",'Relevés de  commissions'!N18375,0)*1","v":0},{"$f":"IF('Relevés de  commissions'!D18375=\"AGI externes\",'Relevés de  commissions'!O18375,0)*1","v":0},{"$f":"IF('Relevés de  commissions'!D18375=\"AGI externes\",'Relevés de  commissions'!P18375,0)*1","v":0},0,""]
[null,null,null,null,null,null,null,null,null,null,null,null,{"$f":"IF('Relevés de  commissions'!D18381=\"AGI externes\",'Relevés de  commissions'!M18381,0)*1","v":0},{"$f":"IF('Relevés de  commissions'!D18381=\"AGI externes\",'Relevés de  commissions'!N18381,0)*1","v":0},{"$f":"IF('Relevés de  commissions'!D18381=\"AGI externes\",'Relevés de  commissions'!O18381,0)*1","v":0},{"$f":"IF('Relevés de  commissions'!D18381=\"AGI externes\",'Relevés de  commissions'!P18381,0)*1","v":0},0,""]
[null,null,null,null,null,null,null,null,null,null,null,null,{"$f":"IF('Relevés de  commissions'!D18398=\"AGI externes\",'Relevés de  commissions'!M18398,0)*1","v":0},{"$f":"IF('Relevés de  commissions'!D18398=\"AGI externes\",'Relevés de  commissions'!N18398,0)*1","v":0},{"$f":"IF('Relevés de  commissions'!D18398=\"AGI externes\",'Relevés de  commissions'!O18398,0)*1","v":0},{"$f":"IF('Relevés de  commissions'!D18398=\"AGI externes\",'Relevés de  commissions'!P18398,0)*1","v":0},0,""]
[null,null,null,null,null,null,null,null,null,null,null,null,{"$f":"IF('Relevés de  commissions'!D18407=\"AGI externes\",'Relevés de  commissions'!M18407,0)*1","v":0},{"$f":"IF('Relevés de  commissions'!D18407=\"AGI externes\",'Relevés de  commissions'!N18407,0)*1","v":0},{"$f":"IF('Relevés de  commissions'!D18407=\"AGI externes\",'Relevés de  commissions'!O18407,0)*1","v":0},{"$f":"IF('Relevés de  commissions'!D18407=\"AGI externes\",'Relevés de  commissions'!P18407,0)*1","v":0},0,""]
[null,null,null,null,null,null,null,null,null,null,null,null,{"$f":"IF('Relevés de  commissions'!D18413=\"AGI externes\",'Relevés de  commissions'!M18413,0)*1","v":0},{"$f":"IF('Relevés de  commissions'!D18413=\"AGI externes\",'Relevés de  commissions'!N18413,0)*1","v":0},{"$f":"IF('Relevés de  commissions'!D18413=\"AGI externes\",'Relevés de  commissions'!O18413,0)*1","v":0},{"$f":"IF('Relevés de  commissions'!D18413=\"AGI externes\",'Relevés de  commissions'!P18413,0)*1","v":0},0,""]
[null,null,null,null,null,null,null,null,null,null,null,null,{"$f":"IF('Relevés de  commissions'!D18423=\"AGI externes\",'Relevés de  commissions'!M18423,0)*1","v":0},{"$f":"IF('Relevés de  commissions'!D18423=\"AGI externes\",'Relevés de  commissions'!N18423,0)*1","v":0},{"$f":"IF('Relevés de  commissions'!D18423=\"AGI externes\",'Relevés de  commissions'!O18423,0)*1","v":0},{"$f":"IF('Relevés de  commissions'!D18423=\"AGI externes\",'Relevés de  commissions'!P18423,0)*1","v":0},0,""]
[null,null,null,null,null,null,null,null,null,null,null,null,{"$f":"IF('Relevés de  commissions'!D18440=\"AGI externes\",'Relevés de  commissions'!M18440,0)*1","v":0},{"$f":"IF('Relevés de  commissions'!D18440=\"AGI externes\",'Relevés de  commissions'!N18440,0)*1","v":0},{"$f":"IF('Relevés de  commissions'!D18440=\"AGI externes\",'Relevés de  commissions'!O18440,0)*1","v":0},{"$f":"IF('Relevés de  commissions'!D18440=\"AGI externes\",'Relevés de  commissions'!P18440,0)*1","v":0},0,""]
[null,null,null,null,null,null,null,null,null,null,null,null,{"$f":"IF('Relevés de  commissions'!D18446=\"AGI externes\",'Relevés de  commissions'!M18446,0)*1","v":0},{"$f":"IF('Relevés de  commissions'!D18446=\"AGI externes\",'Relevés de  commissions'!N18446,0)*1","v":0},{"$f":"IF('Relevés de  commissions'!D18446=\"AGI externes\",'Relevés de  commissions'!O18446,0)*1","v":0},{"$f":"IF('Relevés de  commissions'!D18446=\"AGI externes\",'Relevés de  commissions'!P18446,0)*1","v":0},0,{"$f":"IF(N18448=10,O18448,\"\")","v":""}]
[null,null,null,null,null,null,null,null,null,null,null,null,{"$f":"IF('Relevés de  commissions'!D18461=\"AGI externes\",'Relevés de  commissions'!M18461,0)*1","v":0},{"$f":"IF('Relevés de  commissions'!D18461=\"AGI externes\",'Relevés de  commissions'!N18461,0)*1","v":0},{"$f":"IF('Relevés de  commissions'!D18461=\"AGI externes\",'Relevés de  commissions'!O18461,0)*1","v":0},{"$f":"IF('Relevés de  commissions'!D18461=\"AGI externes\",'Relevés de  commissions'!P18461,0)*1","v":0},0,""]
[null,null,null,null,null,null,null,null,null,null,null,null,{"$f":"IF('Relevés de  commissions'!D18472=\"AGI externes\",'Relevés de  commissions'!M18472,0)*1","v":0},{"$f":"IF('Relevés de  commissions'!D18472=\"AGI externes\",'Relevés de  commissions'!N18472,0)*1","v":0},{"$f":"IF('Relevés de  commissions'!D18472=\"AGI externes\",'Relevés de  commissions'!O18472,0)*1","v":0},{"$f":"IF('Relevés de  commissions'!D18472=\"AGI externes\",'Relevés de  commissions'!P18472,0)*1","v":0},0,""]
[null,null,null,null,null,null,null,null,null,null,null,null,{"$f":"IF('Relevés de  commissions'!D18478=\"AGI externes\",'Relevés de  commissions'!M18478,0)*1","v":0},{"$f":"IF('Relevés de  commissions'!D18478=\"AGI externes\",'Relevés de  commissions'!N18478,0)*1","v":0},{"$f":"IF('Relevés de  commissions'!D18478=\"AGI externes\",'Relevés de  commissions'!O18478,0)*1","v":0},{"$f":"IF('Relevés de  commissions'!D18478=\"AGI externes\",'Relevés de  commissions'!P18478,0)*1","v":0},0,""]
[null,null,null,null,null,null,null,null,null,null,null,null,{"$f":"IF('Relevés de  commissions'!D18488=\"AGI externes\",'Relevés de  commissions'!M18488,0)*1","v":0},{"$f":"IF('Relevés de  commissions'!D18488=\"AGI externes\",'Relevés de  commissions'!N18488,0)*1","v":0},{"$f":"IF('Relevés de  commissions'!D18488=\"AGI externes\",'Relevés de  commissions'!O18488,0)*1","v":0},{"$f":"IF('Relevés de  commissions'!D18488=\"AGI externes\",'Relevés de  commissions'!P18488,0)*1","v":0},0,""]
[null,null,null,null,null,null,null,null,null,null,null,null,{"$f":"IF('Relevés de  commissions'!D18505=\"AGI externes\",'Relevés de  commissions'!M18505,0)*1","v":0},{"$f":"IF('Relevés de  commissions'!D18505=\"AGI externes\",'Relevés de  commissions'!N18505,0)*1","v":0},{"$f":"IF('Relevés de  commissions'!D18505=\"AGI externes\",'Relevés de  commissions'!O18505,0)*1","v":0},{"$f":"IF('Relevés de  commissions'!D18505=\"AGI externes\",'Relevés de  commissions'!P18505,0)*1","v":0},0,""]
[null,null,null,null,null,null,null,null,null,null,null,null,{"$f":"IF('Relevés de  commissions'!D18515=\"AGI externes\",'Relevés de  commissions'!M18515,0)*1","v":0},{"$f":"IF('Relevés de  commissions'!D18515=\"AGI externes\",'Relevés de  commissions'!N18515,0)*1","v":0},{"$f":"IF('Relevés de  commissions'!D18515=\"AGI externes\",'Relevés de  commissions'!O18515,0)*1","v":0},{"$f":"IF('Relevés de  commissions'!D18515=\"AGI externes\",'Relevés de  commissions'!P18515,0)*1","v":0},0,""]
[null,null,null,null,null,null,null,null,null,null,null,null,{"$f":"IF('Relevés de  commissions'!D18528=\"AGI externes\",'Relevés de  commissions'!M18528,0)*1","v":0},{"$f":"IF('Relevés de  commissions'!D18528=\"AGI externes\",'Relevés de  commissions'!N18528,0)*1","v":0},{"$f":"IF('Relevés de  commissions'!D18528=\"AGI externes\",'Relevés de  commissions'!O18528,0)*1","v":0},{"$f":"IF('Relevés de  commissions'!D18528=\"AGI externes\",'Relevés de  commissions'!P18528,0)*1","v":0},0,""]
[null,null,null,null,null,null,null,null,null,null,null,null,{"$f":"IF('Relevés de  commissions'!D18537=\"AGI externes\",'Relevés de  commissions'!M18537,0)*1","v":0},{"$f":"IF('Relevés de  commissions'!D18537=\"AGI externes\",'Relevés de  commissions'!N18537,0)*1","v":0},{"$f":"IF('Relevés de  commissions'!D18537=\"AGI externes\",'Relevés de  commissions'!O18537,0)*1","v":0},{"$f":"IF('Relevés de  commissions'!D18537=\"AGI externes\",'Relevés de  commissions'!P18537,0)*1","v":0},0,""]
[null,null,null,null,null,null,null,null,null,null,null,null,{"$f":"IF('Relevés de  commissions'!D18547=\"AGI externes\",'Relevés de  commissions'!M18547,0)*1","v":0},{"$f":"IF('Relevés de  commissions'!D18547=\"AGI externes\",'Relevés de  commissions'!N18547,0)*1","v":0},{"$f":"IF('Relevés de  commissions'!D18547=\"AGI externes\",'Relevés de  commissions'!O18547,0)*1","v":0},{"$f":"IF('Relevés de  commissions'!D18547=\"AGI externes\",'Relevés de  commissions'!P18547,0)*1","v":0},0,""]
[null,null,null,null,null,null,null,null,null,null,null,null,{"$f":"IF('Relevés de  commissions'!D18553=\"AGI externes\",'Relevés de  commissions'!M18553,0)*1","v":0},{"$f":"IF('Relevés de  commissions'!D18553=\"AGI externes\",'Relevés de  commissions'!N18553,0)*1","v":0},{"$f":"IF('Relevés de  commissions'!D18553=\"AGI externes\",'Relevés de  commissions'!O18553,0)*1","v":0},{"$f":"IF('Relevés de  commissions'!D18553=\"AGI externes\",'Relevés de  commissions'!P18553,0)*1","v":0},0,""]
[null,null,null,null,null,null,null,null,null,null,null,null,{"$f":"IF('Relevés de  commissions'!D18563=\"AGI externes\",'Relevés de  commissions'!M18563,0)*1","v":0},{"$f":"IF('Relevés de  commissions'!D18563=\"AGI externes\",'Relevés de  commissions'!N18563,0)*1","v":0},{"$f":"IF('Relevés de  commissions'!D18563=\"AGI externes\",'Relevés de  commissions'!O18563,0)*1","v":0},{"$f":"IF('Relevés de  commissions'!D18563=\"AGI externes\",'Relevés de  commissions'!P18563,0)*1","v":0},{"$f":"IF(N18565=0,O18565,\"\")","v":0},""]
[null,null,null,null,null,null,null,null,null,null,null,null,{"$f":"IF('Relevés de  commissions'!D18580=\"AGI externes\",'Relevés de  commissions'!M18580,0)*1","v":0},{"$f":"IF('Relevés de  commissions'!D18580=\"AGI externes\",'Relevés de  commissions'!N18580,0)*1","v":0},{"$f":"IF('Relevés de  commissions'!D18580=\"AGI externes\",'Relevés de  commissions'!O18580,0)*1","v":0},{"$f":"IF('Relevés de  commissions'!D18580=\"AGI externes\",'Relevés de  commissions'!P18580,0)*1","v":0},0,""]
[null,null,null,null,null,null,null,null,null,null,null,null,{"$f":"IF('Relevés de  commissions'!D18585=\"AGI externes\",'Relevés de  commissions'!M18585,0)*1","v":0},{"$f":"IF('Relevés de  commissions'!D18585=\"AGI externes\",'Relevés de  commissions'!N18585,0)*1","v":0},{"$f":"IF('Relevés de  commissions'!D18585=\"AGI externes\",'Relevés de  commissions'!O18585,0)*1","v":0},{"$f":"IF('Relevés de  commissions'!D18585=\"AGI externes\",'Relevés de  commissions'!P18585,0)*1","v":0},0,""]
[null,null,null,null,null,null,null,null,null,null,null,null,{"$f":"IF('Relevés de  commissions'!D18595=\"AGI externes\",'Relevés de  commissions'!M18595,0)*1","v":0},{"$f":"IF('Relevés de  commissions'!D18595=\"AGI externes\",'Relevés de  commissions'!N18595,0)*1","v":0},{"$f":"IF('Relevés de  commissions'!D18595=\"AGI externes\",'Relevés de  commissions'!O18595,0)*1","v":0},{"$f":"IF('Relevés de  commissions'!D18595=\"AGI externes\",'Relevés de  commissions'!P18595,0)*1","v":0},0,""]
[null,null,null,null,null,null,null,null,null,null,null,null,{"$f":"IF('Relevés de  commissions'!D18612=\"AGI externes\",'Relevés de  commissions'!M18612,0)*1","v":0},{"$f":"IF('Relevés de  commissions'!D18612=\"AGI externes\",'Relevés de  commissions'!N18612,0)*1","v":0},{"$f":"IF('Relevés de  commissions'!D18612=\"AGI externes\",'Relevés de  commissions'!O18612,0)*1","v":0},{"$f":"IF('Relevés de  commissions'!D18612=\"AGI externes\",'Relevés de  commissions'!P18612,0)*1","v":0},0,""]
[null,null,null,null,null,null,null,null,null,null,null,null,{"$f":"IF('Relevés de  commissions'!D18618=\"AGI externes\",'Relevés de  commissions'!M18618,0)*1","v":0},{"$f":"IF('Relevés de  commissions'!D18618=\"AGI externes\",'Relevés de  commissions'!N18618,0)*1","v":0},{"$f":"IF('Relevés de  commissions'!D18618=\"AGI externes\",'Relevés de  commissions'!O18618,0)*1","v":0},{"$f":"IF('Relevés de  commissions'!D18618=\"AGI externes\",'Relevés de  commissions'!P18618,0)*1","v":0},0,""]
[null,null,null,null,null,null,null,null,null,null,null,null,{"$f":"IF('Relevés de  commissions'!D18628=\"AGI externes\",'Relevés de  commissions'!M18628,0)*1","v":0},{"$f":"IF('Relevés de  commissions'!D18628=\"AGI externes\",'Relevés de  commissions'!N18628,0)*1","v":0},{"$f":"IF('Relevés de  commissions'!D18628=\"AGI externes\",'Relevés de  commissions'!O18628,0)*1","v":0},{"$f":"IF('Relevés de  commissions'!D18628=\"AGI externes\",'Relevés de  commissions'!P18628,0)*1","v":0},0,""]
[null,null,null,null,null,null,null,null,null,null,null,null,{"$f":"IF('Relevés de  commissions'!D18645=\"AGI externes\",'Relevés de  commissions'!M18645,0)*1","v":0},{"$f":"IF('Relevés de  commissions'!D18645=\"AGI externes\",'Relevés de  commissions'!N18645,0)*1","v":0},{"$f":"IF('Relevés de  commissions'!D18645=\"AGI externes\",'Relevés de  commissions'!O18645,0)*1","v":0},{"$f":"IF('Relevés de  commissions'!D18645=\"AGI externes\",'Relevés de  commissions'!P18645,0)*1","v":0},0,""]
[null,null,null,null,null,null,null,null,null,null,null,null,{"$f":"IF('Relevés de  commissions'!D18658=\"AGI externes\",'Relevés de  commissions'!M18658,0)*1","v":0},{"$f":"IF('Relevés de  commissions'!D18658=\"AGI externes\",'Relevés de  commissions'!N18658,0)*1","v":0},{"$f":"IF('Relevés de  commissions'!D18658=\"AGI externes\",'Relevés de  commissions'!O18658,0)*1","v":0},{"$f":"IF('Relevés de  commissions'!D18658=\"AGI externes\",'Relevés de  commissions'!P18658,0)*1","v":0},0,""]
[null,null,null,null,null,null,null,null,null,null,null,null,{"$f":"IF('Relevés de  commissions'!D18660=\"AGI externes\",'Relevés de  commissions'!M18660,0)*1","v":0},{"$f":"IF('Relevés de  commissions'!D18660=\"AGI externes\",'Relevés de  commissions'!N18660,0)*1","v":0},{"$f":"IF('Relevés de  commissions'!D18660=\"AGI externes\",'Relevés de  commissions'!O18660,0)*1","v":0},{"$f":"IF('Relevés de  commissions'!D18660=\"AGI externes\",'Relevés de  commissions'!P18660,0)*1","v":0},0,""]
[null,null,null,null,null,null,null,null,null,null,null,null,{"$f":"IF('Relevés de  commissions'!D18677=\"AGI externes\",'Relevés de  commissions'!M18677,0)*1","v":0},{"$f":"IF('Relevés de  commissions'!D18677=\"AGI externes\",'Relevés de  commissions'!N18677,0)*1","v":0},{"$f":"IF('Relevés de  commissions'!D18677=\"AGI externes\",'Relevés de  commissions'!O18677,0)*1","v":0},{"$f":"IF('Relevés de  commissions'!D18677=\"AGI externes\",'Relevés de  commissions'!P18677,0)*1","v":0},0,""]
[null,null,null,null,null,null,null,null,null,null,null,null,{"$f":"IF('Relevés de  commissions'!D18687=\"AGI externes\",'Relevés de  commissions'!M18687,0)*1","v":0},{"$f":"IF('Relevés de  commissions'!D18687=\"AGI externes\",'Relevés de  commissions'!N18687,0)*1","v":0},{"$f":"IF('Relevés de  commissions'!D18687=\"AGI externes\",'Relevés de  commissions'!O18687,0)*1","v":0},{"$f":"IF('Relevés de  commissions'!D18687=\"AGI externes\",'Relevés de  commissions'!P18687,0)*1","v":0},0,""]
[null,null,null,null,null,null,null,null,null,null,null,null,{"$f":"IF('Relevés de  commissions'!D18693=\"AGI externes\",'Relevés de  commissions'!M18693,0)*1","v":0},{"$f":"IF('Relevés de  commissions'!D18693=\"AGI externes\",'Relevés de  commissions'!N18693,0)*1","v":0},{"$f":"IF('Relevés de  commissions'!D18693=\"AGI externes\",'Relevés de  commissions'!O18693,0)*1","v":0},{"$f":"IF('Relevés de  commissions'!D18693=\"AGI externes\",'Relevés de  commissions'!P18693,0)*1","v":0},0,""]
[null,null,null,null,null,null,null,null,null,null,null,null,{"$f":"IF('Relevés de  commissions'!D18710=\"AGI externes\",'Relevés de  commissions'!M18710,0)*1","v":0},{"$f":"IF('Relevés de  commissions'!D18710=\"AGI externes\",'Relevés de  commissions'!N18710,0)*1","v":0},{"$f":"IF('Relevés de  commissions'!D18710=\"AGI externes\",'Relevés de  commissions'!O18710,0)*1","v":0},{"$f":"IF('Relevés de  commissions'!D18710=\"AGI externes\",'Relevés de  commissions'!P18710,0)*1","v":0},0,""]
[null,null,null,null,null,null,null,null,null,null,null,null,{"$f":"IF('Relevés de  commissions'!D18715=\"AGI externes\",'Relevés de  commissions'!M18715,0)*1","v":0},{"$f":"IF('Relevés de  commissions'!D18715=\"AGI externes\",'Relevés de  commissions'!N18715,0)*1","v":0},{"$f":"IF('Relevés de  commissions'!D18715=\"AGI externes\",'Relevés de  commissions'!O18715,0)*1","v":0},{"$f":"IF('Relevés de  commissions'!D18715=\"AGI externes\",'Relevés de  commissions'!P18715,0)*1","v":0},0,""]
[null,null,null,null,null,null,null,null,null,null,null,null,{"$f":"IF('Relevés de  commissions'!D18725=\"AGI externes\",'Relevés de  commissions'!M18725,0)*1","v":0},{"$f":"IF('Relevés de  commissions'!D18725=\"AGI externes\",'Relevés de  commissions'!N18725,0)*1","v":0},{"$f":"IF('Relevés de  commissions'!D18725=\"AGI externes\",'Relevés de  commissions'!O18725,0)*1","v":0},{"$f":"IF('Relevés de  commissions'!D18725=\"AGI externes\",'Relevés de  commissions'!P18725,0)*1","v":0},0,""]
[null,null,null,null,null,null,null,null,null,null,null,null,{"$f":"IF('Relevés de  commissions'!D18746=\"AGI externes\",'Relevés de  commissions'!M18746,0)*1","v":0},{"$f":"IF('Relevés de  commissions'!D18746=\"AGI externes\",'Relevés de  commissions'!N18746,0)*1","v":0},{"$f":"IF('Relevés de  commissions'!D18746=\"AGI externes\",'Relevés de  commissions'!O18746,0)*1","v":0},{"$f":"IF('Relevés de  commissions'!D18746=\"AGI externes\",'Relevés de  commissions'!P18746,0)*1","v":0},0,""]
[null,null,null,null,null,null,null,null,null,null,null,null,{"$f":"IF('Relevés de  commissions'!D18752=\"AGI externes\",'Relevés de  commissions'!M18752,0)*1","v":0},{"$f":"IF('Relevés de  commissions'!D18752=\"AGI externes\",'Relevés de  commissions'!N18752,0)*1","v":0},{"$f":"IF('Relevés de  commissions'!D18752=\"AGI externes\",'Relevés de  commissions'!O18752,0)*1","v":0},{"$f":"IF('Relevés de  commissions'!D18752=\"AGI externes\",'Relevés de  commissions'!P18752,0)*1","v":0},0,""]
[null,null,null,null,null,null,null,null,null,null,null,null,{"$f":"IF('Relevés de  commissions'!D18758=\"AGI externes\",'Relevés de  commissions'!M18758,0)*1","v":0},{"$f":"IF('Relevés de  commissions'!D18758=\"AGI externes\",'Relevés de  commissions'!N18758,0)*1","v":0},{"$f":"IF('Relevés de  commissions'!D18758=\"AGI externes\",'Relevés de  commissions'!O18758,0)*1","v":0},{"$f":"IF('Relevés de  commissions'!D18758=\"AGI externes\",'Relevés de  commissions'!P18758,0)*1","v":0},0,""]
[null,null,null,null,null,null,null,null,null,null,null,null,{"$f":"IF('Relevés de  commissions'!D18779=\"AGI externes\",'Relevés de  commissions'!M18779,0)*1","v":0},{"$f":"IF('Relevés de  commissions'!D18779=\"AGI externes\",'Relevés de  commissions'!N18779,0)*1","v":0},{"$f":"IF('Relevés de  commissions'!D18779=\"AGI externes\",'Relevés de  commissions'!O18779,0)*1","v":0},{"$f":"IF('Relevés de  commissions'!D18779=\"AGI externes\",'Relevés de  commissions'!P18779,0)*1","v":0},0,""]
[null,null,null,null,null,null,null,null,null,null,null,null,{"$f":"IF('Relevés de  commissions'!D18782=\"AGI externes\",'Relevés de  commissions'!M18782,0)*1","v":0},{"$f":"IF('Relevés de  commissions'!D18782=\"AGI externes\",'Relevés de  commissions'!N18782,0)*1","v":0},{"$f":"IF('Relevés de  commissions'!D18782=\"AGI externes\",'Relevés de  commissions'!O18782,0)*1","v":0},{"$f":"IF('Relevés de  commissions'!D18782=\"AGI externes\",'Relevés de  commissions'!P18782,0)*1","v":0},0,""]
[null,null,null,null,null,null,null,null,null,null,null,null,{"$f":"IF('Relevés de  commissions'!D18794=\"AGI externes\",'Relevés de  commissions'!M18794,0)*1","v":0},{"$f":"IF('Relevés de  commissions'!D18794=\"AGI externes\",'Relevés de  commissions'!N18794,0)*1","v":0},{"$f":"IF('Relevés de  commissions'!D18794=\"AGI externes\",'Relevés de  commissions'!O18794,0)*1","v":0},{"$f":"IF('Relevés de  commissions'!D18794=\"AGI externes\",'Relevés de  commissions'!P18794,0)*1","v":0},0,""]
[null,null,null,null,null,null,null,null,null,null,null,null,{"$f":"IF('Relevés de  commissions'!D18811=\"AGI externes\",'Relevés de  commissions'!M18811,0)*1","v":0},{"$f":"IF('Relevés de  commissions'!D18811=\"AGI externes\",'Relevés de  commissions'!N18811,0)*1","v":0},{"$f":"IF('Relevés de  commissions'!D18811=\"AGI externes\",'Relevés de  commissions'!O18811,0)*1","v":0},{"$f":"IF('Relevés de  commissions'!D18811=\"AGI externes\",'Relevés de  commissions'!P18811,0)*1","v":0},0,""]
[null,null,null,null,null,null,null,null,null,null,null,null,{"$f":"IF('Relevés de  commissions'!D18817=\"AGI externes\",'Relevés de  commissions'!M18817,0)*1","v":0},{"$f":"IF('Relevés de  commissions'!D18817=\"AGI externes\",'Relevés de  commissions'!N18817,0)*1","v":0},{"$f":"IF('Relevés de  commissions'!D18817=\"AGI externes\",'Relevés de  commissions'!O18817,0)*1","v":0},{"$f":"IF('Relevés de  commissions'!D18817=\"AGI externes\",'Relevés de  commissions'!P18817,0)*1","v":0},0,""]
[null,null,null,null,null,null,null,null,null,null,null,null,{"$f":"IF('Relevés de  commissions'!D18827=\"AGI externes\",'Relevés de  commissions'!M18827,0)*1","v":0},{"$f":"IF('Relevés de  commissions'!D18827=\"AGI externes\",'Relevés de  commissions'!N18827,0)*1","v":0},{"$f":"IF('Relevés de  commissions'!D18827=\"AGI externes\",'Relevés de  commissions'!O18827,0)*1","v":0},{"$f":"IF('Relevés de  commissions'!D18827=\"AGI externes\",'Relevés de  commissions'!P18827,0)*1","v":0},0,""]
[null,null,null,null,null,null,null,null,null,null,null,null,{"$f":"IF('Relevés de  commissions'!D18844=\"AGI externes\",'Relevés de  commissions'!M18844,0)*1","v":0},{"$f":"IF('Relevés de  commissions'!D18844=\"AGI externes\",'Relevés de  commissions'!N18844,0)*1","v":0},{"$f":"IF('Relevés de  commissions'!D18844=\"AGI externes\",'Relevés de  commissions'!O18844,0)*1","v":0},{"$f":"IF('Relevés de  commissions'!D18844=\"AGI externes\",'Relevés de  commissions'!P18844,0)*1","v":0},0,""]
[null,null,null,null,null,null,null,null,null,null,null,null,{"$f":"IF('Relevés de  commissions'!D18849=\"AGI externes\",'Relevés de  commissions'!M18849,0)*1","v":0},{"$f":"IF('Relevés de  commissions'!D18849=\"AGI externes\",'Relevés de  commissions'!N18849,0)*1","v":0},{"$f":"IF('Relevés de  commissions'!D18849=\"AGI externes\",'Relevés de  commissions'!O18849,0)*1","v":0},{"$f":"IF('Relevés de  commissions'!D18849=\"AGI externes\",'Relevés de  commissions'!P18849,0)*1","v":0},0,""]
[null,null,null,null,null,null,null,null,null,null,null,null,{"$f":"IF('Relevés de  commissions'!D18859=\"AGI externes\",'Relevés de  commissions'!M18859,0)*1","v":0},{"$f":"IF('Relevés de  commissions'!D18859=\"AGI externes\",'Relevés de  commissions'!N18859,0)*1","v":0},{"$f":"IF('Relevés de  commissions'!D18859=\"AGI externes\",'Relevés de  commissions'!O18859,0)*1","v":0},{"$f":"IF('Relevés de  commissions'!D18859=\"AGI externes\",'Relevés de  commissions'!P18859,0)*1","v":0},0,""]
[null,null,null,null,null,null,null,null,null,null,null,null,{"$f":"IF('Relevés de  commissions'!D18876=\"AGI externes\",'Relevés de  commissions'!M18876,0)*1","v":0},{"$f":"IF('Relevés de  commissions'!D18876=\"AGI externes\",'Relevés de  commissions'!N18876,0)*1","v":0},{"$f":"IF('Relevés de  commissions'!D18876=\"AGI externes\",'Relevés de  commissions'!O18876,0)*1","v":0},{"$f":"IF('Relevés de  commissions'!D18876=\"AGI externes\",'Relevés de  commissions'!P18876,0)*1","v":0},0,""]
[null,null,null,null,null,null,null,null,null,null,null,null,{"$f":"IF('Relevés de  commissions'!D18886=\"AGI externes\",'Relevés de  commissions'!M18886,0)*1","v":0},{"$f":"IF('Relevés de  commissions'!D18886=\"AGI externes\",'Relevés de  commissions'!N18886,0)*1","v":0},{"$f":"IF('Relevés de  commissions'!D18886=\"AGI externes\",'Relevés de  commissions'!O18886,0)*1","v":0},{"$f":"IF('Relevés de  commissions'!D18886=\"AGI externes\",'Relevés de  commissions'!P18886,0)*1","v":0},0,""]
[null,null,null,null,null,null,null,null,null,null,null,null,{"$f":"IF('Relevés de  commissions'!D18892=\"AGI externes\",'Relevés de  commissions'!M18892,0)*1","v":0},{"$f":"IF('Relevés de  commissions'!D18892=\"AGI externes\",'Relevés de  commissions'!N18892,0)*1","v":0},{"$f":"IF('Relevés de  commissions'!D18892=\"AGI externes\",'Relevés de  commissions'!O18892,0)*1","v":0},{"$f":"IF('Relevés de  commissions'!D18892=\"AGI externes\",'Relevés de  commissions'!P18892,0)*1","v":0},0,""]
[null,null,null,null,null,null,null,null,null,null,null,null,{"$f":"IF('Relevés de  commissions'!D18909=\"AGI externes\",'Relevés de  commissions'!M18909,0)*1","v":0},{"$f":"IF('Relevés de  commissions'!D18909=\"AGI externes\",'Relevés de  commissions'!N18909,0)*1","v":0},{"$f":"IF('Relevés de  commissions'!D18909=\"AGI externes\",'Relevés de  commissions'!O18909,0)*1","v":0},{"$f":"IF('Relevés de  commissions'!D18909=\"AGI externes\",'Relevés de  commissions'!P18909,0)*1","v":0},0,""]
[null,null,null,null,null,null,null,null,null,null,null,null,{"$f":"IF('Relevés de  commissions'!D18912=\"AGI externes\",'Relevés de  commissions'!M18912,0)*1","v":0},{"$f":"IF('Relevés de  commissions'!D18912=\"AGI externes\",'Relevés de  commissions'!N18912,0)*1","v":0},{"$f":"IF('Relevés de  commissions'!D18912=\"AGI externes\",'Relevés de  commissions'!O18912,0)*1","v":0},{"$f":"IF('Relevés de  commissions'!D18912=\"AGI externes\",'Relevés de  commissions'!P18912,0)*1","v":0},0,""]
[null,null,null,null,null,null,null,null,null,null,null,null,{"$f":"IF('Relevés de  commissions'!D18924=\"AGI externes\",'Relevés de  commissions'!M18924,0)*1","v":0},{"$f":"IF('Relevés de  commissions'!D18924=\"AGI externes\",'Relevés de  commissions'!N18924,0)*1","v":0},{"$f":"IF('Relevés de  commissions'!D18924=\"AGI externes\",'Relevés de  commissions'!O18924,0)*1","v":0},{"$f":"IF('Relevés de  commissions'!D18924=\"AGI externes\",'Relevés de  commissions'!P18924,0)*1","v":0},0,""]
[null,null,null,null,null,null,null,null,null,null,null,null,{"$f":"IF('Relevés de  commissions'!D18934=\"AGI externes\",'Relevés de  commissions'!M18934,0)*1","v":0},{"$f":"IF('Relevés de  commissions'!D18934=\"AGI externes\",'Relevés de  commissions'!N18934,0)*1","v":0},{"$f":"IF('Relevés de  commissions'!D18934=\"AGI externes\",'Relevés de  commissions'!O18934,0)*1","v":0},{"$f":"IF('Relevés de  commissions'!D18934=\"AGI externes\",'Relevés de  commissions'!P18934,0)*1","v":0},0,""]
[null,null,null,null,null,null,null,null,null,null,null,null,{"$f":"IF('Relevés de  commissions'!D18951=\"AGI externes\",'Relevés de  commissions'!M18951,0)*1","v":0},{"$f":"IF('Relevés de  commissions'!D18951=\"AGI externes\",'Relevés de  commissions'!N18951,0)*1","v":0},{"$f":"IF('Relevés de  commissions'!D18951=\"AGI externes\",'Relevés de  commissions'!O18951,0)*1","v":0},{"$f":"IF('Relevés de  commissions'!D18951=\"AGI externes\",'Relevés de  commissions'!P18951,0)*1","v":0},0,""]
[null,null,null,null,null,null,null,null,null,null,null,null,{"$f":"IF('Relevés de  commissions'!D18957=\"AGI externes\",'Relevés de  commissions'!M18957,0)*1","v":0},{"$f":"IF('Relevés de  commissions'!D18957=\"AGI externes\",'Relevés de  commissions'!N18957,0)*1","v":0},{"$f":"IF('Relevés de  commissions'!D18957=\"AGI externes\",'Relevés de  commissions'!O18957,0)*1","v":0},{"$f":"IF('Relevés de  commissions'!D18957=\"AGI externes\",'Relevés de  commissions'!P18957,0)*1","v":0},0,""]
[null,null,null,null,null,null,null,null,null,null,null,null,{"$f":"IF('Relevés de  commissions'!D18967=\"AGI externes\",'Relevés de  commissions'!M18967,0)*1","v":0},{"$f":"IF('Relevés de  commissions'!D18967=\"AGI externes\",'Relevés de  commissions'!N18967,0)*1","v":0},{"$f":"IF('Relevés de  commissions'!D18967=\"AGI externes\",'Relevés de  commissions'!O18967,0)*1","v":0},{"$f":"IF('Relevés de  commissions'!D18967=\"AGI externes\",'Relevés de  commissions'!P18967,0)*1","v":0},0,""]
[null,null,null,null,null,null,null,null,null,null,null,null,{"$f":"IF('Relevés de  commissions'!D18979=\"AGI externes\",'Relevés de  commissions'!M18979,0)*1","v":0},{"$f":"IF('Relevés de  commissions'!D18979=\"AGI externes\",'Relevés de  commissions'!N18979,0)*1","v":0},{"$f":"IF('Relevés de  commissions'!D18979=\"AGI externes\",'Relevés de  commissions'!O18979,0)*1","v":0},{"$f":"IF('Relevés de  commissions'!D18979=\"AGI externes\",'Relevés de  commissions'!P18979,0)*1","v":0},0,""]
[null,null,null,null,null,null,null,null,null,null,null,null,{"$f":"IF('Relevés de  commissions'!D18989=\"AGI externes\",'Relevés de  commissions'!M18989,0)*1","v":0},{"$f":"IF('Relevés de  commissions'!D18989=\"AGI externes\",'Relevés de  commissions'!N18989,0)*1","v":0},{"$f":"IF('Relevés de  commissions'!D18989=\"AGI externes\",'Relevés de  commissions'!O18989,0)*1","v":0},{"$f":"IF('Relevés de  commissions'!D18989=\"AGI externes\",'Relevés de  commissions'!P18989,0)*1","v":0},0,""]
[null,null,null,null,null,null,null,null,null,null,null,null,{"$f":"IF('Relevés de  commissions'!D18999=\"AGI externes\",'Relevés de  commissions'!M18999,0)*1","v":0},{"$f":"IF('Relevés de  commissions'!D18999=\"AGI externes\",'Relevés de  commissions'!N18999,0)*1","v":0},{"$f":"IF('Relevés de  commissions'!D18999=\"AGI externes\",'Relevés de  commissions'!O18999,0)*1","v":0},{"$f":"IF('Relevés de  commissions'!D18999=\"AGI externes\",'Relevés de  commissions'!P18999,0)*1","v":0},0,""]
[null,null,null,null,null,null,null,null,null,null,null,null,{"$f":"IF('Relevés de  commissions'!D19016=\"AGI externes\",'Relevés de  commissions'!M19016,0)*1","v":0},{"$f":"IF('Relevés de  commissions'!D19016=\"AGI externes\",'Relevés de  commissions'!N19016,0)*1","v":0},{"$f":"IF('Relevés de  commissions'!D19016=\"AGI externes\",'Relevés de  commissions'!O19016,0)*1","v":0},{"$f":"IF('Relevés de  commissions'!D19016=\"AGI externes\",'Relevés de  commissions'!P19016,0)*1","v":0},0,""]
[null,null,null,null,null,null,null,null,null,null,null,null,{"$f":"IF('Relevés de  commissions'!D19026=\"AGI externes\",'Relevés de  commissions'!M19026,0)*1","v":0},{"$f":"IF('Relevés de  commissions'!D19026=\"AGI externes\",'Relevés de  commissions'!N19026,0)*1","v":0},{"$f":"IF('Relevés de  commissions'!D19026=\"AGI externes\",'Relevés de  commissions'!O19026,0)*1","v":0},{"$f":"IF('Relevés de  commissions'!D19026=\"AGI externes\",'Relevés de  commissions'!P19026,0)*1","v":0},0,""]
[null,null,null,null,null,null,null,null,null,null,null,null,{"$f":"IF('Relevés de  commissions'!D19032=\"AGI externes\",'Relevés de  commissions'!M19032,0)*1","v":0},{"$f":"IF('Relevés de  commissions'!D19032=\"AGI externes\",'Relevés de  commissions'!N19032,0)*1","v":0},{"$f":"IF('Relevés de  commissions'!D19032=\"AGI externes\",'Relevés de  commissions'!O19032,0)*1","v":0},{"$f":"IF('Relevés de  commissions'!D19032=\"AGI externes\",'Relevés de  commissions'!P19032,0)*1","v":0},0,""]
[null,null,null,null,null,null,null,null,null,null,null,null,{"$f":"IF('Relevés de  commissions'!D19046=\"AGI externes\",'Relevés de  commissions'!M19046,0)*1","v":0},{"$f":"IF('Relevés de  commissions'!D19046=\"AGI externes\",'Relevés de  commissions'!N19046,0)*1","v":0},{"$f":"IF('Relevés de  commissions'!D19046=\"AGI externes\",'Relevés de  commissions'!O19046,0)*1","v":0},{"$f":"IF('Relevés de  commissions'!D19046=\"AGI externes\",'Relevés de  commissions'!P19046,0)*1","v":0},0,""]
[null,null,null,null,null,null,null,null,null,null,null,null,{"$f":"IF('Relevés de  commissions'!D19058=\"AGI externes\",'Relevés de  commissions'!M19058,0)*1","v":0},{"$f":"IF('Relevés de  commissions'!D19058=\"AGI externes\",'Relevés de  commissions'!N19058,0)*1","v":0},{"$f":"IF('Relevés de  commissions'!D19058=\"AGI externes\",'Relevés de  commissions'!O19058,0)*1","v":0},{"$f":"IF('Relevés de  commissions'!D19058=\"AGI externes\",'Relevés de  commissions'!P19058,0)*1","v":0},0,""]
[null,null,null,null,null,null,null,null,null,null,null,null,{"$f":"IF('Relevés de  commissions'!D19064=\"AGI externes\",'Relevés de  commissions'!M19064,0)*1","v":0},{"$f":"IF('Relevés de  commissions'!D19064=\"AGI externes\",'Relevés de  commissions'!N19064,0)*1","v":0},{"$f":"IF('Relevés de  commissions'!D19064=\"AGI externes\",'Relevés de  commissions'!O19064,0)*1","v":0},{"$f":"IF('Relevés de  commissions'!D19064=\"AGI externes\",'Relevés de  commissions'!P19064,0)*1","v":0},0,""]
[null,null,null,null,null,null,null,null,null,null,null,null,{"$f":"IF('Relevés de  commissions'!D19081=\"AGI externes\",'Relevés de  commissions'!M19081,0)*1","v":0},{"$f":"IF('Relevés de  commissions'!D19081=\"AGI externes\",'Relevés de  commissions'!N19081,0)*1","v":0},{"$f":"IF('Relevés de  commissions'!D19081=\"AGI externes\",'Relevés de  commissions'!O19081,0)*1","v":0},{"$f":"IF('Relevés de  commissions'!D19081=\"AGI externes\",'Relevés de  commissions'!P19081,0)*1","v":0},0,""]
[null,null,null,null,null,null,null,null,null,null,null,null,{"$f":"IF('Relevés de  commissions'!D19091=\"AGI externes\",'Relevés de  commissions'!M19091,0)*1","v":0},{"$f":"IF('Relevés de  commissions'!D19091=\"AGI externes\",'Relevés de  commissions'!N19091,0)*1","v":0},{"$f":"IF('Relevés de  commissions'!D19091=\"AGI externes\",'Relevés de  commissions'!O19091,0)*1","v":0},{"$f":"IF('Relevés de  commissions'!D19091=\"AGI externes\",'Relevés de  commissions'!P19091,0)*1","v":0},0,""]
[null,null,null,null,null,null,null,null,null,null,null,null,{"$f":"IF('Relevés de  commissions'!D19097=\"AGI externes\",'Relevés de  commissions'!M19097,0)*1","v":0},{"$f":"IF('Relevés de  commissions'!D19097=\"AGI externes\",'Relevés de  commissions'!N19097,0)*1","v":0},{"$f":"IF('Relevés de  commissions'!D19097=\"AGI externes\",'Relevés de  commissions'!O19097,0)*1","v":0},{"$f":"IF('Relevés de  commissions'!D19097=\"AGI externes\",'Relevés de  commissions'!P19097,0)*1","v":0},0,""]
[null,null,null,null,null,null,null,null,null,null,null,null,{"$f":"IF('Relevés de  commissions'!D19109=\"AGI externes\",'Relevés de  commissions'!M19109,0)*1","v":0},{"$f":"IF('Relevés de  commissions'!D19109=\"AGI externes\",'Relevés de  commissions'!N19109,0)*1","v":0},{"$f":"IF('Relevés de  commissions'!D19109=\"AGI externes\",'Relevés de  commissions'!O19109,0)*1","v":0},{"$f":"IF('Relevés de  commissions'!D19109=\"AGI externes\",'Relevés de  commissions'!P19109,0)*1","v":0},0,""]
[null,null,null,null,null,null,null,null,null,null,null,null,{"$f":"IF('Relevés de  commissions'!D19123=\"AGI externes\",'Relevés de  commissions'!M19123,0)*1","v":0},{"$f":"IF('Relevés de  commissions'!D19123=\"AGI externes\",'Relevés de  commissions'!N19123,0)*1","v":0},{"$f":"IF('Relevés de  commissions'!D19123=\"AGI externes\",'Relevés de  commissions'!O19123,0)*1","v":0},{"$f":"IF('Relevés de  commissions'!D19123=\"AGI externes\",'Relevés de  commissions'!P19123,0)*1","v":0},0,""]
[null,null,null,null,null,null,null,null,null,null,null,null,{"$f":"IF('Relevés de  commissions'!D19129=\"AGI externes\",'Relevés de  commissions'!M19129,0)*1","v":0},{"$f":"IF('Relevés de  commissions'!D19129=\"AGI externes\",'Relevés de  commissions'!N19129,0)*1","v":0},{"$f":"IF('Relevés de  commissions'!D19129=\"AGI externes\",'Relevés de  commissions'!O19129,0)*1","v":0},{"$f":"IF('Relevés de  commissions'!D19129=\"AGI externes\",'Relevés de  commissions'!P19129,0)*1","v":0},0,""]
[null,null,null,null,null,null,null,null,null,null,null,null,{"$f":"IF('Relevés de  commissions'!D19139=\"AGI externes\",'Relevés de  commissions'!M19139,0)*1","v":0},{"$f":"IF('Relevés de  commissions'!D19139=\"AGI externes\",'Relevés de  commissions'!N19139,0)*1","v":0},{"$f":"IF('Relevés de  commissions'!D19139=\"AGI externes\",'Relevés de  commissions'!O19139,0)*1","v":0},{"$f":"IF('Relevés de  commissions'!D19139=\"AGI externes\",'Relevés de  commissions'!P19139,0)*1","v":0},{"$f":"IF(N19141=0,O19141,\"\")","v":0},""]
[null,null,null,null,null,null,null,null,null,null,null,null,{"$f":"IF('Relevés de  commissions'!D19156=\"AGI externes\",'Relevés de  commissions'!M19156,0)*1","v":0},{"$f":"IF('Relevés de  commissions'!D19156=\"AGI externes\",'Relevés de  commissions'!N19156,0)*1","v":0},{"$f":"IF('Relevés de  commissions'!D19156=\"AGI externes\",'Relevés de  commissions'!O19156,0)*1","v":0},{"$f":"IF('Relevés de  commissions'!D19156=\"AGI externes\",'Relevés de  commissions'!P19156,0)*1","v":0},0,""]
[null,null,null,null,null,null,null,null,null,null,null,null,{"$f":"IF('Relevés de  commissions'!D19166=\"AGI externes\",'Relevés de  commissions'!M19166,0)*1","v":0},{"$f":"IF('Relevés de  commissions'!D19166=\"AGI externes\",'Relevés de  commissions'!N19166,0)*1","v":0},{"$f":"IF('Relevés de  commissions'!D19166=\"AGI externes\",'Relevés de  commissions'!O19166,0)*1","v":0},{"$f":"IF('Relevés de  commissions'!D19166=\"AGI externes\",'Relevés de  commissions'!P19166,0)*1","v":0},0,""]
[null,null,null,null,null,null,null,null,null,null,null,null,{"$f":"IF('Relevés de  commissions'!D19176=\"AGI externes\",'Relevés de  commissions'!M19176,0)*1","v":0},{"$f":"IF('Relevés de  commissions'!D19176=\"AGI externes\",'Relevés de  commissions'!N19176,0)*1","v":0},{"$f":"IF('Relevés de  commissions'!D19176=\"AGI externes\",'Relevés de  commissions'!O19176,0)*1","v":0},{"$f":"IF('Relevés de  commissions'!D19176=\"AGI externes\",'Relevés de  commissions'!P19176,0)*1","v":0},0,""]
[null,null,null,null,null,null,null,null,null,null,null,null,{"$f":"IF('Relevés de  commissions'!D19188=\"AGI externes\",'Relevés de  commissions'!M19188,0)*1","v":0},{"$f":"IF('Relevés de  commissions'!D19188=\"AGI externes\",'Relevés de  commissions'!N19188,0)*1","v":0},{"$f":"IF('Relevés de  commissions'!D19188=\"AGI externes\",'Relevés de  commissions'!O19188,0)*1","v":0},{"$f":"IF('Relevés de  commissions'!D19188=\"AGI externes\",'Relevés de  commissions'!P19188,0)*1","v":0},0,""]
[null,null,null,null,null,null,null,null,null,null,null,null,{"$f":"IF('Relevés de  commissions'!D19198=\"AGI externes\",'Relevés de  commissions'!M19198,0)*1","v":0},{"$f":"IF('Relevés de  commissions'!D19198=\"AGI externes\",'Relevés de  commissions'!N19198,0)*1","v":0},{"$f":"IF('Relevés de  commissions'!D19198=\"AGI externes\",'Relevés de  commissions'!O19198,0)*1","v":0},{"$f":"IF('Relevés de  commissions'!D19198=\"AGI externes\",'Relevés de  commissions'!P19198,0)*1","v":0},0,""]
[null,null,null,null,null,null,null,null,null,null,null,null,{"$f":"IF('Relevés de  commissions'!D19204=\"AGI externes\",'Relevés de  commissions'!M19204,0)*1","v":0},{"$f":"IF('Relevés de  commissions'!D19204=\"AGI externes\",'Relevés de  commissions'!N19204,0)*1","v":0},{"$f":"IF('Relevés de  commissions'!D19204=\"AGI externes\",'Relevés de  commissions'!O19204,0)*1","v":0},{"$f":"IF('Relevés de  commissions'!D19204=\"AGI externes\",'Relevés de  commissions'!P19204,0)*1","v":0},0,""]
[null,null,null,null,null,null,null,null,null,null,null,null,{"$f":"IF('Relevés de  commissions'!D19221=\"AGI externes\",'Relevés de  commissions'!M19221,0)*1","v":0},{"$f":"IF('Relevés de  commissions'!D19221=\"AGI externes\",'Relevés de  commissions'!N19221,0)*1","v":0},{"$f":"IF('Relevés de  commissions'!D19221=\"AGI externes\",'Relevés de  commissions'!O19221,0)*1","v":0},{"$f":"IF('Relevés de  commissions'!D19221=\"AGI externes\",'Relevés de  commissions'!P19221,0)*1","v":0},0,""]
[null,null,null,null,null,null,null,null,null,null,null,null,{"$f":"IF('Relevés de  commissions'!D19231=\"AGI externes\",'Relevés de  commissions'!M19231,0)*1","v":0},{"$f":"IF('Relevés de  commissions'!D19231=\"AGI externes\",'Relevés de  commissions'!N19231,0)*1","v":0},{"$f":"IF('Relevés de  commissions'!D19231=\"AGI externes\",'Relevés de  commissions'!O19231,0)*1","v":0},{"$f":"IF('Relevés de  commissions'!D19231=\"AGI externes\",'Relevés de  commissions'!P19231,0)*1","v":0},0,""]
[null,null,null,null,null,null,null,null,null,null,null,null,{"$f":"IF('Relevés de  commissions'!D19243=\"AGI externes\",'Relevés de  commissions'!M19243,0)*1","v":0},{"$f":"IF('Relevés de  commissions'!D19243=\"AGI externes\",'Relevés de  commissions'!N19243,0)*1","v":0},{"$f":"IF('Relevés de  commissions'!D19243=\"AGI externes\",'Relevés de  commissions'!O19243,0)*1","v":0},{"$f":"IF('Relevés de  commissions'!D19243=\"AGI externes\",'Relevés de  commissions'!P19243,0)*1","v":0},0,""]
[null,null,null,null,null,null,null,null,null,null,null,null,{"$f":"IF('Relevés de  commissions'!D19246=\"AGI externes\",'Relevés de  commissions'!M19246,0)*1","v":0},{"$f":"IF('Relevés de  commissions'!D19246=\"AGI externes\",'Relevés de  commissions'!N19246,0)*1","v":0},{"$f":"IF('Relevés de  commissions'!D19246=\"AGI externes\",'Relevés de  commissions'!O19246,0)*1","v":0},{"$f":"IF('Relevés de  commissions'!D19246=\"AGI externes\",'Relevés de  commissions'!P19246,0)*1","v":0},0,""]
[null,null,null,null,null,null,null,null,null,null,null,null,{"$f":"IF('Relevés de  commissions'!D19263=\"AGI externes\",'Relevés de  commissions'!M19263,0)*1","v":0},{"$f":"IF('Relevés de  commissions'!D19263=\"AGI externes\",'Relevés de  commissions'!N19263,0)*1","v":0},{"$f":"IF('Relevés de  commissions'!D19263=\"AGI externes\",'Relevés de  commissions'!O19263,0)*1","v":0},{"$f":"IF('Relevés de  commissions'!D19263=\"AGI externes\",'Relevés de  commissions'!P19263,0)*1","v":0},0,""]
[null,null,null,null,null,null,null,null,null,null,null,null,{"$f":"IF('Relevés de  commissions'!D19269=\"AGI externes\",'Relevés de  commissions'!M19269,0)*1","v":0},{"$f":"IF('Relevés de  commissions'!D19269=\"AGI externes\",'Relevés de  commissions'!N19269,0)*1","v":0},{"$f":"IF('Relevés de  commissions'!D19269=\"AGI externes\",'Relevés de  commissions'!O19269,0)*1","v":0},{"$f":"IF('Relevés de  commissions'!D19269=\"AGI externes\",'Relevés de  commissions'!P19269,0)*1","v":0},0,""]
[null,null,null,null,null,null,null,null,null,null,null,null,{"$f":"IF('Relevés de  commissions'!D19279=\"AGI externes\",'Relevés de  commissions'!M19279,0)*1","v":0},{"$f":"IF('Relevés de  commissions'!D19279=\"AGI externes\",'Relevés de  commissions'!N19279,0)*1","v":0},{"$f":"IF('Relevés de  commissions'!D19279=\"AGI externes\",'Relevés de  commissions'!O19279,0)*1","v":0},{"$f":"IF('Relevés de  commissions'!D19279=\"AGI externes\",'Relevés de  commissions'!P19279,0)*1","v":0},0,""]
[null,null,null,null,null,null,null,null,null,null,null,null,{"$f":"IF('Relevés de  commissions'!D19296=\"AGI externes\",'Relevés de  commissions'!M19296,0)*1","v":0},{"$f":"IF('Relevés de  commissions'!D19296=\"AGI externes\",'Relevés de  commissions'!N19296,0)*1","v":0},{"$f":"IF('Relevés de  commissions'!D19296=\"AGI externes\",'Relevés de  commissions'!O19296,0)*1","v":0},{"$f":"IF('Relevés de  commissions'!D19296=\"AGI externes\",'Relevés de  commissions'!P19296,0)*1","v":0},0,""]
[null,null,null,null,null,null,null,null,null,null,null,null,{"$f":"IF('Relevés de  commissions'!D19300=\"AGI externes\",'Relevés de  commissions'!M19300,0)*1","v":0},{"$f":"IF('Relevés de  commissions'!D19300=\"AGI externes\",'Relevés de  commissions'!N19300,0)*1","v":0},{"$f":"IF('Relevés de  commissions'!D19300=\"AGI externes\",'Relevés de  commissions'!O19300,0)*1","v":0},{"$f":"IF('Relevés de  commissions'!D19300=\"AGI externes\",'Relevés de  commissions'!P19300,0)*1","v":0},0,""]
[null,null,null,null,null,null,null,null,null,null,null,null,{"$f":"IF('Relevés de  commissions'!D19311=\"AGI externes\",'Relevés de  commissions'!M19311,0)*1","v":0},{"$f":"IF('Relevés de  commissions'!D19311=\"AGI externes\",'Relevés de  commissions'!N19311,0)*1","v":0},{"$f":"IF('Relevés de  commissions'!D19311=\"AGI externes\",'Relevés de  commissions'!O19311,0)*1","v":0},{"$f":"IF('Relevés de  commissions'!D19311=\"AGI externes\",'Relevés de  commissions'!P19311,0)*1","v":0},0,""]
[null,null,null,null,null,null,null,null,null,null,null,null,{"$f":"IF('Relevés de  commissions'!D19328=\"AGI externes\",'Relevés de  commissions'!M19328,0)*1","v":0},{"$f":"IF('Relevés de  commissions'!D19328=\"AGI externes\",'Relevés de  commissions'!N19328,0)*1","v":0},{"$f":"IF('Relevés de  commissions'!D19328=\"AGI externes\",'Relevés de  commissions'!O19328,0)*1","v":0},{"$f":"IF('Relevés de  commissions'!D19328=\"AGI externes\",'Relevés de  commissions'!P19328,0)*1","v":0},0,""]
[null,null,null,null,null,null,null,null,null,null,null,null,{"$f":"IF('Relevés de  commissions'!D19338=\"AGI externes\",'Relevés de  commissions'!M19338,0)*1","v":0},{"$f":"IF('Relevés de  commissions'!D19338=\"AGI externes\",'Relevés de  commissions'!N19338,0)*1","v":0},{"$f":"IF('Relevés de  commissions'!D19338=\"AGI externes\",'Relevés de  commissions'!O19338,0)*1","v":0},{"$f":"IF('Relevés de  commissions'!D19338=\"AGI externes\",'Relevés de  commissions'!P19338,0)*1","v":0},0,""]
[null,null,null,null,null,null,null,null,null,null,null,null,{"$f":"IF('Relevés de  commissions'!D19344=\"AGI externes\",'Relevés de  commissions'!M19344,0)*1","v":0},{"$f":"IF('Relevés de  commissions'!D19344=\"AGI externes\",'Relevés de  commissions'!N19344,0)*1","v":0},{"$f":"IF('Relevés de  commissions'!D19344=\"AGI externes\",'Relevés de  commissions'!O19344,0)*1","v":0},{"$f":"IF('Relevés de  commissions'!D19344=\"AGI externes\",'Relevés de  commissions'!P19344,0)*1","v":0},0,""]
[null,null,null,null,null,null,null,null,null,null,null,null,{"$f":"IF('Relevés de  commissions'!D19361=\"AGI externes\",'Relevés de  commissions'!M19361,0)*1","v":0},{"$f":"IF('Relevés de  commissions'!D19361=\"AGI externes\",'Relevés de  commissions'!N19361,0)*1","v":0},{"$f":"IF('Relevés de  commissions'!D19361=\"AGI externes\",'Relevés de  commissions'!O19361,0)*1","v":0},{"$f":"IF('Relevés de  commissions'!D19361=\"AGI externes\",'Relevés de  commissions'!P19361,0)*1","v":0},0,""]
[null,null,null,null,null,null,null,null,null,null,null,null,{"$f":"IF('Relevés de  commissions'!D19373=\"AGI externes\",'Relevés de  commissions'!M19373,0)*1","v":0},{"$f":"IF('Relevés de  commissions'!D19373=\"AGI externes\",'Relevés de  commissions'!N19373,0)*1","v":0},{"$f":"IF('Relevés de  commissions'!D19373=\"AGI externes\",'Relevés de  commissions'!O19373,0)*1","v":0},{"$f":"IF('Relevés de  commissions'!D19373=\"AGI externes\",'Relevés de  commissions'!P19373,0)*1","v":0},0,""]
[null,null,null,null,null,null,null,null,null,null,null,null,{"$f":"IF('Relevés de  commissions'!D19376=\"AGI externes\",'Relevés de  commissions'!M19376,0)*1","v":0},{"$f":"IF('Relevés de  commissions'!D19376=\"AGI externes\",'Relevés de  commissions'!N19376,0)*1","v":0},{"$f":"IF('Relevés de  commissions'!D19376=\"AGI externes\",'Relevés de  commissions'!O19376,0)*1","v":0},{"$f":"IF('Relevés de  commissions'!D19376=\"AGI externes\",'Relevés de  commissions'!P19376,0)*1","v":0},0,""]
[null,null,null,null,null,null,null,null,null,null,null,null,{"$f":"IF('Relevés de  commissions'!D19386=\"AGI externes\",'Relevés de  commissions'!M19386,0)*1","v":0},{"$f":"IF('Relevés de  commissions'!D19386=\"AGI externes\",'Relevés de  commissions'!N19386,0)*1","v":0},{"$f":"IF('Relevés de  commissions'!D19386=\"AGI externes\",'Relevés de  commissions'!O19386,0)*1","v":0},{"$f":"IF('Relevés de  commissions'!D19386=\"AGI externes\",'Relevés de  commissions'!P19386,0)*1","v":0},0,""]
[null,null,null,null,null,null,null,null,null,null,null,null,{"$f":"IF('Relevés de  commissions'!D19403=\"AGI externes\",'Relevés de  commissions'!M19403,0)*1","v":0},{"$f":"IF('Relevés de  commissions'!D19403=\"AGI externes\",'Relevés de  commissions'!N19403,0)*1","v":0},{"$f":"IF('Relevés de  commissions'!D19403=\"AGI externes\",'Relevés de  commissions'!O19403,0)*1","v":0},{"$f":"IF('Relevés de  commissions'!D19403=\"AGI externes\",'Relevés de  commissions'!P19403,0)*1","v":0},0,""]
[null,null,null,null,null,null,null,null,null,null,null,null,{"$f":"IF('Relevés de  commissions'!D19409=\"AGI externes\",'Relevés de  commissions'!M19409,0)*1","v":0},{"$f":"IF('Relevés de  commissions'!D19409=\"AGI externes\",'Relevés de  commissions'!N19409,0)*1","v":0},{"$f":"IF('Relevés de  commissions'!D19409=\"AGI externes\",'Relevés de  commissions'!O19409,0)*1","v":0},{"$f":"IF('Relevés de  commissions'!D19409=\"AGI externes\",'Relevés de  commissions'!P19409,0)*1","v":0},0,""]
[null,null,null,null,null,null,null,null,null,null,null,null,{"$f":"IF('Relevés de  commissions'!D19419=\"AGI externes\",'Relevés de  commissions'!M19419,0)*1","v":0},{"$f":"IF('Relevés de  commissions'!D19419=\"AGI externes\",'Relevés de  commissions'!N19419,0)*1","v":0},{"$f":"IF('Relevés de  commissions'!D19419=\"AGI externes\",'Relevés de  commissions'!O19419,0)*1","v":0},{"$f":"IF('Relevés de  commissions'!D19419=\"AGI externes\",'Relevés de  commissions'!P19419,0)*1","v":0},0,""]
[null,null,null,null,null,null,null,null,null,null,null,null,{"$f":"IF('Relevés de  commissions'!D19430=\"AGI externes\",'Relevés de  commissions'!M19430,0)*1","v":0},{"$f":"IF('Relevés de  commissions'!D19430=\"AGI externes\",'Relevés de  commissions'!N19430,0)*1","v":0},{"$f":"IF('Relevés de  commissions'!D19430=\"AGI externes\",'Relevés de  commissions'!O19430,0)*1","v":0},{"$f":"IF('Relevés de  commissions'!D19430=\"AGI externes\",'Relevés de  commissions'!P19430,0)*1","v":0},0,""]
[null,null,null,null,null,null,null,null,null,null,null,null,{"$f":"IF('Relevés de  commissions'!D19441=\"AGI externes\",'Relevés de  commissions'!M19441,0)*1","v":0},{"$f":"IF('Relevés de  commissions'!D19441=\"AGI externes\",'Relevés de  commissions'!N19441,0)*1","v":0},{"$f":"IF('Relevés de  commissions'!D19441=\"AGI externes\",'Relevés de  commissions'!O19441,0)*1","v":0},{"$f":"IF('Relevés de  commissions'!D19441=\"AGI externes\",'Relevés de  commissions'!P19441,0)*1","v":0},0,""]
[null,null,null,null,null,null,null,null,null,null,null,null,{"$f":"IF('Relevés de  commissions'!D19451=\"AGI externes\",'Relevés de  commissions'!M19451,0)*1","v":0},{"$f":"IF('Relevés de  commissions'!D19451=\"AGI externes\",'Relevés de  commissions'!N19451,0)*1","v":0},{"$f":"IF('Relevés de  commissions'!D19451=\"AGI externes\",'Relevés de  commissions'!O19451,0)*1","v":0},{"$f":"IF('Relevés de  commissions'!D19451=\"AGI externes\",'Relevés de  commissions'!P19451,0)*1","v":0},0,""]
[null,null,null,null,null,null,null,null,null,null,null,null,{"$f":"IF('Relevés de  commissions'!D19468=\"AGI externes\",'Relevés de  commissions'!M19468,0)*1","v":0},{"$f":"IF('Relevés de  commissions'!D19468=\"AGI externes\",'Relevés de  commissions'!N19468,0)*1","v":0},{"$f":"IF('Relevés de  commissions'!D19468=\"AGI externes\",'Relevés de  commissions'!O19468,0)*1","v":0},{"$f":"IF('Relevés de  commissions'!D19468=\"AGI externes\",'Relevés de  commissions'!P19468,0)*1","v":0},0,""]
[null,null,null,null,null,null,null,null,null,null,null,null,{"$f":"IF('Relevés de  commissions'!D19478=\"AGI externes\",'Relevés de  commissions'!M19478,0)*1","v":0},{"$f":"IF('Relevés de  commissions'!D19478=\"AGI externes\",'Relevés de  commissions'!N19478,0)*1","v":0},{"$f":"IF('Relevés de  commissions'!D19478=\"AGI externes\",'Relevés de  commissions'!O19478,0)*1","v":0},{"$f":"IF('Relevés de  commissions'!D19478=\"AGI externes\",'Relevés de  commissions'!P19478,0)*1","v":0},0,""]
[null,null,null,null,null,null,null,null,null,null,null,null,{"$f":"IF('Relevés de  commissions'!D19484=\"AGI externes\",'Relevés de  commissions'!M19484,0)*1","v":0},{"$f":"IF('Relevés de  commissions'!D19484=\"AGI externes\",'Relevés de  commissions'!N19484,0)*1","v":0},{"$f":"IF('Relevés de  commissions'!D19484=\"AGI externes\",'Relevés de  commissions'!O19484,0)*1","v":0},{"$f":"IF('Relevés de  commissions'!D19484=\"AGI externes\",'Relevés de  commissions'!P19484,0)*1","v":0},0,""]
[null,null,null,null,null,null,null,null,null,null,null,null,{"$f":"IF('Relevés de  commissions'!D19497=\"AGI externes\",'Relevés de  commissions'!M19497,0)*1","v":0},{"$f":"IF('Relevés de  commissions'!D19497=\"AGI externes\",'Relevés de  commissions'!N19497,0)*1","v":0},{"$f":"IF('Relevés de  commissions'!D19497=\"AGI externes\",'Relevés de  commissions'!O19497,0)*1","v":0},{"$f":"IF('Relevés de  commissions'!D19497=\"AGI externes\",'Relevés de  commissions'!P19497,0)*1","v":0},0,""]
[null,null,null,null,null,null,null,null,null,null,null,null,{"$f":"IF('Relevés de  commissions'!D19510=\"AGI externes\",'Relevés de  commissions'!M19510,0)*1","v":0},{"$f":"IF('Relevés de  commissions'!D19510=\"AGI externes\",'Relevés de  commissions'!N19510,0)*1","v":0},{"$f":"IF('Relevés de  commissions'!D19510=\"AGI externes\",'Relevés de  commissions'!O19510,0)*1","v":0},{"$f":"IF('Relevés de  commissions'!D19510=\"AGI externes\",'Relevés de  commissions'!P19510,0)*1","v":0},0,""]
[null,null,null,null,null,null,null,null,null,null,null,null,{"$f":"IF('Relevés de  commissions'!D19516=\"AGI externes\",'Relevés de  commissions'!M19516,0)*1","v":0},{"$f":"IF('Relevés de  commissions'!D19516=\"AGI externes\",'Relevés de  commissions'!N19516,0)*1","v":0},{"$f":"IF('Relevés de  commissions'!D19516=\"AGI externes\",'Relevés de  commissions'!O19516,0)*1","v":0},{"$f":"IF('Relevés de  commissions'!D19516=\"AGI externes\",'Relevés de  commissions'!P19516,0)*1","v":0},0,""]
[null,null,null,null,null,null,null,null,null,null,null,null,{"$f":"IF('Relevés de  commissions'!D19537=\"AGI externes\",'Relevés de  commissions'!M19537,0)*1","v":0},{"$f":"IF('Relevés de  commissions'!D19537=\"AGI externes\",'Relevés de  commissions'!N19537,0)*1","v":0},{"$f":"IF('Relevés de  commissions'!D19537=\"AGI externes\",'Relevés de  commissions'!O19537,0)*1","v":0},{"$f":"IF('Relevés de  commissions'!D19537=\"AGI externes\",'Relevés de  commissions'!P19537,0)*1","v":0},0,""]
[null,null,null,null,null,null,null,null,null,null,null,null,{"$f":"IF('Relevés de  commissions'!D19543=\"AGI externes\",'Relevés de  commissions'!M19543,0)*1","v":0},{"$f":"IF('Relevés de  commissions'!D19543=\"AGI externes\",'Relevés de  commissions'!N19543,0)*1","v":0},{"$f":"IF('Relevés de  commissions'!D19543=\"AGI externes\",'Relevés de  commissions'!O19543,0)*1","v":0},{"$f":"IF('Relevés de  commissions'!D19543=\"AGI externes\",'Relevés de  commissions'!P19543,0)*1","v":0},0,""]
[null,null,null,null,null,null,null,null,null,null,null,null,{"$f":"IF('Relevés de  commissions'!D19549=\"AGI externes\",'Relevés de  commissions'!M19549,0)*1","v":0},{"$f":"IF('Relevés de  commissions'!D19549=\"AGI externes\",'Relevés de  commissions'!N19549,0)*1","v":0},{"$f":"IF('Relevés de  commissions'!D19549=\"AGI externes\",'Relevés de  commissions'!O19549,0)*1","v":0},{"$f":"IF('Relevés de  commissions'!D19549=\"AGI externes\",'Relevés de  commissions'!P19549,0)*1","v":0},0,""]
[null,null,null,null,null,null,null,null,null,null,null,null,{"$f":"IF('Relevés de  commissions'!D19560=\"AGI externes\",'Relevés de  commissions'!M19560,0)*1","v":0},{"$f":"IF('Relevés de  commissions'!D19560=\"AGI externes\",'Relevés de  commissions'!N19560,0)*1","v":0},{"$f":"IF('Relevés de  commissions'!D19560=\"AGI externes\",'Relevés de  commissions'!O19560,0)*1","v":0},{"$f":"IF('Relevés de  commissions'!D19560=\"AGI externes\",'Relevés de  commissions'!P19560,0)*1","v":0},0,""]
[null,null,null,null,null,null,null,null,null,null,null,null,{"$f":"IF('Relevés de  commissions'!D19575=\"AGI externes\",'Relevés de  commissions'!M19575,0)*1","v":0},{"$f":"IF('Relevés de  commissions'!D19575=\"AGI externes\",'Relevés de  commissions'!N19575,0)*1","v":0},{"$f":"IF('Relevés de  commissions'!D19575=\"AGI externes\",'Relevés de  commissions'!O19575,0)*1","v":0},{"$f":"IF('Relevés de  commissions'!D19575=\"AGI externes\",'Relevés de  commissions'!P19575,0)*1","v":0},0,""]
[null,null,null,null,null,null,null,null,null,null,null,null,{"$f":"IF('Relevés de  commissions'!D19581=\"AGI externes\",'Relevés de  commissions'!M19581,0)*1","v":0},{"$f":"IF('Relevés de  commissions'!D19581=\"AGI externes\",'Relevés de  commissions'!N19581,0)*1","v":0},{"$f":"IF('Relevés de  commissions'!D19581=\"AGI externes\",'Relevés de  commissions'!O19581,0)*1","v":0},{"$f":"IF('Relevés de  commissions'!D19581=\"AGI externes\",'Relevés de  commissions'!P19581,0)*1","v":0},0,""]
[null,null,null,null,null,null,null,null,null,null,null,null,{"$f":"IF('Relevés de  commissions'!D19602=\"AGI externes\",'Relevés de  commissions'!M19602,0)*1","v":0},{"$f":"IF('Relevés de  commissions'!D19602=\"AGI externes\",'Relevés de  commissions'!N19602,0)*1","v":0},{"$f":"IF('Relevés de  commissions'!D19602=\"AGI externes\",'Relevés de  commissions'!O19602,0)*1","v":0},{"$f":"IF('Relevés de  commissions'!D19602=\"AGI externes\",'Relevés de  commissions'!P19602,0)*1","v":0},0,""]
[null,null,null,null,null,null,null,null,null,null,null,null,{"$f":"IF('Relevés de  commissions'!D19608=\"AGI externes\",'Relevés de  commissions'!M19608,0)*1","v":0},{"$f":"IF('Relevés de  commissions'!D19608=\"AGI externes\",'Relevés de  commissions'!N19608,0)*1","v":0},{"$f":"IF('Relevés de  commissions'!D19608=\"AGI externes\",'Relevés de  commissions'!O19608,0)*1","v":0},{"$f":"IF('Relevés de  commissions'!D19608=\"AGI externes\",'Relevés de  commissions'!P19608,0)*1","v":0},0,""]
[null,null,null,null,null,null,null,null,null,null,null,null,{"$f":"IF('Relevés de  commissions'!D19618=\"AGI externes\",'Relevés de  commissions'!M19618,0)*1","v":0},{"$f":"IF('Relevés de  commissions'!D19618=\"AGI externes\",'Relevés de  commissions'!N19618,0)*1","v":0},{"$f":"IF('Relevés de  commissions'!D19618=\"AGI externes\",'Relevés de  commissions'!O19618,0)*1","v":0},{"$f":"IF('Relevés de  commissions'!D19618=\"AGI externes\",'Relevés de  commissions'!P19618,0)*1","v":0},0,""]
[null,null,null,null,null,null,null,null,null,null,null,null,{"$f":"IF('Relevés de  commissions'!D19627=\"AGI externes\",'Relevés de  commissions'!M19627,0)*1","v":0},{"$f":"IF('Relevés de  commissions'!D19627=\"AGI externes\",'Relevés de  commissions'!N19627,0)*1","v":0},{"$f":"IF('Relevés de  commissions'!D19627=\"AGI externes\",'Relevés de  commissions'!O19627,0)*1","v":0},{"$f":"IF('Relevés de  commissions'!D19627=\"AGI externes\",'Relevés de  commissions'!P19627,0)*1","v":0},0,""]
[null,null,null,null,null,null,null,null,null,null,null,null,{"$f":"IF('Relevés de  commissions'!D19640=\"AGI externes\",'Relevés de  commissions'!M19640,0)*1","v":0},{"$f":"IF('Relevés de  commissions'!D19640=\"AGI externes\",'Relevés de  commissions'!N19640,0)*1","v":0},{"$f":"IF('Relevés de  commissions'!D19640=\"AGI externes\",'Relevés de  commissions'!O19640,0)*1","v":0},{"$f":"IF('Relevés de  commissions'!D19640=\"AGI externes\",'Relevés de  commissions'!P19640,0)*1","v":0},0,""]
[null,null,null,null,null,null,null,null,null,null,null,null,{"$f":"IF('Relevés de  commissions'!D19650=\"AGI externes\",'Relevés de  commissions'!M19650,0)*1","v":0},{"$f":"IF('Relevés de  commissions'!D19650=\"AGI externes\",'Relevés de  commissions'!N19650,0)*1","v":0},{"$f":"IF('Relevés de  commissions'!D19650=\"AGI externes\",'Relevés de  commissions'!O19650,0)*1","v":0},{"$f":"IF('Relevés de  commissions'!D19650=\"AGI externes\",'Relevés de  commissions'!P19650,0)*1","v":0},0,""]
[null,null,null,null,null,null,null,null,null,null,null,null,{"$f":"IF('Relevés de  commissions'!D19667=\"AGI externes\",'Relevés de  commissions'!M19667,0)*1","v":0},{"$f":"IF('Relevés de  commissions'!D19667=\"AGI externes\",'Relevés de  commissions'!N19667,0)*1","v":0},{"$f":"IF('Relevés de  commissions'!D19667=\"AGI externes\",'Relevés de  commissions'!O19667,0)*1","v":0},{"$f":"IF('Relevés de  commissions'!D19667=\"AGI externes\",'Relevés de  commissions'!P19667,0)*1","v":0},0,""]
[null,null,null,null,null,null,null,null,null,null,null,null,{"$f":"IF('Relevés de  commissions'!D19673=\"AGI externes\",'Relevés de  commissions'!M19673,0)*1","v":0},{"$f":"IF('Relevés de  commissions'!D19673=\"AGI externes\",'Relevés de  commissions'!N19673,0)*1","v":0},{"$f":"IF('Relevés de  commissions'!D19673=\"AGI externes\",'Relevés de  commissions'!O19673,0)*1","v":0},{"$f":"IF('Relevés de  commissions'!D19673=\"AGI externes\",'Relevés de  commissions'!P19673,0)*1","v":0},0,""]
[null,null,null,null,null,null,null,null,null,null,null,null,{"$f":"IF('Relevés de  commissions'!D19683=\"AGI externes\",'Relevés de  commissions'!M19683,0)*1","v":0},{"$f":"IF('Relevés de  commissions'!D19683=\"AGI externes\",'Relevés de  commissions'!N19683,0)*1","v":0},{"$f":"IF('Relevés de  commissions'!D19683=\"AGI externes\",'Relevés de  commissions'!O19683,0)*1","v":0},{"$f":"IF('Relevés de  commissions'!D19683=\"AGI externes\",'Relevés de  commissions'!P19683,0)*1","v":0},0,""]
[null,null,null,null,null,null,null,null,null,null,null,null,{"$f":"IF('Relevés de  commissions'!D19694=\"AGI externes\",'Relevés de  commissions'!M19694,0)*1","v":0},{"$f":"IF('Relevés de  commissions'!D19694=\"AGI externes\",'Relevés de  commissions'!N19694,0)*1","v":0},{"$f":"IF('Relevés de  commissions'!D19694=\"AGI externes\",'Relevés de  commissions'!O19694,0)*1","v":0},{"$f":"IF('Relevés de  commissions'!D19694=\"AGI externes\",'Relevés de  commissions'!P19694,0)*1","v":0},0,""]
[null,null,null,null,null,null,null,null,null,null,null,null,{"$f":"IF('Relevés de  commissions'!D19709=\"AGI externes\",'Relevés de  commissions'!M19709,0)*1","v":0},{"$f":"IF('Relevés de  commissions'!D19709=\"AGI externes\",'Relevés de  commissions'!N19709,0)*1","v":0},{"$f":"IF('Relevés de  commissions'!D19709=\"AGI externes\",'Relevés de  commissions'!O19709,0)*1","v":0},{"$f":"IF('Relevés de  commissions'!D19709=\"AGI externes\",'Relevés de  commissions'!P19709,0)*1","v":0},0,""]
[null,null,null,null,null,null,null,null,null,null,null,null,{"$f":"IF('Relevés de  commissions'!D19715=\"AGI externes\",'Relevés de  commissions'!M19715,0)*1","v":0},{"$f":"IF('Relevés de  commissions'!D19715=\"AGI externes\",'Relevés de  commissions'!N19715,0)*1","v":0},{"$f":"IF('Relevés de  commissions'!D19715=\"AGI externes\",'Relevés de  commissions'!O19715,0)*1","v":0},{"$f":"IF('Relevés de  commissions'!D19715=\"AGI externes\",'Relevés de  commissions'!P19715,0)*1","v":0},{"$f":"IF(N19717=0,O19717,\"\")","v":0},""]
[null,null,null,null,null,null,null,null,null,null,null,null,{"$f":"IF('Relevés de  commissions'!D19732=\"AGI externes\",'Relevés de  commissions'!M19732,0)*1","v":0},{"$f":"IF('Relevés de  commissions'!D19732=\"AGI externes\",'Relevés de  commissions'!N19732,0)*1","v":0},{"$f":"IF('Relevés de  commissions'!D19732=\"AGI externes\",'Relevés de  commissions'!O19732,0)*1","v":0},{"$f":"IF('Relevés de  commissions'!D19732=\"AGI externes\",'Relevés de  commissions'!P19732,0)*1","v":0},0,""]
[null,null,null,null,null,null,null,null,null,null,null,null,{"$f":"IF('Relevés de  commissions'!D19742=\"AGI externes\",'Relevés de  commissions'!M19742,0)*1","v":0},{"$f":"IF('Relevés de  commissions'!D19742=\"AGI externes\",'Relevés de  commissions'!N19742,0)*1","v":0},{"$f":"IF('Relevés de  commissions'!D19742=\"AGI externes\",'Relevés de  commissions'!O19742,0)*1","v":0},{"$f":"IF('Relevés de  commissions'!D19742=\"AGI externes\",'Relevés de  commissions'!P19742,0)*1","v":0},0,""]
[null,null,null,null,null,null,null,null,null,null,null,null,{"$f":"IF('Relevés de  commissions'!D19748=\"AGI externes\",'Relevés de  commissions'!M19748,0)*1","v":0},{"$f":"IF('Relevés de  commissions'!D19748=\"AGI externes\",'Relevés de  commissions'!N19748,0)*1","v":0},{"$f":"IF('Relevés de  commissions'!D19748=\"AGI externes\",'Relevés de  commissions'!O19748,0)*1","v":0},{"$f":"IF('Relevés de  commissions'!D19748=\"AGI externes\",'Relevés de  commissions'!P19748,0)*1","v":0},0,""]
[null,null,null,null,null,null,null,null,null,null,null,null,{"$f":"IF('Relevés de  commissions'!D19757=\"AGI externes\",'Relevés de  commissions'!M19757,0)*1","v":0},{"$f":"IF('Relevés de  commissions'!D19757=\"AGI externes\",'Relevés de  commissions'!N19757,0)*1","v":0},{"$f":"IF('Relevés de  commissions'!D19757=\"AGI externes\",'Relevés de  commissions'!O19757,0)*1","v":0},{"$f":"IF('Relevés de  commissions'!D19757=\"AGI externes\",'Relevés de  commissions'!P19757,0)*1","v":0},0,""]
[null,null,null,null,null,null,null,null,null,null,null,null,{"$f":"IF('Relevés de  commissions'!D19774=\"AGI externes\",'Relevés de  commissions'!M19774,0)*1","v":0},{"$f":"IF('Relevés de  commissions'!D19774=\"AGI externes\",'Relevés de  commissions'!N19774,0)*1","v":0},{"$f":"IF('Relevés de  commissions'!D19774=\"AGI externes\",'Relevés de  commissions'!O19774,0)*1","v":0},{"$f":"IF('Relevés de  commissions'!D19774=\"AGI externes\",'Relevés de  commissions'!P19774,0)*1","v":0},0,""]
[null,null,null,null,null,null,null,null,null,null,null,null,{"$f":"IF('Relevés de  commissions'!D19780=\"AGI externes\",'Relevés de  commissions'!M19780,0)*1","v":0},{"$f":"IF('Relevés de  commissions'!D19780=\"AGI externes\",'Relevés de  commissions'!N19780,0)*1","v":0},{"$f":"IF('Relevés de  commissions'!D19780=\"AGI externes\",'Relevés de  commissions'!O19780,0)*1","v":0},{"$f":"IF('Relevés de  commissions'!D19780=\"AGI externes\",'Relevés de  commissions'!P19780,0)*1","v":0},0,""]
[null,null,null,null,null,null,null,null,null,null,null,null,{"$f":"IF('Relevés de  commissions'!D19790=\"AGI externes\",'Relevés de  commissions'!M19790,0)*1","v":0},{"$f":"IF('Relevés de  commissions'!D19790=\"AGI externes\",'Relevés de  commissions'!N19790,0)*1","v":0},{"$f":"IF('Relevés de  commissions'!D19790=\"AGI externes\",'Relevés de  commissions'!O19790,0)*1","v":0},{"$f":"IF('Relevés de  commissions'!D19790=\"AGI externes\",'Relevés de  commissions'!P19790,0)*1","v":0},0,{"$f":"IF(N19792=10,O19792,\"\")","v":""}]
[null,null,null,null,null,null,null,null,null,null,null,null,{"$f":"IF('Relevés de  commissions'!D19807=\"AGI externes\",'Relevés de  commissions'!M19807,0)*1","v":0},{"$f":"IF('Relevés de  commissions'!D19807=\"AGI externes\",'Relevés de  commissions'!N19807,0)*1","v":0},{"$f":"IF('Relevés de  commissions'!D19807=\"AGI externes\",'Relevés de  commissions'!O19807,0)*1","v":0},{"$f":"IF('Relevés de  commissions'!D19807=\"AGI externes\",'Relevés de  commissions'!P19807,0)*1","v":0},0,""]
[null,null,null,null,null,null,null,null,null,null,null,null,{"$f":"IF('Relevés de  commissions'!D19813=\"AGI externes\",'Relevés de  commissions'!M19813,0)*1","v":0},{"$f":"IF('Relevés de  commissions'!D19813=\"AGI externes\",'Relevés de  commissions'!N19813,0)*1","v":0},{"$f":"IF('Relevés de  commissions'!D19813=\"AGI externes\",'Relevés de  commissions'!O19813,0)*1","v":0},{"$f":"IF('Relevés de  commissions'!D19813=\"AGI externes\",'Relevés de  commissions'!P19813,0)*1","v":0},0,""]
[null,null,null,null,null,null,null,null,null,null,null,null,{"$f":"IF('Relevés de  commissions'!D19824=\"AGI externes\",'Relevés de  commissions'!M19824,0)*1","v":0},{"$f":"IF('Relevés de  commissions'!D19824=\"AGI externes\",'Relevés de  commissions'!N19824,0)*1","v":0},{"$f":"IF('Relevés de  commissions'!D19824=\"AGI externes\",'Relevés de  commissions'!O19824,0)*1","v":0},{"$f":"IF('Relevés de  commissions'!D19824=\"AGI externes\",'Relevés de  commissions'!P19824,0)*1","v":0},0,""]
[null,null,null,null,null,null,null,null,null,null,null,null,{"$f":"IF('Relevés de  commissions'!D19839=\"AGI externes\",'Relevés de  commissions'!M19839,0)*1","v":0},{"$f":"IF('Relevés de  commissions'!D19839=\"AGI externes\",'Relevés de  commissions'!N19839,0)*1","v":0},{"$f":"IF('Relevés de  commissions'!D19839=\"AGI externes\",'Relevés de  commissions'!O19839,0)*1","v":0},{"$f":"IF('Relevés de  commissions'!D19839=\"AGI externes\",'Relevés de  commissions'!P19839,0)*1","v":0},0,""]
[null,null,null,null,null,null,null,null,null,null,null,null,{"$f":"IF('Relevés de  commissions'!D19849=\"AGI externes\",'Relevés de  commissions'!M19849,0)*1","v":0},{"$f":"IF('Relevés de  commissions'!D19849=\"AGI externes\",'Relevés de  commissions'!N19849,0)*1","v":0},{"$f":"IF('Relevés de  commissions'!D19849=\"AGI externes\",'Relevés de  commissions'!O19849,0)*1","v":0},{"$f":"IF('Relevés de  commissions'!D19849=\"AGI externes\",'Relevés de  commissions'!P19849,0)*1","v":0},0,""]
[null,null,null,null,null,null,null,null,null,null,null,null,{"$f":"IF('Relevés de  commissions'!D19855=\"AGI externes\",'Relevés de  commissions'!M19855,0)*1","v":0},{"$f":"IF('Relevés de  commissions'!D19855=\"AGI externes\",'Relevés de  commissions'!N19855,0)*1","v":0},{"$f":"IF('Relevés de  commissions'!D19855=\"AGI externes\",'Relevés de  commissions'!O19855,0)*1","v":0},{"$f":"IF('Relevés de  commissions'!D19855=\"AGI externes\",'Relevés de  commissions'!P19855,0)*1","v":0},0,""]
[null,null,null,null,null,null,null,null,null,null,null,null,{"$f":"IF('Relevés de  commissions'!D19872=\"AGI externes\",'Relevés de  commissions'!M19872,0)*1","v":0},{"$f":"IF('Relevés de  commissions'!D19872=\"AGI externes\",'Relevés de  commissions'!N19872,0)*1","v":0},{"$f":"IF('Relevés de  commissions'!D19872=\"AGI externes\",'Relevés de  commissions'!O19872,0)*1","v":0},{"$f":"IF('Relevés de  commissions'!D19872=\"AGI externes\",'Relevés de  commissions'!P19872,0)*1","v":0},0,""]
[null,null,null,null,null,null,null,null,null,null,null,null,{"$f":"IF('Relevés de  commissions'!D19882=\"AGI externes\",'Relevés de  commissions'!M19882,0)*1","v":0},{"$f":"IF('Relevés de  commissions'!D19882=\"AGI externes\",'Relevés de  commissions'!N19882,0)*1","v":0},{"$f":"IF('Relevés de  commissions'!D19882=\"AGI externes\",'Relevés de  commissions'!O19882,0)*1","v":0},{"$f":"IF('Relevés de  commissions'!D19882=\"AGI externes\",'Relevés de  commissions'!P19882,0)*1","v":0},0,""]
[null,null,null,null,null,null,null,null,null,null,null,null,{"$f":"IF('Relevés de  commissions'!D19891=\"AGI externes\",'Relevés de  commissions'!M19891,0)*1","v":0},{"$f":"IF('Relevés de  commissions'!D19891=\"AGI externes\",'Relevés de  commissions'!N19891,0)*1","v":0},{"$f":"IF('Relevés de  commissions'!D19891=\"AGI externes\",'Relevés de  commissions'!O19891,0)*1","v":0},{"$f":"IF('Relevés de  commissions'!D19891=\"AGI externes\",'Relevés de  commissions'!P19891,0)*1","v":0},0,""]
[null,null,null,null,null,null,null,null,null,null,null,null,{"$f":"IF('Relevés de  commissions'!D19897=\"AGI externes\",'Relevés de  commissions'!M19897,0)*1","v":0},{"$f":"IF('Relevés de  commissions'!D19897=\"AGI externes\",'Relevés de  commissions'!N19897,0)*1","v":0},{"$f":"IF('Relevés de  commissions'!D19897=\"AGI externes\",'Relevés de  commissions'!O19897,0)*1","v":0},{"$f":"IF('Relevés de  commissions'!D19897=\"AGI externes\",'Relevés de  commissions'!P19897,0)*1","v":0},0,""]
[null,null,null,null,null,null,null,null,null,null,null,null,{"$f":"IF('Relevés de  commissions'!D19914=\"AGI externes\",'Relevés de  commissions'!M19914,0)*1","v":0},{"$f":"IF('Relevés de  commissions'!D19914=\"AGI externes\",'Relevés de  commissions'!N19914,0)*1","v":0},{"$f":"IF('Relevés de  commissions'!D19914=\"AGI externes\",'Relevés de  commissions'!O19914,0)*1","v":0},{"$f":"IF('Relevés de  commissions'!D19914=\"AGI externes\",'Relevés de  commissions'!P19914,0)*1","v":0},0,""]
[null,null,null,null,null,null,null,null,null,null,null,null,{"$f":"IF('Relevés de  commissions'!D19920=\"AGI externes\",'Relevés de  commissions'!M19920,0)*1","v":0},{"$f":"IF('Relevés de  commissions'!D19920=\"AGI externes\",'Relevés de  commissions'!N19920,0)*1","v":0},{"$f":"IF('Relevés de  commissions'!D19920=\"AGI externes\",'Relevés de  commissions'!O19920,0)*1","v":0},{"$f":"IF('Relevés de  commissions'!D19920=\"AGI externes\",'Relevés de  commissions'!P19920,0)*1","v":0},0,""]
[null,null,null,null,null,null,null,null,null,null,null,null,{"$f":"IF('Relevés de  commissions'!D19930=\"AGI externes\",'Relevés de  commissions'!M19930,0)*1","v":0},{"$f":"IF('Relevés de  commissions'!D19930=\"AGI externes\",'Relevés de  commissions'!N19930,0)*1","v":0},{"$f":"IF('Relevés de  commissions'!D19930=\"AGI externes\",'Relevés de  commissions'!O19930,0)*1","v":0},{"$f":"IF('Relevés de  commissions'!D19930=\"AGI externes\",'Relevés de  commissions'!P19930,0)*1","v":0},0,""]
[null,null,null,null,null,null,null,null,null,null,null,null,{"$f":"IF('Relevés de  commissions'!D19947=\"AGI externes\",'Relevés de  commissions'!M19947,0)*1","v":0},{"$f":"IF('Relevés de  commissions'!D19947=\"AGI externes\",'Relevés de  commissions'!N19947,0)*1","v":0},{"$f":"IF('Relevés de  commissions'!D19947=\"AGI externes\",'Relevés de  commissions'!O19947,0)*1","v":0},{"$f":"IF('Relevés de  commissions'!D19947=\"AGI externes\",'Relevés de  commissions'!P19947,0)*1","v":0},0,""]
[null,null,null,null,null,null,null,null,null,null,null,null,{"$f":"IF('Relevés de  commissions'!D19958=\"AGI externes\",'Relevés de  commissions'!M19958,0)*1","v":0},{"$f":"IF('Relevés de  commissions'!D19958=\"AGI externes\",'Relevés de  commissions'!N19958,0)*1","v":0},{"$f":"IF('Relevés de  commissions'!D19958=\"AGI externes\",'Relevés de  commissions'!O19958,0)*1","v":0},{"$f":"IF('Relevés de  commissions'!D19958=\"AGI externes\",'Relevés de  commissions'!P19958,0)*1","v":0},0,""]
[null,null,null,null,null,null,null,null,null,null,null,null,{"$f":"IF('Relevés de  commissions'!D19962=\"AGI externes\",'Relevés de  commissions'!M19962,0)*1","v":0},{"$f":"IF('Relevés de  commissions'!D19962=\"AGI externes\",'Relevés de  commissions'!N19962,0)*1","v":0},{"$f":"IF('Relevés de  commissions'!D19962=\"AGI externes\",'Relevés de  commissions'!O19962,0)*1","v":0},{"$f":"IF('Relevés de  commissions'!D19962=\"AGI externes\",'Relevés de  commissions'!P19962,0)*1","v":0},0,""]
[null,null,null,null,null,null,null,null,null,null,null,null,{"$f":"IF('Relevés de  commissions'!D19979=\"AGI externes\",'Relevés de  commissions'!M19979,0)*1","v":0},{"$f":"IF('Relevés de  commissions'!D19979=\"AGI externes\",'Relevés de  commissions'!N19979,0)*1","v":0},{"$f":"IF('Relevés de  commissions'!D19979=\"AGI externes\",'Relevés de  commissions'!O19979,0)*1","v":0},{"$f":"IF('Relevés de  commissions'!D19979=\"AGI externes\",'Relevés de  commissions'!P19979,0)*1","v":0},0,""]
[null,null,null,null,null,null,null,null,null,null,null,null,{"$f":"IF('Relevés de  commissions'!D19989=\"AGI externes\",'Relevés de  commissions'!M19989,0)*1","v":0},{"$f":"IF('Relevés de  commissions'!D19989=\"AGI externes\",'Relevés de  commissions'!N19989,0)*1","v":0},{"$f":"IF('Relevés de  commissions'!D19989=\"AGI externes\",'Relevés de  commissions'!O19989,0)*1","v":0},{"$f":"IF('Relevés de  commissions'!D19989=\"AGI externes\",'Relevés de  commissions'!P19989,0)*1","v":0},0,""]
[null,null,null,null,null,null,null,null,null,null,null,null,{"$f":"IF('Relevés de  commissions'!D19995=\"AGI externes\",'Relevés de  commissions'!M19995,0)*1","v":0},{"$f":"IF('Relevés de  commissions'!D19995=\"AGI externes\",'Relevés de  commissions'!N19995,0)*1","v":0},{"$f":"IF('Relevés de  commissions'!D19995=\"AGI externes\",'Relevés de  commissions'!O19995,0)*1","v":0},{"$f":"IF('Relevés de  commissions'!D19995=\"AGI externes\",'Relevés de  commissions'!P19995,0)*1","v":0},0,""]
[null,null,null,null,null,null,null,null,null,null,null,null,{"$f":"IF('Relevés de  commissions'!D20012=\"AGI externes\",'Relevés de  commissions'!M20012,0)*1","v":0},{"$f":"IF('Relevés de  commissions'!D20012=\"AGI externes\",'Relevés de  commissions'!N20012,0)*1","v":0},{"$f":"IF('Relevés de  commissions'!D20012=\"AGI externes\",'Relevés de  commissions'!O20012,0)*1","v":0},{"$f":"IF('Relevés de  commissions'!D20012=\"AGI externes\",'Relevés de  commissions'!P20012,0)*1","v":0},0,""]
[null,null,null,null,null,null,null,null,null,null,null,null,{"$f":"IF('Relevés de  commissions'!D20021=\"AGI externes\",'Relevés de  commissions'!M20021,0)*1","v":0},{"$f":"IF('Relevés de  commissions'!D20021=\"AGI externes\",'Relevés de  commissions'!N20021,0)*1","v":0},{"$f":"IF('Relevés de  commissions'!D20021=\"AGI externes\",'Relevés de  commissions'!O20021,0)*1","v":0},{"$f":"IF('Relevés de  commissions'!D20021=\"AGI externes\",'Relevés de  commissions'!P20021,0)*1","v":0},0,""]
[null,null,null,null,null,null,null,null,null,null,null,null,{"$f":"IF('Relevés de  commissions'!D20027=\"AGI externes\",'Relevés de  commissions'!M20027,0)*1","v":0},{"$f":"IF('Relevés de  commissions'!D20027=\"AGI externes\",'Relevés de  commissions'!N20027,0)*1","v":0},{"$f":"IF('Relevés de  commissions'!D20027=\"AGI externes\",'Relevés de  commissions'!O20027,0)*1","v":0},{"$f":"IF('Relevés de  commissions'!D20027=\"AGI externes\",'Relevés de  commissions'!P20027,0)*1","v":0},0,""]
[null,null,null,null,null,null,null,null,null,null,null,null,{"$f":"IF('Relevés de  commissions'!D20044=\"AGI externes\",'Relevés de  commissions'!M20044,0)*1","v":0},{"$f":"IF('Relevés de  commissions'!D20044=\"AGI externes\",'Relevés de  commissions'!N20044,0)*1","v":0},{"$f":"IF('Relevés de  commissions'!D20044=\"AGI externes\",'Relevés de  commissions'!O20044,0)*1","v":0},{"$f":"IF('Relevés de  commissions'!D20044=\"AGI externes\",'Relevés de  commissions'!P20044,0)*1","v":0}]
[null,null,null,null,null,null,null,null,null,null,null,null,{"$f":"IF('Relevés de  commissions'!D20054=\"AGI externes\",'Relevés de  commissions'!M20054,0)*1","v":0},{"$f":"IF('Relevés de  commissions'!D20054=\"AGI externes\",'Relevés de  commissions'!N20054,0)*1","v":0},{"$f":"IF('Relevés de  commissions'!D20054=\"AGI externes\",'Relevés de  commissions'!O20054,0)*1","v":0},{"$f":"IF('Relevés de  commissions'!D20054=\"AGI externes\",'Relevés de  commissions'!P20054,0)*1","v":0}]
[null,null,null,null,null,null,null,null,null,null,null,null,{"$f":"IF('Relevés de  commissions'!D20060=\"AGI externes\",'Relevés de  commissions'!M20060,0)*1","v":0},{"$f":"IF('Relevés de  commissions'!D20060=\"AGI externes\",'Relevés de  commissions'!N20060,0)*1","v":0},{"$f":"IF('Relevés de  commissions'!D20060=\"AGI externes\",'Relevés de  commissions'!O20060,0)*1","v":0},{"$f":"IF('Relevés de  commissions'!D20060=\"AGI externes\",'Relevés de  commissions'!P20060,0)*1","v":0}]
[null,null,null,null,null,null,null,null,null,null,null,null,{"$f":"IF('Relevés de  commissions'!D20070=\"AGI externes\",'Relevés de  commissions'!M20070,0)*1","v":0},{"$f":"IF('Relevés de  commissions'!D20070=\"AGI externes\",'Relevés de  commissions'!N20070,0)*1","v":0},{"$f":"IF('Relevés de  commissions'!D20070=\"AGI externes\",'Relevés de  commissions'!O20070,0)*1","v":0},{"$f":"IF('Relevés de  commissions'!D20070=\"AGI externes\",'Relevés de  commissions'!P20070,0)*1","v":0}]
[null,null,null,null,null,null,null,null,null,null,null,null,{"$f":"IF('Relevés de  commissions'!D20088=\"AGI externes\",'Relevés de  commissions'!M20088,0)*1","v":0},{"$f":"IF('Relevés de  commissions'!D20088=\"AGI externes\",'Relevés de  commissions'!N20088,0)*1","v":0},{"$f":"IF('Relevés de  commissions'!D20088=\"AGI externes\",'Relevés de  commissions'!O20088,0)*1","v":0},{"$f":"IF('Relevés de  commissions'!D20088=\"AGI externes\",'Relevés de  commissions'!P20088,0)*1","v":0}]
[null,null,null,null,null,null,null,null,null,null,null,null,{"$f":"IF('Relevés de  commissions'!D20092=\"AGI externes\",'Relevés de  commissions'!M20092,0)*1","v":0},{"$f":"IF('Relevés de  commissions'!D20092=\"AGI externes\",'Relevés de  commissions'!N20092,0)*1","v":0},{"$f":"IF('Relevés de  commissions'!D20092=\"AGI externes\",'Relevés de  commissions'!O20092,0)*1","v":0},{"$f":"IF('Relevés de  commissions'!D20092=\"AGI externes\",'Relevés de  commissions'!P20092,0)*1","v":0}]
[null,null,null,null,null,null,null,null,null,null,null,null,{"$f":"IF('Relevés de  commissions'!D20102=\"AGI externes\",'Relevés de  commissions'!M20102,0)*1","v":0},{"$f":"IF('Relevés de  commissions'!D20102=\"AGI externes\",'Relevés de  commissions'!N20102,0)*1","v":0},{"$f":"IF('Relevés de  commissions'!D20102=\"AGI externes\",'Relevés de  commissions'!O20102,0)*1","v":0},{"$f":"IF('Relevés de  commissions'!D20102=\"AGI externes\",'Relevés de  commissions'!P20102,0)*1","v":0}]
[null,null,null,null,null,null,null,null,null,null,null,null,{"$f":"IF('Relevés de  commissions'!D20119=\"AGI externes\",'Relevés de  commissions'!M20119,0)*1","v":0},{"$f":"IF('Relevés de  commissions'!D20119=\"AGI externes\",'Relevés de  commissions'!N20119,0)*1","v":0},{"$f":"IF('Relevés de  commissions'!D20119=\"AGI externes\",'Relevés de  commissions'!O20119,0)*1","v":0},{"$f":"IF('Relevés de  commissions'!D20119=\"AGI externes\",'Relevés de  commissions'!P20119,0)*1","v":0}]
[null,null,null,null,null,null,null,null,null,null,null,null,{"$f":"IF('Relevés de  commissions'!D20129=\"AGI externes\",'Relevés de  commissions'!M20129,0)*1","v":0},{"$f":"IF('Relevés de  commissions'!D20129=\"AGI externes\",'Relevés de  commissions'!N20129,0)*1","v":0},{"$f":"IF('Relevés de  commissions'!D20129=\"AGI externes\",'Relevés de  commissions'!O20129,0)*1","v":0},{"$f":"IF('Relevés de  commissions'!D20129=\"AGI externes\",'Relevés de  commissions'!P20129,0)*1","v":0}]
[null,null,null,null,null,null,null,null,null,null,null,null,{"$f":"IF('Relevés de  commissions'!D20135=\"AGI externes\",'Relevés de  commissions'!M20135,0)*1","v":0},{"$f":"IF('Relevés de  commissions'!D20135=\"AGI externes\",'Relevés de  commissions'!N20135,0)*1","v":0},{"$f":"IF('Relevés de  commissions'!D20135=\"AGI externes\",'Relevés de  commissions'!O20135,0)*1","v":0},{"$f":"IF('Relevés de  commissions'!D20135=\"AGI externes\",'Relevés de  commissions'!P20135,0)*1","v":0}]
[null,null,null,null,null,null,null,null,null,null,null,null,{"$f":"IF('Relevés de  commissions'!D20145=\"AGI externes\",'Relevés de  commissions'!M20145,0)*1","v":0},{"$f":"IF('Relevés de  commissions'!D20145=\"AGI externes\",'Relevés de  commissions'!N20145,0)*1","v":0},{"$f":"IF('Relevés de  commissions'!D20145=\"AGI externes\",'Relevés de  commissions'!O20145,0)*1","v":0},{"$f":"IF('Relevés de  commissions'!D20145=\"AGI externes\",'Relevés de  commissions'!P20145,0)*1","v":0}]
[null,null,null,null,null,null,null,null,null,null,null,null,{"$f":"IF('Relevés de  commissions'!D20161=\"AGI externes\",'Relevés de  commissions'!M20161,0)*1","v":0},{"$f":"IF('Relevés de  commissions'!D20161=\"AGI externes\",'Relevés de  commissions'!N20161,0)*1","v":0},{"$f":"IF('Relevés de  commissions'!D20161=\"AGI externes\",'Relevés de  commissions'!O20161,0)*1","v":0},{"$f":"IF('Relevés de  commissions'!D20161=\"AGI externes\",'Relevés de  commissions'!P20161,0)*1","v":0}]
[null,null,null,null,null,null,null,null,null,null,null,null,{"$f":"IF('Relevés de  commissions'!D20167=\"AGI externes\",'Relevés de  commissions'!M20167,0)*1","v":0},{"$f":"IF('Relevés de  commissions'!D20167=\"AGI externes\",'Relevés de  commissions'!N20167,0)*1","v":0},{"$f":"IF('Relevés de  commissions'!D20167=\"AGI externes\",'Relevés de  commissions'!O20167,0)*1","v":0},{"$f":"IF('Relevés de  commissions'!D20167=\"AGI externes\",'Relevés de  commissions'!P20167,0)*1","v":0}]
[null,null,null,null,null,null,null,null,null,null,null,null,{"$f":"IF('Relevés de  commissions'!D20184=\"AGI externes\",'Relevés de  commissions'!M20184,0)*1","v":0},{"$f":"IF('Relevés de  commissions'!D20184=\"AGI externes\",'Relevés de  commissions'!N20184,0)*1","v":0},{"$f":"IF('Relevés de  commissions'!D20184=\"AGI externes\",'Relevés de  commissions'!O20184,0)*1","v":0},{"$f":"IF('Relevés de  commissions'!D20184=\"AGI externes\",'Relevés de  commissions'!P20184,0)*1","v":0}]
[null,null,null,null,null,null,null,null,null,null,null,null,{"$f":"IF('Relevés de  commissions'!D20194=\"AGI externes\",'Relevés de  commissions'!M20194,0)*1","v":0},{"$f":"IF('Relevés de  commissions'!D20194=\"AGI externes\",'Relevés de  commissions'!N20194,0)*1","v":0},{"$f":"IF('Relevés de  commissions'!D20194=\"AGI externes\",'Relevés de  commissions'!O20194,0)*1","v":0},{"$f":"IF('Relevés de  commissions'!D20194=\"AGI externes\",'Relevés de  commissions'!P20194,0)*1","v":0}]
[null,null,null,null,null,null,null,null,null,null,null,null,{"$f":"IF('Relevés de  commissions'!D20200=\"AGI externes\",'Relevés de  commissions'!M20200,0)*1","v":0},{"$f":"IF('Relevés de  commissions'!D20200=\"AGI externes\",'Relevés de  commissions'!N20200,0)*1","v":0},{"$f":"IF('Relevés de  commissions'!D20200=\"AGI externes\",'Relevés de  commissions'!O20200,0)*1","v":0},{"$f":"IF('Relevés de  commissions'!D20200=\"AGI externes\",'Relevés de  commissions'!P20200,0)*1","v":0}]
[null,null,null,null,null,null,null,null,null,null,null,null,{"$f":"IF('Relevés de  commissions'!D20218=\"AGI externes\",'Relevés de  commissions'!M20218,0)*1","v":0},{"$f":"IF('Relevés de  commissions'!D20218=\"AGI externes\",'Relevés de  commissions'!N20218,0)*1","v":0},{"$f":"IF('Relevés de  commissions'!D20218=\"AGI externes\",'Relevés de  commissions'!O20218,0)*1","v":0},{"$f":"IF('Relevés de  commissions'!D20218=\"AGI externes\",'Relevés de  commissions'!P20218,0)*1","v":0}]
[null,null,null,null,null,null,null,null,null,null,null,null,{"$f":"IF('Relevés de  commissions'!D20226=\"AGI externes\",'Relevés de  commissions'!M20226,0)*1","v":0},{"$f":"IF('Relevés de  commissions'!D20226=\"AGI externes\",'Relevés de  commissions'!N20226,0)*1","v":0},{"$f":"IF('Relevés de  commissions'!D20226=\"AGI externes\",'Relevés de  commissions'!O20226,0)*1","v":0},{"$f":"IF('Relevés de  commissions'!D20226=\"AGI externes\",'Relevés de  commissions'!P20226,0)*1","v":0}]
[null,null,null,null,null,null,null,null,null,null,null,null,{"$f":"IF('Relevés de  commissions'!D20232=\"AGI externes\",'Relevés de  commissions'!M20232,0)*1","v":0},{"$f":"IF('Relevés de  commissions'!D20232=\"AGI externes\",'Relevés de  commissions'!N20232,0)*1","v":0},{"$f":"IF('Relevés de  commissions'!D20232=\"AGI externes\",'Relevés de  commissions'!O20232,0)*1","v":0},{"$f":"IF('Relevés de  commissions'!D20232=\"AGI externes\",'Relevés de  commissions'!P20232,0)*1","v":0}]
[null,null,null,null,null,null,null,null,null,null,null,null,{"$f":"IF('Relevés de  commissions'!D20242=\"AGI externes\",'Relevés de  commissions'!M20242,0)*1","v":0},{"$f":"IF('Relevés de  commissions'!D20242=\"AGI externes\",'Relevés de  commissions'!N20242,0)*1","v":0},{"$f":"IF('Relevés de  commissions'!D20242=\"AGI externes\",'Relevés de  commissions'!O20242,0)*1","v":0},{"$f":"IF('Relevés de  commissions'!D20242=\"AGI externes\",'Relevés de  commissions'!P20242,0)*1","v":0}]
[null,null,null,null,null,null,null,null,null,null,null,null,{"$f":"IF('Relevés de  commissions'!D20259=\"AGI externes\",'Relevés de  commissions'!M20259,0)*1","v":0},{"$f":"IF('Relevés de  commissions'!D20259=\"AGI externes\",'Relevés de  commissions'!N20259,0)*1","v":0},{"$f":"IF('Relevés de  commissions'!D20259=\"AGI externes\",'Relevés de  commissions'!O20259,0)*1","v":0},{"$f":"IF('Relevés de  commissions'!D20259=\"AGI externes\",'Relevés de  commissions'!P20259,0)*1","v":0}]
[null,null,null,null,null,null,null,null,null,null,null,null,{"$f":"IF('Relevés de  commissions'!D20265=\"AGI externes\",'Relevés de  commissions'!M20265,0)*1","v":0},{"$f":"IF('Relevés de  commissions'!D20265=\"AGI externes\",'Relevés de  commissions'!N20265,0)*1","v":0},{"$f":"IF('Relevés de  commissions'!D20265=\"AGI externes\",'Relevés de  commissions'!O20265,0)*1","v":0},{"$f":"IF('Relevés de  commissions'!D20265=\"AGI externes\",'Relevés de  commissions'!P20265,0)*1","v":0}]
[null,null,null,null,null,null,null,null,null,null,null,null,{"$f":"IF('Relevés de  commissions'!D20275=\"AGI externes\",'Relevés de  commissions'!M20275,0)*1","v":0},{"$f":"IF('Relevés de  commissions'!D20275=\"AGI externes\",'Relevés de  commissions'!N20275,0)*1","v":0},{"$f":"IF('Relevés de  commissions'!D20275=\"AGI externes\",'Relevés de  commissions'!O20275,0)*1","v":0},{"$f":"IF('Relevés de  commissions'!D20275=\"AGI externes\",'Relevés de  commissions'!P20275,0)*1","v":0}]
[null,null,null,null,null,null,null,null,null,null,null,null,{"$f":"IF('Relevés de  commissions'!D20291=\"AGI externes\",'Relevés de  commissions'!M20291,0)*1","v":0},{"$f":"IF('Relevés de  commissions'!D20291=\"AGI externes\",'Relevés de  commissions'!N20291,0)*1","v":0},{"$f":"IF('Relevés de  commissions'!D20291=\"AGI externes\",'Relevés de  commissions'!O20291,0)*1","v":0},{"$f":"IF('Relevés de  commissions'!D20291=\"AGI externes\",'Relevés de  commissions'!P20291,0)*1","v":0}]
[null,null,null,null,null,null,null,null,null,null,null,null,{"$f":"IF('Relevés de  commissions'!D20301=\"AGI externes\",'Relevés de  commissions'!M20301,0)*1","v":0},{"$f":"IF('Relevés de  commissions'!D20301=\"AGI externes\",'Relevés de  commissions'!N20301,0)*1","v":0},{"$f":"IF('Relevés de  commissions'!D20301=\"AGI externes\",'Relevés de  commissions'!O20301,0)*1","v":0},{"$f":"IF('Relevés de  commissions'!D20301=\"AGI externes\",'Relevés de  commissions'!P20301,0)*1","v":0}]
[null,null,null,null,null,null,null,null,null,null,null,null,{"$f":"IF('Relevés de  commissions'!D20307=\"AGI externes\",'Relevés de  commissions'!M20307,0)*1","v":0},{"$f":"IF('Relevés de  commissions'!D20307=\"AGI externes\",'Relevés de  commissions'!N20307,0)*1","v":0},{"$f":"IF('Relevés de  commissions'!D20307=\"AGI externes\",'Relevés de  commissions'!O20307,0)*1","v":0},{"$f":"IF('Relevés de  commissions'!D20307=\"AGI externes\",'Relevés de  commissions'!P20307,0)*1","v":0}]
[null,null,null,null,null,null,null,null,null,null,null,null,{"$f":"IF('Relevés de  commissions'!D20324=\"AGI externes\",'Relevés de  commissions'!M20324,0)*1","v":0},{"$f":"IF('Relevés de  commissions'!D20324=\"AGI externes\",'Relevés de  commissions'!N20324,0)*1","v":0},{"$f":"IF('Relevés de  commissions'!D20324=\"AGI externes\",'Relevés de  commissions'!O20324,0)*1","v":0},{"$f":"IF('Relevés de  commissions'!D20324=\"AGI externes\",'Relevés de  commissions'!P20324,0)*1","v":0}]
[null,null,null,null,null,null,null,null,null,null,null,null,{"$f":"IF('Relevés de  commissions'!D20334=\"AGI externes\",'Relevés de  commissions'!M20334,0)*1","v":0},{"$f":"IF('Relevés de  commissions'!D20334=\"AGI externes\",'Relevés de  commissions'!N20334,0)*1","v":0},{"$f":"IF('Relevés de  commissions'!D20334=\"AGI externes\",'Relevés de  commissions'!O20334,0)*1","v":0},{"$f":"IF('Relevés de  commissions'!D20334=\"AGI externes\",'Relevés de  commissions'!P20334,0)*1","v":0}]
[null,null,null,null,null,null,null,null,null,null,null,null,{"$f":"IF('Relevés de  commissions'!D20342=\"AGI externes\",'Relevés de  commissions'!M20342,0)*1","v":0},{"$f":"IF('Relevés de  commissions'!D20342=\"AGI externes\",'Relevés de  commissions'!N20342,0)*1","v":0},{"$f":"IF('Relevés de  commissions'!D20342=\"AGI externes\",'Relevés de  commissions'!O20342,0)*1","v":0},{"$f":"IF('Relevés de  commissions'!D20342=\"AGI externes\",'Relevés de  commissions'!P20342,0)*1","v":0}]
[null,null,null,null,null,null,null,null,null,null,null,null,{"$f":"IF('Relevés de  commissions'!D20360=\"AGI externes\",'Relevés de  commissions'!M20360,0)*1","v":0},{"$f":"IF('Relevés de  commissions'!D20360=\"AGI externes\",'Relevés de  commissions'!N20360,0)*1","v":0},{"$f":"IF('Relevés de  commissions'!D20360=\"AGI externes\",'Relevés de  commissions'!O20360,0)*1","v":0},{"$f":"IF('Relevés de  commissions'!D20360=\"AGI externes\",'Relevés de  commissions'!P20360,0)*1","v":0}]
[null,null,null,null,null,null,null,null,null,null,null,null,{"$f":"IF('Relevés de  commissions'!D20366=\"AGI externes\",'Relevés de  commissions'!M20366,0)*1","v":0},{"$f":"IF('Relevés de  commissions'!D20366=\"AGI externes\",'Relevés de  commissions'!N20366,0)*1","v":0},{"$f":"IF('Relevés de  commissions'!D20366=\"AGI externes\",'Relevés de  commissions'!O20366,0)*1","v":0},{"$f":"IF('Relevés de  commissions'!D20366=\"AGI externes\",'Relevés de  commissions'!P20366,0)*1","v":0}]
[null,null,null,null,null,null,null,null,null,null,null,null,{"$f":"IF('Relevés de  commissions'!D20372=\"AGI externes\",'Relevés de  commissions'!M20372,0)*1","v":0},{"$f":"IF('Relevés de  commissions'!D20372=\"AGI externes\",'Relevés de  commissions'!N20372,0)*1","v":0},{"$f":"IF('Relevés de  commissions'!D20372=\"AGI externes\",'Relevés de  commissions'!O20372,0)*1","v":0},{"$f":"IF('Relevés de  commissions'!D20372=\"AGI externes\",'Relevés de  commissions'!P20372,0)*1","v":0}]
[null,null,null,null,null,null,null,null,null,null,null,null,{"$f":"IF('Relevés de  commissions'!D20393=\"AGI externes\",'Relevés de  commissions'!M20393,0)*1","v":0},{"$f":"IF('Relevés de  commissions'!D20393=\"AGI externes\",'Relevés de  commissions'!N20393,0)*1","v":0},{"$f":"IF('Relevés de  commissions'!D20393=\"AGI externes\",'Relevés de  commissions'!O20393,0)*1","v":0},{"$f":"IF('Relevés de  commissions'!D20393=\"AGI externes\",'Relevés de  commissions'!P20393,0)*1","v":0}]
[null,null,null,null,null,null,null,null,null,null,null,null,{"$f":"IF('Relevés de  commissions'!D20399=\"AGI externes\",'Relevés de  commissions'!M20399,0)*1","v":0},{"$f":"IF('Relevés de  commissions'!D20399=\"AGI externes\",'Relevés de  commissions'!N20399,0)*1","v":0},{"$f":"IF('Relevés de  commissions'!D20399=\"AGI externes\",'Relevés de  commissions'!O20399,0)*1","v":0},{"$f":"IF('Relevés de  commissions'!D20399=\"AGI externes\",'Relevés de  commissions'!P20399,0)*1","v":0}]
[null,null,null,null,null,null,null,null,null,null,null,null,{"$f":"IF('Relevés de  commissions'!D20409=\"AGI externes\",'Relevés de  commissions'!M20409,0)*1","v":0},{"$f":"IF('Relevés de  commissions'!D20409=\"AGI externes\",'Relevés de  commissions'!N20409,0)*1","v":0},{"$f":"IF('Relevés de  commissions'!D20409=\"AGI externes\",'Relevés de  commissions'!O20409,0)*1","v":0},{"$f":"IF('Relevés de  commissions'!D20409=\"AGI externes\",'Relevés de  commissions'!P20409,0)*1","v":0}]
[null,null,null,null,null,null,null,null,null,null,null,null,{"$f":"IF('Relevés de  commissions'!D20425=\"AGI externes\",'Relevés de  commissions'!M20425,0)*1","v":0},{"$f":"IF('Relevés de  commissions'!D20425=\"AGI externes\",'Relevés de  commissions'!N20425,0)*1","v":0},{"$f":"IF('Relevés de  commissions'!D20425=\"AGI externes\",'Relevés de  commissions'!O20425,0)*1","v":0},{"$f":"IF('Relevés de  commissions'!D20425=\"AGI externes\",'Relevés de  commissions'!P20425,0)*1","v":0}]
[null,null,null,null,null,null,null,null,null,null,null,null,{"$f":"IF('Relevés de  commissions'!D20431=\"AGI externes\",'Relevés de  commissions'!M20431,0)*1","v":0},{"$f":"IF('Relevés de  commissions'!D20431=\"AGI externes\",'Relevés de  commissions'!N20431,0)*1","v":0},{"$f":"IF('Relevés de  commissions'!D20431=\"AGI externes\",'Relevés de  commissions'!O20431,0)*1","v":0},{"$f":"IF('Relevés de  commissions'!D20431=\"AGI externes\",'Relevés de  commissions'!P20431,0)*1","v":0}]
[null,null,null,null,null,null,null,null,null,null,null,null,{"$f":"IF('Relevés de  commissions'!D20441=\"AGI externes\",'Relevés de  commissions'!M20441,0)*1","v":0},{"$f":"IF('Relevés de  commissions'!D20441=\"AGI externes\",'Relevés de  commissions'!N20441,0)*1","v":0},{"$f":"IF('Relevés de  commissions'!D20441=\"AGI externes\",'Relevés de  commissions'!O20441,0)*1","v":0},{"$f":"IF('Relevés de  commissions'!D20441=\"AGI externes\",'Relevés de  commissions'!P20441,0)*1","v":0}]
[null,null,null,null,null,null,null,null,null,null,null,null,{"$f":"IF('Relevés de  commissions'!D20458=\"AGI externes\",'Relevés de  commissions'!M20458,0)*1","v":0},{"$f":"IF('Relevés de  commissions'!D20458=\"AGI externes\",'Relevés de  commissions'!N20458,0)*1","v":0},{"$f":"IF('Relevés de  commissions'!D20458=\"AGI externes\",'Relevés de  commissions'!O20458,0)*1","v":0},{"$f":"IF('Relevés de  commissions'!D20458=\"AGI externes\",'Relevés de  commissions'!P20458,0)*1","v":0}]
[null,null,null,null,null,null,null,null,null,null,null,null,{"$f":"IF('Relevés de  commissions'!D20464=\"AGI externes\",'Relevés de  commissions'!M20464,0)*1","v":0},{"$f":"IF('Relevés de  commissions'!D20464=\"AGI externes\",'Relevés de  commissions'!N20464,0)*1","v":0},{"$f":"IF('Relevés de  commissions'!D20464=\"AGI externes\",'Relevés de  commissions'!O20464,0)*1","v":0},{"$f":"IF('Relevés de  commissions'!D20464=\"AGI externes\",'Relevés de  commissions'!P20464,0)*1","v":0}]
[null,null,null,null,null,null,null,null,null,null,null,null,{"$f":"IF('Relevés de  commissions'!D20472=\"AGI externes\",'Relevés de  commissions'!M20472,0)*1","v":0},{"$f":"IF('Relevés de  commissions'!D20472=\"AGI externes\",'Relevés de  commissions'!N20472,0)*1","v":0},{"$f":"IF('Relevés de  commissions'!D20472=\"AGI externes\",'Relevés de  commissions'!O20472,0)*1","v":0},{"$f":"IF('Relevés de  commissions'!D20472=\"AGI externes\",'Relevés de  commissions'!P20472,0)*1","v":0}]
[null,null,null,null,null,null,null,null,null,null,null,null,{"$f":"IF('Relevés de  commissions'!D20490=\"AGI externes\",'Relevés de  commissions'!M20490,0)*1","v":0},{"$f":"IF('Relevés de  commissions'!D20490=\"AGI externes\",'Relevés de  commissions'!N20490,0)*1","v":0},{"$f":"IF('Relevés de  commissions'!D20490=\"AGI externes\",'Relevés de  commissions'!O20490,0)*1","v":0},{"$f":"IF('Relevés de  commissions'!D20490=\"AGI externes\",'Relevés de  commissions'!P20490,0)*1","v":0}]
[null,null,null,null,null,null,null,null,null,null,null,null,{"$f":"IF('Relevés de  commissions'!D20500=\"AGI externes\",'Relevés de  commissions'!M20500,0)*1","v":0},{"$f":"IF('Relevés de  commissions'!D20500=\"AGI externes\",'Relevés de  commissions'!N20500,0)*1","v":0},{"$f":"IF('Relevés de  commissions'!D20500=\"AGI externes\",'Relevés de  commissions'!O20500,0)*1","v":0},{"$f":"IF('Relevés de  commissions'!D20500=\"AGI externes\",'Relevés de  commissions'!P20500,0)*1","v":0}]
[null,null,null,null,null,null,null,null,null,null,null,null,{"$f":"IF('Relevés de  commissions'!D20506=\"AGI externes\",'Relevés de  commissions'!M20506,0)*1","v":0},{"$f":"IF('Relevés de  commissions'!D20506=\"AGI externes\",'Relevés de  commissions'!N20506,0)*1","v":0},{"$f":"IF('Relevés de  commissions'!D20506=\"AGI externes\",'Relevés de  commissions'!O20506,0)*1","v":0},{"$f":"IF('Relevés de  commissions'!D20506=\"AGI externes\",'Relevés de  commissions'!P20506,0)*1","v":0}]
[null,null,null,null,null,null,null,null,null,null,null,null,{"$f":"IF('Relevés de  commissions'!D20523=\"AGI externes\",'Relevés de  commissions'!M20523,0)*1","v":0},{"$f":"IF('Relevés de  commissions'!D20523=\"AGI externes\",'Relevés de  commissions'!N20523,0)*1","v":0},{"$f":"IF('Relevés de  commissions'!D20523=\"AGI externes\",'Relevés de  commissions'!O20523,0)*1","v":0},{"$f":"IF('Relevés de  commissions'!D20523=\"AGI externes\",'Relevés de  commissions'!P20523,0)*1","v":0}]
[null,null,null,null,null,null,null,null,null,null,null,null,{"$f":"IF('Relevés de  commissions'!D20533=\"AGI externes\",'Relevés de  commissions'!M20533,0)*1","v":0},{"$f":"IF('Relevés de  commissions'!D20533=\"AGI externes\",'Relevés de  commissions'!N20533,0)*1","v":0},{"$f":"IF('Relevés de  commissions'!D20533=\"AGI externes\",'Relevés de  commissions'!O20533,0)*1","v":0},{"$f":"IF('Relevés de  commissions'!D20533=\"AGI externes\",'Relevés de  commissions'!P20533,0)*1","v":0}]
[null,null,null,null,null,null,null,null,null,null,null,null,{"$f":"IF('Relevés de  commissions'!D20539=\"AGI externes\",'Relevés de  commissions'!M20539,0)*1","v":0},{"$f":"IF('Relevés de  commissions'!D20539=\"AGI externes\",'Relevés de  commissions'!N20539,0)*1","v":0},{"$f":"IF('Relevés de  commissions'!D20539=\"AGI externes\",'Relevés de  commissions'!O20539,0)*1","v":0},{"$f":"IF('Relevés de  commissions'!D20539=\"AGI externes\",'Relevés de  commissions'!P20539,0)*1","v":0}]
[null,null,null,null,null,null,null,null,null,null,null,null,{"$f":"IF('Relevés de  commissions'!D20555=\"AGI externes\",'Relevés de  commissions'!M20555,0)*1","v":0},{"$f":"IF('Relevés de  commissions'!D20555=\"AGI externes\",'Relevés de  commissions'!N20555,0)*1","v":0},{"$f":"IF('Relevés de  commissions'!D20555=\"AGI externes\",'Relevés de  commissions'!O20555,0)*1","v":0},{"$f":"IF('Relevés de  commissions'!D20555=\"AGI externes\",'Relevés de  commissions'!P20555,0)*1","v":0}]
[null,null,null,null,null,null,null,null,null,null,null,null,{"$f":"IF('Relevés de  commissions'!D20565=\"AGI externes\",'Relevés de  commissions'!M20565,0)*1","v":0},{"$f":"IF('Relevés de  commissions'!D20565=\"AGI externes\",'Relevés de  commissions'!N20565,0)*1","v":0},{"$f":"IF('Relevés de  commissions'!D20565=\"AGI externes\",'Relevés de  commissions'!O20565,0)*1","v":0},{"$f":"IF('Relevés de  commissions'!D20565=\"AGI externes\",'Relevés de  commissions'!P20565,0)*1","v":0}]
[null,null,null,null,null,null,null,null,null,null,null,null,{"$f":"IF('Relevés de  commissions'!D20571=\"AGI externes\",'Relevés de  commissions'!M20571,0)*1","v":0},{"$f":"IF('Relevés de  commissions'!D20571=\"AGI externes\",'Relevés de  commissions'!N20571,0)*1","v":0},{"$f":"IF('Relevés de  commissions'!D20571=\"AGI externes\",'Relevés de  commissions'!O20571,0)*1","v":0},{"$f":"IF('Relevés de  commissions'!D20571=\"AGI externes\",'Relevés de  commissions'!P20571,0)*1","v":0}]
[null,null,null,null,null,null,null,null,null,null,null,null,{"$f":"IF('Relevés de  commissions'!D20581=\"AGI externes\",'Relevés de  commissions'!M20581,0)*1","v":0},{"$f":"IF('Relevés de  commissions'!D20581=\"AGI externes\",'Relevés de  commissions'!N20581,0)*1","v":0},{"$f":"IF('Relevés de  commissions'!D20581=\"AGI externes\",'Relevés de  commissions'!O20581,0)*1","v":0},{"$f":"IF('Relevés de  commissions'!D20581=\"AGI externes\",'Relevés de  commissions'!P20581,0)*1","v":0}]
[null,null,null,null,null,null,null,null,null,null,null,null,{"$f":"IF('Relevés de  commissions'!D20598=\"AGI externes\",'Relevés de  commissions'!M20598,0)*1","v":0},{"$f":"IF('Relevés de  commissions'!D20598=\"AGI externes\",'Relevés de  commissions'!N20598,0)*1","v":0},{"$f":"IF('Relevés de  commissions'!D20598=\"AGI externes\",'Relevés de  commissions'!O20598,0)*1","v":0},{"$f":"IF('Relevés de  commissions'!D20598=\"AGI externes\",'Relevés de  commissions'!P20598,0)*1","v":0}]
[null,null,null,null,null,null,null,null,null,null,null,null,{"$f":"IF('Relevés de  commissions'!D20606=\"AGI externes\",'Relevés de  commissions'!M20606,0)*1","v":0},{"$f":"IF('Relevés de  commissions'!D20606=\"AGI externes\",'Relevés de  commissions'!N20606,0)*1","v":0},{"$f":"IF('Relevés de  commissions'!D20606=\"AGI externes\",'Relevés de  commissions'!O20606,0)*1","v":0},{"$f":"IF('Relevés de  commissions'!D20606=\"AGI externes\",'Relevés de  commissions'!P20606,0)*1","v":0}]
[null,null,null,null,null,null,null,null,null,null,null,null,{"$f":"IF('Relevés de  commissions'!D20613=\"AGI externes\",'Relevés de  commissions'!M20613,0)*1","v":0},{"$f":"IF('Relevés de  commissions'!D20613=\"AGI externes\",'Relevés de  commissions'!N20613,0)*1","v":0},{"$f":"IF('Relevés de  commissions'!D20613=\"AGI externes\",'Relevés de  commissions'!O20613,0)*1","v":0},{"$f":"IF('Relevés de  commissions'!D20613=\"AGI externes\",'Relevés de  commissions'!P20613,0)*1","v":0}]
[null,null,null,null,null,null,null,null,null,null,null,null,{"$f":"IF('Relevés de  commissions'!D20630=\"AGI externes\",'Relevés de  commissions'!M20630,0)*1","v":0},{"$f":"IF('Relevés de  commissions'!D20630=\"AGI externes\",'Relevés de  commissions'!N20630,0)*1","v":0},{"$f":"IF('Relevés de  commissions'!D20630=\"AGI externes\",'Relevés de  commissions'!O20630,0)*1","v":0},{"$f":"IF('Relevés de  commissions'!D20630=\"AGI externes\",'Relevés de  commissions'!P20630,0)*1","v":0}]
[null,null,null,null,null,null,null,null,null,null,null,null,{"$f":"IF('Relevés de  commissions'!D20636=\"AGI externes\",'Relevés de  commissions'!M20636,0)*1","v":0},{"$f":"IF('Relevés de  commissions'!D20636=\"AGI externes\",'Relevés de  commissions'!N20636,0)*1","v":0},{"$f":"IF('Relevés de  commissions'!D20636=\"AGI externes\",'Relevés de  commissions'!O20636,0)*1","v":0},{"$f":"IF('Relevés de  commissions'!D20636=\"AGI externes\",'Relevés de  commissions'!P20636,0)*1","v":0}]
[null,null,null,null,null,null,null,null,null,null,null,null,{"$f":"IF('Relevés de  commissions'!D20646=\"AGI externes\",'Relevés de  commissions'!M20646,0)*1","v":0},{"$f":"IF('Relevés de  commissions'!D20646=\"AGI externes\",'Relevés de  commissions'!N20646,0)*1","v":0},{"$f":"IF('Relevés de  commissions'!D20646=\"AGI externes\",'Relevés de  commissions'!O20646,0)*1","v":0},{"$f":"IF('Relevés de  commissions'!D20646=\"AGI externes\",'Relevés de  commissions'!P20646,0)*1","v":0}]
[null,null,null,null,null,null,null,null,null,null,null,null,{"$f":"IF('Relevés de  commissions'!D20663=\"AGI externes\",'Relevés de  commissions'!M20663,0)*1","v":0},{"$f":"IF('Relevés de  commissions'!D20663=\"AGI externes\",'Relevés de  commissions'!N20663,0)*1","v":0},{"$f":"IF('Relevés de  commissions'!D20663=\"AGI externes\",'Relevés de  commissions'!O20663,0)*1","v":0},{"$f":"IF('Relevés de  commissions'!D20663=\"AGI externes\",'Relevés de  commissions'!P20663,0)*1","v":0}]
[null,null,null,null,null,null,null,null,null,null,null,null,{"$f":"IF('Relevés de  commissions'!D20669=\"AGI externes\",'Relevés de  commissions'!M20669,0)*1","v":0},{"$f":"IF('Relevés de  commissions'!D20669=\"AGI externes\",'Relevés de  commissions'!N20669,0)*1","v":0},{"$f":"IF('Relevés de  commissions'!D20669=\"AGI externes\",'Relevés de  commissions'!O20669,0)*1","v":0},{"$f":"IF('Relevés de  commissions'!D20669=\"AGI externes\",'Relevés de  commissions'!P20669,0)*1","v":0}]
[null,null,null,null,null,null,null,null,null,null,null,null,{"$f":"IF('Relevés de  commissions'!D20678=\"AGI externes\",'Relevés de  commissions'!M20678,0)*1","v":0},{"$f":"IF('Relevés de  commissions'!D20678=\"AGI externes\",'Relevés de  commissions'!N20678,0)*1","v":0},{"$f":"IF('Relevés de  commissions'!D20678=\"AGI externes\",'Relevés de  commissions'!O20678,0)*1","v":0},{"$f":"IF('Relevés de  commissions'!D20678=\"AGI externes\",'Relevés de  commissions'!P20678,0)*1","v":0}]
[null,null,null,null,null,null,null,null,null,null,null,null,{"$f":"IF('Relevés de  commissions'!D20695=\"AGI externes\",'Relevés de  commissions'!M20695,0)*1","v":0},{"$f":"IF('Relevés de  commissions'!D20695=\"AGI externes\",'Relevés de  commissions'!N20695,0)*1","v":0},{"$f":"IF('Relevés de  commissions'!D20695=\"AGI externes\",'Relevés de  commissions'!O20695,0)*1","v":0},{"$f":"IF('Relevés de  commissions'!D20695=\"AGI externes\",'Relevés de  commissions'!P20695,0)*1","v":0}]
[null,null,null,null,null,null,null,null,null,null,null,null,{"$f":"IF('Relevés de  commissions'!D20705=\"AGI externes\",'Relevés de  commissions'!M20705,0)*1","v":0},{"$f":"IF('Relevés de  commissions'!D20705=\"AGI externes\",'Relevés de  commissions'!N20705,0)*1","v":0},{"$f":"IF('Relevés de  commissions'!D20705=\"AGI externes\",'Relevés de  commissions'!O20705,0)*1","v":0},{"$f":"IF('Relevés de  commissions'!D20705=\"AGI externes\",'Relevés de  commissions'!P20705,0)*1","v":0}]
[null,null,null,null,null,null,null,null,null,null,null,null,{"$f":"IF('Relevés de  commissions'!D20711=\"AGI externes\",'Relevés de  commissions'!M20711,0)*1","v":0},{"$f":"IF('Relevés de  commissions'!D20711=\"AGI externes\",'Relevés de  commissions'!N20711,0)*1","v":0},{"$f":"IF('Relevés de  commissions'!D20711=\"AGI externes\",'Relevés de  commissions'!O20711,0)*1","v":0},{"$f":"IF('Relevés de  commissions'!D20711=\"AGI externes\",'Relevés de  commissions'!P20711,0)*1","v":0}]
[null,null,null,null,null,null,null,null,null,null,null,null,{"$f":"IF('Relevés de  commissions'!D20721=\"AGI externes\",'Relevés de  commissions'!M20721,0)*1","v":0},{"$f":"IF('Relevés de  commissions'!D20721=\"AGI externes\",'Relevés de  commissions'!N20721,0)*1","v":0},{"$f":"IF('Relevés de  commissions'!D20721=\"AGI externes\",'Relevés de  commissions'!O20721,0)*1","v":0},{"$f":"IF('Relevés de  commissions'!D20721=\"AGI externes\",'Relevés de  commissions'!P20721,0)*1","v":0}]
[null,null,null,null,null,null,null,null,null,null,null,null,{"$f":"IF('Relevés de  commissions'!D20736=\"AGI externes\",'Relevés de  commissions'!M20736,0)*1","v":0},{"$f":"IF('Relevés de  commissions'!D20736=\"AGI externes\",'Relevés de  commissions'!N20736,0)*1","v":0},{"$f":"IF('Relevés de  commissions'!D20736=\"AGI externes\",'Relevés de  commissions'!O20736,0)*1","v":0},{"$f":"IF('Relevés de  commissions'!D20736=\"AGI externes\",'Relevés de  commissions'!P20736,0)*1","v":0}]
[null,null,null,null,null,null,null,null,null,null,null,null,{"$f":"IF('Relevés de  commissions'!D20743=\"AGI externes\",'Relevés de  commissions'!M20743,0)*1","v":0},{"$f":"IF('Relevés de  commissions'!D20743=\"AGI externes\",'Relevés de  commissions'!N20743,0)*1","v":0},{"$f":"IF('Relevés de  commissions'!D20743=\"AGI externes\",'Relevés de  commissions'!O20743,0)*1","v":0},{"$f":"IF('Relevés de  commissions'!D20743=\"AGI externes\",'Relevés de  commissions'!P20743,0)*1","v":0}]
[null,null,null,null,null,null,null,null,null,null,null,null,{"$f":"IF('Relevés de  commissions'!D20753=\"AGI externes\",'Relevés de  commissions'!M20753,0)*1","v":0},{"$f":"IF('Relevés de  commissions'!D20753=\"AGI externes\",'Relevés de  commissions'!N20753,0)*1","v":0},{"$f":"IF('Relevés de  commissions'!D20753=\"AGI externes\",'Relevés de  commissions'!O20753,0)*1","v":0},{"$f":"IF('Relevés de  commissions'!D20753=\"AGI externes\",'Relevés de  commissions'!P20753,0)*1","v":0}]
[null,null,null,null,null,null,null,null,null,null,null,null,{"$f":"IF('Relevés de  commissions'!D20770=\"AGI externes\",'Relevés de  commissions'!M20770,0)*1","v":0},{"$f":"IF('Relevés de  commissions'!D20770=\"AGI externes\",'Relevés de  commissions'!N20770,0)*1","v":0},{"$f":"IF('Relevés de  commissions'!D20770=\"AGI externes\",'Relevés de  commissions'!O20770,0)*1","v":0},{"$f":"IF('Relevés de  commissions'!D20770=\"AGI externes\",'Relevés de  commissions'!P20770,0)*1","v":0}]
[null,null,null,null,null,null,null,null,null,null,null,null,{"$f":"IF('Relevés de  commissions'!D20776=\"AGI externes\",'Relevés de  commissions'!M20776,0)*1","v":0},{"$f":"IF('Relevés de  commissions'!D20776=\"AGI externes\",'Relevés de  commissions'!N20776,0)*1","v":0},{"$f":"IF('Relevés de  commissions'!D20776=\"AGI externes\",'Relevés de  commissions'!O20776,0)*1","v":0},{"$f":"IF('Relevés de  commissions'!D20776=\"AGI externes\",'Relevés de  commissions'!P20776,0)*1","v":0}]
[null,null,null,null,null,null,null,null,null,null,null,null,{"$f":"IF('Relevés de  commissions'!D20786=\"AGI externes\",'Relevés de  commissions'!M20786,0)*1","v":0},{"$f":"IF('Relevés de  commissions'!D20786=\"AGI externes\",'Relevés de  commissions'!N20786,0)*1","v":0},{"$f":"IF('Relevés de  commissions'!D20786=\"AGI externes\",'Relevés de  commissions'!O20786,0)*1","v":0},{"$f":"IF('Relevés de  commissions'!D20786=\"AGI externes\",'Relevés de  commissions'!P20786,0)*1","v":0}]
[null,null,null,null,null,null,null,null,null,null,null,null,{"$f":"IF('Relevés de  commissions'!D20803=\"AGI externes\",'Relevés de  commissions'!M20803,0)*1","v":0},{"$f":"IF('Relevés de  commissions'!D20803=\"AGI externes\",'Relevés de  commissions'!N20803,0)*1","v":0},{"$f":"IF('Relevés de  commissions'!D20803=\"AGI externes\",'Relevés de  commissions'!O20803,0)*1","v":0},{"$f":"IF('Relevés de  commissions'!D20803=\"AGI externes\",'Relevés de  commissions'!P20803,0)*1","v":0}]
[null,null,null,null,null,null,null,null,null,null,null,null,{"$f":"IF('Relevés de  commissions'!D20812=\"AGI externes\",'Relevés de  commissions'!M20812,0)*1","v":0},{"$f":"IF('Relevés de  commissions'!D20812=\"AGI externes\",'Relevés de  commissions'!N20812,0)*1","v":0},{"$f":"IF('Relevés de  commissions'!D20812=\"AGI externes\",'Relevés de  commissions'!O20812,0)*1","v":0},{"$f":"IF('Relevés de  commissions'!D20812=\"AGI externes\",'Relevés de  commissions'!P20812,0)*1","v":0}]
[null,null,null,null,null,null,null,null,null,null,null,null,{"$f":"IF('Relevés de  commissions'!D20818=\"AGI externes\",'Relevés de  commissions'!M20818,0)*1","v":0},{"$f":"IF('Relevés de  commissions'!D20818=\"AGI externes\",'Relevés de  commissions'!N20818,0)*1","v":0},{"$f":"IF('Relevés de  commissions'!D20818=\"AGI externes\",'Relevés de  commissions'!O20818,0)*1","v":0},{"$f":"IF('Relevés de  commissions'!D20818=\"AGI externes\",'Relevés de  commissions'!P20818,0)*1","v":0}]
[null,null,null,null,null,null,null,null,null,null,null,null,{"$f":"IF('Relevés de  commissions'!D20835=\"AGI externes\",'Relevés de  commissions'!M20835,0)*1","v":0},{"$f":"IF('Relevés de  commissions'!D20835=\"AGI externes\",'Relevés de  commissions'!N20835,0)*1","v":0},{"$f":"IF('Relevés de  commissions'!D20835=\"AGI externes\",'Relevés de  commissions'!O20835,0)*1","v":0},{"$f":"IF('Relevés de  commissions'!D20835=\"AGI externes\",'Relevés de  commissions'!P20835,0)*1","v":0}]
[null,null,null,null,null,null,null,null,null,null,null,null,{"$f":"IF('Relevés de  commissions'!D20845=\"AGI externes\",'Relevés de  commissions'!M20845,0)*1","v":0},{"$f":"IF('Relevés de  commissions'!D20845=\"AGI externes\",'Relevés de  commissions'!N20845,0)*1","v":0},{"$f":"IF('Relevés de  commissions'!D20845=\"AGI externes\",'Relevés de  commissions'!O20845,0)*1","v":0},{"$f":"IF('Relevés de  commissions'!D20845=\"AGI externes\",'Relevés de  commissions'!P20845,0)*1","v":0}]
[null,null,null,null,null,null,null,null,null,null,null,null,{"$f":"IF('Relevés de  commissions'!D20851=\"AGI externes\",'Relevés de  commissions'!M20851,0)*1","v":0},{"$f":"IF('Relevés de  commissions'!D20851=\"AGI externes\",'Relevés de  commissions'!N20851,0)*1","v":0},{"$f":"IF('Relevés de  commissions'!D20851=\"AGI externes\",'Relevés de  commissions'!O20851,0)*1","v":0},{"$f":"IF('Relevés de  commissions'!D20851=\"AGI externes\",'Relevés de  commissions'!P20851,0)*1","v":0}]
[null,null,null,null,null,null,null,null,null,null,null,null,{"$f":"IF('Relevés de  commissions'!D20866=\"AGI externes\",'Relevés de  commissions'!M20866,0)*1","v":0},{"$f":"IF('Relevés de  commissions'!D20866=\"AGI externes\",'Relevés de  commissions'!N20866,0)*1","v":0},{"$f":"IF('Relevés de  commissions'!D20866=\"AGI externes\",'Relevés de  commissions'!O20866,0)*1","v":0},{"$f":"IF('Relevés de  commissions'!D20866=\"AGI externes\",'Relevés de  commissions'!P20866,0)*1","v":0}]
[null,null,null,null,null,null,null,null,null,null,null,null,{"$f":"IF('Relevés de  commissions'!D20877=\"AGI externes\",'Relevés de  commissions'!M20877,0)*1","v":0},{"$f":"IF('Relevés de  commissions'!D20877=\"AGI externes\",'Relevés de  commissions'!N20877,0)*1","v":0},{"$f":"IF('Relevés de  commissions'!D20877=\"AGI externes\",'Relevés de  commissions'!O20877,0)*1","v":0},{"$f":"IF('Relevés de  commissions'!D20877=\"AGI externes\",'Relevés de  commissions'!P20877,0)*1","v":0}]
[null,null,null,null,null,null,null,null,null,null,null,null,{"$f":"IF('Relevés de  commissions'!D20883=\"AGI externes\",'Relevés de  commissions'!M20883,0)*1","v":0},{"$f":"IF('Relevés de  commissions'!D20883=\"AGI externes\",'Relevés de  commissions'!N20883,0)*1","v":0},{"$f":"IF('Relevés de  commissions'!D20883=\"AGI externes\",'Relevés de  commissions'!O20883,0)*1","v":0},{"$f":"IF('Relevés de  commissions'!D20883=\"AGI externes\",'Relevés de  commissions'!P20883,0)*1","v":0}]
[null,null,null,null,null,null,null,null,null,null,null,null,{"$f":"IF('Relevés de  commissions'!D20893=\"AGI externes\",'Relevés de  commissions'!M20893,0)*1","v":0},{"$f":"IF('Relevés de  commissions'!D20893=\"AGI externes\",'Relevés de  commissions'!N20893,0)*1","v":0},{"$f":"IF('Relevés de  commissions'!D20893=\"AGI externes\",'Relevés de  commissions'!O20893,0)*1","v":0},{"$f":"IF('Relevés de  commissions'!D20893=\"AGI externes\",'Relevés de  commissions'!P20893,0)*1","v":0}]
[null,null,null,null,null,null,null,null,null,null,null,null,{"$f":"IF('Relevés de  commissions'!D20910=\"AGI externes\",'Relevés de  commissions'!M20910,0)*1","v":0},{"$f":"IF('Relevés de  commissions'!D20910=\"AGI externes\",'Relevés de  commissions'!N20910,0)*1","v":0},{"$f":"IF('Relevés de  commissions'!D20910=\"AGI externes\",'Relevés de  commissions'!O20910,0)*1","v":0},{"$f":"IF('Relevés de  commissions'!D20910=\"AGI externes\",'Relevés de  commissions'!P20910,0)*1","v":0}]
[null,null,null,null,null,null,null,null,null,null,null,null,{"$f":"IF('Relevés de  commissions'!D20916=\"AGI externes\",'Relevés de  commissions'!M20916,0)*1","v":0},{"$f":"IF('Relevés de  commissions'!D20916=\"AGI externes\",'Relevés de  commissions'!N20916,0)*1","v":0},{"$f":"IF('Relevés de  commissions'!D20916=\"AGI externes\",'Relevés de  commissions'!O20916,0)*1","v":0},{"$f":"IF('Relevés de  commissions'!D20916=\"AGI externes\",'Relevés de  commissions'!P20916,0)*1","v":0}]
[null,null,null,null,null,null,null,null,null,null,null,null,{"$f":"IF('Relevés de  commissions'!D20933=\"AGI externes\",'Relevés de  commissions'!M20933,0)*1","v":0},{"$f":"IF('Relevés de  commissions'!D20933=\"AGI externes\",'Relevés de  commissions'!N20933,0)*1","v":0},{"$f":"IF('Relevés de  commissions'!D20933=\"AGI externes\",'Relevés de  commissions'!O20933,0)*1","v":0},{"$f":"IF('Relevés de  commissions'!D20933=\"AGI externes\",'Relevés de  commissions'!P20933,0)*1","v":0}]
[null,null,null,null,null,null,null,null,null,null,null,null,{"$f":"IF('Relevés de  commissions'!D20942=\"AGI externes\",'Relevés de  commissions'!M20942,0)*1","v":0},{"$f":"IF('Relevés de  commissions'!D20942=\"AGI externes\",'Relevés de  commissions'!N20942,0)*1","v":0},{"$f":"IF('Relevés de  commissions'!D20942=\"AGI externes\",'Relevés de  commissions'!O20942,0)*1","v":0},{"$f":"IF('Relevés de  commissions'!D20942=\"AGI externes\",'Relevés de  commissions'!P20942,0)*1","v":0}]
[null,null,null,null,null,null,null,null,null,null,null,null,{"$f":"IF('Relevés de  commissions'!D20952=\"AGI externes\",'Relevés de  commissions'!M20952,0)*1","v":0},{"$f":"IF('Relevés de  commissions'!D20952=\"AGI externes\",'Relevés de  commissions'!N20952,0)*1","v":0},{"$f":"IF('Relevés de  commissions'!D20952=\"AGI externes\",'Relevés de  commissions'!O20952,0)*1","v":0},{"$f":"IF('Relevés de  commissions'!D20952=\"AGI externes\",'Relevés de  commissions'!P20952,0)*1","v":0}]
[null,null,null,null,null,null,null,null,null,null,null,null,{"$f":"IF('Relevés de  commissions'!D20958=\"AGI externes\",'Relevés de  commissions'!M20958,0)*1","v":0},{"$f":"IF('Relevés de  commissions'!D20958=\"AGI externes\",'Relevés de  commissions'!N20958,0)*1","v":0},{"$f":"IF('Relevés de  commissions'!D20958=\"AGI externes\",'Relevés de  commissions'!O20958,0)*1","v":0},{"$f":"IF('Relevés de  commissions'!D20958=\"AGI externes\",'Relevés de  commissions'!P20958,0)*1","v":0}]
[null,null,null,null,null,null,null,null,null,null,null,null,{"$f":"IF('Relevés de  commissions'!D20975=\"AGI externes\",'Relevés de  commissions'!M20975,0)*1","v":0},{"$f":"IF('Relevés de  commissions'!D20975=\"AGI externes\",'Relevés de  commissions'!N20975,0)*1","v":0},{"$f":"IF('Relevés de  commissions'!D20975=\"AGI externes\",'Relevés de  commissions'!O20975,0)*1","v":0},{"$f":"IF('Relevés de  commissions'!D20975=\"AGI externes\",'Relevés de  commissions'!P20975,0)*1","v":0}]
[null,null,null,null,null,null,null,null,null,null,null,null,{"$f":"IF('Relevés de  commissions'!D20985=\"AGI externes\",'Relevés de  commissions'!M20985,0)*1","v":0},{"$f":"IF('Relevés de  commissions'!D20985=\"AGI externes\",'Relevés de  commissions'!N20985,0)*1","v":0},{"$f":"IF('Relevés de  commissions'!D20985=\"AGI externes\",'Relevés de  commissions'!O20985,0)*1","v":0},{"$f":"IF('Relevés de  commissions'!D20985=\"AGI externes\",'Relevés de  commissions'!P20985,0)*1","v":0}]
[null,null,null,null,null,null,null,null,null,null,null,null,{"$f":"IF('Relevés de  commissions'!D20990=\"AGI externes\",'Relevés de  commissions'!M20990,0)*1","v":0},{"$f":"IF('Relevés de  commissions'!D20990=\"AGI externes\",'Relevés de  commissions'!N20990,0)*1","v":0},{"$f":"IF('Relevés de  commissions'!D20990=\"AGI externes\",'Relevés de  commissions'!O20990,0)*1","v":0},{"$f":"IF('Relevés de  commissions'!D20990=\"AGI externes\",'Relevés de  commissions'!P20990,0)*1","v":0}]
[null,null,null,null,null,null,null,null,null,null,null,null,{"$f":"IF('Relevés de  commissions'!D21007=\"AGI externes\",'Relevés de  commissions'!M21007,0)*1","v":0},{"$f":"IF('Relevés de  commissions'!D21007=\"AGI externes\",'Relevés de  commissions'!N21007,0)*1","v":0},{"$f":"IF('Relevés de  commissions'!D21007=\"AGI externes\",'Relevés de  commissions'!O21007,0)*1","v":0},{"$f":"IF('Relevés de  commissions'!D21007=\"AGI externes\",'Relevés de  commissions'!P21007,0)*1","v":0}]
[null,null,null,null,null,null,null,null,null,null,null,null,{"$f":"IF('Relevés de  commissions'!D21017=\"AGI externes\",'Relevés de  commissions'!M21017,0)*1","v":0},{"$f":"IF('Relevés de  commissions'!D21017=\"AGI externes\",'Relevés de  commissions'!N21017,0)*1","v":0},{"$f":"IF('Relevés de  commissions'!D21017=\"AGI externes\",'Relevés de  commissions'!O21017,0)*1","v":0},{"$f":"IF('Relevés de  commissions'!D21017=\"AGI externes\",'Relevés de  commissions'!P21017,0)*1","v":0}]
[null,null,null,null,null,null,null,null,null,null,null,null,{"$f":"IF('Relevés de  commissions'!D21023=\"AGI externes\",'Relevés de  commissions'!M21023,0)*1","v":0},{"$f":"IF('Relevés de  commissions'!D21023=\"AGI externes\",'Relevés de  commissions'!N21023,0)*1","v":0},{"$f":"IF('Relevés de  commissions'!D21023=\"AGI externes\",'Relevés de  commissions'!O21023,0)*1","v":0},{"$f":"IF('Relevés de  commissions'!D21023=\"AGI externes\",'Relevés de  commissions'!P21023,0)*1","v":0}]
[null,null,null,null,null,null,null,null,null,null,null,null,{"$f":"IF('Relevés de  commissions'!D21033=\"AGI externes\",'Relevés de  commissions'!M21033,0)*1","v":0},{"$f":"IF('Relevés de  commissions'!D21033=\"AGI externes\",'Relevés de  commissions'!N21033,0)*1","v":0},{"$f":"IF('Relevés de  commissions'!D21033=\"AGI externes\",'Relevés de  commissions'!O21033,0)*1","v":0},{"$f":"IF('Relevés de  commissions'!D21033=\"AGI externes\",'Relevés de  commissions'!P21033,0)*1","v":0}]
[null,null,null,null,null,null,null,null,null,null,null,null,{"$f":"IF('Relevés de  commissions'!D21050=\"AGI externes\",'Relevés de  commissions'!M21050,0)*1","v":0},{"$f":"IF('Relevés de  commissions'!D21050=\"AGI externes\",'Relevés de  commissions'!N21050,0)*1","v":0},{"$f":"IF('Relevés de  commissions'!D21050=\"AGI externes\",'Relevés de  commissions'!O21050,0)*1","v":0},{"$f":"IF('Relevés de  commissions'!D21050=\"AGI externes\",'Relevés de  commissions'!P21050,0)*1","v":0}]
[null,null,null,null,null,null,null,null,null,null,null,null,{"$f":"IF('Relevés de  commissions'!D21057=\"AGI externes\",'Relevés de  commissions'!M21057,0)*1","v":0},{"$f":"IF('Relevés de  commissions'!D21057=\"AGI externes\",'Relevés de  commissions'!N21057,0)*1","v":0},{"$f":"IF('Relevés de  commissions'!D21057=\"AGI externes\",'Relevés de  commissions'!O21057,0)*1","v":0},{"$f":"IF('Relevés de  commissions'!D21057=\"AGI externes\",'Relevés de  commissions'!P21057,0)*1","v":0}]
[null,null,null,null,null,null,null,null,null,null,null,null,{"$f":"IF('Relevés de  commissions'!D21065=\"AGI externes\",'Relevés de  commissions'!M21065,0)*1","v":0},{"$f":"IF('Relevés de  commissions'!D21065=\"AGI externes\",'Relevés de  commissions'!N21065,0)*1","v":0},{"$f":"IF('Relevés de  commissions'!D21065=\"AGI externes\",'Relevés de  commissions'!O21065,0)*1","v":0},{"$f":"IF('Relevés de  commissions'!D21065=\"AGI externes\",'Relevés de  commissions'!P21065,0)*1","v":0}]
[null,null,null,null,null,null,null,null,null,null,null,null,{"$f":"IF('Relevés de  commissions'!D21082=\"AGI externes\",'Relevés de  commissions'!M21082,0)*1","v":0},{"$f":"IF('Relevés de  commissions'!D21082=\"AGI externes\",'Relevés de  commissions'!N21082,0)*1","v":0},{"$f":"IF('Relevés de  commissions'!D21082=\"AGI externes\",'Relevés de  commissions'!O21082,0)*1","v":0},{"$f":"IF('Relevés de  commissions'!D21082=\"AGI externes\",'Relevés de  commissions'!P21082,0)*1","v":0}]
[]
[]
[]
[]
[]
[]
[]
[]
[]
[]
[]
[]
[]
[]
[]
[]
[]
[]
[]
[]
[]
[]
[]
[]
[]
[]
[]
[]
[]
[]
[]
[]
[]
[]
[]
[]
[]
[]
[]
[]
[]
[]
[]
[]
[]
[null,null,null,null,null,null,null,null,null,null,null,null,null,null,null,null,0,""]
[null,null,null,null,null,null,null,null,null,null,null,null,null,null,null,null,0,""]
[null,null,null,null,null,null,null,null,null,null,null,null,null,null,null,null,0,""]
[null,null,null,null,null,null,null,null,null,null,null,null,null,null,null,null,0,""]
[null,null,null,null,null,null,null,null,null,null,null,null,null,null,null,null,0,""]
[null,null,null,null,null,null,null,null,null,null,null,null,null,null,null,null,0,""]
[null,null,null,null,null,null,null,null,null,null,null,null,null,null,null,null,0,""]
[null,null,null,null,null,null,null,null,null,null,null,null,null,null,null,null,0,""]
[null,null,null,null,null,null,null,null,null,null,null,null,null,null,null,null,0,""]
[null,null,null,null,null,null,null,null,null,null,null,null,null,null,null,null,0,""]
[null,null,null,null,null,null,null,null,null,null,null,null,null,null,null,null,0,""]
[null,null,null,null,null,null,null,null,null,null,null,null,null,null,null,null,0,""]
[null,null,null,null,null,null,null,null,null,null,null,null,null,null,null,null,0,""]
[null,null,null,null,null,null,null,null,null,null,null,null,null,null,null,null,0,""]
[null,null,null,null,null,null,null,null,null,null,null,null,null,null,null,null,0,""]
[null,null,null,null,null,null,null,null,null,null,null,null,null,null,null,null,0,""]
[null,null,null,null,null,null,null,null,null,null,null,null,null,null,null,null,0,""]
[null,null,null,null,null,null,null,null,null,null,null,null,null,null,null,null,0,""]
[null,null,null,null,null,null,null,null,null,null,null,null,null,null,null,null,0,""]
[null,null,null,null,null,null,null,null,null,null,null,null,null,null,null,null,0,""]
[null,null,null,null,null,null,null,null,null,null,null,null,null,null,null,null,0,""]
[null,null,null,null,null,null,null,null,null,null,null,null,null,null,null,null,0,""]
[null,null,null,null,null,null,null,null,null,null,null,null,null,null,null,null,0,""]
[null,null,null,null,null,null,null,null,null,null,null,null,null,null,null,null,0,""]
[null,null,null,null,null,null,null,null,null,null,null,null,null,null,null,null,0,""]
[null,null,null,null,null,null,null,null,null,null,null,null,null,null,null,null,0,""]
[null,null,null,null,null,null,null,null,null,null,null,null,null,null,null,null,0,""]
[null,null,null,null,null,null,null,null,null,null,null,null,null,null,null,null,0,""]
[null,null,null,null,null,null,null,null,null,null,null,null,null,null,null,null,0,""]
[null,null,null,null,null,null,null,null,null,null,null,null,null,null,null,null,0,""]
[null,null,null,null,null,null,null,null,null,null,null,null,null,null,null,null,0,{"$f":"IF(N21904=10,O21904,\"\")","v":""}]
[null,null,null,null,null,null,null,null,null,null,null,null,null,null,null,null,0,""]
[null,null,null,null,null,null,null,null,null,null,null,null,null,null,null,null,0,""]
[null,null,null,null,null,null,null,null,null,null,null,null,null,null,null,null,0,""]
[null,null,null,null,null,null,null,null,null,null,null,null,null,null,null,null,0,""]
[null,null,null,null,null,null,null,null,null,null,null,null,null,null,null,null,0,""]
[null,null,null,null,null,null,null,null,null,null,null,null,null,null,null,null,0,""]
[null,null,null,null,null,null,null,null,null,null,null,null,null,null,null,null,0,""]
[null,null,null,null,null,null,null,null,null,null,null,null,null,null,null,null,0,""]
[null,null,null,null,null,null,null,null,null,null,null,null,null,null,null,null,0,""]
[null,null,null,null,null,null,null,null,null,null,null,null,null,null,null,null,0,""]
[null,null,null,null,null,null,null,null,null,null,null,null,null,null,null,null,{"$f":"IF(N22021=0,O22021,\"\")","v":0},""]
[null,null,null,null,null,null,null,null,null,null,null,null,null,null,null,null,0,""]
[null,null,null,null,null,null,null,null,null,null,null,null,null,null,null,null,0,""]
[null,null,null,null,null,null,null,null,null,null,null,null,null,null,null,null,0,""]
[null,null,null,null,null,null,null,null,null,null,null,null,null,null,null,null,0,""]
[null,null,null,null,null,null,null,null,null,null,null,null,null,null,null,null,0,""]
[null,null,null,null,null,null,null,null,null,null,null,null,null,null,null,null,0,""]
[null,null,null,null,null,null,null,null,null,null,null,null,null,null,null,null,0,""]
[null,null,null,null,null,null,null,null,null,null,null,null,null,null,null,null,0,""]
[null,null,null,null,null,null,null,null,null,null,null,null,null,null,null,null,0,""]
[null,null,null,null,null,null,null,null,null,null,null,null,null,null,null,null,0,""]
[null,null,null,null,null,null,null,null,null,null,null,null,null,null,null,null,{"$f":"IF(N22149=0,O22149,\"\")","v":0},""]
[null,null,null,null,null,null,null,null,null,null,null,null,null,null,null,null,0,""]
[null,null,null,null,null,null,null,null,null,null,null,null,null,null,null,null,0,""]
[null,null,null,null,null,null,null,null,null,null,null,null,null,null,null,null,0,""]
[null,null,null,null,null,null,null,null,null,null,null,null,null,null,null,null,0,""]
[null,null,null,null,null,null,null,null,null,null,null,null,null,null,null,null,0,""]
[null,null,null,null,null,null,null,null,null,null,null,null,null,null,null,null,0,""]
[null,null,null,null,null,null,null,null,null,null,null,null,null,null,null,null,0,""]
[null,null,null,null,null,null,null,null,null,null,null,null,null,null,null,null,0,""]
[null,null,null,null,null,null,null,null,null,null,null,null,null,null,null,null,0,""]
[null,null,null,null,null,null,null,null,null,null,null,null,null,null,null,null,0,""]
[null,null,null,null,null,null,null,null,null,null,null,null,null,null,null,null,0,""]
[null,null,null,null,null,null,null,null,null,null,null,null,null,null,null,null,0,""]
[null,null,null,null,null,null,null,null,null,null,null,null,null,null,null,null,0,""]
[null,null,null,null,null,null,null,null,null,null,null,null,null,null,null,null,0,""]
[null,null,null,null,null,null,null,null,null,null,null,null,null,null,null,null,0,""]
[null,null,null,null,null,null,null,null,null,null,null,null,null,null,null,null,0,""]
[null,null,null,null,null,null,null,null,null,null,null,null,null,null,null,null,0,""]
[null,null,null,null,null,null,null,null,null,null,null,null,null,null,null,null,0,""]
[null,null,null,null,null,null,null,null,null,null,null,null,null,null,null,null,0,""]
[null,null,null,null,null,null,null,null,null,null,null,null,null,null,null,null,0,""]
[null,null,null,null,null,null,null,null,null,null,null,null,null,null,null,null,0,""]
[null,null,null,null,null,null,null,null,null,null,null,null,null,null,null,null,0,""]
[null,null,null,null,null,null,null,null,null,null,null,null,null,null,null,null,0,""]
[null,null,null,null,null,null,null,null,null,null,null,null,null,null,null,null,0,""]
[null,null,null,null,null,null,null,null,null,null,null,null,null,null,null,null,0,""]
[null,null,null,null,null,null,null,null,null,null,null,null,null,null,null,null,0,""]
[null,null,null,null,null,null,null,null,null,null,null,null,null,null,null,null,0,""]
[null,null,null,null,null,null,null,null,null,null,null,null,null,null,null,null,0,""]
[null,null,null,null,null,null,null,null,null,null,null,null,null,null,null,null,0,""]
[null,null,null,null,null,null,null,null,null,null,null,null,null,null,null,null,0,""]
[null,null,null,null,null,null,null,null,null,null,null,null,null,null,null,null,0,""]
[null,null,null,null,null,null,null,null,null,null,null,null,null,null,null,null,0,""]
[null,null,null,null,null,null,null,null,null,null,null,null,null,null,null,null,0,""]
[null,null,null,null,null,null,null,null,null,null,null,null,null,null,null,null,0,""]
[null,null,null,null,null,null,null,null,null,null,null,null,null,null,null,null,0,""]
[null,null,null,null,null,null,null,null,null,null,null,null,null,null,null,null,0,""]
[null,null,null,null,null,null,null,null,null,null,null,null,null,null,null,null,0,""]
[null,null,null,null,null,null,null,null,null,null,null,null,null,null,null,null,0,""]
[null,null,null,null,null,null,null,null,null,null,null,null,null,null,null,null,0,""]
[null,null,null,null,null,null,null,null,null,null,null,null,null,null,null,null,0,""]
[null,null,null,null,null,null,null,null,null,null,null,null,null,null,null,null,0,""]
[null,null,null,null,null,null,null,null,null,null,null,null,null,null,null,null,0,""]
[null,null,null,null,null,null,null,null,null,null,null,null,null,null,null,null,0,""]
[null,null,null,null,null,null,null,null,null,null,null,null,null,null,null,null,0,""]
[null,null,null,null,null,null,null,null,null,null,null,null,null,null,null,null,0,""]
[null,null,null,null,null,null,null,null,null,null,null,null,null,null,null,null,0,""]
[null,null,null,null,null,null,null,null,null,null,null,null,null,null,null,null,0,""]
[null,null,null,null,null,null,null,null,null,null,null,null,null,null,null,null,0,""]
[null,null,null,null,null,null,null,null,null,null,null,null,null,null,null,null,0,{"$f":"IF(N22672=10,O22672,\"\")","v":""}]
[null,null,null,null,null,null,null,null,null,null,null,null,null,null,null,null,0,""]
[null,null,null,null,null,null,null,null,null,null,null,null,null,null,null,null,0,""]
[null,null,null,null,null,null,null,null,null,null,null,null,null,null,null,null,0,""]
[null,null,null,null,null,null,null,null,null,null,null,null,null,null,null,null,0,""]
[null,null,null,null,null,null,null,null,null,null,null,null,null,null,null,null,0,""]
[null,null,null,null,null,null,null,null,null,null,null,null,null,null,null,null,0,""]
[null,null,null,null,null,null,null,null,null,null,null,null,null,null,null,null,0,""]
[null,null,null,null,null,null,null,null,null,null,null,null,null,null,null,null,0,""]
[null,null,null,null,null,null,null,null,null,null,null,null,null,null,null,null,0,""]
[null,null,null,null,null,null,null,null,null,null,null,null,null,null,null,null,0,""]
[null,null,null,null,null,null,null,null,null,null,null,null,null,null,null,null,0,""]
[null,null,null,null,null,null,null,null,null,null,null,null,null,null,null,null,0,""]
[null,null,null,null,null,null,null,null,null,null,null,null,null,null,null,null,0,""]
[null,null,null,null,null,null,null,null,null,null,null,null,null,null,null,null,0,""]
[null,null,null,null,null,null,null,null,null,null,null,null,null,null,null,null,0,""]
[null,null,null,null,null,null,null,null,null,null,null,null,null,null,null,null,0,""]
[null,null,null,null,null,null,null,null,null,null,null,null,null,null,null,null,0,""]
[null,null,null,null,null,null,null,null,null,null,null,null,null,null,null,null,0,""]
[null,null,null,null,null,null,null,null,null,null,null,null,null,null,null,null,0,""]
[null,null,null,null,null,null,null,null,null,null,null,null,null,null,null,null,0,""]
[null,null,null,null,null,null,null,null,null,null,null,null,null,null,null,null,0,""]
[null,null,null,null,null,null,null,null,null,null,null,null,null,null,null,null,0,""]
[null,null,null,null,null,null,null,null,null,null,null,null,null,null,null,null,0,""]
[null,null,null,null,null,null,null,null,null,null,null,null,null,null,null,null,0,""]
[null,null,null,null,null,null,null,null,null,null,null,null,null,null,null,null,0,""]
[null,null,null,null,null,null,null,null,null,null,null,null,null,null,null,null,0,""]
[null,null,null,null,null,null,null,null,null,null,null,null,null,null,null,null,0,""]
[null,null,null,null,null,null,null,null,null,null,null,null,null,null,null,null,0,""]
[null,null,null,null,null,null,null,null,null,null,null,null,null,null,null,null,0,""]
[null,null,null,null,null,null,null,null,null,null,null,null,null,null,null,null,0,""]
[null,null,null,null,null,null,null,null,null,null,null,null,null,null,null,null,0,""]
[null,null,null,null,null,null,null,null,null,null,null,null,null,null,null,null,0,""]
[null,null,null,null,null,null,null,null,null,null,null,null,null,null,null,null,0,""]
[null,null,null,null,null,null,null,null,null,null,null,null,null,null,null,null,0,""]
[null,null,null,null,null,null,null,null,null,null,null,null,null,null,null,null,0,""]
[null,null,null,null,null,null,null,null,null,null,null,null,null,null,null,null,0,""]
[null,null,null,null,null,null,null,null,null,null,null,null,null,null,null,null,0,""]
[null,null,null,null,null,null,null,null,null,null,null,null,null,null,null,null,0,""]
[null,null,null,null,null,null,null,null,null,null,null,null,null,null,null,null,0,""]
[null,null,null,null,null,null,null,null,null,null,null,null,null,null,null,null,0,""]
[null,null,null,null,null,null,null,null,null,null,null,null,null,null,null,null,0,""]
[null,null,null,null,null,null,null,null,null,null,null,null,null,null,null,null,0,""]
[null,null,null,null,null,null,null,null,null,null,null,null,null,null,null,null,0,""]
[null,null,null,null,null,null,null,null,null,null,null,null,null,null,null,null,0,""]
[null,null,null,null,null,null,null,null,null,null,null,null,null,null,null,null,0,""]
[null,null,null,null,null,null,null,null,null,null,null,null,null,null,null,null,0,""]
[null,null,null,null,null,null,null,null,null,null,null,null,null,null,null,null,0,""]
[null,null,null,null,null,null,null,null,null,null,null,null,null,null,null,null,0,""]
[null,null,null,null,null,null,null,null,null,null,null,null,null,null,null,null,0,""]
[null,null,null,null,null,null,null,null,null,null,null,null,null,null,null,null,0,""]
[null,null,null,null,null,null,null,null,null,null,null,null,null,null,null,null,0,""]
[null,null,null,null,null,null,null,null,null,null,null,null,null,null,null,null,0,""]
[null,null,null,null,null,null,null,null,null,null,null,null,null,null,null,null,0,""]
[null,null,null,null,null,null,null,null,null,null,null,null,null,null,null,null,0,""]
[null,null,null,null,null,null,null,null,null,null,null,null,null,null,null,null,0,""]
[null,null,null,null,null,null,null,null,null,null,null,null,null,null,null,null,0,""]
[null,null,null,null,null,null,null,null,null,null,null,null,null,null,null,null,0,""]
[null,null,null,null,null,null,null,null,null,null,null,null,null,null,null,null,0,""]
[null,null,null,null,null,null,null,null,null,null,null,null,null,null,null,null,0,""]
[null,null,null,null,null,null,null,null,null,null,null,null,null,null,null,null,0,""]
[null,null,null,null,null,null,null,null,null,null,null,null,null,null,null,null,0,""]
[null,null,null,null,null,null,null,null,null,null,null,null,null,null,null,null,0,""]
[null,null,null,null,null,null,null,null,null,null,null,null,null,null,null,null,0,""]
[null,null,null,null,null,null,null,null,null,null,null,null,null,null,null,null,{"$f":"IF(N23365=0,O23365,\"\")","v":0},""]
[null,null,null,null,null,null,null,null,null,null,null,null,null,null,null,null,0,""]
[null,null,null,null,null,null,null,null,null,null,null,null,null,null,null,null,0,""]
[null,null,null,null,null,null,null,null,null,null,null,null,null,null,null,null,0,""]
[null,null,null,null,null,null,null,null,null,null,null,null,null,null,null,null,0,""]
[null,null,null,null,null,null,null,null,null,null,null,null,null,null,null,null,0,""]
[null,null,null,null,null,null,null,null,null,null,null,null,null,null,null,null,0,""]
[null,null,null,null,null,null,null,null,null,null,null,null,null,null,null,null,0,""]
[null,null,null,null,null,null,null,null,null,null,null,null,null,null,null,null,0,""]
[null,null,null,null,null,null,null,null,null,null,null,null,null,null,null,null,0,""]
[null,null,null,null,null,null,null,null,null,null,null,null,null,null,null,null,0,""]
[null,null,null,null,null,null,null,null,null,null,null,null,null,null,null,null,0,""]
[null,null,null,null,null,null,null,null,null,null,null,null,null,null,null,null,0,""]
[null,null,null,null,null,null,null,null,null,null,null,null,null,null,null,null,0,""]
[null,null,null,null,null,null,null,null,null,null,null,null,null,null,null,null,0,""]
[null,null,null,null,null,null,null,null,null,null,null,null,null,null,null,null,0,""]
[null,null,null,null,null,null,null,null,null,null,null,null,null,null,null,null,0,""]
[null,null,null,null,null,null,null,null,null,null,null,null,null,null,null,null,0,""]
[null,null,null,null,null,null,null,null,null,null,null,null,null,null,null,null,0,""]
[null,null,null,null,null,null,null,null,null,null,null,null,null,null,null,null,0,""]
[null,null,null,null,null,null,null,null,null,null,null,null,null,null,null,null,0,""]
[null,null,null,null,null,null,null,null,null,null,null,null,null,null,null,null,0,""]
[null,null,null,null,null,null,null,null,null,null,null,null,null,null,null,null,0,""]
[null,null,null,null,null,null,null,null,null,null,null,null,null,null,null,null,0,""]
[null,null,null,null,null,null,null,null,null,null,null,null,null,null,null,null,0,""]
[null,null,null,null,null,null,null,null,null,null,null,null,null,null,null,null,0,""]
[null,null,null,null,null,null,null,null,null,null,null,null,null,null,null,null,0,""]
[null,null,null,null,null,null,null,null,null,null,null,null,null,null,null,null,0,""]
[null,null,null,null,null,null,null,null,null,null,null,null,null,null,null,null,0,""]
[null,null,null,null,null,null,null,null,null,null,null,null,null,null,null,null,0,""]
[null,null,null,null,null,null,null,null,null,null,null,null,null,null,null,null,0,""]
[null,null,null,null,null,null,null,null,null,null,null,null,null,null,null,null,0,""]
[null,null,null,null,null,null,null,null,null,null,null,null,null,null,null,null,0,""]
[null,null,null,null,null,null,null,null,null,null,null,null,null,null,null,null,0,""]
[null,null,null,null,null,null,null,null,null,null,null,null,null,null,null,null,0,""]
[null,null,null,null,null,null,null,null,null,null,null,null,null,null,null,null,0,""]
[null,null,null,null,null,null,null,null,null,null,null,null,null,null,null,null,0,""]
[null,null,null,null,null,null,null,null,null,null,null,null,null,null,null,null,0,""]
[null,null,null,null,null,null,null,null,null,null,null,null,null,null,null,null,0,""]
[null,null,null,null,null,null,null,null,null,null,null,null,null,null,null,null,0,""]
[null,null,null,null,null,null,null,null,null,null,null,null,null,null,null,null,0,""]
[null,null,null,null,null,null,null,null,null,null,null,null,null,null,null,null,0,""]
[null,null,null,null,null,null,null,null,null,null,null,null,null,null,null,null,0,""]
[null,null,null,null,null,null,null,null,null,null,null,null,null,null,null,null,0,""]
[null,null,null,null,null,null,null,null,null,null,null,null,null,null,null,null,0,""]
[null,null,null,null,null,null,null,null,null,null,null,null,null,null,null,null,{"$f":"IF(N23685=0,O23685,\"\")","v":0},""]
[null,null,null,null,null,null,null,null,null,null,null,null,null,null,null,null,0,""]
[null,null,null,null,null,null,null,null,null,null,null,null,null,null,null,null,0,""]
[null,null,null,null,null,null,null,null,null,null,null,null,null,null,null,null,0,""]
[null,null,null,null,null,null,null,null,null,null,null,null,null,null,null,null,0,""]
[null,null,null,null,null,null,null,null,null,null,null,null,null,null,null,null,0,""]
[null,null,null,null,null,null,null,null,null,null,null,null,null,null,null,null,0,""]
[null,null,null,null,null,null,null,null,null,null,null,null,null,null,null,null,0,""]
[null,null,null,null,null,null,null,null,null,null,null,null,null,null,null,null,0,""]
[null,null,null,null,null,null,null,null,null,null,null,null,null,null,null,null,0,""]
[null,null,null,null,null,null,null,null,null,null,null,null,null,null,null,null,0,""]
[null,null,null,null,null,null,null,null,null,null,null,null,null,null,null,null,0,{"$f":"IF(N23696=10,O23696,\"\")","v":""}]
[null,null,null,null,null,null,null,null,null,null,null,null,null,null,null,null,0,""]
[null,null,null,null,null,null,null,null,null,null,null,null,null,null,null,null,0,""]
[null,null,null,null,null,null,null,null,null,null,null,null,null,null,null,null,0,""]
[null,null,null,null,null,null,null,null,null,null,null,null,null,null,null,null,0,""]
[null,null,null,null,null,null,null,null,null,null,null,null,null,null,null,null,0,""]
[null,null,null,null,null,null,null,null,null,null,null,null,null,null,null,null,0,""]
[null,null,null,null,null,null,null,null,null,null,null,null,null,null,null,null,0,""]
[null,null,null,null,null,null,null,null,null,null,null,null,null,null,null,null,0,""]
[null,null,null,null,null,null,null,null,null,null,null,null,null,null,null,null,0,""]
[null,null,null,null,null,null,null,null,null,null,null,null,null,null,null,null,0,""]
[null,null,null,null,null,null,null,null,null,null,null,null,null,null,null,null,0,""]
[null,null,null,null,null,null,null,null,null,null,null,null,null,null,null,null,0,""]
[null,null,null,null,null,null,null,null,null,null,null,null,null,null,null,null,0,""]
[null,null,null,null,null,null,null,null,null,null,null,null,null,null,null,null,0,""]
[null,null,null,null,null,null,null,null,null,null,null,null,null,null,null,null,0,""]
[null,null,null,null,null,null,null,null,null,null,null,null,null,null,null,null,0,""]
[null,null,null,null,null,null,null,null,null,null,null,null,null,null,null,null,0,""]
[null,null,null,null,null,null,null,null,null,null,null,null,null,null,null,null,0,""]
[null,null,null,null,null,null,null,null,null,null,null,null,null,null,null,null,0,""]
[null,null,null,null,null,null,null,null,null,null,null,null,null,null,null,null,0,""]
[null,null,null,null,null,null,null,null,null,null,null,null,null,null,null,null,0,""]
[null,null,null,null,null,null,null,null,null,null,null,null,null,null,null,null,0,""]
[null,null,null,null,null,null,null,null,null,null,null,null,null,null,null,null,0,""]
[null,null,null,null,null,null,null,null,null,null,null,null,null,null,null,null,0,""]
[null,null,null,null,null,null,null,null,null,null,null,null,null,null,null,null,0,""]
[null,null,null,null,null,null,null,null,null,null,null,null,null,null,null,null,0,""]
[null,null,null,null,null,null,null,null,null,null,null,null,null,null,null,null,0,""]
[null,null,null,null,null,null,null,null,null,null,null,null,null,null,null,null,0,""]
[null,null,null,null,null,null,null,null,null,null,null,null,null,null,null,null,0,""]
[null,null,null,null,null,null,null,null,null,null,null,null,null,null,null,null,0,""]
[null,null,null,null,null,null,null,null,null,null,null,null,null,null,null,null,0,""]
[null,null,null,null,null,null,null,null,null,null,null,null,null,null,null,null,0,""]
[null,null,null,null,null,null,null,null,null,null,null,null,null,null,null,null,0,""]
[null,null,null,null,null,null,null,null,null,null,null,null,null,null,null,null,0,""]
[null,null,null,null,null,null,null,null,null,null,null,null,null,null,null,null,0,""]
[null,null,null,null,null,null,null,null,null,null,null,null,null,null,null,null,0,""]
[null,null,null,null,null,null,null,null,null,null,null,null,null,null,null,null,0,""]
[null,null,null,null,null,null,null,null,null,null,null,null,null,null,null,null,0,""]
[null,null,null,null,null,null,null,null,null,null,null,null,null,null,null,null,0,""]
[null,null,null,null,null,null,null,null,null,null,null,null,null,null,null,null,0,""]
[null,null,null,null,null,null,null,null,null,null,null,null,null,null,null,null,0,""]
[null,null,null,null,null,null,null,null,null,null,null,null,null,null,null,null,0,""]
[null,null,null,null,null,null,null,null,null,null,null,null,null,null,null,null,0,""]
[null,null,null,null,null,null,null,null,null,null,null,null,null,null,null,null,0,""]
[null,null,null,null,null,null,null,null,null,null,null,null,null,null,null,null,0,""]
[null,null,null,null,null,null,null,null,null,null,null,null,null,null,null,null,0,""]
[null,null,null,null,null,null,null,null,null,null,null,null,null,null,null,null,0,""]
[null,null,null,null,null,null,null,null,null,null,null,null,null,null,null,null,0,""]
[null,null,null,null,null,null,null,null,null,null,null,null,null,null,null,null,0,""]
[null,null,null,null,null,null,null,null,null,null,null,null,null,null,null,null,0,""]
[null,null,null,null,null,null,null,null,null,null,null,null,null,null,null,null,0,""]
[null,null,null,null,null,null,null,null,null,null,null,null,null,null,null,null,0,""]
[null,null,null,null,null,null,null,null,null,null,null,null,null,null,null,null,{"$f":"IF(N23749=0,O23749,\"\")","v":0},""]
[null,null,null,null,null,null,null,null,null,null,null,null,null,null,null,null,0,""]
[null,null,null,null,null,null,null,null,null,null,null,null,null,null,null,null,0,""]
[null,null,null,null,null,null,null,null,null,null,null,null,null,null,null,null,0,""]
[null,null,null,null,null,null,null,null,null,null,null,null,null,null,null,null,0,""]
[null,null,null,null,null,null,null,null,null,null,null,null,null,null,null,null,0,""]
[null,null,null,null,null,null,null,null,null,null,null,null,null,null,null,null,0,""]
[null,null,null,null,null,null,null,null,null,null,null,null,null,null,null,null,0,""]
[null,null,null,null,null,null,null,null,null,null,null,null,null,null,null,null,0,""]
[null,null,null,null,null,null,null,null,null,null,null,null,null,null,null,null,0,""]
[null,null,null,null,null,null,null,null,null,null,null,null,null,null,null,null,0,""]
[null,null,null,null,null,null,null,null,null,null,null,null,null,null,null,null,0,{"$f":"IF(N23760=10,O23760,\"\")","v":""}]
[null,null,null,null,null,null,null,null,null,null,null,null,null,null,null,null,0,""]
[null,null,null,null,null,null,null,null,null,null,null,null,null,null,null,null,0,""]
[null,null,null,null,null,null,null,null,null,null,null,null,null,null,null,null,0,""]
[null,null,null,null,null,null,null,null,null,null,null,null,null,null,null,null,0,""]
[null,null,null,null,null,null,null,null,null,null,null,null,null,null,null,null,0,""]
[null,null,null,null,null,null,null,null,null,null,null,null,null,null,null,null,0,""]
[null,null,null,null,null,null,null,null,null,null,null,null,null,null,null,null,0,""]
[null,null,null,null,null,null,null,null,null,null,null,null,null,null,null,null,0,""]
[null,null,null,null,null,null,null,null,null,null,null,null,null,null,null,null,0,""]
[null,null,null,null,null,null,null,null,null,null,null,null,null,null,null,null,0,""]
[null,null,null,null,null,null,null,null,null,null,null,null,null,null,null,null,0,""]
[null,null,null,null,null,null,null,null,null,null,null,null,null,null,null,null,0,""]
[null,null,null,null,null,null,null,null,null,null,null,null,null,null,null,null,0,""]
[null,null,null,null,null,null,null,null,null,null,null,null,null,null,null,null,0,""]
[null,null,null,null,null,null,null,null,null,null,null,null,null,null,null,null,0,""]
[null,null,null,null,null,null,null,null,null,null,null,null,null,null,null,null,0,""]
[null,null,null,null,null,null,null,null,null,null,null,null,null,null,null,null,0,""]
[null,null,null,null,null,null,null,null,null,null,null,null,null,null,null,null,0,""]
[null,null,null,null,null,null,null,null,null,null,null,null,null,null,null,null,0,""]
[null,null,null,null,null,null,null,null,null,null,null,null,null,null,null,null,0,""]
[null,null,null,null,null,null,null,null,null,null,null,null,null,null,null,null,0,""]
[null,null,null,null,null,null,null,null,null,null,null,null,null,null,null,null,0,""]
[null,null,null,null,null,null,null,null,null,null,null,null,null,null,null,null,0,""]
[null,null,null,null,null,null,null,null,null,null,null,null,null,null,null,null,0,""]
[null,null,null,null,null,null,null,null,null,null,null,null,null,null,null,null,0,""]
[null,null,null,null,null,null,null,null,null,null,null,null,null,null,null,null,0,""]
[null,null,null,null,null,null,null,null,null,null,null,null,null,null,null,null,0,""]
[null,null,null,null,null,null,null,null,null,null,null,null,null,null,null,null,0,""]
[null,null,null,null,null,null,null,null,null,null,null,null,null,null,null,null,0,""]
[null,null,null,null,null,null,null,null,null,null,null,null,null,null,null,null,0,""]
[null,null,null,null,null,null,null,null,null,null,null,null,null,null,null,null,0,""]
[null,null,null,null,null,null,null,null,null,null,null,null,null,null,null,null,0,""]
[null,null,null,null,null,null,null,null,null,null,null,null,null,null,null,null,0,""]
[null,null,null,null,null,null,null,null,null,null,null,null,null,null,null,null,0,""]
[null,null,null,null,null,null,null,null,null,null,null,null,null,null,null,null,0,""]
[null,null,null,null,null,null,null,null,null,null,null,null,null,null,null,null,0,""]
[null,null,null,null,null,null,null,null,null,null,null,null,null,null,null,null,0,""]
[null,null,null,null,null,null,null,null,null,null,null,null,null,null,null,null,0,""]
[null,null,null,null,null,null,null,null,null,null,null,null,null,null,null,null,0,""]
[null,null,null,null,null,null,null,null,null,null,null,null,null,null,null,null,0,""]
[null,null,null,null,null,null,null,null,null,null,null,null,null,null,null,null,0,""]
[null,null,null,null,null,null,null,null,null,null,null,null,null,null,null,null,0,""]
[null,null,null,null,null,null,null,null,null,null,null,null,null,null,null,null,0,""]
[null,null,null,null,null,null,null,null,null,null,null,null,null,null,null,null,0,""]
[null,null,null,null,null,null,null,null,null,null,null,null,null,null,null,null,0,""]
[null,null,null,null,null,null,null,null,null,null,null,null,null,null,null,null,0,""]
[null,null,null,null,null,null,null,null,null,null,null,null,null,null,null,null,0,""]
[null,null,null,null,null,null,null,null,null,null,null,null,null,null,null,null,0,""]
[null,null,null,null,null,null,null,null,null,null,null,null,null,null,null,null,0,""]
[null,null,null,null,null,null,null,null,null,null,null,null,null,null,null,null,0,""]
[null,null,null,null,null,null,null,null,null,null,null,null,null,null,null,null,0,""]
[null,null,null,null,null,null,null,null,null,null,null,null,null,null,null,null,0,""]
[null,null,null,null,null,null,null,null,null,null,null,null,null,null,null,null,{"$f":"IF(N23813=0,O23813,\"\")","v":0},""]
[null,null,null,null,null,null,null,null,null,null,null,null,null,null,null,null,0,""]
[null,null,null,null,null,null,null,null,null,null,null,null,null,null,null,null,0,""]
[null,null,null,null,null,null,null,null,null,null,null,null,null,null,null,null,0,""]
[null,null,null,null,null,null,null,null,null,null,null,null,null,null,null,null,0,""]
[null,null,null,null,null,null,null,null,null,null,null,null,null,null,null,null,0,""]
[null,null,null,null,null,null,null,null,null,null,null,null,null,null,null,null,0,""]
[null,null,null,null,null,null,null,null,null,null,null,null,null,null,null,null,0,""]
[null,null,null,null,null,null,null,null,null,null,null,null,null,null,null,null,0,""]
[null,null,null,null,null,null,null,null,null,null,null,null,null,null,null,null,0,""]
[null,null,null,null,null,null,null,null,null,null,null,null,null,null,null,null,0,""]
[null,null,null,null,null,null,null,null,null,null,null,null,null,null,null,null,0,{"$f":"IF(N23824=10,O23824,\"\")","v":""}]
[null,null,null,null,null,null,null,null,null,null,null,null,null,null,null,null,0,""]
[null,null,null,null,null,null,null,null,null,null,null,null,null,null,null,null,0,""]
[null,null,null,null,null,null,null,null,null,null,null,null,null,null,null,null,0,""]
[null,null,null,null,null,null,null,null,null,null,null,null,null,null,null,null,0,""]
[null,null,null,null,null,null,null,null,null,null,null,null,null,null,null,null,0,""]
[null,null,null,null,null,null,null,null,null,null,null,null,null,null,null,null,0,""]
[null,null,null,null,null,null,null,null,null,null,null,null,null,null,null,null,0,""]
[null,null,null,null,null,null,null,null,null,null,null,null,null,null,null,null,0,""]
[null,null,null,null,null,null,null,null,null,null,null,null,null,null,null,null,0,""]
[null,null,null,null,null,null,null,null,null,null,null,null,null,null,null,null,0,""]
[null,null,null,null,null,null,null,null,null,null,null,null,null,null,null,null,0,""]
[null,null,null,null,null,null,null,null,null,null,null,null,null,null,null,null,0,""]
[null,null,null,null,null,null,null,null,null,null,null,null,null,null,null,null,0,""]
[null,null,null,null,null,null,null,null,null,null,null,null,null,null,null,null,0,""]
[null,null,null,null,null,null,null,null,null,null,null,null,null,null,null,null,0,""]
[null,null,null,null,null,null,null,null,null,null,null,null,null,null,null,null,0,""]
[null,null,null,null,null,null,null,null,null,null,null,null,null,null,null,null,0,""]
[null,null,null,null,null,null,null,null,null,null,null,null,null,null,null,null,0,""]
[null,null,null,null,null,null,null,null,null,null,null,null,null,null,null,null,0,""]
[null,null,null,null,null,null,null,null,null,null,null,null,null,null,null,null,0,""]
[null,null,null,null,null,null,null,null,null,null,null,null,null,null,null,null,0,""]
[null,null,null,null,null,null,null,null,null,null,null,null,null,null,null,null,0,""]
[null,null,null,null,null,null,null,null,null,null,null,null,null,null,null,null,0,""]
[null,null,null,null,null,null,null,null,null,null,null,null,null,null,null,null,0,""]
[null,null,null,null,null,null,null,null,null,null,null,null,null,null,null,null,0,""]
[null,null,null,null,null,null,null,null,null,null,null,null,null,null,null,null,0,""]
[null,null,null,null,null,null,null,null,null,null,null,null,null,null,null,null,0,""]
[null,null,null,null,null,null,null,null,null,null,null,null,null,null,null,null,0,""]
[null,null,null,null,null,null,null,null,null,null,null,null,null,null,null,null,0,""]
[null,null,null,null,null,null,null,null,null,null,null,null,null,null,null,null,0,""]
[null,null,null,null,null,null,null,null,null,null,null,null,null,null,null,null,0,""]
[null,null,null,null,null,null,null,null,null,null,null,null,null,null,null,null,0,""]
[null,null,null,null,null,null,null,null,null,null,null,null,null,null,null,null,0,""]
[null,null,null,null,null,null,null,null,null,null,null,null,null,null,null,null,0,""]
[null,null,null,null,null,null,null,null,null,null,null,null,null,null,null,null,0,""]
[null,null,null,null,null,null,null,null,null,null,null,null,null,null,null,null,0,""]
[null,null,null,null,null,null,null,null,null,null,null,null,null,null,null,null,0,""]
[null,null,null,null,null,null,null,null,null,null,null,null,null,null,null,null,0,""]
[null,null,null,null,null,null,null,null,null,null,null,null,null,null,null,null,0,""]
[null,null,null,null,null,null,null,null,null,null,null,null,null,null,null,null,0,""]
[null,null,null,null,null,null,null,null,null,null,null,null,null,null,null,null,0,""]
[null,null,null,null,null,null,null,null,null,null,null,null,null,null,null,null,0,""]
[null,null,null,null,null,null,null,null,null,null,null,null,null,null,null,null,0,""]
[null,null,null,null,null,null,null,null,null,null,null,null,null,null,null,null,0,""]
[null,null,null,null,null,null,null,null,null,null,null,null,null,null,null,null,0,""]
[null,null,null,null,null,null,null,null,null,null,null,null,null,null,null,null,0,""]
[null,null,null,null,null,null,null,null,null,null,null,null,null,null,null,null,0,""]
[null,null,null,null,null,null,null,null,null,null,null,null,null,null,null,null,0,""]
[null,null,null,null,null,null,null,null,null,null,null,null,null,null,null,null,0,""]
[null,null,null,null,null,null,null,null,null,null,null,null,null,null,null,null,0,""]
[null,null,null,null,null,null,null,null,null,null,null,null,null,null,null,null,0,""]
[null,null,null,null,null,null,null,null,null,null,null,null,null,null,null,null,0,""]
[null,null,null,null,null,null,null,null,null,null,null,null,null,null,null,null,{"$f":"IF(N23877=0,O23877,\"\")","v":0},""]
[null,null,null,null,null,null,null,null,null,null,null,null,null,null,null,null,0,""]
[null,null,null,null,null,null,null,null,null,null,null,null,null,null,null,null,0,""]
[null,null,null,null,null,null,null,null,null,null,null,null,null,null,null,null,0,""]
[null,null,null,null,null,null,null,null,null,null,null,null,null,null,null,null,0,""]
[null,null,null,null,null,null,null,null,null,null,null,null,null,null,null,null,0,""]
[null,null,null,null,null,null,null,null,null,null,null,null,null,null,null,null,0,""]
[null,null,null,null,null,null,null,null,null,null,null,null,null,null,null,null,0,""]
[null,null,null,null,null,null,null,null,null,null,null,null,null,null,null,null,0,""]
[null,null,null,null,null,null,null,null,null,null,null,null,null,null,null,null,0,""]
[null,null,null,null,null,null,null,null,null,null,null,null,null,null,null,null,0,""]
[null,null,null,null,null,null,null,null,null,null,null,null,null,null,null,null,0,{"$f":"IF(N23888=10,O23888,\"\")","v":""}]
[null,null,null,null,null,null,null,null,null,null,null,null,null,null,null,null,0,""]
[null,null,null,null,null,null,null,null,null,null,null,null,null,null,null,null,0,""]
[null,null,null,null,null,null,null,null,null,null,null,null,null,null,null,null,0,""]
[null,null,null,null,null,null,null,null,null,null,null,null,null,null,null,null,0,""]
[null,null,null,null,null,null,null,null,null,null,null,null,null,null,null,null,0,""]
[null,null,null,null,null,null,null,null,null,null,null,null,null,null,null,null,0,""]
[null,null,null,null,null,null,null,null,null,null,null,null,null,null,null,null,0,""]
[null,null,null,null,null,null,null,null,null,null,null,null,null,null,null,null,0,""]
[null,null,null,null,null,null,null,null,null,null,null,null,null,null,null,null,0,""]
[null,null,null,null,null,null,null,null,null,null,null,null,null,null,null,null,0,""]
[null,null,null,null,null,null,null,null,null,null,null,null,null,null,null,null,0,""]
[null,null,null,null,null,null,null,null,null,null,null,null,null,null,null,null,0,""]
[null,null,null,null,null,null,null,null,null,null,null,null,null,null,null,null,0,""]
[null,null,null,null,null,null,null,null,null,null,null,null,null,null,null,null,0,""]
[null,null,null,null,null,null,null,null,null,null,null,null,null,null,null,null,0,""]
[null,null,null,null,null,null,null,null,null,null,null,null,null,null,null,null,0,""]
[null,null,null,null,null,null,null,null,null,null,null,null,null,null,null,null,0,""]
[null,null,null,null,null,null,null,null,null,null,null,null,null,null,null,null,0,""]
[null,null,null,null,null,null,null,null,null,null,null,null,null,null,null,null,0,""]
[null,null,null,null,null,null,null,null,null,null,null,null,null,null,null,null,0,""]
[null,null,null,null,null,null,null,null,null,null,null,null,null,null,null,null,0,""]
[null,null,null,null,null,null,null,null,null,null,null,null,null,null,null,null,0,""]
[null,null,null,null,null,null,null,null,null,null,null,null,null,null,null,null,0,""]
[null,null,null,null,null,null,null,null,null,null,null,null,null,null,null,null,0,""]
[null,null,null,null,null,null,null,null,null,null,null,null,null,null,null,null,0,""]
[null,null,null,null,null,null,null,null,null,null,null,null,null,null,null,null,0,""]
[null,null,null,null,null,null,null,null,null,null,null,null,null,null,null,null,0,""]
[null,null,null,null,null,null,null,null,null,null,null,null,null,null,null,null,0,""]
[null,null,null,null,null,null,null,null,null,null,null,null,null,null,null,null,0,""]
[null,null,null,null,null,null,null,null,null,null,null,null,null,null,null,null,0,""]
[null,null,null,null,null,null,null,null,null,null,null,null,null,null,null,null,0,""]
[null,null,null,null,null,null,null,null,null,null,null,null,null,null,null,null,0,""]
[null,null,null,null,null,null,null,null,null,null,null,null,null,null,null,null,0,""]
[null,null,null,null,null,null,null,null,null,null,null,null,null,null,null,null,0,""]
[null,null,null,null,null,null,null,null,null,null,null,null,null,null,null,null,0,""]
[null,null,null,null,null,null,null,null,null,null,null,null,null,null,null,null,0,""]
[null,null,null,null,null,null,null,null,null,null,null,null,null,null,null,null,0,""]
[null,null,null,null,null,null,null,null,null,null,null,null,null,null,null,null,0,""]
[null,null,null,null,null,null,null,null,null,null,null,null,null,null,null,null,0,""]
[null,null,null,null,null,null,null,null,null,null,null,null,null,null,null,null,0,""]
[null,null,null,null,null,null,null,null,null,null,null,null,null,null,null,null,0,""]
[null,null,null,null,null,null,null,null,null,null,null,null,null,null,null,null,0,""]
[null,null,null,null,null,null,null,null,null,null,null,null,null,null,null,null,0,""]
[null,null,null,null,null,null,null,null,null,null,null,null,null,null,null,null,0,""]
[null,null,null,null,null,null,null,null,null,null,null,null,null,null,null,null,0,""]
[null,null,null,null,null,null,null,null,null,null,null,null,null,null,null,null,0,""]
[null,null,null,null,null,null,null,null,null,null,null,null,null,null,null,null,0,""]
[null,null,null,null,null,null,null,null,null,null,null,null,null,null,null,null,0,""]
[null,null,null,null,null,null,null,null,null,null,null,null,null,null,null,null,0,""]
[null,null,null,null,null,null,null,null,null,null,null,null,null,null,null,null,0,""]
[null,null,null,null,null,null,null,null,null,null,null,null,null,null,null,null,0,""]
[null,null,null,null,null,null,null,null,null,null,null,null,null,null,null,null,0,""]
[null,null,null,null,null,null,null,null,null,null,null,null,null,null,null,null,{"$f":"IF(N23941=0,O23941,\"\")","v":0},""]
[null,null,null,null,null,null,null,null,null,null,null,null,null,null,null,null,0,""]
[null,null,null,null,null,null,null,null,null,null,null,null,null,null,null,null,0,""]
[null,null,null,null,null,null,null,null,null,null,null,null,null,null,null,null,0,""]
[null,null,null,null,null,null,null,null,null,null,null,null,null,null,null,null,0,""]
[null,null,null,null,null,null,null,null,null,null,null,null,null,null,null,null,0,""]
[null,null,null,null,null,null,null,null,null,null,null,null,null,null,null,null,0,""]
[null,null,null,null,null,null,null,null,null,null,null,null,null,null,null,null,0,""]
[null,null,null,null,null,null,null,null,null,null,null,null,null,null,null,null,0,""]
[null,null,null,null,null,null,null,null,null,null,null,null,null,null,null,null,0,""]
[null,null,null,null,null,null,null,null,null,null,null,null,null,null,null,null,0,""]
[null,null,null,null,null,null,null,null,null,null,null,null,null,null,null,null,0,{"$f":"IF(N23952=10,O23952,\"\")","v":""}]
[null,null,null,null,null,null,null,null,null,null,null,null,null,null,null,null,0,""]
[null,null,null,null,null,null,null,null,null,null,null,null,null,null,null,null,0,""]
[null,null,null,null,null,null,null,null,null,null,null,null,null,null,null,null,0,""]
[null,null,null,null,null,null,null,null,null,null,null,null,null,null,null,null,0,""]
[null,null,null,null,null,null,null,null,null,null,null,null,null,null,null,null,0,""]
[null,null,null,null,null,null,null,null,null,null,null,null,null,null,null,null,0,""]
[null,null,null,null,null,null,null,null,null,null,null,null,null,null,null,null,0,""]
[null,null,null,null,null,null,null,null,null,null,null,null,null,null,null,null,0,""]
[null,null,null,null,null,null,null,null,null,null,null,null,null,null,null,null,0,""]
[null,null,null,null,null,null,null,null,null,null,null,null,null,null,null,null,0,""]
[null,null,null,null,null,null,null,null,null,null,null,null,null,null,null,null,0,""]
[null,null,null,null,null,null,null,null,null,null,null,null,null,null,null,null,0,""]
[null,null,null,null,null,null,null,null,null,null,null,null,null,null,null,null,0,""]
[null,null,null,null,null,null,null,null,null,null,null,null,null,null,null,null,0,""]
[null,null,null,null,null,null,null,null,null,null,null,null,null,null,null,null,0,""]
[null,null,null,null,null,null,null,null,null,null,null,null,null,null,null,null,0,""]
[null,null,null,null,null,null,null,null,null,null,null,null,null,null,null,null,0,""]
[null,null,null,null,null,null,null,null,null,null,null,null,null,null,null,null,0,""]
[null,null,null,null,null,null,null,null,null,null,null,null,null,null,null,null,0,""]
[null,null,null,null,null,null,null,null,null,null,null,null,null,null,null,null,0,""]
[null,null,null,null,null,null,null,null,null,null,null,null,null,null,null,null,0,""]
[null,null,null,null,null,null,null,null,null,null,null,null,null,null,null,null,0,""]
[null,null,null,null,null,null,null,null,null,null,null,null,null,null,null,null,0,""]
[null,null,null,null,null,null,null,null,null,null,null,null,null,null,null,null,0,""]
[null,null,null,null,null,null,null,null,null,null,null,null,null,null,null,null,0,""]
[null,null,null,null,null,null,null,null,null,null,null,null,null,null,null,null,0,""]
[null,null,null,null,null,null,null,null,null,null,null,null,null,null,null,null,0,""]
[null,null,null,null,null,null,null,null,null,null,null,null,null,null,null,null,0,""]
[null,null,null,null,null,null,null,null,null,null,null,null,null,null,null,null,0,""]
[null,null,null,null,null,null,null,null,null,null,null,null,null,null,null,null,0,""]
[null,null,null,null,null,null,null,null,null,null,null,null,null,null,null,null,0,""]
[null,null,null,null,null,null,null,null,null,null,null,null,null,null,null,null,0,""]
[null,null,null,null,null,null,null,null,null,null,null,null,null,null,null,null,0,""]
[null,null,null,null,null,null,null,null,null,null,null,null,null,null,null,null,0,""]
[null,null,null,null,null,null,null,null,null,null,null,null,null,null,null,null,0,""]
[null,null,null,null,null,null,null,null,null,null,null,null,null,null,null,null,0,""]
[null,null,null,null,null,null,null,null,null,null,null,null,null,null,null,null,0,""]
[null,null,null,null,null,null,null,null,null,null,null,null,null,null,null,null,0,""]
[null,null,null,null,null,null,null,null,null,null,null,null,null,null,null,null,0,""]
[null,null,null,null,null,null,null,null,null,null,null,null,null,null,null,null,0,""]
[null,null,null,null,null,null,null,null,null,null,null,null,null,null,null,null,0,""]
[null,null,null,null,null,null,null,null,null,null,null,null,null,null,null,null,0,""]
[null,null,null,null,null,null,null,null,null,null,null,null,null,null,null,null,0,""]
[null,null,null,null,null,null,null,null,null,null,null,null,null,null,null,null,0,""]
[null,null,null,null,null,null,null,null,null,null,null,null,null,null,null,null,0,""]
[null,null,null,null,null,null,null,null,null,null,null,null,null,null,null,null,0,""]
[null,null,null,null,null,null,null,null,null,null,null,null,null,null,null,null,0,""]
[null,null,null,null,null,null,null,null,null,null,null,null,null,null,null,null,0,""]
[null,null,null,null,null,null,null,null,null,null,null,null,null,null,null,null,0,""]
[null,null,null,null,null,null,null,null,null,null,null,null,null,null,null,null,0,""]
[null,null,null,null,null,null,null,null,null,null,null,null,null,null,null,null,0,""]
[null,null,null,null,null,null,null,null,null,null,null,null,null,null,null,null,0,""]
[null,null,null,null,null,null,null,null,null,null,null,null,null,null,null,null,{"$f":"IF(N24005=0,O24005,\"\")","v":0},""]
[null,null,null,null,null,null,null,null,null,null,null,null,null,null,null,null,0,""]
[null,null,null,null,null,null,null,null,null,null,null,null,null,null,null,null,0,""]
[null,null,null,null,null,null,null,null,null,null,null,null,null,null,null,null,0,""]
[null,null,null,null,null,null,null,null,null,null,null,null,null,null,null,null,0,""]
[null,null,null,null,null,null,null,null,null,null,null,null,null,null,null,null,0,""]
[null,null,null,null,null,null,null,null,null,null,null,null,null,null,null,null,0,""]
[null,null,null,null,null,null,null,null,null,null,null,null,null,null,null,null,0,""]
[null,null,null,null,null,null,null,null,null,null,null,null,null,null,null,null,0,""]
[null,null,null,null,null,null,null,null,null,null,null,null,null,null,null,null,0,""]
[null,null,null,null,null,null,null,null,null,null,null,null,null,null,null,null,0,""]
[null,null,null,null,null,null,null,null,null,null,null,null,null,null,null,null,0,{"$f":"IF(N24016=10,O24016,\"\")","v":""}]
[null,null,null,null,null,null,null,null,null,null,null,null,null,null,null,null,0,""]
[null,null,null,null,null,null,null,null,null,null,null,null,null,null,null,null,0,""]
[null,null,null,null,null,null,null,null,null,null,null,null,null,null,null,null,0,""]
[null,null,null,null,null,null,null,null,null,null,null,null,null,null,null,null,0,""]
[null,null,null,null,null,null,null,null,null,null,null,null,null,null,null,null,0,""]
[null,null,null,null,null,null,null,null,null,null,null,null,null,null,null,null,0,""]
[null,null,null,null,null,null,null,null,null,null,null,null,null,null,null,null,0,""]
[null,null,null,null,null,null,null,null,null,null,null,null,null,null,null,null,0,""]
[null,null,null,null,null,null,null,null,null,null,null,null,null,null,null,null,0,""]
[null,null,null,null,null,null,null,null,null,null,null,null,null,null,null,null,0,""]
[null,null,null,null,null,null,null,null,null,null,null,null,null,null,null,null,0,""]
[null,null,null,null,null,null,null,null,null,null,null,null,null,null,null,null,0,""]
[null,null,null,null,null,null,null,null,null,null,null,null,null,null,null,null,0,""]
[null,null,null,null,null,null,null,null,null,null,null,null,null,null,null,null,0,""]
[null,null,null,null,null,null,null,null,null,null,null,null,null,null,null,null,0,""]
[null,null,null,null,null,null,null,null,null,null,null,null,null,null,null,null,0,""]
[null,null,null,null,null,null,null,null,null,null,null,null,null,null,null,null,0,""]
[null,null,null,null,null,null,null,null,null,null,null,null,null,null,null,null,0,""]
[null,null,null,null,null,null,null,null,null,null,null,null,null,null,null,null,0,""]
[null,null,null,null,null,null,null,null,null,null,null,null,null,null,null,null,0,""]
[null,null,null,null,null,null,null,null,null,null,null,null,null,null,null,null,0,""]
[null,null,null,null,null,null,null,null,null,null,null,null,null,null,null,null,0,""]
[null,null,null,null,null,null,null,null,null,null,null,null,null,null,null,null,0,""]
[null,null,null,null,null,null,null,null,null,null,null,null,null,null,null,null,0,""]
[null,null,null,null,null,null,null,null,null,null,null,null,null,null,null,null,0,""]
[null,null,null,null,null,null,null,null,null,null,null,null,null,null,null,null,0,""]
[null,null,null,null,null,null,null,null,null,null,null,null,null,null,null,null,0,""]
[null,null,null,null,null,null,null,null,null,null,null,null,null,null,null,null,0,""]
[null,null,null,null,null,null,null,null,null,null,null,null,null,null,null,null,0,""]
[null,null,null,null,null,null,null,null,null,null,null,null,null,null,null,null,0,""]
[null,null,null,null,null,null,null,null,null,null,null,null,null,null,null,null,0,""]
[null,null,null,null,null,null,null,null,null,null,null,null,null,null,null,null,0,""]
[null,null,null,null,null,null,null,null,null,null,null,null,null,null,null,null,0,""]
[null,null,null,null,null,null,null,null,null,null,null,null,null,null,null,null,0,""]
[null,null,null,null,null,null,null,null,null,null,null,null,null,null,null,null,0,""]
[null,null,null,null,null,null,null,null,null,null,null,null,null,null,null,null,0,""]
[null,null,null,null,null,null,null,null,null,null,null,null,null,null,null,null,0,""]
[null,null,null,null,null,null,null,null,null,null,null,null,null,null,null,null,0,""]
[null,null,null,null,null,null,null,null,null,null,null,null,null,null,null,null,0,""]
[null,null,null,null,null,null,null,null,null,null,null,null,null,null,null,null,0,""]
[null,null,null,null,null,null,null,null,null,null,null,null,null,null,null,null,0,""]
[null,null,null,null,null,null,null,null,null,null,null,null,null,null,null,null,0,""]
[null,null,null,null,null,null,null,null,null,null,null,null,null,null,null,null,0,""]
[null,null,null,null,null,null,null,null,null,null,null,null,null,null,null,null,0,""]
[null,null,null,null,null,null,null,null,null,null,null,null,null,null,null,null,0,""]
[null,null,null,null,null,null,null,null,null,null,null,null,null,null,null,null,0,""]
[null,null,null,null,null,null,null,null,null,null,null,null,null,null,null,null,0,""]
[null,null,null,null,null,null,null,null,null,null,null,null,null,null,null,null,0,""]
[null,null,null,null,null,null,null,null,null,null,null,null,null,null,null,null,0,""]
[null,null,null,null,null,null,null,null,null,null,null,null,null,null,null,null,0,""]
[null,null,null,null,null,null,null,null,null,null,null,null,null,null,null,null,0,""]
[null,null,null,null,null,null,null,null,null,null,null,null,null,null,null,null,0,""]
[null,null,null,null,null,null,null,null,null,null,null,null,null,null,null,null,{"$f":"IF(N24069=0,O24069,\"\")","v":0},""]
[null,null,null,null,null,null,null,null,null,null,null,null,null,null,null,null,0,""]
[null,null,null,null,null,null,null,null,null,null,null,null,null,null,null,null,0,""]
[null,null,null,null,null,null,null,null,null,null,null,null,null,null,null,null,0,""]
[null,null,null,null,null,null,null,null,null,null,null,null,null,null,null,null,0,""]
[null,null,null,null,null,null,null,null,null,null,null,null,null,null,null,null,0,""]
[null,null,null,null,null,null,null,null,null,null,null,null,null,null,null,null,0,""]
[null,null,null,null,null,null,null,null,null,null,null,null,null,null,null,null,0,""]
[null,null,null,null,null,null,null,null,null,null,null,null,null,null,null,null,0,""]
[null,null,null,null,null,null,null,null,null,null,null,null,null,null,null,null,0,""]
[null,null,null,null,null,null,null,null,null,null,null,null,null,null,null,null,0,""]
[null,null,null,null,null,null,null,null,null,null,null,null,null,null,null,null,0,{"$f":"IF(N24080=10,O24080,\"\")","v":""}]
[null,null,null,null,null,null,null,null,null,null,null,null,null,null,null,null,0,""]
[null,null,null,null,null,null,null,null,null,null,null,null,null,null,null,null,0,""]
[null,null,null,null,null,null,null,null,null,null,null,null,null,null,null,null,0,""]
[null,null,null,null,null,null,null,null,null,null,null,null,null,null,null,null,0,""]
[null,null,null,null,null,null,null,null,null,null,null,null,null,null,null,null,0,""]
[null,null,null,null,null,null,null,null,null,null,null,null,null,null,null,null,0,""]
[null,null,null,null,null,null,null,null,null,null,null,null,null,null,null,null,0,""]
[null,null,null,null,null,null,null,null,null,null,null,null,null,null,null,null,0,""]
[null,null,null,null,null,null,null,null,null,null,null,null,null,null,null,null,0,""]
[null,null,null,null,null,null,null,null,null,null,null,null,null,null,null,null,0,""]
[null,null,null,null,null,null,null,null,null,null,null,null,null,null,null,null,0,""]
[null,null,null,null,null,null,null,null,null,null,null,null,null,null,null,null,0,""]
[null,null,null,null,null,null,null,null,null,null,null,null,null,null,null,null,0,""]
[null,null,null,null,null,null,null,null,null,null,null,null,null,null,null,null,0,""]
[null,null,null,null,null,null,null,null,null,null,null,null,null,null,null,null,0,""]
[null,null,null,null,null,null,null,null,null,null,null,null,null,null,null,null,0,""]
[null,null,null,null,null,null,null,null,null,null,null,null,null,null,null,null,0,""]
[null,null,null,null,null,null,null,null,null,null,null,null,null,null,null,null,0,""]
[null,null,null,null,null,null,null,null,null,null,null,null,null,null,null,null,0,""]
[null,null,null,null,null,null,null,null,null,null,null,null,null,null,null,null,0,""]
[null,null,null,null,null,null,null,null,null,null,null,null,null,null,null,null,0,""]
[null,null,null,null,null,null,null,null,null,null,null,null,null,null,null,null,0,""]
[null,null,null,null,null,null,null,null,null,null,null,null,null,null,null,null,0,""]
[null,null,null,null,null,null,null,null,null,null,null,null,null,null,null,null,0,""]
[null,null,null,null,null,null,null,null,null,null,null,null,null,null,null,null,0,""]
[null,null,null,null,null,null,null,null,null,null,null,null,null,null,null,null,0,""]
[null,null,null,null,null,null,null,null,null,null,null,null,null,null,null,null,0,""]
[null,null,null,null,null,null,null,null,null,null,null,null,null,null,null,null,0,""]
[null,null,null,null,null,null,null,null,null,null,null,null,null,null,null,null,0,""]
[null,null,null,null,null,null,null,null,null,null,null,null,null,null,null,null,0,""]
[null,null,null,null,null,null,null,null,null,null,null,null,null,null,null,null,0,""]
[null,null,null,null,null,null,null,null,null,null,null,null,null,null,null,null,0,""]
[null,null,null,null,null,null,null,null,null,null,null,null,null,null,null,null,0,""]
[null,null,null,null,null,null,null,null,null,null,null,null,null,null,null,null,0,""]
[null,null,null,null,null,null,null,null,null,null,null,null,null,null,null,null,0,""]
[null,null,null,null,null,null,null,null,null,null,null,null,null,null,null,null,0,""]
[null,null,null,null,null,null,null,null,null,null,null,null,null,null,null,null,0,""]
[null,null,null,null,null,null,null,null,null,null,null,null,null,null,null,null,0,""]
[null,null,null,null,null,null,null,null,null,null,null,null,null,null,null,null,0,""]
[null,null,null,null,null,null,null,null,null,null,null,null,null,null,null,null,0,""]
[null,null,null,null,null,null,null,null,null,null,null,null,null,null,null,null,0,""]
[null,null,null,null,null,null,null,null,null,null,null,null,null,null,null,null,0,""]
[null,null,null,null,null,null,null,null,null,null,null,null,null,null,null,null,0,""]
[null,null,null,null,null,null,null,null,null,null,null,null,null,null,null,null,0,""]
[null,null,null,null,null,null,null,null,null,null,null,null,null,null,null,null,0,""]
[null,null,null,null,null,null,null,null,null,null,null,null,null,null,null,null,0,""]
[null,null,null,null,null,null,null,null,null,null,null,null,null,null,null,null,0,""]
[null,null,null,null,null,null,null,null,null,null,null,null,null,null,null,null,0,""]
[null,null,null,null,null,null,null,null,null,null,null,null,null,null,null,null,0,""]
[null,null,null,null,null,null,null,null,null,null,null,null,null,null,null,null,0,""]
[null,null,null,null,null,null,null,null,null,null,null,null,null,null,null,null,0,""]
[null,null,null,null,null,null,null,null,null,null,null,null,null,null,null,null,0,""]
[null,null,null,null,null,null,null,null,null,null,null,null,null,null,null,null,{"$f":"IF(N24133=0,O24133,\"\")","v":0},""]
[null,null,null,null,null,null,null,null,null,null,null,null,null,null,null,null,0,""]
[null,null,null,null,null,null,null,null,null,null,null,null,null,null,null,null,0,""]
[null,null,null,null,null,null,null,null,null,null,null,null,null,null,null,null,0,""]
[null,null,null,null,null,null,null,null,null,null,null,null,null,null,null,null,0,""]
[null,null,null,null,null,null,null,null,null,null,null,null,null,null,null,null,0,""]
[null,null,null,null,null,null,null,null,null,null,null,null,null,null,null,null,0,""]
[null,null,null,null,null,null,null,null,null,null,null,null,null,null,null,null,0,""]
[null,null,null,null,null,null,null,null,null,null,null,null,null,null,null,null,0,""]
[null,null,null,null,null,null,null,null,null,null,null,null,null,null,null,null,0,""]
[null,null,null,null,null,null,null,null,null,null,null,null,null,null,null,null,0,""]
[null,null,null,null,null,null,null,null,null,null,null,null,null,null,null,null,0,{"$f":"IF(N24144=10,O24144,\"\")","v":""}]
[null,null,null,null,null,null,null,null,null,null,null,null,null,null,null,null,0,""]
[null,null,null,null,null,null,null,null,null,null,null,null,null,null,null,null,0,""]
[null,null,null,null,null,null,null,null,null,null,null,null,null,null,null,null,0,""]
[null,null,null,null,null,null,null,null,null,null,null,null,null,null,null,null,0,""]
[null,null,null,null,null,null,null,null,null,null,null,null,null,null,null,null,0,""]
[null,null,null,null,null,null,null,null,null,null,null,null,null,null,null,null,0,""]
[null,null,null,null,null,null,null,null,null,null,null,null,null,null,null,null,0,""]
[null,null,null,null,null,null,null,null,null,null,null,null,null,null,null,null,0,""]
[null,null,null,null,null,null,null,null,null,null,null,null,null,null,null,null,0,""]
[null,null,null,null,null,null,null,null,null,null,null,null,null,null,null,null,0,""]
[null,null,null,null,null,null,null,null,null,null,null,null,null,null,null,null,0,""]
[null,null,null,null,null,null,null,null,null,null,null,null,null,null,null,null,0,""]
[null,null,null,null,null,null,null,null,null,null,null,null,null,null,null,null,0,""]
[null,null,null,null,null,null,null,null,null,null,null,null,null,null,null,null,0,""]
[null,null,null,null,null,null,null,null,null,null,null,null,null,null,null,null,0,""]
[null,null,null,null,null,null,null,null,null,null,null,null,null,null,null,null,0,""]
[null,null,null,null,null,null,null,null,null,null,null,null,null,null,null,null,0,""]
[null,null,null,null,null,null,null,null,null,null,null,null,null,null,null,null,0,""]
[null,null,null,null,null,null,null,null,null,null,null,null,null,null,null,null,0,""]
[null,null,null,null,null,null,null,null,null,null,null,null,null,null,null,null,0,""]
[null,null,null,null,null,null,null,null,null,null,null,null,null,null,null,null,0,""]
[null,null,null,null,null,null,null,null,null,null,null,null,null,null,null,null,0,""]
[null,null,null,null,null,null,null,null,null,null,null,null,null,null,null,null,0,""]